{"text_format":"1","workbook":"xlsx","n_sheets":16,"sheets":["INGRESO DE DATOS","Bupa Diamond Care (Mundial)","Bupa Diamond Care (LA)","Bupa Complete Care (Mundial)","Bupa Complete Care (LA)","Bupa Advantage Care (Mundial)","Advantage (LA)","Bupa Advantage Care (LA)","Bupa Secure Care","Bupa Essential Care","Bupa Crititcal","Resumen tarifas anuales","Comparacion de Beneficios","Tablas","Tablas Guyanas y Santa Elena","Tablas Resto de Ecuador"],"not_rendered":{"charts":0,"images":13,"macros":1,"external_links":0,"defined_names":10,"comments":1,"pivot_tables":0},"unopened":[],"bounds":{"document_bytes":16777216,"sheet_cells":100000,"rows_first":2000,"rows_last":500,"rows_between":2000,"halvings":0,"cell_chars":16384,"cell_head_chars":4096},"cells_cut":0,"cells_raw":0,"read":"whole","date_system":"1900"}

{"sheet":"INGRESO DE DATOS","index":0,"n_rows":63,"n_cols":23,"rows_kept":63,"cut":false,"hidden":false,"merged":[[46,0,46,2],[4,21,11,21],[49,14,49,15],[50,14,50,15],[53,14,53,15],[52,14,52,15],[3,14,3,16],[43,2,43,11],[35,2,35,11],[35,0,35,1],[37,0,37,1],[39,0,39,1],[16,14,16,19],[31,14,31,19],[39,14,39,19],[4,18,11,18],[43,0,43,1],[7,0,7,9],[37,4,37,5],[62,14,62,15],[61,14,61,15],[47,14,47,15],[29,14,29,17],[36,14,36,19],[55,14,55,15],[56,14,56,15],[58,14,58,15],[59,14,59,15]]}
[]
[null,null,null,null,null,null,null,null," "," "," ",null,null,null,"24 years",false]
[]
[null,null,null,null,null,null,null,null,null,null,null,null,null,null,"Descuento 24 años (por edad)"]
[null,null,null,null,null,null,null,null,null,null,null,null,null,null,"age","Discount (%)","Parameter",null,"Type","Nuevo Negocio",null,"Zonas","Guayas/Santa Elena"]
[null,null,null,null,null,null,null,null," "," "," "," ",null,null,24,35,{"$f":"1-P6/100","v":0.65},null,null,"Renovación",null,null,"El Resto de Ecuador"]
[null,null,null,null,null,null,null,null,null,null,null,null,null,null,25,30,{"$f":"1-P7/100","v":0.7}]
[null,null,null,null,null,null,null,null,null,null,null,null,null,null,26,25,0.75]
[null,null,null,null,null,null,null,null,null,null,null,null,null,null,27,20,0.8]
[null,null,null,null,null,null,null,null,null,null,null,null,null,null,28,15,0.85]
[null,null,null,null,null,null,null,null,null,null,null,null,null,null,29,6,0.94]
[null,null,null,null,null,null,null,null,null,null,null,null,null,null,"All ages",0,1]
[null,null,null,null,null,null,null,null,null,null,null,null,null,null,null,null,null,null,"Type selected",2,null,"Selección",2]
[null,null,null,null,null,null,null,null,null,null,null,null,null,null,null,null,null,null,null,null,null,"Región",{"$f":"IF(W13=1,\"Guayas/Santa Elena\",\"Resto de Ecuador\")","v":"Resto de Ecuador"}]
[]
[]
[]
[]
[null,null,null,null,null,null,null,null,null,null,null,null,null,null,"Descuento de 24 años:",{"$f":"IF(P2,IF(C40=O6,Q6,IF(C40=O7,Q7,IF(C40=O8,Q8,IF(C40=O9,Q9,IF(C40=O10,Q10,IF(C40=O11,Q11,Q12)))))),Q12)","v":1}]
[]
[]
[]
[]
[null,null,null,null,null,null,null,null,null,null,null,null,null,null,"Descuento por variante de coaseguro","N/A"]
[]
[]
[]
[]
[]
[null,null,null,null,null,null,null,null,null,null,null,null,null,null,"Descuento si es nuevo negocio (ENTRADA MANUAL)"]
[]
[null,null,null,null,null,null,null,null,null,null,null,null,null,null,"New business discount"]
[null,null,null,null,null,null,null,null,null,null,null,null,null,null,"Critical","Diamond","Complete","Advantage","Secure","Essential"]
[null,null,null,null,null,null,null,null,null,null,null,null,null,null,0,0.15,0.15,0.15,0.15,0.15]
[]
["Nombre del Asegurado principal:",null,"John Doe"]
[null,null,null,null,null,null,null,null,null,null,null,null,null,null,"Descuento combinado 24 años + Nuevo Negocio o Roneovaciones"]
["Número de adultos en la póliza: ",null,1,null,"Número de hijos en la póliza:",null,1]
[]
[" Edad del titular:",null,36,null,"Edad de cónyuge:",null,32,null,null,null,null,null,null,null,"New business discount"]
[null,null,null,null,null,null,null,null,null,null,null,null,null,null,"Critical","Diamond","Complete","Advantage","Secure","Essential"]
[null,null,null,null,null,null,null,null,null,null,null,null,null,null,{"$f":"1*$P$19","v":1},{"$f":"IF($T$13=1,IF($W$14=\"PERU2020\", (1-O51)*$P$19,(1-P34)*$P$19),1*$P$19)","v":1},{"$f":"IF($T$13=1,IF($W$14=\"PERU2020\", (1-O54)*$P$19,(1-Q34)*$P$19),1*$P$19)","v":1},{"$f":"IF($T$13=1,IF($W$14=\"PERU2020\", (1-O57)*$P$19,(1-R34)*$P$19),1*$P$19)","v":1},{"$f":"IF($T$13=1,IF($W$14=\"PERU2020\", (1-O60)*$P$19,(1-S34)*$P$19),1*$P$19)","v":1},{"$f":"IF($T$13=1,IF($W$14=\"PERU2020\", (1-O63)*$P$19,(1-T34)*$P$19),1*$P$19)","v":1}]
[]
["Nombre de la Agencia :",null,"Agencia"]
[]
[]
["Tarifas en US$ | Validas: 1 de enero de 2025"]
[null,null,null,null,null,null,null,null,null,null,null,null,null,null,"DISCOUNT PERU 2020"]
[]
[null,null,null,null,null,null,null,null,null,null,null,null,null,null,"EXCLUSIVE CARE"]
[null,null,null,null,null,null,null,null,null,null,null,null,null,null,0.51]
[]
[null,null,null,null,null,null,null,null,null,null,null,null,null,null,"PRIVILEGE CARE"]
[null,null,null,null,null,null,null,null,null,null,null,null,null,null,0.51]
[]
[null,null,null,null,null,null,null,null,null,null,null,null,null,null,"ADVANTAGE CARE"]
[null,null,null,null,null,null,null,null,null,null,null,null,null,null,0.47]
[]
[null,null,null,null,null,null,null,null,null,null,null,null,null,null,"SECURE CARE"]
[null,null,null,null,null,null,null,null,null,null,null,null,null,null,0.54]
[]
[null,null,null,null,null,null,null,null,null,null,null,null,null,null,"ESSENTIAL CARE"]
[null,null,null,null,null,null,null,null,null,null,null,null,null,null,0.54]

{"sheet":"Bupa Diamond Care (Mundial)","index":1,"n_rows":60,"n_cols":27,"rows_kept":60,"cut":false,"hidden":false,"merged":[[0,26,0,37],[13,0,13,1],[13,2,13,3],[4,0,10,10],[4,11,5,11],[6,11,10,11],[12,0,12,5],[12,6,12,11],[0,13,0,24],[20,10,21,11],[14,0,14,5],[14,6,14,11],[16,1,16,5],[18,1,18,5],[18,9,18,10],[19,0,19,1],[19,2,19,3],[20,0,21,1],[20,2,21,3],[20,9,21,9],[16,8,16,10],[17,9,17,10],[29,0,29,1],[29,2,29,3],[22,0,22,1],[22,2,22,3],[23,0,24,1],[23,2,23,3],[24,2,24,3],[25,0,27,1],[25,2,25,3],[27,2,27,3],[28,0,28,1],[28,2,28,3],[33,5,33,11],[34,0,35,1],[34,2,34,3],[35,2,35,3],[30,0,30,1],[30,2,30,3],[31,0,31,1],[31,2,31,3],[32,0,32,1],[32,2,32,3],[39,0,39,1],[39,2,39,3],[41,0,44,1],[41,2,44,3],[33,0,33,1],[33,2,33,3],[36,0,36,1],[36,2,36,3],[37,0,37,1],[37,2,37,3],[38,0,38,1],[38,2,38,3],[44,5,44,11],[48,0,48,1],[48,2,48,3],[49,0,49,1],[49,2,49,3],[46,0,46,1],[46,2,46,3],[47,0,47,1],[47,2,47,3],[45,0,45,1],[45,2,45,3],[54,0,54,1],[54,2,54,3],[55,0,56,1],[55,2,56,3],[55,5,58,11],[57,0,57,1],[57,2,57,3],[58,0,58,1],[58,2,58,3],[50,0,50,1],[50,2,50,3],[52,0,52,1],[52,2,52,3],[53,0,53,1],[53,2,53,3]]}
[null,null,null,null,null,null,null,null,null,null,null,null,null,"RESUMEN DE BENEFICIOS",null,null,null,null,null,null,null,null,null,null,null,null,"RESUMEN DE BENEFICIOS"]
[null,null,null,null,null,null,true,false," "," "," "]
[]
[]
["Cotización de Seguro Médico Internacional\nBupa Diamond Care (Mundial)\nTarifas en US$ | Validas: 1 de enero de 2025",null,null,null,null,null,null,null,null,null,null,"REGIÓN"]
[]
[null,null,null,null,null,null,null,null,null,null,null,{"$f":"'INGRESO DE DATOS'!W14","v":"Resto de Ecuador"}]
[]
[]
[]
[]
[]
["Nombre del asegurado principal:",null,null,null,null,null,{"$f":"+'INGRESO DE DATOS'!$C$36","v":"John Doe"}]
[]
["Broker/Agente",null,null,null,null,null,{"$f":"+'INGRESO DE DATOS'!$C$44","v":"Agencia"}]
[]
[null,"Número de Adultos en la Póliza",null,null,null,null,{"$f":"+'INGRESO DE DATOS'!$C$38","v":1},null,"Dependientes (menores de 24 años)",null,null,{"$f":"+'INGRESO DE DATOS'!$G$38","v":1}]
[null,null,null,null,null,null,null,null,null,{"$f":"IF('INGRESO DE DATOS'!$P$2=TRUE, \"Cotización para dependiente de 24 años\",\"\")","v":""}]
[null,"Edad del Titular",null,null,null,null,{"$f":"+'INGRESO DE DATOS'!$C$40","v":36},null,null,"Edad del Cónyuge",null,{"$f":"+'INGRESO DE DATOS'!$G$40","v":32}]
[]
[null,null,null,null,null,null,null,null,null," Fecha de Cotización:",{"$f":"NOW()","v":"2025-04-10T15:01:19.660"}]
[null,null,null,null,null,null,null,null," "]
[]
[]
[null,null,null,null,null,null,null," "]
[]
[]
[]
[null,null,null,null,null,"DEDUCIBLES","PLAN 1","PLAN 2","PLAN 3","PLAN 4","PLAN 5","PLAN 6"]
[null,null,null,null,null,"Dentro del pais de residencia",0,1000,2000,5000,10000,20000]
[null,null,null,null,null,"Fuera del pais de residencia",1000,2000,3000,5000,10000,20000]
[]
[]
[null,null,null,null,null,"TARIFAS ANUALES"]
[null,null,null,null,null,"Prima de Titular",{"$f":"VLOOKUP($G$19,Tablas!$A$9:$H$32,3,TRUE)+75","v":38527},{"$f":"VLOOKUP($G$19,Tablas!$A$9:$H$32,4,TRUE)+75","v":24011},{"$f":"VLOOKUP($G$19,Tablas!$A$9:$H$32,5,TRUE)+75","v":17281},{"$f":"VLOOKUP($G$19,Tablas!$A$9:$H$32,6,TRUE)+75","v":12370},{"$f":"VLOOKUP($G$19,Tablas!$A$9:$H$32,7,TRUE)+75","v":8489},{"$f":"VLOOKUP($G$19,Tablas!$A$9:$H$32,8,TRUE)+75","v":6736}]
[null,null,null,null,null,"Prima de Cónyuge",{"$f":"IF($G$17=1,0,(VLOOKUP($L$19,Tablas!$A$9:$H$32,3,TRUE)))","v":0},{"$f":"IF($G$17=1,0,(VLOOKUP($L$19,Tablas!$A$9:$H$32,4,TRUE)))","v":0},{"$f":"IF($G$17=1,0,(VLOOKUP($L$19,Tablas!$A$9:$H$32,5,TRUE)))","v":0},{"$f":"IF($G$17=1,0,(VLOOKUP($L$19,Tablas!$A$9:$H$32,6,TRUE)))","v":0},{"$f":"IF($G$17=1,0,(VLOOKUP($L$19,Tablas!$A$9:$H$32,7,TRUE)))","v":0},{"$f":"IF($G$17=1,0,(VLOOKUP($L$19,Tablas!$A$9:$H$32,8,TRUE)))","v":0}]
[null,null,null,null,null,"Primas Hijos",{"$f":"IF($L$17=0,0,(VLOOKUP($L$17,Tablas!$A$33:$H$35,3,TRUE)))","v":6954},{"$f":"IF($L$17=0,0,(VLOOKUP($L$17,Tablas!$A$33:$H$35,4,TRUE)))","v":4549},{"$f":"IF($L$17=0,0,(VLOOKUP($L$17,Tablas!$A$33:$H$35,5,TRUE)))","v":3111},{"$f":"IF($L$17=0,0,(VLOOKUP($L$17,Tablas!$A$33:$H$35,6,TRUE)))","v":2376},{"$f":"IF($L$17=0,0,(VLOOKUP($L$17,Tablas!$A$33:$H$35,7,TRUE)))","v":2304},{"$f":"IF($L$17=0,0,(VLOOKUP($L$17,Tablas!$A$33:$H$35,8,TRUE)))","v":2005}]
[null,null,null,null,null,"Rider: Complicación de Maternidad",{"$f":"+IF($G$2=FALSE,0,Tablas!C$36)","v":0},{"$f":"+IF($G$2=FALSE,0,Tablas!D$36)","v":0},{"$f":"+IF($G$2=FALSE,0,Tablas!E$36)","v":0},{"$f":"+IF($G$2=FALSE,0,Tablas!F$36)","v":225},{"$f":"+IF($G$2=FALSE,0,Tablas!G$36)","v":225},{"$f":"+IF($G$2=FALSE,0,Tablas!H$36)","v":225}]
[null,null,null,null,null,"TOTAL PRIMA NETA",{"$f":"SUM(G35:G38)","v":45481},28560,20392,14971,11018,8966]
[null,null,null,null,null,"Contrib. 3.5% Super. Bancos :",{"$f":"G39*3.5%","v":1591.8350000000003},{"$f":"H39*3.5%","v":999.60000000000014},713.72,523.98500000000001,385.63000000000005,313.81]
[null,null,null,null,null,"Contrib 0.5% Seg.Soc.Campes:",{"$f":"G39*0.5%","v":227.405},{"$f":"H39*0.5%","v":142.80000000000001},101.96000000000001,74.855000000000004,55.09,44.83]
[null,null,null,null,null,"GRAN TOTAL:",{"$f":"SUM(G39:G41)","v":47300.24},{"$f":"SUM(H39:H41)","v":29702.399999999998},21207.68,15569.84,11458.72,{"$f":"SUM(L39:L41)","v":9324.64}]
[]
[]
[null,null,null,null,null,"TARIFAS SEMESTRALES"]
[null,null,null,null,null,"Prima de Titular",{"$f":"VLOOKUP($G$19,Tablas!$A$44:$H$67,3,TRUE)+75","v":20454.560000000001},{"$f":"VLOOKUP($G$19,Tablas!$A$44:$H$67,4,TRUE)+75","v":12761.08},{"$f":"VLOOKUP($G$19,Tablas!$A$44:$H$67,5,TRUE)+75","v":9194.18},{"$f":"VLOOKUP($G$19,Tablas!$A$44:$H$67,6,TRUE)+75","v":6591.35},{"$f":"VLOOKUP($G$19,Tablas!$A$44:$H$67,7,TRUE)+75","v":4534.42},{"$f":"VLOOKUP($G$19,Tablas!$A$44:$H$67,8,TRUE)+75","v":3605.3300000000004}]
[null,null,null,null,null,"Prima de Cónyuge",{"$f":"IF($G$17=1,0,(VLOOKUP($L$19,Tablas!$A$44:$H$67,3,TRUE)))","v":0},{"$f":"IF($G$17=1,0,(VLOOKUP($L$19,Tablas!$A$44:$H$67,4,TRUE)))","v":0},{"$f":"IF($G$17=1,0,(VLOOKUP($L$19,Tablas!$A$44:$H$67,5,TRUE)))","v":0},{"$f":"IF($G$17=1,0,(VLOOKUP($L$19,Tablas!$A$44:$H$67,6,TRUE)))","v":0},{"$f":"IF($G$17=1,0,(VLOOKUP($L$19,Tablas!$A$44:$H$67,7,TRUE)))","v":0},{"$f":"IF($G$17=1,0,(VLOOKUP($L$19,Tablas!$A$44:$H$67,8,TRUE)))","v":0}]
[null,null,null,null,null,"Primas Hijos",{"$f":"IF($L$17=0,0,(VLOOKUP($L$17,Tablas!$A$68:$H$70,3,TRUE)))","v":3685.6200000000003},{"$f":"IF($L$17=0,0,(VLOOKUP($L$17,Tablas!$A$68:$H$70,4,TRUE)))","v":2410.9700000000003},{"$f":"IF($L$17=0,0,(VLOOKUP($L$17,Tablas!$A$68:$H$70,5,TRUE)))","v":1648.8300000000002},{"$f":"IF($L$17=0,0,(VLOOKUP($L$17,Tablas!$A$68:$H$70,6,TRUE)))","v":1259.28},{"$f":"IF($L$17=0,0,(VLOOKUP($L$17,Tablas!$A$68:$H$70,7,TRUE)))","v":1221.1200000000001},{"$f":"IF($L$17=0,0,(VLOOKUP($L$17,Tablas!$A$68:$H$70,8,TRUE)))","v":1062.6500000000001}]
[null,null,null,null,null,"Rider: Complicación de Maternidad",{"$f":"+IF($G$2=FALSE,0,Tablas!C$71)","v":0},{"$f":"+IF($G$2=FALSE,0,Tablas!D$71)","v":0},{"$f":"+IF($G$2=FALSE,0,Tablas!E$71)","v":0},{"$f":"+IF($G$2=FALSE,0,Tablas!F$71)","v":119.25},{"$f":"+IF($G$2=FALSE,0,Tablas!G$71)","v":119.25},{"$f":"+IF($G$2=FALSE,0,Tablas!H$71)","v":119.25}]
[null,null,null,null,null,"TOTAL PRIMA NETA",{"$f":"SUM(G46:G49)","v":24140.18},15172.05,10843.01,7969.88,5874.79,4787.2300000000005]
[null,null,null,null,null,"Contrib. 3.5% Super. Bancos :",{"$f":"G50*3.5%","v":844.9063000000001},{"$f":"H50*3.5%","v":531.02175},379.50535000000002,278.94580000000002,205.61765000000003,167.55305000000004]
[null,null,null,null,null,"Contrib 0.5% Seg.Soc.Campes:",{"$f":"G50*0.5%","v":120.7009},{"$f":"H50*0.5%","v":75.860249999999994},54.215050000000005,39.849400000000003,29.373950000000001,23.936150000000001]
[null,null,null,null,null,"GRAN TOTAL  (1ra Cuota)",{"$f":"SUM(G50:G52)","v":25105.787199999999},{"$f":"SUM(H50:H52)","v":15778.931999999999},11276.7304,8288.6751999999997,6109.7816000000003,{"$f":"SUM(L50:L52)","v":4978.7192000000014}]
[null,null,null,null,null,"GRAN TOTAL  (2da Cuota)",{"$f":"(G50+G51+G52)*1-78","v":25027.787199999999},{"$f":"(H50+H51+H52)*1-78","v":15700.931999999999},11198.7304,8210.6751999999997,6031.7816000000003,4900.7192000000014]
[]
[null,null,null,null,null,"Este presupuesto solamente tiene carácter informativo y en ningún momento expresa compromiso legal para suministrarle cobertura de seguro. La emisión de una póliza de seguro Bupa está sujeta a todas las evaluaciones de riesgo por parte de Bupa y a la recepción de todos los pagos de prima requeridos."]
[]
[]
[]
[null," "]

{"sheet":"Bupa Diamond Care (LA)","index":2,"n_rows":60,"n_cols":27,"rows_kept":60,"cut":false,"hidden":false,"merged":[[0,26,0,37],[13,0,13,1],[13,2,13,3],[4,0,10,10],[4,11,5,11],[6,11,10,11],[12,0,12,5],[12,6,12,11],[0,13,0,24],[20,10,21,11],[14,0,14,5],[14,6,14,11],[16,1,16,5],[16,9,16,10],[18,1,18,5],[18,9,18,10],[19,0,19,1],[19,2,19,3],[20,0,21,1],[20,2,21,3],[20,9,21,9],[17,9,17,10],[29,0,29,1],[29,2,29,3],[22,0,22,1],[22,2,22,3],[23,0,24,1],[23,2,23,3],[24,2,24,3],[25,0,27,1],[25,2,25,3],[27,2,27,3],[28,0,28,1],[28,2,28,3],[33,5,33,11],[34,0,35,1],[34,2,34,3],[35,2,35,3],[30,0,30,1],[30,2,30,3],[31,0,31,1],[31,2,31,3],[32,0,32,1],[32,2,32,3],[39,0,39,1],[39,2,39,3],[41,0,44,1],[41,2,44,3],[33,0,33,1],[33,2,33,3],[36,0,36,1],[36,2,36,3],[37,0,37,1],[37,2,37,3],[38,0,38,1],[38,2,38,3],[44,5,44,11],[48,0,48,1],[48,2,48,3],[49,0,49,1],[49,2,49,3],[46,0,46,1],[46,2,46,3],[47,0,47,1],[47,2,47,3],[45,0,45,1],[45,2,45,3],[54,0,54,1],[54,2,54,3],[55,0,56,1],[55,2,56,3],[55,5,58,11],[57,0,57,1],[57,2,57,3],[58,0,58,1],[58,2,58,3],[50,0,50,1],[50,2,50,3],[52,0,52,1],[52,2,52,3],[53,0,53,1],[53,2,53,3]]}
[null,null,null,null,null,null,null,null,null,null,null,null,null,"RESUMEN DE BENEFICIOS",null,null,null,null,null,null,null,null,null,null,null,null,"RESUMEN DE BENEFICIOS"]
[null,null,null,null,null,null,false,false," "," "," "]
[]
[]
["Cotización de Seguro Médico Internacional\nBupa Diamond Care (Latinoamérica)\nTarifas en US$ | Validas: 1 de enero de 2025",null,null,null,null,null,null,null,null,null,null,"REGIÓN"]
[]
[null,null,null,null,null,null,null,null,null,null,null,{"$f":"'INGRESO DE DATOS'!W14","v":"Resto de Ecuador"}]
[]
[]
[]
[]
[]
["Nombre del asegurado principal:",null,null,null,null,null,{"$f":"+'INGRESO DE DATOS'!$C$36","v":"John Doe"}]
[]
["Broker/Agente",null,null,null,null,null,{"$f":"+'INGRESO DE DATOS'!$C$44","v":"Agencia"}]
[]
[null,"Número de Adultos en la Póliza",null,null,null,null,{"$f":"+'INGRESO DE DATOS'!$C$38","v":1},null,null,"Dependientes (menores de 24 años)",null,{"$f":"+'INGRESO DE DATOS'!$G$38","v":1}]
[null,null,null,null,null,null,null,null,null,{"$f":"IF('INGRESO DE DATOS'!$P$2=TRUE, \"Cotización para dependiente de 24 años\",\"\")","v":""}]
[null,"Edad del Titular",null,null,null,null,{"$f":"+'INGRESO DE DATOS'!$C$40","v":36},null,null,"Edad del Cónyuge",null,{"$f":"+'INGRESO DE DATOS'!$G$40","v":32}]
[]
[null,null,null,null,null,null,null,null,null," Fecha de Cotización:",{"$f":"NOW()","v":"2025-04-10T15:01:19.660"}]
[null,null,null,null,null,null,null,null," "]
[]
[]
[null,null,null,null,null,null,null," "]
[]
[]
[]
[null,null,null,null,null,"DEDUCIBLES","PLAN 1","PLAN 2","PLAN 3","PLAN 4","PLAN 5","PLAN 6"]
[null,null,null,null,null,"Dentro del pais de residencia",0,1000,2000,5000,10000,20000]
[null,null,null,null,null,"Fuera del pais de residencia",1000,2000,3000,5000,10000,20000]
[]
[]
[null,null,null,null,null,"TARIFAS ANUALES"]
[null,null,null,null,null,"Prima de Titular",{"$f":"VLOOKUP($G$19,Tablas!$A$82:$H$105,3,TRUE)+75","v":30396},{"$f":"VLOOKUP($G$19,Tablas!$A$82:$H$105,4,TRUE)+75","v":18896},{"$f":"VLOOKUP($G$19,Tablas!$A$82:$H$105,5,TRUE)+75","v":13585},{"$f":"VLOOKUP($G$19,Tablas!$A$82:$H$105,6,TRUE)+75","v":9687},{"$f":"VLOOKUP($G$19,Tablas!$A$82:$H$105,7,TRUE)+75","v":6620},{"$f":"VLOOKUP($G$19,Tablas!$A$82:$H$105,8,TRUE)+75","v":5229}]
[null,null,null,null,null,"Prima de Cónyuge",{"$f":"IF($G$17=1,0,(VLOOKUP($L$19,Tablas!$A$82:$H$105,3,TRUE)))","v":0},{"$f":"IF($G$17=1,0,(VLOOKUP($L$19,Tablas!$A$82:$H$105,4,TRUE)))","v":0},{"$f":"IF($G$17=1,0,(VLOOKUP($L$19,Tablas!$A$82:$H$105,5,TRUE)))","v":0},{"$f":"IF($G$17=1,0,(VLOOKUP($L$19,Tablas!$A$82:$H$105,6,TRUE)))","v":0},{"$f":"IF($G$17=1,0,(VLOOKUP($L$19,Tablas!$A$82:$H$105,7,TRUE)))","v":0},{"$f":"IF($G$17=1,0,(VLOOKUP($L$19,Tablas!$A$82:$H$105,8,TRUE)))","v":0}]
[null,null,null,null,null,"Primas Hijos",{"$f":"IF($L$17=0,0,(VLOOKUP($L$17,Tablas!$A$106:$H$108,3,TRUE)))","v":8667},{"$f":"IF($L$17=0,0,(VLOOKUP($L$17,Tablas!$A$106:$H$108,4,TRUE)))","v":5361},{"$f":"IF($L$17=0,0,(VLOOKUP($L$17,Tablas!$A$106:$H$108,5,TRUE)))","v":3957},{"$f":"IF($L$17=0,0,(VLOOKUP($L$17,Tablas!$A$106:$H$108,6,TRUE)))","v":3097},{"$f":"IF($L$17=0,0,(VLOOKUP($L$17,Tablas!$A$106:$H$108,7,TRUE)))","v":2327},{"$f":"IF($L$17=0,0,(VLOOKUP($L$17,Tablas!$A$106:$H$108,8,TRUE)))","v":1829}]
[null,null,null,null,null,"Rider: Complicación de Maternidad",{"$f":"+IF($G$2=FALSE,0,Tablas!C$109)","v":0},{"$f":"+IF($G$2=FALSE,0,Tablas!D$109)","v":0},{"$f":"+IF($G$2=FALSE,0,Tablas!E$109)","v":0},{"$f":"+IF($G$2=FALSE,0,Tablas!F$109)","v":0},{"$f":"+IF($G$2=FALSE,0,Tablas!G$109)","v":0},{"$f":"+IF($G$2=FALSE,0,Tablas!H$109)","v":0}]
[null,null,null,null,null,"TOTAL PRIMA NETA",{"$f":"SUM(G35:G38)","v":39063},24257,17542,12784,8947,7058]
[null,null,null,null,null,"Contrib. 3.5% Super. Bancos :",{"$f":"G39*3.5%","v":1367.2050000000002},{"$f":"H39*3.5%","v":848.99500000000012},613.97,447.44000000000005,313.14500000000004,247.03000000000003]
[null,null,null,null,null,"Contrib 0.5% Seg.Soc.Campes:",{"$f":"G39*0.5%","v":195.315},{"$f":"H39*0.5%","v":121.285},87.710000000000008,63.92,44.734999999999999,35.29]
[null,null,null,null,null,"GRAN TOTAL:",{"$f":"SUM(G39:G41)","v":40625.520000000004},{"$f":"SUM(H39:H41)","v":25227.279999999999},18243.68,13295.36,9304.880000000001,{"$f":"SUM(L39:L41)","v":7340.32}]
[]
[]
[null,null,null,null,null,"TARIFAS SEMESTRALES"]
[null,null,null,null,null,"Prima de Titular",{"$f":"VLOOKUP($G$19,Tablas!$A$117:$H$140,3,TRUE)+75","v":16145.130000000001},{"$f":"VLOOKUP($G$19,Tablas!$A$117:$H$140,4,TRUE)+75","v":10050.130000000001},{"$f":"VLOOKUP($G$19,Tablas!$A$117:$H$140,5,TRUE)+75","v":7235.3},{"$f":"VLOOKUP($G$19,Tablas!$A$117:$H$140,6,TRUE)+75","v":5169.3600000000006},{"$f":"VLOOKUP($G$19,Tablas!$A$117:$H$140,7,TRUE)+75","v":3543.8500000000004},{"$f":"VLOOKUP($G$19,Tablas!$A$117:$H$140,8,TRUE)+75","v":2806.6200000000003}]
[null,null,null,null,null,"Prima de Cónyuge",{"$f":"IF($G$17=1,0,(VLOOKUP($L$19,Tablas!$A$117:$H$140,3,TRUE)))","v":0},{"$f":"IF($G$17=1,0,(VLOOKUP($L$19,Tablas!$A$117:$H$140,4,TRUE)))","v":0},{"$f":"IF($G$17=1,0,(VLOOKUP($L$19,Tablas!$A$117:$H$140,5,TRUE)))","v":0},{"$f":"IF($G$17=1,0,(VLOOKUP($L$19,Tablas!$A$117:$H$140,6,TRUE)))","v":0},{"$f":"IF($G$17=1,0,(VLOOKUP($L$19,Tablas!$A$117:$H$140,7,TRUE)))","v":0},{"$f":"IF($G$17=1,0,(VLOOKUP($L$19,Tablas!$A$117:$H$140,8,TRUE)))","v":0}]
[null,null,null,null,null,"Primas Hijos",{"$f":"IF($L$17=0,0,(VLOOKUP($L$17,Tablas!$A$141:$H$143,3,TRUE)))","v":4593.51},{"$f":"IF($L$17=0,0,(VLOOKUP($L$17,Tablas!$A$141:$H$143,4,TRUE)))","v":2841.33},{"$f":"IF($L$17=0,0,(VLOOKUP($L$17,Tablas!$A$141:$H$143,5,TRUE)))","v":2097.21},{"$f":"IF($L$17=0,0,(VLOOKUP($L$17,Tablas!$A$141:$H$143,6,TRUE)))","v":1641.41},{"$f":"IF($L$17=0,0,(VLOOKUP($L$17,Tablas!$A$141:$H$143,7,TRUE)))","v":1233.3100000000002},{"$f":"IF($L$17=0,0,(VLOOKUP($L$17,Tablas!$A$141:$H$143,8,TRUE)))","v":969.37}]
[null,null,null,null,null,"Rider: Complicación de Maternidad",{"$f":"+IF($G$2=FALSE,0,Tablas!C$144)","v":0},{"$f":"+IF($G$2=FALSE,0,Tablas!D$144)","v":0},{"$f":"+IF($G$2=FALSE,0,Tablas!E$144)","v":0},{"$f":"+IF($G$2=FALSE,0,Tablas!F$144)","v":0},{"$f":"+IF($G$2=FALSE,0,Tablas!G$144)","v":0},{"$f":"+IF($G$2=FALSE,0,Tablas!H$144)","v":0}]
[null,null,null,null,null,"TOTAL PRIMA NETA",{"$f":"SUM(G46:G49)","v":20738.64},12891.460000000001,9332.51,6810.77,4777.1600000000008,3775.9900000000002]
[null,null,null,null,null,"Contrib. 3.5% Super. Bancos :",{"$f":"G50*5%","v":1036.932},{"$f":"H50*5%","v":644.57300000000009},466.62550000000005,340.53850000000006,238.85800000000006,188.79950000000002]
[null,null,null,null,null,"Contrib 0.5% Seg.Soc.Campes:",{"$f":"G50*0.5%","v":103.6932},{"$f":"H50*0.5%","v":64.457300000000004},46.662550000000003,34.053850000000004,23.885800000000003,18.879950000000001]
[null,null,null,null,null,"GRAN TOTAL  (1ra Cuota)",{"$f":"SUM(G50:G52)","v":21879.265200000002},{"$f":"SUM(H50:H52)","v":13600.490300000001},9845.7980499999994,7185.3623500000003,5039.903800000001,{"$f":"SUM(L50:L52)","v":3983.6694500000003}]
[null,null,null,null,null,"GRAN TOTAL  (2da Cuota)",{"$f":"(G50+G51+G52)*1-78","v":21801.265200000002},{"$f":"(H50+H51+H52)*1-78","v":13522.490300000001},9767.7980499999994,7107.3623500000003,4961.903800000001,{"$f":"(L50+L51+L52)*1-78","v":3905.6694500000003}]
[]
[null,null,null,null,null,"Este presupuesto solamente tiene carácter informativo y en ningún momento expresa compromiso legal para suministrarle cobertura de seguro. La emisión de una póliza de seguro Bupa está sujeta a todas las evaluaciones de riesgo por parte de Bupa y a la recepción de todos los pagos de prima requeridos."]
[]
[]
[]
[null," "]

{"sheet":"Bupa Complete Care (Mundial)","index":3,"n_rows":60,"n_cols":27,"rows_kept":60,"cut":false,"hidden":false,"merged":[[0,26,0,37],[13,0,13,1],[13,2,13,3],[4,0,10,10],[4,11,5,11],[6,11,10,11],[12,0,12,5],[12,6,12,11],[0,13,0,24],[20,10,21,11],[14,0,14,5],[14,6,14,11],[16,1,16,5],[16,9,16,10],[18,1,18,5],[18,9,18,10],[19,0,19,1],[19,2,19,3],[20,0,21,1],[20,2,21,3],[20,9,21,9],[17,9,17,10],[29,0,29,1],[29,2,29,3],[22,0,22,1],[22,2,22,3],[23,0,24,1],[23,2,23,3],[24,2,24,3],[25,0,27,1],[25,2,25,3],[27,2,27,3],[28,0,28,1],[28,2,28,3],[33,5,33,11],[34,0,35,1],[34,2,34,3],[35,2,35,3],[30,0,30,1],[30,2,30,3],[31,0,31,1],[31,2,31,3],[32,0,32,1],[32,2,32,3],[39,0,39,1],[39,2,39,3],[41,0,44,1],[41,2,44,3],[33,0,33,1],[33,2,33,3],[36,0,36,1],[36,2,36,3],[37,0,37,1],[37,2,37,3],[38,0,38,1],[38,2,38,3],[44,5,44,11],[48,0,48,1],[48,2,48,3],[49,0,49,1],[49,2,49,3],[46,0,46,1],[46,2,46,3],[47,0,47,1],[47,2,47,3],[45,0,45,1],[45,2,45,3],[54,0,54,1],[54,2,54,3],[55,0,56,1],[55,2,56,3],[55,5,58,11],[57,0,57,1],[57,2,57,3],[58,0,58,1],[58,2,58,3],[50,0,50,1],[50,2,50,3],[52,0,52,1],[52,2,52,3],[53,0,53,1],[53,2,53,3]]}
[null,null,null,null,null,null,null,null,null,null,null,null,null,"RESUMEN DE BENEFICIOS",null,null,null,null,null,null,null,null,null,null,null,null,"RESUMEN DE BENEFICIOS"]
[null,null,null,null,null,null,false,false," "," "," "]
[]
[]
["Cotización de Seguro Médico Internacional\nBupa Complete Care (Mundial)\nTarifas en US$ | Validas: 1 de enero de 2025",null,null,null,null,null,null,null,null,null,null,"REGIÓN"]
[]
[null,null,null,null,null,null,null,null,null,null,null,{"$f":"'INGRESO DE DATOS'!W14","v":"Resto de Ecuador"}]
[]
[]
[]
[]
[]
["Nombre del asegurado principal:",null,null,null,null,null,{"$f":"+'INGRESO DE DATOS'!$C$36","v":"John Doe"}]
[]
["Broker/Agente",null,null,null,null,null,{"$f":"+'INGRESO DE DATOS'!$C$44","v":"Agencia"}]
[]
[null,"Número de Adultos en la Póliza",null,null,null,null,{"$f":"+'INGRESO DE DATOS'!$C$38","v":1},null,null,"Dependientes (menores de 24 años)",null,{"$f":"+'INGRESO DE DATOS'!$G$38","v":1}]
[null,null,null,null,null,null,null,null,null,{"$f":"IF('INGRESO DE DATOS'!$P$2=TRUE, \"Cotización para dependiente de 24 años\",\"\")","v":""}]
[null,"Edad del Titular",null,null,null,null,{"$f":"+'INGRESO DE DATOS'!$C$40","v":36},null,null,"Edad del Cónyuge",null,{"$f":"+'INGRESO DE DATOS'!$G$40","v":32}]
[]
[null,null,null,null,null,null,null,null,null," Fecha de Cotización:",{"$f":"NOW()","v":"2025-04-10T15:01:19.660"}]
[null,null,null,null,null,null,null,null," "]
[]
[]
[null,null,null,null,null,null,null," "]
[]
[]
[]
[null,null,null,null,null,"DEDUCIBLES","PLAN 1","PLAN 2","PLAN 3","PLAN 4","PLAN 5","PLAN 6"]
[null,null,null,null,null,"Dentro del pais de residencia",0,1000,2000,5000,10000,20000]
[null,null,null,null,null,"Fuera del pais de residencia",1000,2000,3000,5000,10000,20000]
[]
[]
[null,null,null,null,null,"TARIFAS ANUALES"]
[null,null,null,null,null,"Prima de Titular",{"$f":"VLOOKUP($G$19,Tablas!$A$225:$H$248,3,TRUE)+75","v":33219},{"$f":"VLOOKUP($G$19,Tablas!$A$225:$H$248,4,TRUE)+75","v":20174},{"$f":"VLOOKUP($G$19,Tablas!$A$225:$H$248,5,TRUE)+75","v":14964},{"$f":"VLOOKUP($G$19,Tablas!$A$225:$H$248,6,TRUE)+75","v":10022},{"$f":"VLOOKUP($G$19,Tablas!$A$225:$H$248,7,TRUE)+75","v":7451},{"$f":"VLOOKUP($G$19,Tablas!$A$225:$H$248,8,TRUE)+75","v":5726}]
[null,null,null,null,null,"Prima de Cónyuge",{"$f":"IF($G$17=1,0,(VLOOKUP($L$19,Tablas!$A$225:$H$248,3,TRUE)))","v":0},{"$f":"IF($G$17=1,0,(VLOOKUP($L$19,Tablas!$A$225:$H$248,4,TRUE)))","v":0},{"$f":"IF($G$17=1,0,(VLOOKUP($L$19,Tablas!$A$225:$H$248,5,TRUE)))","v":0},{"$f":"IF($G$17=1,0,(VLOOKUP($L$19,Tablas!$A$225:$H$248,6,TRUE)))","v":0},{"$f":"IF($G$17=1,0,(VLOOKUP($L$19,Tablas!$A$225:$H$248,7,TRUE)))","v":0},{"$f":"IF($G$17=1,0,(VLOOKUP($L$19,Tablas!$A$225:$H$248,8,TRUE)))","v":0}]
[null,null,null,null,null,"Primas Hijos",{"$f":"IF($L$17=0,0,(VLOOKUP($L$17,Tablas!$A$249:$H$251,3,TRUE)))","v":9151},{"$f":"IF($L$17=0,0,(VLOOKUP($L$17,Tablas!$A$249:$H$251,4,TRUE)))","v":5694},{"$f":"IF($L$17=0,0,(VLOOKUP($L$17,Tablas!$A$249:$H$251,5,TRUE)))","v":4163},{"$f":"IF($L$17=0,0,(VLOOKUP($L$17,Tablas!$A$249:$H$251,6,TRUE)))","v":2926},{"$f":"IF($L$17=0,0,(VLOOKUP($L$17,Tablas!$A$249:$H$251,7,TRUE)))","v":2341},{"$f":"IF($L$17=0,0,(VLOOKUP($L$17,Tablas!$A$249:$H$251,8,TRUE)))","v":1730}]
[null,null,null,null,null,"Rider: Complicación de Maternidad",{"$f":"+IF($G$2=FALSE,0,Tablas!C$252)","v":0},{"$f":"+IF($G$2=FALSE,0,Tablas!D$252)","v":0},{"$f":"+IF($G$2=FALSE,0,Tablas!E$252)","v":0},{"$f":"+IF($G$2=FALSE,0,Tablas!F$252)","v":0},{"$f":"+IF($G$2=FALSE,0,Tablas!G$252)","v":0},{"$f":"+IF($G$2=FALSE,0,Tablas!H$252)","v":0}]
[null,null,null,null,null,"TOTAL PRIMA NETA",{"$f":"SUM(G35:G38)","v":42370},25868,19127,12948,9792,7456]
[null,null,null,null,null,"Contrib. 3.5% Super. Bancos :",{"$f":"G39*3.5%","v":1482.95},{"$f":"H39*3.5%","v":905.38000000000011},669.44500000000005,453.18000000000006,342.72,260.96000000000004]
[null,null,null,null,null,"Contrib 0.5% Seg.Soc.Campes:",{"$f":"G39*0.5%","v":211.85},{"$f":"H39*0.5%","v":129.34},95.635000000000005,64.739999999999995,48.96,37.28]
[null,null,null,null,null,"GRAN TOTAL:",{"$f":"SUM(G39:G41)","v":44064.799999999996},{"$f":"SUM(H39:H41)","v":26902.720000000001},19892.079999999998,13465.92,10183.679999999998,{"$f":"SUM(L39:L41)","v":7754.24}]
[]
[]
[null,null,null,null,null,"TARIFAS SEMESTRALES"]
[null,null,null,null,null,"Prima de Titular",{"$f":"VLOOKUP($G$19,Tablas!$A$260:$H$283,3,TRUE)+75","v":17641.32},{"$f":"VLOOKUP($G$19,Tablas!$A$260:$H$283,4,TRUE)+75","v":10727.470000000001},{"$f":"VLOOKUP($G$19,Tablas!$A$260:$H$283,5,TRUE)+75","v":7966.17},{"$f":"VLOOKUP($G$19,Tablas!$A$260:$H$283,6,TRUE)+75","v":5346.91},{"$f":"VLOOKUP($G$19,Tablas!$A$260:$H$283,7,TRUE)+75","v":3984.28},{"$f":"VLOOKUP($G$19,Tablas!$A$260:$H$283,8,TRUE)+75","v":3070.03}]
[null,null,null,null,null,"Prima de Cónyuge",{"$f":"IF($G$17=1,0,(VLOOKUP($L$19,Tablas!$A$260:$H$283,3,TRUE)))","v":0},{"$f":"IF($G$17=1,0,(VLOOKUP($L$19,Tablas!$A$260:$H$283,4,TRUE)))","v":0},{"$f":"IF($G$17=1,0,(VLOOKUP($L$19,Tablas!$A$260:$H$283,5,TRUE)))","v":0},{"$f":"IF($G$17=1,0,(VLOOKUP($L$19,Tablas!$A$260:$H$283,6,TRUE)))","v":0},{"$f":"IF($G$17=1,0,(VLOOKUP($L$19,Tablas!$A$260:$H$283,7,TRUE)))","v":0},{"$f":"IF($G$17=1,0,(VLOOKUP($L$19,Tablas!$A$260:$H$283,8,TRUE)))","v":0}]
[null,null,null,null,null,"Primas Hijos",{"$f":"IF($L$17=0,0,(VLOOKUP($L$17,Tablas!$A$284:$H$286,3,TRUE)))","v":4850.0300000000007},{"$f":"IF($L$17=0,0,(VLOOKUP($L$17,Tablas!$A$284:$H$286,4,TRUE)))","v":3017.82},{"$f":"IF($L$17=0,0,(VLOOKUP($L$17,Tablas!$A$284:$H$286,5,TRUE)))","v":2206.3900000000003},{"$f":"IF($L$17=0,0,(VLOOKUP($L$17,Tablas!$A$284:$H$286,6,TRUE)))","v":1550.78},{"$f":"IF($L$17=0,0,(VLOOKUP($L$17,Tablas!$A$284:$H$286,7,TRUE)))","v":1240.73},{"$f":"IF($L$17=0,0,(VLOOKUP($L$17,Tablas!$A$284:$H$286,8,TRUE)))","v":916.90000000000009}]
[null,null,null,null,null,"Rider: Complicación de Maternidad",{"$f":"+IF($G$2=FALSE,0,Tablas!C$287)","v":0},{"$f":"+IF($G$2=FALSE,0,Tablas!D$287)","v":0},{"$f":"+IF($G$2=FALSE,0,Tablas!E$287)","v":0},{"$f":"+IF($G$2=FALSE,0,Tablas!F$287)","v":0},{"$f":"+IF($G$2=FALSE,0,Tablas!G$287)","v":0},{"$f":"+IF($G$2=FALSE,0,Tablas!H$287)","v":0}]
[null,null,null,null,null,"TOTAL PRIMA NETA",{"$f":"SUM(G46:G49)","v":22491.35},13745.29,10172.560000000001,6897.69,5225.01,3986.9300000000003]
[null,null,null,null,null,"Contrib. 3.5% Super. Bancos :",{"$f":"G50*3.5%","v":787.19725000000005},{"$f":"H50*3.5%","v":481.08515000000006},356.03960000000006,241.41915,182.87535000000003,139.54255000000003]
[null,null,null,null,null,"Contrib 0.5% Seg.Soc.Campes:",{"$f":"G50*0.5%","v":112.45675},{"$f":"H50*0.5%","v":68.72645},50.862800000000007,34.48845,26.125050000000002,19.934650000000001]
[null,null,null,null,null,"GRAN TOTAL  (1ra Cuota)",{"$f":"SUM(G50:G52)","v":23391.004000000001},{"$f":"SUM(H50:H52)","v":14295.101600000002},10579.462400000002,7173.5975999999991,5434.0104000000001,{"$f":"SUM(L50:L52)","v":4146.4072000000006}]
[null,null,null,null,null,"GRAN TOTAL  (2da Cuota)",{"$f":"(G50+G51+G52)*1-78","v":23313.004000000001},{"$f":"(H50+H51+H52)*1-78","v":14217.101600000002},10501.462400000002,7095.5975999999991,5356.0104000000001,{"$f":"(L50+L51+L52)*1-78","v":4068.4072000000006}]
[]
[null,null,null,null,null,"Este presupuesto solamente tiene carácter informativo y en ningún momento expresa compromiso legal para suministrarle cobertura de seguro. La emisión de una póliza de seguro Bupa está sujeta a todas las evaluaciones de riesgo por parte de Bupa y a la recepción de todos los pagos de prima requeridos."]
[]
[]
[]
[null," "]

{"sheet":"Bupa Complete Care (LA)","index":4,"n_rows":60,"n_cols":27,"rows_kept":60,"cut":false,"hidden":false,"merged":[[0,26,0,37],[4,0,10,10],[6,11,10,11],[55,5,58,11],[18,1,18,5],[16,1,16,5],[54,0,54,1],[54,2,54,3],[39,0,39,1],[41,0,44,1],[41,2,44,3],[53,0,53,1],[52,0,52,1],[46,0,46,1],[47,0,47,1],[52,2,52,3],[49,0,49,1],[50,0,50,1],[48,0,48,1],[30,0,30,1],[24,2,24,3],[25,0,27,1],[28,0,28,1],[29,2,29,3],[29,0,29,1],[30,2,30,3],[33,5,33,11],[44,5,44,11],[20,9,21,9],[20,10,21,11],[16,9,16,10],[18,9,18,10],[17,9,17,10],[53,2,53,3],[20,2,21,3],[33,2,33,3],[28,2,28,3],[22,2,22,3],[23,2,23,3],[25,2,25,3],[39,2,39,3],[27,2,27,3],[34,2,34,3],[13,0,13,1],[20,0,21,1],[19,0,19,1],[12,0,12,5],[14,0,14,5],[13,2,13,3],[19,2,19,3],[14,6,14,11],[22,0,22,1],[55,0,56,1],[55,2,56,3],[36,0,36,1],[37,0,37,1],[36,2,36,3],[50,2,50,3],[45,0,45,1],[38,2,38,3],[37,2,37,3],[47,2,47,3],[48,2,48,3],[45,2,45,3],[49,2,49,3],[46,2,46,3],[0,13,0,24],[4,11,5,11],[58,0,58,1],[58,2,58,3],[57,0,57,1],[57,2,57,3],[38,0,38,1],[31,0,31,1],[23,0,24,1],[32,0,32,1],[35,2,35,3],[31,2,31,3],[33,0,33,1],[34,0,35,1],[32,2,32,3],[12,6,12,11]]}
[null,null,null,null,null,null,null,null,null,null,null,null,null,"RESUMEN DE BENEFICIOS",null,null,null,null,null,null,null,null,null,null,null,null,"RESUMEN DE BENEFICIOS"]
[null,null,null,null,null,null,false,false," "," "," "]
[]
[]
["Cotización de Seguro Médico Internacional\nBupa Complete Care (Latinoamérica)\nTarifas en US$ | Validas: 1 de enero de 2025",null,null,null,null,null,null,null,null,null,null,"REGIÓN"]
[]
[null,null,null,null,null,null,null,null,null,null,null,{"$f":"'INGRESO DE DATOS'!W14","v":"Resto de Ecuador"}]
[]
[]
[]
[]
[]
["Nombre del asegurado principal:",null,null,null,null,null,{"$f":"+'INGRESO DE DATOS'!$C$36","v":"John Doe"}]
[]
["Broker/Agente",null,null,null,null,null,{"$f":"+'INGRESO DE DATOS'!$C$44","v":"Agencia"}]
[]
[null,"Número de Adultos en la Póliza",null,null,null,null,{"$f":"+'INGRESO DE DATOS'!$C$38","v":1},null,null,"Dependientes (menores de 24 años)",null,{"$f":"+'INGRESO DE DATOS'!$G$38","v":1}]
[null,null,null,null,null,null,null,null,null,{"$f":"IF('INGRESO DE DATOS'!$P$2=TRUE, \"Cotización para dependiente de 24 años\",\"\")","v":""}]
[null,"Edad del Titular",null,null,null,null,{"$f":"+'INGRESO DE DATOS'!$C$40","v":36},null,null,"Edad del Cónyuge",null,{"$f":"+'INGRESO DE DATOS'!$G$40","v":32}]
[]
[null,null,null,null,null,null,null,null,null," Fecha de Cotización:",{"$f":"NOW()","v":"2025-04-10T15:01:19.660"}]
[null,null,null,null,null,null,null,null," "]
[]
[]
[null,null,null,null,null,null,null," "]
[]
[]
[]
[null,null,null,null,null,"DEDUCIBLES","PLAN 1","PLAN 2","PLAN 3","PLAN 4","PLAN 5","PLAN 6"]
[null,null,null,null,null,"Dentro del pais de residencia",0,1000,2000,5000,10000,20000]
[null,null,null,null,null,"Fuera del pais de residencia",1000,2000,3000,5000,10000,20000]
[]
[]
[null,null,null,null,null,"TARIFAS ANUALES"]
[null,null,null,null,null,"Prima de Titular",{"$f":"VLOOKUP($G$19,Tablas!$A$296:$H$319,3,TRUE)+75","v":26191},{"$f":"VLOOKUP($G$19,Tablas!$A$296:$H$319,4,TRUE)+75","v":15958},{"$f":"VLOOKUP($G$19,Tablas!$A$296:$H$319,5,TRUE)+75","v":11870},{"$f":"VLOOKUP($G$19,Tablas!$A$296:$H$319,6,TRUE)+75","v":8440},{"$f":"VLOOKUP($G$19,Tablas!$A$296:$H$319,7,TRUE)+75","v":5809},{"$f":"VLOOKUP($G$19,Tablas!$A$296:$H$319,8,TRUE)+75","v":4437}]
[null,null,null,null,null,"Prima de Cónyuge",{"$f":"IF($G$17=1,0,(VLOOKUP($L$19,Tablas!$A$296:$H$319,3,TRUE)))","v":0},{"$f":"IF($G$17=1,0,(VLOOKUP($L$19,Tablas!$A$296:$H$319,4,TRUE)))","v":0},{"$f":"IF($G$17=1,0,(VLOOKUP($L$19,Tablas!$A$296:$H$319,5,TRUE)))","v":0},{"$f":"IF($G$17=1,0,(VLOOKUP($L$19,Tablas!$A$296:$H$319,6,TRUE)))","v":0},{"$f":"IF($G$17=1,0,(VLOOKUP($L$19,Tablas!$A$296:$H$319,7,TRUE)))","v":0},{"$f":"IF($G$17=1,0,(VLOOKUP($L$19,Tablas!$A$296:$H$319,8,TRUE)))","v":0}]
[null,null,null,null,null,"Primas Hijos",{"$f":"IF($L$17=0,0,(VLOOKUP($L$17,Tablas!$A$320:$H$322,3,TRUE)))","v":7245},{"$f":"IF($L$17=0,0,(VLOOKUP($L$17,Tablas!$A$320:$H$322,4,TRUE)))","v":4509},{"$f":"IF($L$17=0,0,(VLOOKUP($L$17,Tablas!$A$320:$H$322,5,TRUE)))","v":3279},{"$f":"IF($L$17=0,0,(VLOOKUP($L$17,Tablas!$A$320:$H$322,6,TRUE)))","v":2452},{"$f":"IF($L$17=0,0,(VLOOKUP($L$17,Tablas!$A$320:$H$322,7,TRUE)))","v":1858},{"$f":"IF($L$17=0,0,(VLOOKUP($L$17,Tablas!$A$320:$H$322,8,TRUE)))","v":1380}]
[null,null,null,null,null,"Rider: Complicación de Maternidad",{"$f":"+IF($G$2=FALSE,0,Tablas!C$323)","v":0},{"$f":"+IF($G$2=FALSE,0,Tablas!D$323)","v":0},{"$f":"+IF($G$2=FALSE,0,Tablas!E$323)","v":0},{"$f":"+IF($G$2=FALSE,0,Tablas!F$323)","v":0},{"$f":"+IF($G$2=FALSE,0,Tablas!G$323)","v":0},{"$f":"+IF($G$2=FALSE,0,Tablas!H$323)","v":0}]
[null,null,null,null,null,"TOTAL PRIMA NETA",{"$f":"SUM(G35:G38)","v":33436},20467,15149,10892,7667,5817]
[null,null,null,null,null,"Contrib. 3.5% Super. Bancos :",{"$f":"G39*3.5%","v":1170.2600000000002},{"$f":"H39*3.5%","v":716.34500000000003},530.21500000000003,381.22,268.34500000000003,203.59500000000003]
[null,null,null,null,null,"Contrib 0.5% Seg.Soc.Campes:",{"$f":"G39*0.5%","v":167.18},{"$f":"H39*0.5%","v":102.33500000000001},75.745000000000005,54.46,38.335000000000001,29.085000000000001]
[null,null,null,null,null,"GRAN TOTAL:",{"$f":"SUM(G39:G41)","v":34773.440000000002},{"$f":"SUM(H39:H41)","v":21285.68},15754.960000000001,11327.679999999998,7973.68,{"$f":"SUM(L39:L41)","v":6049.68}]
[]
[]
[null,null,null,null,null,"TARIFAS SEMESTRALES"]
[null,null,null,null,null,"Prima de Titular",{"$f":"VLOOKUP($G$19,Tablas!$A$331:$H$354,3,TRUE)+75","v":13916.480000000001},{"$f":"VLOOKUP($G$19,Tablas!$A$331:$H$354,4,TRUE)+75","v":8492.99},{"$f":"VLOOKUP($G$19,Tablas!$A$331:$H$354,5,TRUE)+75","v":6326.35},{"$f":"VLOOKUP($G$19,Tablas!$A$331:$H$354,6,TRUE)+75","v":4508.45},{"$f":"VLOOKUP($G$19,Tablas!$A$331:$H$354,7,TRUE)+75","v":3114.02},{"$f":"VLOOKUP($G$19,Tablas!$A$331:$H$354,8,TRUE)+75","v":2386.86}]
[null,null,null,null,null,"Prima de Cónyuge",{"$f":"IF($G$17=1,0,(VLOOKUP($L$19,Tablas!$A$331:$H$354,3,TRUE)))","v":0},{"$f":"IF($G$17=1,0,(VLOOKUP($L$19,Tablas!$A$331:$H$354,4,TRUE)))","v":0},{"$f":"IF($G$17=1,0,(VLOOKUP($L$19,Tablas!$A$331:$H$354,5,TRUE)))","v":0},{"$f":"IF($G$17=1,0,(VLOOKUP($L$19,Tablas!$A$331:$H$354,6,TRUE)))","v":0},{"$f":"IF($G$17=1,0,(VLOOKUP($L$19,Tablas!$A$331:$H$354,7,TRUE)))","v":0},{"$f":"IF($G$17=1,0,(VLOOKUP($L$19,Tablas!$A$331:$H$354,8,TRUE)))","v":0}]
[null,null,null,null,null,"Primas Hijos",{"$f":"IF($L$17=0,0,(VLOOKUP($L$17,Tablas!$A$355:$H$357,3,TRUE)))","v":3839.8500000000004},{"$f":"IF($L$17=0,0,(VLOOKUP($L$17,Tablas!$A$355:$H$357,4,TRUE)))","v":2389.77},{"$f":"IF($L$17=0,0,(VLOOKUP($L$17,Tablas!$A$355:$H$357,5,TRUE)))","v":1737.8700000000001},{"$f":"IF($L$17=0,0,(VLOOKUP($L$17,Tablas!$A$355:$H$357,6,TRUE)))","v":1299.5600000000002},{"$f":"IF($L$17=0,0,(VLOOKUP($L$17,Tablas!$A$355:$H$357,7,TRUE)))","v":984.74},{"$f":"IF($L$17=0,0,(VLOOKUP($L$17,Tablas!$A$355:$H$357,8,TRUE)))","v":731.40000000000009}]
[null,null,null,null,null,"Rider: Complicación de Maternidad",{"$f":"+IF($G$2=FALSE,0,Tablas!C$358)","v":0},{"$f":"+IF($G$2=FALSE,0,Tablas!D$358)","v":0},{"$f":"+IF($G$2=FALSE,0,Tablas!E$358)","v":0},{"$f":"+IF($G$2=FALSE,0,Tablas!F$358)","v":0},{"$f":"+IF($G$2=FALSE,0,Tablas!G$358)","v":0},{"$f":"+IF($G$2=FALSE,0,Tablas!H$358)","v":0}]
[null,null,null,null,null,"TOTAL PRIMA NETA",{"$f":"SUM(G46:G49)","v":17756.330000000002},10882.76,8064.22,5808.01,4098.76,3118.26]
[null,null,null,null,null,"Contrib. 3.5% Super. Bancos :",{"$f":"G50*3.5%","v":621.47155000000009},{"$f":"H50*3.5%","v":380.89660000000003},282.24770000000001,203.28035000000003,143.45660000000001,109.13910000000001]
[null,null,null,null,null,"Contrib 0.5% Seg.Soc.Campes:",{"$f":"G50*0.5%","v":88.781650000000013},{"$f":"H50*0.5%","v":54.413800000000002},40.321100000000001,29.040050000000001,20.4938,15.591300000000002]
[null,null,null,null,null,"GRAN TOTAL  (1ra Cuota)",{"$f":"SUM(G50:G52)","v":18466.583200000001},{"$f":"SUM(H50:H52)","v":11318.070400000001},8386.7888000000003,6040.3303999999998,4262.7104000000008,{"$f":"SUM(L50:L52)","v":3242.9904000000001}]
[null,null,null,null,null,"GRAN TOTAL  (2da Cuota)",{"$f":"(G50+G51+G52)*1-78","v":18388.583200000001},{"$f":"(H50+H51+H52)*1-78","v":11240.070400000001},8308.7888000000003,5962.3303999999998,4184.7104000000008,{"$f":"(L50+L51+L52)*1-78","v":3164.9904000000001}]
[]
[null,null,null,null,null,"Este presupuesto solamente tiene carácter informativo y en ningún momento expresa compromiso legal para suministrarle cobertura de seguro. La emisión de una póliza de seguro Bupa está sujeta a todas las evaluaciones de riesgo por parte de Bupa y a la recepción de todos los pagos de prima requeridos."]
[]
[]
[]
[null," "]

{"sheet":"Bupa Advantage Care (Mundial)","index":5,"n_rows":54,"n_cols":22,"rows_kept":54,"cut":false,"hidden":false,"merged":[[0,21,0,32],[0,8,0,19],[20,3,21,4],[53,0,57,6],[16,3,16,5],[18,3,18,5],[4,0,10,5],[4,6,5,6],[6,6,10,6],[20,5,21,6],[29,0,29,6],[41,0,41,6],[52,0,52,6],[12,1,12,6],[14,1,14,6],[17,3,17,4]]}
[" ",null,false,true,null,null,null,null,"RESUMEN DE BENEFICIOS",null,null,null,null,null,null,null,null,null,null,null,null,"RESUMEN DE BENEFICIOS"]
[null,null,null," "," "," "]
[]
[]
["Cotización de Seguro Médico Internacional\nBupa Advantage Care (Mundial)\nTarifas en US$ | Validas: 1 de enero de 2025",null,null,null,null,null,"REGIÓN"]
[]
[null,null,null,null,null,null,{"$f":"'INGRESO DE DATOS'!W14","v":"Resto de Ecuador"}]
[]
[]
[]
[]
[]
["Nombre del asegurado principal",{"$f":"+'INGRESO DE DATOS'!$C$36","v":"John Doe"}]
[]
["Broker/Agente",{"$f":"+'INGRESO DE DATOS'!$C$44","v":"Agencia"}]
[]
["Número de Adultos en la Póliza",{"$f":"+'INGRESO DE DATOS'!$C$38","v":1},null,"Dependientes (menores de 24 años)",null,null,{"$f":"+'INGRESO DE DATOS'!$G$38","v":1}]
[null,null,null,{"$f":"IF('INGRESO DE DATOS'!$P$2=TRUE, \"Cotización para dependiente de 24 años\",\"\")","v":""}]
["Edad del Titular",{"$f":"+'INGRESO DE DATOS'!$C$40","v":36},null,"Edad del Cónyuge",null,null,{"$f":"+'INGRESO DE DATOS'!$G$40","v":32}]
[]
[null,null,null," Fecha de Cotización:",null,{"$f":"NOW()","v":"2025-04-10T15:01:19.660"}]
[]
[]
[]
["DEDUCIBLES","PLAN 1","PLAN 2","PLAN 3","PLAN 4","PLAN 5","PLAN 6"]
["Dentro del pais de residencia",0,1000,2000,5000,10000,20000]
["Fuera del pais de residencia",1000,2000,3000,5000,10000,20000]
[]
[]
["TARIFAS ANUALES"]
["Prima de Titular",{"$f":"VLOOKUP($B$19,Tablas!$A$440:$H$463,3,TRUE)+75","v":22099},{"$f":"VLOOKUP($B$19,Tablas!$A$440:$H$463,4,TRUE)+75","v":15333},{"$f":"VLOOKUP($B$19,Tablas!$A$440:$H$463,5,TRUE)+75","v":11826},{"$f":"VLOOKUP($B$19,Tablas!$A$440:$H$463,6,TRUE)+75","v":8013},{"$f":"VLOOKUP($B$19,Tablas!$A$440:$H$463,7,TRUE)+75","v":6157},{"$f":"VLOOKUP($B$19,Tablas!$A$440:$H$463,8,TRUE)+75","v":4673}]
["Prima de Cónyuge",{"$f":"IF($B$17=1,0,(VLOOKUP($G$19,Tablas!$A$440:$H$463,3,TRUE)))","v":0},{"$f":"IF($B$17=1,0,(VLOOKUP($G$19,Tablas!$A$440:$H$463,4,TRUE)))","v":0},{"$f":"IF($B$17=1,0,(VLOOKUP($G$19,Tablas!$A$440:$H$463,5,TRUE)))","v":0},{"$f":"IF($B$17=1,0,(VLOOKUP($G$19,Tablas!$A$440:$H$463,6,TRUE)))","v":0},{"$f":"IF($B$17=1,0,(VLOOKUP($G$19,Tablas!$A$440:$H$463,7,TRUE)))","v":0},{"$f":"IF($B$17=1,0,(VLOOKUP($G$19,Tablas!$A$440:$H$463,8,TRUE)))","v":0}]
["Primas Hijos",{"$f":"IF($G$17=0,0,(VLOOKUP($G$17,Tablas!$A$464:$H$466,3,TRUE)))","v":6124},{"$f":"IF($G$17=0,0,(VLOOKUP($G$17,Tablas!$A$464:$H$466,4,TRUE)))","v":4728},{"$f":"IF($G$17=0,0,(VLOOKUP($G$17,Tablas!$A$464:$H$466,5,TRUE)))","v":3365},{"$f":"IF($G$17=0,0,(VLOOKUP($G$17,Tablas!$A$464:$H$466,6,TRUE)))","v":1751},{"$f":"IF($G$17=0,0,(VLOOKUP($G$17,Tablas!$A$464:$H$466,7,TRUE)))","v":1606},{"$f":"IF($G$17=0,0,(VLOOKUP($G$17,Tablas!$A$464:$H$466,8,TRUE)))","v":1431}]
["Rider: Complicaciones de  Maternidad",{"$f":"+IF($C$1=FALSE,0,Tablas!C$467)","v":0},{"$f":"+IF($C$1=FALSE,0,Tablas!D$467)","v":0},{"$f":"+IF($C$1=FALSE,0,Tablas!E$467)","v":0},{"$f":"+IF($C$1=FALSE,0,Tablas!F$467)","v":0},{"$f":"+IF($C$1=FALSE,0,Tablas!G$467)","v":0},{"$f":"+IF($C$1=FALSE,0,Tablas!H$467)","v":0}]
["Rider: Trasplante Organos",{"$f":"IF($D$1=FALSE,0,Tablas!C$468)","v":300},{"$f":"IF($D$1=FALSE,0,Tablas!D$468)","v":300},{"$f":"IF($D$1=FALSE,0,Tablas!E$468)","v":300},{"$f":"IF($D$1=FALSE,0,Tablas!F$468)","v":300},{"$f":"IF($D$1=FALSE,0,Tablas!G$468)","v":300},{"$f":"IF($D$1=FALSE,0,Tablas!H$468)","v":300}]
["TOTAL PRIMA NETA",{"$f":"SUM(B31:B35)","v":28523},20361,15491,10064,8063,6404]
["Contrib. 3.5% Super. Bancos :",{"$f":"B36*3.5%","v":998.30500000000006},{"$f":"C36*3.5%","v":712.6350000000001},542.18500000000006,352.24,282.20500000000004,224.14000000000001]
["Contrib 0.5% Seg.Soc.Campes:",{"$f":"B36*0.5%","v":142.61500000000001},{"$f":"C36*0.5%","v":101.80500000000001},77.454999999999998,50.32,40.314999999999998,32.020000000000003]
["GRAN TOTAL :",{"$f":"SUM(B36:B38)","v":29663.920000000002},{"$f":"SUM(C36:C38)","v":21175.439999999999},16110.64,10466.56,8385.52,{"$f":"SUM(G36:G38)","v":6660.1600000000008}]
[]
[]
["TARIFAS SEMESTRALES"]
["Prima de Titular",{"$f":"VLOOKUP($B$19,Tablas!$A$475:$H$498,3,TRUE)+75","v":11747.720000000001},{"$f":"VLOOKUP($B$19,Tablas!$A$475:$H$498,4,TRUE)+75","v":8161.7400000000007},{"$f":"VLOOKUP($B$19,Tablas!$A$475:$H$498,5,TRUE)+75","v":6303.0300000000007},{"$f":"VLOOKUP($B$19,Tablas!$A$475:$H$498,6,TRUE)+75","v":4282.1400000000003},{"$f":"VLOOKUP($B$19,Tablas!$A$475:$H$498,7,TRUE)+75","v":3298.46},{"$f":"VLOOKUP($B$19,Tablas!$A$475:$H$498,8,TRUE)+75","v":2511.94}]
["Prima de Cónyuge",{"$f":"IF($B$17=1,0,(VLOOKUP($G$19,Tablas!$A$475:$H$498,3,TRUE)))","v":0},{"$f":"IF($B$17=1,0,(VLOOKUP($G$19,Tablas!$A$475:$H$498,4,TRUE)))","v":0},{"$f":"IF($B$17=1,0,(VLOOKUP($G$19,Tablas!$A$475:$H$498,5,TRUE)))","v":0},{"$f":"IF($B$17=1,0,(VLOOKUP($G$19,Tablas!$A$475:$H$498,6,TRUE)))","v":0},{"$f":"IF($B$17=1,0,(VLOOKUP($G$19,Tablas!$A$475:$H$498,7,TRUE)))","v":0},{"$f":"IF($B$17=1,0,(VLOOKUP($G$19,Tablas!$A$475:$H$498,8,TRUE)))","v":0}]
["Primas Hijos",{"$f":"IF($G$17=0,0,(VLOOKUP($G$17,Tablas!$A$499:$H$501,3,TRUE)))","v":3245.7200000000003},{"$f":"IF($G$17=0,0,(VLOOKUP($G$17,Tablas!$A$499:$H$501,4,TRUE)))","v":2505.84},{"$f":"IF($G$17=0,0,(VLOOKUP($G$17,Tablas!$A$499:$H$501,5,TRUE)))","v":1783.45},{"$f":"IF($G$17=0,0,(VLOOKUP($G$17,Tablas!$A$499:$H$501,6,TRUE)))","v":928.03000000000009},{"$f":"IF($G$17=0,0,(VLOOKUP($G$17,Tablas!$A$499:$H$501,7,TRUE)))","v":851.18000000000006},{"$f":"IF($G$17=0,0,(VLOOKUP($G$17,Tablas!$A$499:$H$501,8,TRUE)))","v":758.43000000000006}]
["Rider: Complicaciones de  Maternidad",{"$f":"+IF($C$1=FALSE,0,Tablas!C$502)","v":0},{"$f":"+IF($C$1=FALSE,0,Tablas!D$502)","v":0},{"$f":"+IF($C$1=FALSE,0,Tablas!E$502)","v":0},{"$f":"+IF($C$1=FALSE,0,Tablas!F$502)","v":0},{"$f":"+IF($C$1=FALSE,0,Tablas!G$502)","v":0},{"$f":"+IF($C$1=FALSE,0,Tablas!H$502)","v":0}]
["Rider: Trasplante Organos",{"$f":"IF($D$1=FALSE,0,Tablas!C$503)","v":159},{"$f":"IF($D$1=FALSE,0,Tablas!D$503)","v":159},{"$f":"IF($D$1=FALSE,0,Tablas!E$503)","v":159},{"$f":"IF($D$1=FALSE,0,Tablas!F$503)","v":159},{"$f":"IF($D$1=FALSE,0,Tablas!G$503)","v":159},{"$f":"IF($D$1=FALSE,0,Tablas!H$503)","v":159}]
["TOTAL PRIMA NETA",{"$f":"SUM(B43:B47)","v":15152.440000000002},10826.580000000002,8245.48,5369.17,4308.6400000000003,3429.37]
["Contrib. 3.5% Super. Bancos :",{"$f":"B48*3.5%","v":530.33540000000016},{"$f":"C48*3.5%","v":378.9303000000001},288.59180000000003,187.92095000000003,150.80240000000003,120.02795]
["Contrib 0.5% Seg.Soc.Campes:",{"$f":"B48*0.5%","v":75.762200000000007},{"$f":"C48*0.5%","v":54.132900000000006},41.227399999999996,26.845850000000002,21.543200000000002,17.146850000000001]
["GRAN TOTAL  (1ra Cuota)",{"$f":"SUM(B48:B50)","v":15758.537600000001},{"$f":"SUM(C48:C50)","v":11259.643200000002},8575.2991999999995,5583.9367999999995,4480.9856,{"$f":"SUM(G48:G50)","v":3566.5448000000001}]
["GRAN TOTAL  (2da Cuota)",{"$f":"(B48+B49+B50)*1-78","v":15680.537600000001},{"$f":"(C48+C49+C50)*1-78","v":11181.643200000002},8497.2991999999995,5505.9367999999995,4402.9856,{"$f":"(G48+G49+G50)*1-78","v":3488.5448000000001}]
[]
["Este presupuesto solamente tiene carácter informativo y en ningún momento expresa compromiso legal para suministrarle cobertura de seguro. La emisión de una póliza de seguro Bupa está sujeta a todas las evaluaciones de riesgo por parte de Bupa y a la recepción de todos los pagos de prima requeridos."]

{"sheet":"Advantage (LA)","index":6,"n_rows":50,"n_cols":13,"rows_kept":50,"cut":false,"hidden":true,"merged":[[9,0,9,12],[11,7,11,12],[13,7,13,12],[17,5,17,6],[16,5,16,6],[11,0,11,3],[17,0,18,1],[12,0,12,1],[13,0,13,1],[14,0,14,1],[15,0,15,1],[16,0,16,1],[49,5,49,12],[12,2,12,3],[13,2,13,3],[14,2,14,3],[15,2,15,3],[27,2,27,3],[16,2,16,3],[20,2,20,3],[17,2,18,3],[29,2,29,3],[30,2,30,3],[23,2,23,3],[24,2,24,3],[19,2,19,3],[33,2,33,3],[45,2,46,3],[19,0,19,1],[28,0,28,1],[28,2,28,3],[32,0,32,1],[25,2,25,3],[25,0,25,1],[26,0,26,1],[26,2,26,3],[32,2,32,3],[21,2,21,3],[22,2,22,3],[31,2,31,3],[27,0,27,1],[29,0,29,1],[30,0,31,1],[20,0,21,1],[22,0,23,1],[24,0,24,1],[33,0,33,1],[34,0,34,1],[38,2,38,3],[38,0,38,1],[35,0,35,1],[35,2,35,3],[36,0,36,1],[36,2,36,3],[34,2,34,3],[39,0,39,1],[40,0,40,1],[39,2,39,3],[41,0,41,1],[40,2,40,3],[45,0,46,1],[42,0,42,1],[41,2,41,3],[42,2,42,3],[43,0,43,1],[43,2,43,3],[44,0,44,1],[44,2,44,3]]}
[]
[null,null,null,null,null,null,null,null,null," "," "," "]
[]
[]
[]
[null,null,null,null,null,null,null,null,null," "," "," "," "]
[]
[]
[]
["Cotización de Seguro Médico Internacional - Bupa ADVANTAGE Care (cobertura solo Latinoamérica)"]
[]
["Bupa Advantage Care (cobertura solo en Latinoamérica)",null,null,null,null,null,null,{"$f":"+'INGRESO DE DATOS'!$C$36","v":"John Doe"}]
["Cobertura Máxima anual",null,"US $ 3,500,000"]
["Cobertura Geografica",null,"Limitada a Latinoamérica excluyendo México",null,null,null,null,{"$f":"+'INGRESO DE DATOS'!$C$44","v":"Agencia"}]
["Condiciones médicas cubiertas",null,"Todas las condiciones médicas"]
["Redes de proveedores",null,"Red de Proveedores \"Bupa Advantage\"",null,null,null,null,null,null,{"$f":"+'INGRESO DE DATOS'!$C$38","v":1},null,null,{"$f":"+'INGRESO DE DATOS'!$C$40","v":36}]
["Opciones fuera de la Red",null,"NO, solo en casos de emergencia",null,null,"FECHA DE COTIZACION :"]
["Requiere preautorización",null,"SI, 30% de penalización por omitir prenotificación",null,null,{"$f":"NOW()","v":"2025-04-10T15:01:19.660"},null,null,null,{"$f":"+'INGRESO DE DATOS'!$G$38","v":1},null,null,{"$f":"+'INGRESO DE DATOS'!$G$40","v":32}]
[null,null,null,null,null,null,null,null,null," "," "," "]
["Número máximo de días de hospitalización",null,"Ilimitado",null,null,null,null,null,true,null,"COMPLICACIONES DE MATERNIDAD"]
["Habitación y alimentación",null,"100% dentro de Red Bupa"]
[null,null,"\"UCR\" para L.A. en emergencias fuera de  Red Bupa",null,null,null,null,null,true,null,"TRASPLANTE DE ORGANOS"]
["Cuidados Intensivos",null,"100% dentro de Red Bupa"]
[null,null,"\"UCR\" para L.A. en emergencias fuera de  Red Bupa",null,null,null," "]
["Cobertura de Maternidad",null,"$5,000 (Excepto planes 4,5, y 6)",null,null,"Deducibles",null,"PLAN 1","PLAN 2","PLAN 3","PLAN 4","PLAN 5","PLAN 6"]
["Cobertura Provisional de Recién Nacido",null,"$30,000 por los primeros 90 días",null,null,"Dentro del pais de residencia",null,"n/a",1000,2000,5000,10000,20000]
["Cuidado del Recién Nacido saludable",null,"Ya incluída dentro del beneficio de Maternidad",null,null,"Fuera del pais de residencia",null,"n/a",2000,3000,5000,10000,20000]
["Cobertura de Complicaciones de Maternidad",null,"Disponible a través de cobertura opcional adicional"]
["Trasplante de Organos",null,"$1,000,000 de por vida, por diagnóstico"]
["Condiciones congénitas y hereditarias",null,"<18 años $300,000 de por vida; >=18 al 100%",null,null,"Tarifas Anuales"]
["Coberturas opcionales (Riders)",null,"Complicaciones de Maternidad por $500,000",null,null,"Prima de Titular :",null,"n/a",{"$f":"VLOOKUP($M$16,Tablas!$A$582:$H$605,4,TRUE)","v":16068},{"$f":"VLOOKUP($M$16,Tablas!$A$582:$H$605,5,TRUE)","v":12342},{"$f":"VLOOKUP($M$16,Tablas!$A$582:$H$605,6,TRUE)","v":8853},{"$f":"VLOOKUP($M$16,Tablas!$A$582:$H$605,7,TRUE)","v":6822},{"$f":"VLOOKUP($M$16,Tablas!$A$582:$H$605,8,TRUE)","v":5116}]
[null,null,"Trasplante de órganos por $ 300,000 adicionales",null,null,"Prima de Cónyuge",null,"n/a",{"$f":"IF($J$16=1,0,(VLOOKUP($M$18,Tablas!$A$582:$H$605,4,TRUE)))","v":0},{"$f":"IF($J$16=1,0,(VLOOKUP($M$18,Tablas!$A$582:$H$605,5,TRUE)))","v":0},{"$f":"IF($J$16=1,0,(VLOOKUP($M$18,Tablas!$A$582:$H$605,6,TRUE)))","v":0},{"$f":"IF($J$16=1,0,(VLOOKUP($M$18,Tablas!$A$582:$H$605,7,TRUE)))","v":0},{"$f":"IF($J$16=1,0,(VLOOKUP($M$18,Tablas!$A$582:$H$605,8,TRUE)))","v":0}]
["Acompañamiento de menores hospitalizados",null,"$300 por día",null,null,"Primas Hijos :",null,"n/a",{"$f":"IF($J$18=0,0,(VLOOKUP($J$18,Tablas!$A$606:$H$608,4,TRUE)))","v":5009},{"$f":"IF($J$18=0,0,(VLOOKUP($J$18,Tablas!$A$606:$H$608,5,TRUE)))","v":3572},{"$f":"IF($J$18=0,0,(VLOOKUP($J$18,Tablas!$A$606:$H$608,6,TRUE)))","v":2624},{"$f":"IF($J$18=0,0,(VLOOKUP($J$18,Tablas!$A$606:$H$608,7,TRUE)))","v":2281},{"$f":"IF($J$18=0,0,(VLOOKUP($J$18,Tablas!$A$606:$H$608,8,TRUE)))","v":1656}]
["Ambulancia aérea",null,"$100,000 por año y ticket aéreo de retorno",null,null,"Prima Rider Complic. Maternidad",null,"n/a",{"$f":"+IF($I$20=FALSE,0,Tablas!D$609)","v":0},{"$f":"+IF($I$20=FALSE,0,Tablas!E$609)","v":0},{"$f":"+IF($I$20=FALSE,0,Tablas!F$609)","v":0},{"$f":"+IF($I$20=FALSE,0,Tablas!G$609)","v":0},{"$f":"+IF($I$20=FALSE,0,Tablas!H$609)","v":0}]
["Repatriación restos mortales",null,1,null,null,"Prima Rider Trasplante Organos",null,"n/a",{"$f":"IF($I$22=FALSE,0,Tablas!D$610)","v":0},{"$f":"IF($I$22=FALSE,0,Tablas!E$610)","v":0},{"$f":"IF($I$22=FALSE,0,Tablas!F$610)","v":0},{"$f":"IF($I$22=FALSE,0,Tablas!G$610)","v":0},{"$f":"IF($I$22=FALSE,0,Tablas!H$610)","v":0}]
["Medicamentos por receta",null,"$6,000 por Asegurado, por año póliza",null,null,"TOTAL PRIMA NETA :",null,"n/a",{"$f":"SUM(I31:I35)","v":21077},15914,11477,9103,6772]
["Almacenamiento de sangre de cordon umbilical",null,"$500  (Excepto planes 4,5, y 6)",null,null,"Costo Administrativo Anual :",null,"n/a",75,75,75,75,75]
[null,null,null,null,null,"GRAN TOTAL :",null,"n/a",{"$f":"SUM(I36:I37)","v":21152},{"$f":"SUM(J36:J37)","v":15989},{"$f":"SUM(K36:K37)","v":11552},{"$f":"SUM(L36:L37)","v":9178},{"$f":"SUM(M36:M37)","v":6847}]
["Atención médica en el hogar",null,"100% de usual/acostumbrado y razonable"]
["Rehabilitación",null,"100% de usual/acostumbrado y razonable",null,null,"Tarifas Semestrales"]
["Residencia y cuidados paliativos",null,"100% de usual/acostumbrado y razonable",null,null,"Prima de Titular :",null,"n/a",{"$f":"VLOOKUP($M$16,Tablas!$A$615:$H$638,4,TRUE)","v":8516.0400000000009},{"$f":"VLOOKUP($M$16,Tablas!$A$615:$H$638,5,TRUE)","v":6541.26},{"$f":"VLOOKUP($M$16,Tablas!$A$615:$H$638,6,TRUE)","v":4692.09},{"$f":"VLOOKUP($M$16,Tablas!$A$615:$H$638,7,TRUE)","v":3615.6600000000003},{"$f":"VLOOKUP($M$16,Tablas!$A$615:$H$638,8,TRUE)","v":2711.48}]
["Cobertura de actividades peligrosas",null,1,null,null,"Prima de Cónyuge",null,"n/a",{"$f":"IF($J$16=1,0,(VLOOKUP($M$18,Tablas!$A$615:$H$638,4,TRUE)))","v":0},{"$f":"IF($J$16=1,0,(VLOOKUP($M$18,Tablas!$A$615:$H$638,5,TRUE)))","v":0},{"$f":"IF($J$16=1,0,(VLOOKUP($M$18,Tablas!$A$615:$H$638,6,TRUE)))","v":0},{"$f":"IF($J$16=1,0,(VLOOKUP($M$18,Tablas!$A$615:$H$638,7,TRUE)))","v":0},{"$f":"IF($J$16=1,0,(VLOOKUP($M$18,Tablas!$A$615:$H$638,8,TRUE)))","v":0}]
["Chequeos generales de rutina",null,"Hasta US$150 por año póliza.Sin deducible",null,null,"Primas Hijos :",null,"n/a",{"$f":"IF($J$18=0,0,(VLOOKUP($J$18,Tablas!$A$639:$H$641,4,TRUE)))","v":2654.77},{"$f":"IF($J$18=0,0,(VLOOKUP($J$18,Tablas!$A$639:$H$641,5,TRUE)))","v":1893.16},{"$f":"IF($J$18=0,0,(VLOOKUP($J$18,Tablas!$A$639:$H$641,6,TRUE)))","v":1390.72},{"$f":"IF($J$18=0,0,(VLOOKUP($J$18,Tablas!$A$639:$H$641,7,TRUE)))","v":1208.93},{"$f":"IF($J$18=0,0,(VLOOKUP($J$18,Tablas!$A$639:$H$641,8,TRUE)))","v":877.68000000000006}]
["Cobertura de VIH, SIDA, CAS",null,"Solo como efecto de transfusión de sangre",null,null,"Prima Rider Complic. Maternidad",null,"n/a",{"$f":"+IF($I$20=FALSE,0,Tablas!D$642)","v":0},{"$f":"+IF($I$20=FALSE,0,Tablas!E$642)","v":0},{"$f":"+IF($I$20=FALSE,0,Tablas!F$642)","v":0},{"$f":"+IF($I$20=FALSE,0,Tablas!G$642)","v":0},{"$f":"+IF($I$20=FALSE,0,Tablas!H$642)","v":0}]
["Cobertura de brazos y piernas artificiales",null,"$30,000 por año y hasta $120,000 de por vida",null,null,"Prima Rider Trasplante Organos",null,"n/a",{"$f":"IF($I$22=FALSE,0,Tablas!D$643)","v":0},{"$f":"IF($I$22=FALSE,0,Tablas!E$643)","v":0},{"$f":"IF($I$22=FALSE,0,Tablas!F$643)","v":0},{"$f":"IF($I$22=FALSE,0,Tablas!G$643)","v":0},{"$f":"IF($I$22=FALSE,0,Tablas!H$643)","v":0}]
["Cobertura extendida para dependientes en caso de muerte de asegurado principal",null,"2 años sin costo",null,null,"TOTAL PRIMA NETA :",null,"n/a",{"$f":"SUM(I41:I45)","v":11170.810000000001},8434.42,6082.81,4824.59,3589.16]
[null,null,null,null,null,"Costo Administrativo Anual :",null,"n/a",75,75,75,75,75]
[null,null,null,null,null,"GRAN TOTAL  (1ra Cuota) :",null,"n/a",{"$f":"SUM(I46:I47)","v":11245.810000000001},{"$f":"SUM(J46:J47)","v":8509.42},{"$f":"SUM(K46:K47)","v":6157.81},{"$f":"SUM(L46:L47)","v":4899.59},{"$f":"SUM(M46:M47)","v":3664.16}]
[null," ",null,null,null,"GRAN TOTAL  (2da Cuota) :",null,"n/a",{"$f":"I46","v":11170.810000000001},{"$f":"J46","v":8434.42},6082.81,4824.59,3589.16]
[null," ",null,null,null,"Tarifas en US $ -  Válidas desde 01 Ene 2013"]

{"sheet":"Bupa Advantage Care (LA)","index":7,"n_rows":54,"n_cols":22,"rows_kept":54,"cut":false,"hidden":false,"merged":[[0,8,0,19],[0,21,0,32],[16,3,16,5],[4,0,10,5],[4,6,5,6],[6,6,10,6],[12,1,12,6],[14,1,14,6],[17,3,17,4],[53,0,57,6],[18,3,18,5],[20,3,21,4],[20,5,21,6],[29,0,29,6],[41,0,41,6],[52,0,52,6]]}
[" ",null,false,false,null,null,null,null,"RESUMEN DE BENEFICIOS",null,null,null,null,null,null,null,null,null,null,null,null,"RESUMEN DE BENEFICIOS"]
[null,null,null," "," "," "]
[]
[]
["Cotización de Seguro Médico Internacional\nBupa Advantage Care (Latinoamérica)\nTarifas en US$ | Validas: 1 de enero de 2025",null,null,null,null,null,"REGIÓN"]
[]
[null,null,null,null,null,null,{"$f":"'INGRESO DE DATOS'!W14","v":"Resto de Ecuador"}]
[]
[]
[]
[]
[]
["Nombre del asegurado principal",{"$f":"+'INGRESO DE DATOS'!$C$36","v":"John Doe"}]
[]
["Broker/Agente",{"$f":"+'INGRESO DE DATOS'!$C$44","v":"Agencia"}]
[]
["Número de Adultos en la Póliza",{"$f":"+'INGRESO DE DATOS'!$C$38","v":1},null,"Dependientes (menores de 24 años)",null,null,{"$f":"+'INGRESO DE DATOS'!$G$38","v":1}]
[null,null,null,{"$f":"IF('INGRESO DE DATOS'!$P$2=TRUE, \"Cotización para dependiente de 24 años\",\"\")","v":""}]
["Edad del Titular",{"$f":"+'INGRESO DE DATOS'!$C$40","v":36},null,"Edad del Cónyuge",null,null,{"$f":"+'INGRESO DE DATOS'!$G$40","v":32}]
[]
[null,null,null," Fecha de Cotización:",null,{"$f":"NOW()","v":"2025-04-10T15:01:19.660"}]
[]
[]
[]
["DEDUCIBLES","PLAN 1","PLAN 2","PLAN 3","PLAN 4","PLAN 5","PLAN 6"]
["Dentro del pais de residencia",0,1000,2000,5000,10000,20000]
["Fuera del pais de residencia",1000,2000,3000,5000,10000,20000]
[]
[]
["TARIFAS ANUALES"]
["Prima de Titular",{"$f":"VLOOKUP($B$19,Tablas!$A$510:$H$533,3,TRUE)+75","v":17531},{"$f":"VLOOKUP($B$19,Tablas!$A$510:$H$533,4,TRUE)+75","v":12133},{"$f":"VLOOKUP($B$19,Tablas!$A$510:$H$533,5,TRUE)+75","v":9332},{"$f":"VLOOKUP($B$19,Tablas!$A$510:$H$533,6,TRUE)+75","v":6823},{"$f":"VLOOKUP($B$19,Tablas!$A$510:$H$533,7,TRUE)+75","v":4824},{"$f":"VLOOKUP($B$19,Tablas!$A$510:$H$533,8,TRUE)+75","v":3640}]
["Prima de Cónyuge",{"$f":"IF($B$17=1,0,(VLOOKUP($G$19,Tablas!$A$510:$H$533,3,TRUE)))","v":0},{"$f":"IF($B$17=1,0,(VLOOKUP($G$19,Tablas!$A$510:$H$533,4,TRUE)))","v":0},{"$f":"IF($B$17=1,0,(VLOOKUP($G$19,Tablas!$A$510:$H$533,5,TRUE)))","v":0},{"$f":"IF($B$17=1,0,(VLOOKUP($G$19,Tablas!$A$510:$H$533,6,TRUE)))","v":0},{"$f":"IF($B$17=1,0,(VLOOKUP($G$19,Tablas!$A$510:$H$533,7,TRUE)))","v":0},{"$f":"IF($B$17=1,0,(VLOOKUP($G$19,Tablas!$A$510:$H$533,8,TRUE)))","v":0}]
["Primas Hijos",{"$f":"IF($G$17=0,0,(VLOOKUP($G$17,Tablas!$A$534:$H$536,3,TRUE)))","v":4897},{"$f":"IF($G$17=0,0,(VLOOKUP($G$17,Tablas!$A$534:$H$536,4,TRUE)))","v":3767},{"$f":"IF($G$17=0,0,(VLOOKUP($G$17,Tablas!$A$534:$H$536,5,TRUE)))","v":2688},{"$f":"IF($G$17=0,0,(VLOOKUP($G$17,Tablas!$A$534:$H$536,6,TRUE)))","v":2013},{"$f":"IF($G$17=0,0,(VLOOKUP($G$17,Tablas!$A$534:$H$536,7,TRUE)))","v":1604},{"$f":"IF($G$17=0,0,(VLOOKUP($G$17,Tablas!$A$534:$H$536,8,TRUE)))","v":1159}]
["Rider: Complicaciones de  Maternidad",{"$f":"+IF($C$1=FALSE,0,Tablas!C$537)","v":0},{"$f":"+IF($C$1=FALSE,0,Tablas!D$537)","v":0},{"$f":"+IF($C$1=FALSE,0,Tablas!E$537)","v":0},{"$f":"+IF($C$1=FALSE,0,Tablas!F$537)","v":0},{"$f":"+IF($C$1=FALSE,0,Tablas!G$537)","v":0},{"$f":"+IF($C$1=FALSE,0,Tablas!H$537)","v":0}]
["Rider: Trasplante Organos",{"$f":"IF($D$1=FALSE,0,Tablas!C$538)","v":0},{"$f":"IF($D$1=FALSE,0,Tablas!D$538)","v":0},{"$f":"IF($D$1=FALSE,0,Tablas!E$538)","v":0},{"$f":"IF($D$1=FALSE,0,Tablas!F$538)","v":0},{"$f":"IF($D$1=FALSE,0,Tablas!G$538)","v":0},{"$f":"IF($D$1=FALSE,0,Tablas!H$538)","v":0}]
["TOTAL PRIMA NETA",{"$f":"SUM(B31:B35)","v":22428},{"$f":"SUM(C31:C35)","v":15900},12020,8836,6428,4799]
["Contrib. 3.5% Super. Bancos :",{"$f":"B36*3.5%","v":784.98},{"$f":"C36*3.5%","v":556.5},420.70000000000005,309.26000000000005,224.98000000000002,167.965]
["Contrib 0.5% Seg.Soc.Campes:",{"$f":"B36*0.5%","v":112.14},{"$f":"C36*0.5%","v":79.5},60.1,44.18,32.14,23.995000000000001]
["GRAN TOTAL :",{"$f":"SUM(B36:B38)","v":23325.119999999999},{"$f":"SUM(C36:C38)","v":16536},12500.800000000001,9189.44,6685.12,{"$f":"SUM(G36:G38)","v":4990.96}]
[]
[]
["TARIFAS SEMESTRALES"]
["Prima de Titular",{"$f":"VLOOKUP($B$19,Tablas!$A$545:$H$568,3,TRUE)+75","v":9326.68},{"$f":"VLOOKUP($B$19,Tablas!$A$545:$H$568,4,TRUE)+75","v":6465.7400000000007},{"$f":"VLOOKUP($B$19,Tablas!$A$545:$H$568,5,TRUE)+75","v":4981.21},{"$f":"VLOOKUP($B$19,Tablas!$A$545:$H$568,6,TRUE)+75","v":3651.44},{"$f":"VLOOKUP($B$19,Tablas!$A$545:$H$568,7,TRUE)+75","v":2591.9700000000003},{"$f":"VLOOKUP($B$19,Tablas!$A$545:$H$568,8,TRUE)+57","v":1946.45}]
["Prima de Cónyuge",{"$f":"IF($B$17=1,0,(VLOOKUP($G$19,Tablas!$A$545:$H$568,3,TRUE)))","v":0},{"$f":"IF($B$17=1,0,(VLOOKUP($G$19,Tablas!$A$545:$H$568,4,TRUE)))","v":0},{"$f":"IF($B$17=1,0,(VLOOKUP($G$19,Tablas!$A$545:$H$568,5,TRUE)))","v":0},{"$f":"IF($B$17=1,0,(VLOOKUP($G$19,Tablas!$A$545:$H$568,6,TRUE)))","v":0},{"$f":"IF($B$17=1,0,(VLOOKUP($G$19,Tablas!$A$545:$H$568,7,TRUE)))","v":0},{"$f":"IF($B$17=1,0,(VLOOKUP($G$19,Tablas!$A$545:$H$568,8,TRUE)))","v":0}]
["Primas Hijos",{"$f":"IF($G$17=0,0,(VLOOKUP($G$17,Tablas!$A$569:$H$571,3,TRUE)))","v":2595.4100000000003},{"$f":"IF($G$17=0,0,(VLOOKUP($G$17,Tablas!$A$569:$H$571,4,TRUE)))","v":1996.51},{"$f":"IF($G$17=0,0,(VLOOKUP($G$17,Tablas!$A$569:$H$571,5,TRUE)))","v":1424.64},{"$f":"IF($G$17=0,0,(VLOOKUP($G$17,Tablas!$A$569:$H$571,6,TRUE)))","v":1066.8900000000001},{"$f":"IF($G$17=0,0,(VLOOKUP($G$17,Tablas!$A$569:$H$571,7,TRUE)))","v":850.12},{"$f":"IF($G$17=0,0,(VLOOKUP($G$17,Tablas!$A$569:$H$571,8,TRUE)))","v":614.27}]
["Rider: Complicaciones de  Maternidad",{"$f":"+IF($C$1=FALSE,0,Tablas!C$572)","v":0},{"$f":"+IF($C$1=FALSE,0,Tablas!D$572)","v":0},{"$f":"+IF($C$1=FALSE,0,Tablas!E$572)","v":0},{"$f":"+IF($C$1=FALSE,0,Tablas!F$572)","v":0},{"$f":"+IF($C$1=FALSE,0,Tablas!G$572)","v":0},{"$f":"+IF($C$1=FALSE,0,Tablas!H$572)","v":0}]
["Rider: Trasplante Organos",{"$f":"IF($D$1=FALSE,0,Tablas!C$573)","v":0},{"$f":"IF($D$1=FALSE,0,Tablas!D$573)","v":0},{"$f":"IF($D$1=FALSE,0,Tablas!E$573)","v":0},{"$f":"IF($D$1=FALSE,0,Tablas!F$573)","v":0},{"$f":"IF($D$1=FALSE,0,Tablas!G$573)","v":0},{"$f":"IF($D$1=FALSE,0,Tablas!H$573)","v":0}]
["TOTAL PRIMA NETA",{"$f":"SUM(B43:B47)","v":11922.09},{"$f":"SUM(C43:C47)","v":8462.25},6405.85,4718.33,3442.09,2560.7200000000003]
["Contrib. 3.5% Super. Bancos :",{"$f":"B48*3.5%","v":417.27315000000004},{"$f":"C48*3.5%","v":296.17875000000004},224.20475000000005,165.14155000000002,120.47315000000002,89.625200000000021]
["Contrib 0.5% Seg.Soc.Campes:",{"$f":"B48*0.5%","v":59.61045},{"$f":"C48*0.5%","v":42.311250000000001},32.029250000000005,23.591650000000001,17.210450000000002,12.803600000000001]
["GRAN TOTAL  (1ra Cuota)",{"$f":"SUM(B48:B50)","v":12398.973600000001},{"$f":"SUM(C48:C50)","v":8800.74},6662.0839999999998,4907.0632000000005,3579.7736,{"$f":"SUM(G48:G50)","v":2663.1488000000004}]
["GRAN TOTAL  (2da Cuota)",{"$f":"(B48+B49+B50)*1-78","v":12320.973600000001},{"$f":"(C48+C49+C50)*1-78","v":8722.74},6584.0839999999998,4829.0632000000005,3501.7736,{"$f":"(G48+G49+G50)*1-78","v":2585.1488000000004}]
[]
["Este presupuesto solamente tiene carácter informativo y en ningún momento expresa compromiso legal para suministrarle cobertura de seguro. La emisión de una póliza de seguro Bupa está sujeta a todas las evaluaciones de riesgo por parte de Bupa y a la recepción de todos los pagos de prima requeridos."]

{"sheet":"Bupa Secure Care","index":8,"n_rows":53,"n_cols":22,"rows_kept":53,"cut":false,"hidden":false,"merged":[[0,8,0,19],[0,21,0,32],[4,0,10,5],[4,6,5,6],[6,6,10,6],[12,1,12,6],[14,1,14,6],[40,0,40,6],[52,0,56,6],[16,3,16,5],[18,3,18,5],[20,5,21,6],[20,3,21,4],[29,0,29,6],[51,0,51,6],[17,3,17,4]]}
[null,false,false,null,null,null,null,null,"RESUMEN DE BENEFICIOS",null,null,null,null,null,null,null,null,null,null,null,null,"RESUMEN DE BENEFICIOS"]
[null,null,null," "," "," "]
[]
[]
["Cotización de Seguro Médico Internacional\nBupa Secure Care\nTarifas en US$ | Validas: 1 de enero de 2025",null,null,null,null,null," REGIÓN"]
[]
[null,null,null,null,null,null,{"$f":"'INGRESO DE DATOS'!W14","v":"Resto de Ecuador"}]
[]
[]
[]
[]
[]
["Nombre del asegurado principal",{"$f":"+'INGRESO DE DATOS'!$C$36","v":"John Doe"}]
[]
["Broker/Agente",{"$f":"+'INGRESO DE DATOS'!$C$44","v":"Agencia"}]
[]
["Número de Adultos en la Póliza",{"$f":"+'INGRESO DE DATOS'!$C$38","v":1},null,"Dependientes (menores de 24 años)",null,null,{"$f":"+'INGRESO DE DATOS'!$G$38","v":1}]
[null,null,null,{"$f":"IF('INGRESO DE DATOS'!$P$2=TRUE, \"Cotización para dependiente de 24 años\",\"\")","v":""}]
["Edad del Titular",{"$f":"+'INGRESO DE DATOS'!$C$40","v":36},null,"Edad del Cónyuge",null,null,{"$f":"+'INGRESO DE DATOS'!$G$40","v":32}]
[]
[null,null,null,"Fecha de Cotización:",null,{"$f":"NOW()","v":"2025-04-10T15:01:19.660"}]
[]
[]
[]
["DEDUCIBLES","PLAN 1","PLAN 2","PLAN 3","PLAN 4","PLAN 5","PLAN 6"]
["Dentro del pais de residencia",0,1000,2000,5000,10000,20000]
["Fuera del pais de residencia",1000,2000,3000,5000,10000,20000]
[]
[]
["TARIFAS ANUALES"]
["Prima de Titular",{"$f":"VLOOKUP($B$19,Tablas!$A$652:$H$675,3,TRUE)+75","v":13667},{"$f":"VLOOKUP($B$19,Tablas!$A$652:$H$675,4,TRUE)+75","v":10204},{"$f":"VLOOKUP($B$19,Tablas!$A$652:$H$675,5,TRUE)+75","v":9518},{"$f":"VLOOKUP($B$19,Tablas!$A$652:$H$675,6,TRUE)+75","v":5405},{"$f":"VLOOKUP($B$19,Tablas!$A$652:$H$675,7,TRUE)+75","v":5281},{"$f":"VLOOKUP($B$19,Tablas!$A$652:$H$675,8,TRUE)+75","v":4029}]
["Prima de Cónyuge",{"$f":"IF($B$17=1,0,(VLOOKUP($G$19,Tablas!$A$652:$H$675,3,TRUE)))","v":0},{"$f":"IF($B$17=1,0,(VLOOKUP($G$19,Tablas!$A$652:$H$675,4,TRUE)))","v":0},{"$f":"IF($B$17=1,0,(VLOOKUP($G$19,Tablas!$A$652:$H$675,5,TRUE)))","v":0},{"$f":"IF($B$17=1,0,(VLOOKUP($G$19,Tablas!$A$652:$H$675,6,TRUE)))","v":0},{"$f":"IF($B$17=1,0,(VLOOKUP($G$19,Tablas!$A$652:$H$675,7,TRUE)))","v":0},{"$f":"IF($B$17=1,0,(VLOOKUP($G$19,Tablas!$A$652:$H$675,8,TRUE)))","v":0}]
["Primas Hijos",{"$f":"IF($G$17=0,0,(VLOOKUP($G$17,Tablas!$A$676:$H$678,3,TRUE)))","v":2078},{"$f":"IF($G$17=0,0,(VLOOKUP($G$17,Tablas!$A$676:$H$678,4,TRUE)))","v":1778},{"$f":"IF($G$17=0,0,(VLOOKUP($G$17,Tablas!$A$676:$H$678,5,TRUE)))","v":1277},{"$f":"IF($G$17=0,0,(VLOOKUP($G$17,Tablas!$A$676:$H$678,6,TRUE)))","v":946},{"$f":"IF($G$17=0,0,(VLOOKUP($G$17,Tablas!$A$676:$H$678,7,TRUE)))","v":713},{"$f":"IF($G$17=0,0,(VLOOKUP($G$17,Tablas!$A$676:$H$678,8,TRUE)))","v":728}]
["Rider: Complicaciones de  Maternidad",{"$f":"+IF($B$1=FALSE,0,Tablas!C$679)","v":0},{"$f":"+IF($B$1=FALSE,0,Tablas!D$679)","v":0},{"$f":"+IF($B$1=FALSE,0,Tablas!E$679)","v":0},{"$f":"+IF($B$1=FALSE,0,Tablas!F$679)","v":0},{"$f":"+IF($B$1=FALSE,0,Tablas!G$679)","v":0},{"$f":"+IF($B$1=FALSE,0,Tablas!H$679)","v":0}]
["Rider: Trasplante Organos",{"$f":"IF($C$1=FALSE,0,Tablas!C$680)","v":0},{"$f":"IF($C$1=FALSE,0,Tablas!D$680)","v":0},{"$f":"IF($C$1=FALSE,0,Tablas!E$680)","v":0},{"$f":"IF($C$1=FALSE,0,Tablas!F$680)","v":0},{"$f":"IF($C$1=FALSE,0,Tablas!G$680)","v":0},{"$f":"IF($C$1=FALSE,0,Tablas!H$680)","v":0}]
["TOTAL PRIMA NETA",{"$f":"SUM(B31:B35)","v":15745},{"$f":"SUM(C31:C35)","v":11982},10795,6351,5994,4757]
["Contrib. 3.5% Super. Bancos :",{"$f":"B36*3.5%","v":551.07500000000005},{"$f":"C36*3.5%","v":419.37000000000006},377.82500000000005,222.28500000000003,209.79000000000002,166.495]
["Contrib 0.5% Seg.Soc.Campes:",{"$f":"B36*0.5%","v":78.725000000000009},{"$f":"C36*0.5%","v":59.910000000000004},53.975000000000001,31.754999999999999,{"$f":"F36*0.5%","v":29.97},23.785]
["GRAN TOTAL :",{"$f":"SUM(B36:B38)","v":16374.800000000001},{"$f":"SUM(C36:C38)","v":12461.28},11226.800000000001,6605.04,6233.76,{"$f":"SUM(G36:G38)","v":4947.28}]
[]
["TARIFAS SEMESTRALES"]
["Prima de Titular",{"$f":"VLOOKUP($B$19,Tablas!$A$688:$H$711,3,TRUE)+75","v":7278.76},{"$f":"VLOOKUP($B$19,Tablas!$A$688:$H$711,4,TRUE)+75","v":5443.37},{"$f":"VLOOKUP($B$19,Tablas!$A$688:$H$711,5,TRUE)+75","v":5079.79},{"$f":"VLOOKUP($B$19,Tablas!$A$688:$H$711,6,TRUE)+75","v":2899.9},{"$f":"VLOOKUP($B$19,Tablas!$A$688:$H$711,7,TRUE)+75","v":2834.1800000000003},{"$f":"VLOOKUP($B$19,Tablas!$A$688:$H$711,8,TRUE)+75","v":2170.62}]
["Prima de Cónyuge",{"$f":"IF($B$17=1,0,(VLOOKUP($G$19,Tablas!$A$688:$H$711,3,TRUE)))","v":0},{"$f":"IF($B$17=1,0,(VLOOKUP($G$19,Tablas!$A$688:$H$711,4,TRUE)))","v":0},{"$f":"IF($B$17=1,0,(VLOOKUP($G$19,Tablas!$A$688:$H$711,5,TRUE)))","v":0},{"$f":"IF($B$17=1,0,(VLOOKUP($G$19,Tablas!$A$688:$H$711,6,TRUE)))","v":0},{"$f":"IF($B$17=1,0,(VLOOKUP($G$19,Tablas!$A$688:$H$711,7,TRUE)))","v":0},{"$f":"IF($B$17=1,0,(VLOOKUP($G$19,Tablas!$A$688:$H$711,8,TRUE)))","v":0}]
["Primas Hijos",{"$f":"IF($G$17=0,0,(VLOOKUP($G$17,Tablas!$A$712:$H$714,3,TRUE)))","v":1101.3400000000001},{"$f":"IF($G$17=0,0,(VLOOKUP($G$17,Tablas!$A$712:$H$714,4,TRUE)))","v":942.34},{"$f":"IF($G$17=0,0,(VLOOKUP($G$17,Tablas!$A$712:$H$714,5,TRUE)))","v":676.81000000000006},{"$f":"IF($G$17=0,0,(VLOOKUP($G$17,Tablas!$A$712:$H$714,6,TRUE)))","v":501.38000000000005},{"$f":"IF($G$17=0,0,(VLOOKUP($G$17,Tablas!$A$712:$H$714,7,TRUE)))","v":377.89000000000004},{"$f":"IF($G$17=0,0,(VLOOKUP($G$17,Tablas!$A$712:$H$714,8,TRUE)))","v":385.84000000000003}]
["Rider: Complicaciones de  Maternidad",{"$f":"+IF($B$1=FALSE,0,Tablas!C$715)","v":0},{"$f":"+IF($B$1=FALSE,0,Tablas!D$715)","v":0},{"$f":"+IF($B$1=FALSE,0,Tablas!E$715)","v":0},{"$f":"+IF($B$1=FALSE,0,Tablas!F$715)","v":0},{"$f":"+IF($B$1=FALSE,0,Tablas!G$715)","v":0},{"$f":"+IF($B$1=FALSE,0,Tablas!H$715)","v":0}]
["Rider: Trasplante Organos",{"$f":"IF($C$1=FALSE,0,Tablas!C$716)","v":0},{"$f":"IF($C$1=FALSE,0,Tablas!D$716)","v":0},{"$f":"IF($C$1=FALSE,0,Tablas!E$716)","v":0},{"$f":"IF($C$1=FALSE,0,Tablas!F$716)","v":0},{"$f":"IF($C$1=FALSE,0,Tablas!G$716)","v":0},{"$f":"IF($C$1=FALSE,0,Tablas!H$716)","v":0}]
["TOTAL PRIMA NETA",{"$f":"SUM(B42:B46)","v":8380.1},{"$f":"SUM(C42:C46)","v":6385.71},5756.6,3401.28,3212.07,2556.46]
["Contrib. 3.5% Super. Bancos :",{"$f":"B47*3.5%","v":293.30350000000004},{"$f":"C47*3.5%","v":223.49985000000001},201.48100000000002,119.04480000000002,112.42245000000001,89.476100000000017]
["Contrib 0.5% Seg.Soc.Campes:",{"$f":"B47*0.5%","v":41.900500000000001},{"$f":"C47*0.5%","v":31.928550000000001},28.783000000000001,17.006400000000003,16.06035,12.782300000000001]
["GRAN TOTAL  (1ra Cuota)",{"$f":"SUM(B47:B49)","v":8715.3040000000001},{"$f":"SUM(C47:C49)","v":6641.1383999999998},5986.8640000000005,3537.3312000000005,3340.5528000000004,{"$f":"SUM(G47:G49)","v":2658.7183999999997}]
["GRAN TOTAL  (2da Cuota)",{"$f":"(B47+B48+B49)*1-78","v":8637.3040000000001},{"$f":"(C47+C48+C49)*1-78","v":6563.1383999999998},5908.8640000000005,3459.3312000000005,3262.5528000000004,{"$f":"(G47+G48+G49)*1-78","v":2580.7183999999997}]
[]
["Este presupuesto solamente tiene carácter informativo y en ningún momento expresa compromiso legal para suministrarle cobertura de seguro. La emisión de una póliza de seguro Bupa está sujeta a todas las evaluaciones de riesgo por parte de Bupa y a la recepción de todos los pagos de prima requeridos."]

{"sheet":"Bupa Essential Care","index":9,"n_rows":54,"n_cols":9,"rows_kept":54,"cut":false,"hidden":false,"merged":[[0,8,0,19],[4,0,10,5],[4,6,5,6],[6,6,10,6],[52,0,52,6],[41,0,41,6],[12,1,12,6],[14,1,14,6],[53,0,57,6],[16,3,16,5],[18,3,18,5],[20,5,21,6],[20,3,21,4],[29,0,29,6],[17,3,17,4]]}
[null,false,false,null,null,null,null,null,"RESUMEN DE BENEFICIOS"]
[null,null,null," "," "," "]
[]
[]
["Cotización de Seguro Médico Internacional\nBupa Essential Care\nTarifas en US$ | Validas: 1 de enero de 2025",null,null,null,null,null,"REGIÓN"]
[]
[null,null,null,null,null,null,{"$f":"'INGRESO DE DATOS'!W14","v":"Resto de Ecuador"}]
[]
[]
[]
[]
[]
["Nombre del asegurado principal",{"$f":"+'INGRESO DE DATOS'!$C$36","v":"John Doe"}]
[]
["Broker/Agente",{"$f":"+'INGRESO DE DATOS'!$C$44","v":"Agencia"}]
[]
["Número de Adultos en la Póliza",{"$f":"+'INGRESO DE DATOS'!$C$38","v":1},null,"Dependientes (menores de 24 años)",null,null,{"$f":"+'INGRESO DE DATOS'!$G$38","v":1}]
[null,null,null,{"$f":"IF('INGRESO DE DATOS'!$P$2=TRUE, \"Cotización para dependiente de 24 años\",\"\")","v":""}]
["Edad del Titular",{"$f":"+'INGRESO DE DATOS'!$C$40","v":36},null,"Edad del Cónyuge",null,null,{"$f":"+'INGRESO DE DATOS'!$G$40","v":32}]
[]
[null,null,null,"Fecha de Cotización:",null,{"$f":"NOW()","v":"2025-04-10T15:01:19.660"}]
[]
[]
[]
["DEDUCIBLES","PLAN 1","PLAN 2","PLAN 3","PLAN 4","PLAN 5","PLAN 6"]
["Dentro del pais de residencia",0,1000,2000,5000,10000,20000]
["Fuera del pais de residencia",1000,2000,3000,5000,10000,20000]
[]
[]
["TARIFAS ANUALES"]
["Prima de Titular",{"$f":"VLOOKUP($B$19,Tablas!$A$725:$H$748,3,TRUE)+75","v":6994},{"$f":"VLOOKUP($B$19,Tablas!$A$725:$H$748,4,TRUE)+75","v":7230},{"$f":"VLOOKUP($B$19,Tablas!$A$725:$H$748,5,TRUE)+75","v":6320},{"$f":"VLOOKUP($B$19,Tablas!$A$725:$H$748,6,TRUE)+75","v":4505},{"$f":"VLOOKUP($B$19,Tablas!$A$725:$H$748,7,TRUE)+75","v":3537},{"$f":"VLOOKUP($B$19,Tablas!$A$725:$H$748,8,TRUE)+75","v":2711}]
["Prima de Cónyuge",{"$f":"IF($B$17=1,0,(VLOOKUP($G$19,Tablas!$A$725:$H$748,3,TRUE)))","v":0},{"$f":"IF($B$17=1,0,(VLOOKUP($G$19,Tablas!$A$725:$H$748,4,TRUE)))","v":0},{"$f":"IF($B$17=1,0,(VLOOKUP($G$19,Tablas!$A$725:$H$748,5,TRUE)))","v":0},{"$f":"IF($B$17=1,0,(VLOOKUP($G$19,Tablas!$A$725:$H$748,6,TRUE)))","v":0},{"$f":"IF($B$17=1,0,(VLOOKUP($G$19,Tablas!$A$725:$H$748,7,TRUE)))","v":0},{"$f":"IF($B$17=1,0,(VLOOKUP($G$19,Tablas!$A$725:$H$748,8,TRUE)))","v":0}]
["Primas Hijos",{"$f":"IF($G$17=0,0,(VLOOKUP($G$17,Tablas!$A$749:$H$751,3,TRUE)))","v":1524},{"$f":"IF($G$17=0,0,(VLOOKUP($G$17,Tablas!$A$749:$H$751,4,TRUE)))","v":1524},{"$f":"IF($G$17=0,0,(VLOOKUP($G$17,Tablas!$A$749:$H$751,5,TRUE)))","v":1517},{"$f":"IF($G$17=0,0,(VLOOKUP($G$17,Tablas!$A$749:$H$751,6,TRUE)))","v":1226},{"$f":"IF($G$17=0,0,(VLOOKUP($G$17,Tablas!$A$749:$H$751,7,TRUE)))","v":952},{"$f":"IF($G$17=0,0,(VLOOKUP($G$17,Tablas!$A$749:$H$751,8,TRUE)))","v":704}]
["Rider: Complicaciones de  Maternidad",{"$f":"+IF($B$1=FALSE,0,Tablas!C$752)","v":0},{"$f":"+IF($B$1=FALSE,0,Tablas!D$752)","v":0},{"$f":"+IF($B$1=FALSE,0,Tablas!E$752)","v":0},{"$f":"+IF($B$1=FALSE,0,Tablas!F$752)","v":0},{"$f":"+IF($B$1=FALSE,0,Tablas!G$752)","v":0},{"$f":"+IF($B$1=FALSE,0,Tablas!H$752)","v":0}]
["Rider: Trasplante Organos",{"$f":"IF($C$1=FALSE,0,Tablas!C$753)","v":0},{"$f":"IF($C$1=FALSE,0,Tablas!D$753)","v":0},{"$f":"IF($C$1=FALSE,0,Tablas!E$753)","v":0},{"$f":"IF($C$1=FALSE,0,Tablas!F$753)","v":0},{"$f":"IF($C$1=FALSE,0,Tablas!G$753)","v":0},{"$f":"IF($C$1=FALSE,0,Tablas!H$753)","v":0}]
["TOTAL PRIMA NETA",{"$f":"SUM(B31:B35)","v":8518},{"$f":"SUM(C31:C35)","v":8754},7837,5731,4489,3415]
["Contrib. 3.5% Super. Bancos :",{"$f":"B36*3.5%","v":298.13000000000005},{"$f":"C36*3.5%","v":306.39000000000004},274.29500000000002,200.58500000000001,157.11500000000001,119.52500000000001]
["Contrib 0.5% Seg.Soc.Campes:",{"$f":"B36*0.5%","v":42.59},{"$f":"C36*0.5%","v":43.77},39.185000000000002,28.655000000000001,22.445,17.074999999999999]
["GRAN TOTAL :",{"$f":"SUM(B36:B38)","v":8858.7199999999993},{"$f":"SUM(C36:C38)","v":9104.16},8150.4800000000005,5960.24,4668.5599999999995,{"$f":"SUM(G36:G38)","v":3551.6}]
[]
[]
["TARIFAS SEMESTRALES"]
["Prima de Titular",{"$f":"VLOOKUP($B$19,Tablas!$A$760:$H$783,3,TRUE)+75","v":3742.07},{"$f":"VLOOKUP($B$19,Tablas!$A$760:$H$783,4,TRUE)+75","v":3867.15},{"$f":"VLOOKUP($B$19,Tablas!$A$760:$H$783,5,TRUE)+75","v":3384.8500000000004},{"$f":"VLOOKUP($B$19,Tablas!$A$760:$H$783,6,TRUE)+75","v":2422.9},{"$f":"VLOOKUP($B$19,Tablas!$A$760:$H$783,7,TRUE)+75","v":1909.8600000000001},{"$f":"VLOOKUP($B$19,Tablas!$A$760:$H$783,8,TRUE)+75","v":1472.0800000000002}]
["Prima de Cónyuge",{"$f":"IF($B$17=1,0,(VLOOKUP($G$19,Tablas!$A$760:$H$783,3,TRUE)))","v":0},{"$f":"IF($B$17=1,0,(VLOOKUP($G$19,Tablas!$A$760:$H$783,4,TRUE)))","v":0},{"$f":"IF($B$17=1,0,(VLOOKUP($G$19,Tablas!$A$760:$H$783,5,TRUE)))","v":0},{"$f":"IF($B$17=1,0,(VLOOKUP($G$19,Tablas!$A$760:$H$783,6,TRUE)))","v":0},{"$f":"IF($B$17=1,0,(VLOOKUP($G$19,Tablas!$A$760:$H$783,7,TRUE)))","v":0},{"$f":"IF($B$17=1,0,(VLOOKUP($G$19,Tablas!$A$760:$H$783,8,TRUE)))","v":0}]
["Primas Hijos",{"$f":"IF($G$17=0,0,(VLOOKUP($G$17,Tablas!$A$784:$H$786,3,TRUE)))","v":807.72},{"$f":"IF($G$17=0,0,(VLOOKUP($G$17,Tablas!$A$784:$H$786,4,TRUE)))","v":807.72},{"$f":"IF($G$17=0,0,(VLOOKUP($G$17,Tablas!$A$784:$H$786,5,TRUE)))","v":804.01},{"$f":"IF($G$17=0,0,(VLOOKUP($G$17,Tablas!$A$784:$H$786,6,TRUE)))","v":649.78000000000009},{"$f":"IF($G$17=0,0,(VLOOKUP($G$17,Tablas!$A$784:$H$786,7,TRUE)))","v":504.56},{"$f":"IF($G$17=0,0,(VLOOKUP($G$17,Tablas!$A$784:$H$786,8,TRUE)))","v":373.12}]
["Rider: Complicaciones de  Maternidad",{"$f":"+IF($B$1=FALSE,0,Tablas!C$787)","v":0},{"$f":"+IF($B$1=FALSE,0,Tablas!D$787)","v":0},{"$f":"+IF($B$1=FALSE,0,Tablas!E$787)","v":0},{"$f":"+IF($B$1=FALSE,0,Tablas!F$787)","v":0},{"$f":"+IF($B$1=FALSE,0,Tablas!G$787)","v":0},{"$f":"+IF($B$1=FALSE,0,Tablas!H$787)","v":0}]
["Rider: Trasplante Organos",{"$f":"IF($C$1=FALSE,0,Tablas!C$788)","v":0},{"$f":"IF($C$1=FALSE,0,Tablas!D$788)","v":0},{"$f":"IF($C$1=FALSE,0,Tablas!E$788)","v":0},{"$f":"IF($C$1=FALSE,0,Tablas!F$788)","v":0},{"$f":"IF($C$1=FALSE,0,Tablas!G$788)","v":0},{"$f":"IF($C$1=FALSE,0,Tablas!H$788)","v":0}]
["TOTAL PRIMA NETA",{"$f":"SUM(B43:B47)","v":4549.79},{"$f":"SUM(C43:C47)","v":4674.87},4188.8600000000006,3072.6800000000003,2414.42,1845.2000000000003]
["Contrib. 3.5% Super. Bancos :",{"$f":"B48*3.5%","v":159.24265000000003},{"$f":"C48*3.5%","v":163.62045000000001},146.61010000000005,107.54380000000002,84.504700000000014,64.582000000000022]
["Contrib 0.5% Seg.Soc.Campes:",{"$f":"B48*0.5%","v":22.748950000000001},{"$f":"C48*0.5%","v":23.37435},20.944300000000002,15.363400000000002,12.072100000000001,9.2260000000000009]
["GRAN TOTAL  (1ra Cuota)",{"$f":"SUM(B48:B50)","v":4731.7816000000003},{"$f":"SUM(C48:C50)","v":4861.8648000000003},4356.4144000000006,3195.5872000000004,2510.9967999999999,{"$f":"SUM(G48:G50)","v":1919.0080000000005}]
["GRAN TOTAL  (2da Cuota)",{"$f":"(B48+B49+B50)*1-78","v":4653.7816000000003},{"$f":"(C48+C49+C50)*1-78","v":4783.8648000000003},4278.4144000000006,3117.5872000000004,2432.9967999999999,{"$f":"(G48+G49+G50)*1-78","v":1841.0080000000005}]
[]
["Este presupuesto solamente tiene carácter informativo y en ningún momento expresa compromiso legal para suministrarle cobertura de seguro. La emisión de una póliza de seguro Bupa está sujeta a todas las evaluaciones de riesgo por parte de Bupa y a la recepción de todos los pagos de prima requeridos."]

{"sheet":"Bupa Crititcal","index":10,"n_rows":54,"n_cols":23,"rows_kept":54,"cut":false,"hidden":false,"merged":[[0,22,0,33],[41,0,41,1],[42,0,42,1],[36,3,36,4],[23,5,24,7],[37,3,37,4],[26,3,27,4],[34,0,35,2],[34,3,35,4],[32,5,32,6],[31,5,31,6],[16,3,16,6],[18,3,18,6],[20,3,20,6],[26,0,27,2],[4,7,5,7],[6,7,10,7],[12,1,12,7],[14,1,14,7],[0,9,0,20],[4,0,10,6],[30,3,31,4],[51,0,51,1],[53,0,57,7],[44,0,44,7],[46,0,46,1],[47,0,47,1],[48,0,48,1],[49,0,49,1],[45,0,45,1],[50,0,50,1],[17,3,17,4],[36,5,37,7],[36,0,36,2],[37,0,37,2],[25,5,27,6],[25,7,27,7],[29,5,29,6],[30,5,30,6],[23,0,25,2],[23,3,25,4],[32,0,33,2],[32,3,33,4],[28,5,28,6],[28,0,29,2],[28,3,29,4],[30,0,31,2]]}
[null,true,null,null,null,null,null,null,null,"RESUMEN DE BENEFICIOS",null,null,null,null,null,null,null,null,null,null,null,null,"RESUMEN DE BENEFICIOS"]
[null,null,null,null," "," "," "]
[]
[]
["Cotización de Seguro Médico Internacional\nBupa Critical Care\nTarifas en US$ | Validas: 1 de enero de 2025",null,null,null,null,null,null,"REGIÓN"]
[]
[null,null,null,null,null,null,null,{"$f":"'INGRESO DE DATOS'!W14","v":"Resto de Ecuador"}]
[]
[]
[]
[]
[]
["Nombre del asegurado principal",{"$f":"+'INGRESO DE DATOS'!$C$36","v":"John Doe"}]
[]
["Broker/Agente",{"$f":"+'INGRESO DE DATOS'!$C$44","v":"Agencia"}]
[]
["Número de Adultos en la Póliza",{"$f":"+'INGRESO DE DATOS'!$C$38","v":1},null,"Dependientes (menores de 24 años)",null,null,null,{"$f":"+'INGRESO DE DATOS'!$G$38","v":1}]
[null,null,null,{"$f":"IF('INGRESO DE DATOS'!$P$2=TRUE, \"Cotización para dependiente de 24 años\",\"\")","v":""}]
["Edad del Titular",{"$f":"+'INGRESO DE DATOS'!$C$40","v":36},null,"Edad del Cónyuge",null,null,null,{"$f":"+'INGRESO DE DATOS'!$G$40","v":32}]
[]
[null,null,null,"Edad del adulto mayor en la pareja",null,null,null,{"$f":"IF(B19>=H19,B19,H19)","v":36}]
[]
[]
["CONDICION CRÍTICA CUBIERTA",null,null,"MÁXIMO \n(Por asegurado,\npor año Póliza)",null,"TRASPLANTE DE ÓRGANOS"]
[]
[null,null,null,null,null,"Tipo de trasplante",null,"Máximo\nVitalicio por persona"]
["Enfermedades neurológicas y\naccidentes cerebro-vasculares",null,null,150000]
[]
["Cirugías cardíacas y angioplastías",null,null,150000,null,"Corazón",null,300000]
[null,null,null,null,null,"Corazón y Pulmón\n(simultáneamente)",null,300000]
["Tratamiento de cáncer",null,null,200000,null,"Pulmón",null,250000]
[null,null,null,null,null,"Pancreas",null,250000]
["Trauma grave (Politraumatismos)",null,null,150000,null,"Pancreas y Riñón\n(simultáneamente)",null,300000]
[null,null,null,null,null,"Riñón",null,200000]
["Insuficiencia renal crónica (Diálisis)",null,null,100000,null,"Hígado",null,200000]
[null,null,null,null,null,"Médula ósea",null,250000]
["Quemaduras graves ",null,null,300000,null,"La cobertura de trasplante de órganos está limitada a la Red de Proveedores para Procedimiento de Trasplante de la Compañía y no se proporcionará cobertura en proveedores fuera de esta Red especializada."]
["Desorden infeccioso grave (Septicemia)",null,null,150000]
[]
[]
["Deducibles",null,"PLAN 1","PLAN 2","PLAN 3","PLAN 4","PLAN 5","PLAN 6"]
["Dentro del pais de residencia",null,2000,3500,5000,10000,20000,50000]
["Fuera del pais de residencia",null,2000,3500,5000,10000,20000,50000]
[]
["TARIFAS ANUALES"]
["Prima por plan individual",null,{"$f":"IF((($B$17+$H$17)=1),(VLOOKUP($H$21,Tablas!$A$799:$T$800,3,TRUE)),0)","v":0},{"$f":"IF((($B$17+$H$17)=1),(VLOOKUP($H$21,Tablas!$A$799:$T$800,6,TRUE)),0)","v":0},{"$f":"IF((($B$17+$H$17)=1),(VLOOKUP($H$21,Tablas!$A$799:$T$800,9,TRUE)),0)","v":0},{"$f":"IF((($B$17+$H$17)=1),(VLOOKUP($H$21,Tablas!$A$799:$T$800,12,TRUE)),0)","v":0},{"$f":"IF((($B$17+$H$17)=1),(VLOOKUP($H$21,Tablas!$A$799:$T$800,15,TRUE)),0)","v":0},{"$f":"IF((($B$17+$H$17)=1),(VLOOKUP($H$21,Tablas!$A$799:$T$800,18,TRUE)),0)","v":0}]
["Prima por plan para 2 personas",null,{"$f":"IF((($B$17+$H$17)=2),(VLOOKUP($H$21,Tablas!$A$799:$T$800,4,TRUE)),0)","v":9620},{"$f":"IF((($B$17+$H$17)=2),(VLOOKUP($H$21,Tablas!$A$799:$T$800,7,TRUE)),0)","v":8773},{"$f":"IF((($B$17+$H$17)=2),(VLOOKUP($H$21,Tablas!$A$799:$T$800,10,TRUE)),0)","v":7100},{"$f":"IF((($B$17+$H$17)=2),(VLOOKUP($H$21,Tablas!$A$799:$T$800,13,TRUE)),0)","v":5208},{"$f":"IF((($B$17+$H$17)=2),(VLOOKUP($H$21,Tablas!$A$799:$T$800,16,TRUE)),0)","v":3679},{"$f":"IF((($B$17+$H$17)=2),(VLOOKUP($H$21,Tablas!$A$799:$T$800,19,TRUE)),0)","v":2027}]
["Prima por plan familiar",null,{"$f":"IF((($B$17+$H$17)>=3),(VLOOKUP($H$21,Tablas!$A$799:$T$800,5,TRUE)),0)","v":0},{"$f":"IF((($B$17+$H$17)>=3),(VLOOKUP($H$21,Tablas!$A$799:$T$800,8,TRUE)),0)","v":0},{"$f":"IF((($B$17+$H$17)>=3),(VLOOKUP($H$21,Tablas!$A$799:$T$800,11,TRUE)),0)","v":0},{"$f":"IF((($B$17+$H$17)>=3),(VLOOKUP($H$21,Tablas!$A$799:$T$800,14,TRUE)),0)","v":0},{"$f":"IF((($B$17+$H$17)>=3),(VLOOKUP($H$21,Tablas!$A$799:$T$800,17,TRUE)),0)","v":0},{"$f":"IF((($B$17+$H$17)>=3),(VLOOKUP($H$21,Tablas!$A$799:$T$800,20,TRUE)),0)","v":0}]
["TOTAL PRIMA NETA",null,{"$f":"SUM(C46:C48)","v":9620},{"$f":"SUM(D46:D48)","v":8773},7100,5208,3679,2027]
["Contrib. 3.5% Super. Bancos :",null,{"$f":"C49*3.5%","v":336.70000000000005},{"$f":"D49*3.5%","v":307.05500000000001},248.50000000000003,182.28000000000003,128.76500000000001,70.945000000000007]
["Contrib 0.5% Seg.Soc.Campes:",null,{"$f":"C49*0.5%","v":48.1},{"$f":"D49*0.5%","v":43.865000000000002},35.5,26.04,18.395,10.135]
["GRAN TOTAL",null,{"$f":"SUM(C49:C51)","v":10004.800000000001},{"$f":"SUM(D49:D51)","v":9123.92},7384,5416.32,3826.16,2108.0800000000004]
[]
["Este presupuesto solamente tiene carácter informativo y en ningún momento expresa compromiso legal para suministrarle cobertura de seguro.\nLa emisión de una póliza de seguro Bupa está sujeta a todas las evaluaciones de riesgo por parte de Bupa y a la recepción de todos los pagos\nde prima requeridos."]

{"sheet":"Resumen tarifas anuales","index":11,"n_rows":43,"n_cols":8,"rows_kept":43,"cut":false,"hidden":false,"merged":[[43,0,45,7],[12,12,12,17],[14,12,14,17],[35,0,35,7],[11,2,11,7],[30,0,30,1],[21,0,21,1],[26,0,26,1],[32,0,32,1],[33,0,33,1],[42,0,42,1],[28,0,28,1],[25,0,25,1],[25,2,25,7],[36,0,36,1],[41,2,41,7],[27,0,27,1],[29,0,29,1],[31,0,31,1],[4,0,10,6],[4,7,5,7],[6,7,10,7],[12,1,12,7],[14,1,14,7],[16,5,16,6],[18,5,18,6],[17,5,17,6]]}
[]
[null,null,null,null," "," "," "]
[]
[]
["Cotización de Seguro Médico Internacional\nBupa Critical Care\nTarifas en US$ | Validas: 1 de enero de 2025",null,null,null,null,null,null,"REGIÓN"]
[]
[null,null,null,null,null,null,null,{"$f":"'INGRESO DE DATOS'!W14","v":"Resto de Ecuador"}]
[]
[]
[]
[]
[]
["Nombre del asegurado principal",{"$f":"+'INGRESO DE DATOS'!$C$36","v":"John Doe"}]
[]
["Broker/Agente",{"$f":"+'INGRESO DE DATOS'!$C$44","v":"Agencia"}]
[]
["Número de Adultos en la Póliza",{"$f":"+'INGRESO DE DATOS'!$C$38","v":1},null,null,null,"Dependientes (menores de 24 años)",null,{"$f":"+'INGRESO DE DATOS'!$G$38","v":1}]
[null,null,null,null,null,{"$f":"IF('INGRESO DE DATOS'!$P$2=TRUE, \"Cotización para dependiente de 24 años\",\"\")","v":""}]
["Edad del Titular",{"$f":"+'INGRESO DE DATOS'!$C$40","v":36},null,null,null,"Edad del Cónyuge",null,{"$f":"+'INGRESO DE DATOS'!$G$40","v":32}]
[]
[null,null,null,null," "," "," "]
["DEDUCIBLES",null,"PLAN 1","PLAN 2","PLAN 3","PLAN 4","PLAN 5","PLAN 6"]
["Dentro del pais de residencia",null,0,1000,2000,5000,10000,20000]
["Fuera del pais de residencia",null,1000,2000,3000,5000,10000,20000]
[]
["PRODUCTOS",null,"TARIFAS ANUALES"]
["Bupa Diamond Care (Mundial)",null,{"$f":"'Bupa Diamond Care (Mundial)'!G42","v":47300.24},{"$f":"'Bupa Diamond Care (Mundial)'!H42","v":29702.399999999998},{"$f":"'Bupa Diamond Care (Mundial)'!I42","v":21207.68},{"$f":"'Bupa Diamond Care (Mundial)'!J42","v":15569.84},{"$f":"'Bupa Diamond Care (Mundial)'!K42","v":11458.72},{"$f":"'Bupa Diamond Care (Mundial)'!L42","v":9324.64}]
["Bupa Diamond Care (Latino América)",null,{"$f":"'Bupa Diamond Care (LA)'!G42","v":40625.520000000004},{"$f":"'Bupa Diamond Care (LA)'!H42","v":25227.279999999999},{"$f":"'Bupa Diamond Care (LA)'!I42","v":18243.68},{"$f":"'Bupa Diamond Care (LA)'!J42","v":13295.36},{"$f":"'Bupa Diamond Care (LA)'!K42","v":9304.880000000001},{"$f":"'Bupa Diamond Care (LA)'!L42","v":7340.32}]
["Bupa Complete Care (Mundial)",null,{"$f":"'Bupa Complete Care (Mundial)'!G42","v":44064.799999999996},{"$f":"'Bupa Complete Care (Mundial)'!H42","v":26902.720000000001},{"$f":"'Bupa Complete Care (Mundial)'!I42","v":19892.079999999998},{"$f":"'Bupa Complete Care (Mundial)'!J42","v":13465.92},{"$f":"'Bupa Complete Care (Mundial)'!K42","v":10183.679999999998},{"$f":"'Bupa Complete Care (Mundial)'!L42","v":7754.24}]
["Bupa Complete Care (Latino América)",null,{"$f":"'Bupa Complete Care (LA)'!G42","v":34773.440000000002},{"$f":"'Bupa Complete Care (LA)'!H42","v":21285.68},{"$f":"'Bupa Complete Care (LA)'!I42","v":15754.960000000001},{"$f":"'Bupa Complete Care (LA)'!J42","v":11327.679999999998},{"$f":"'Bupa Complete Care (LA)'!K42","v":7973.68},{"$f":"'Bupa Complete Care (LA)'!L42","v":6049.68}]
["Bupa Advantage Care (Mundial)",null,{"$f":"'Bupa Advantage Care (Mundial)'!B39","v":29663.920000000002},{"$f":"'Bupa Advantage Care (Mundial)'!C39","v":21175.439999999999},{"$f":"'Bupa Advantage Care (Mundial)'!D39","v":16110.64},{"$f":"'Bupa Advantage Care (Mundial)'!E39","v":10466.56},{"$f":"'Bupa Advantage Care (Mundial)'!F39","v":8385.52},{"$f":"'Bupa Advantage Care (Mundial)'!G39","v":6660.1600000000008}]
["Bupa Advantage Care (Latino América)",null,{"$f":"'Bupa Advantage Care (LA)'!B39","v":23325.119999999999},{"$f":"'Bupa Advantage Care (LA)'!C39","v":16536},{"$f":"'Bupa Advantage Care (LA)'!D39","v":12500.800000000001},{"$f":"'Bupa Advantage Care (LA)'!E39","v":9189.44},{"$f":"'Bupa Advantage Care (LA)'!F39","v":6685.12},{"$f":"'Bupa Advantage Care (LA)'!G39","v":4990.96}]
["Bupa Secure Care",null,{"$f":"'Bupa Secure Care'!B39","v":16374.800000000001},{"$f":"'Bupa Secure Care'!C39","v":12461.28},{"$f":"'Bupa Secure Care'!D39","v":11226.800000000001},{"$f":"'Bupa Secure Care'!E39","v":6605.04},{"$f":"'Bupa Secure Care'!F39","v":6233.76},{"$f":"'Bupa Secure Care'!G39","v":4947.28}]
["Bupa Essential Care",null,{"$f":"'Bupa Essential Care'!B39","v":8858.7199999999993},{"$f":"'Bupa Essential Care'!C39","v":9104.16},{"$f":"'Bupa Essential Care'!D39","v":8150.4800000000005},{"$f":"'Bupa Essential Care'!E39","v":5960.24},{"$f":"'Bupa Essential Care'!F39","v":4668.5599999999995},{"$f":"'Bupa Essential Care'!G39","v":3551.6}]
[]
["BUPA CRITICAL CARE"]
["DEDUCIBLES",null,"PLAN 1","PLAN 2","PLAN 3","PLAN 4","PLAN 5","PLAN 6"]
["Dentro del pais de residencia",null,2000,3500,5000,10000,20000,50000]
["Fuera del pais de residencia",null,2000,3500,5000,10000,20000,50000]
[]
[]
[null,null,"TARIFAS ANUALES"]
["Bupa Critical Care",null,{"$f":"'Bupa Crititcal'!C52","v":10004.800000000001},{"$f":"'Bupa Crititcal'!D52","v":9123.92},{"$f":"'Bupa Crititcal'!E52","v":7384},{"$f":"'Bupa Crititcal'!F52","v":5416.32},{"$f":"'Bupa Crititcal'!G52","v":3826.16},{"$f":"'Bupa Crititcal'!H52","v":2108.0800000000004}]

{"sheet":"Comparacion de Beneficios","index":12,"n_rows":1,"n_cols":1,"rows_kept":1,"cut":false,"hidden":true,"merged":[[0,0,4,7],[25,5,26,5],[25,6,26,6],[27,0,28,0],[29,0,30,0],[10,4,11,4],[10,5,11,5],[10,6,11,6],[10,7,11,7],[86,0,87,0],[89,0,91,0],[9,0,11,0],[13,0,14,0],[15,0,16,0],[37,0,41,0],[24,0,26,0],[31,0,33,0],[31,7,33,7],[39,5,41,5],[39,6,41,6],[38,7,41,7],[17,0,19,0],[32,6,33,6],[25,2,26,2],[25,3,26,3],[25,4,26,4],[31,2,33,2],[31,3,33,3],[32,4,33,4],[32,5,33,5]]}
["2023 BUPA CARE COMPARACION DE BENEFICIOS"]

{"sheet":"Tablas","index":13,"n_rows":807,"n_cols":62,"rows_kept":807,"cut":false,"hidden":true,"merged":[[293,0,293,1],[293,2,293,6],[327,0,327,7],[328,0,328,1],[328,2,328,6],[113,0,113,7],[114,0,114,1],[114,2,114,6],[291,0,291,7],[292,0,292,7],[150,0,150,7],[184,0,184,7],[185,0,185,1],[185,2,185,6],[220,0,220,7],[151,0,151,7],[152,0,152,1],[77,0,77,7],[77,10,77,11],[77,16,77,17],[78,0,78,7],[79,0,79,1],[79,2,79,6],[796,59,796,61],[801,42,801,61],[803,59,803,61],[796,17,796,19],[794,0,794,19],[801,0,801,19],[803,17,803,19],[801,21,801,40],[803,53,803,55],[803,56,803,58],[796,53,796,55],[796,56,796,58],[802,42,802,43],[802,44,802,48],[796,44,796,46],[796,47,796,49],[796,50,796,52],[803,44,803,46],[803,47,803,49],[803,50,803,52],[802,21,802,22],[1,8,1,9],[4,10,4,11],[4,16,4,17],[796,14,796,16],[803,14,803,16],[803,11,803,13],[796,11,796,13],[1,19,1,20],[796,2,796,4],[803,2,803,4],[803,5,803,7],[803,8,803,10],[802,0,802,1],[802,2,802,6],[796,5,796,7],[796,8,796,10],[795,0,795,1],[721,0,721,7],[722,0,722,1],[722,2,722,6],[756,0,756,7],[757,0,757,1],[757,2,757,6],[795,2,795,6],[793,0,793,19],[472,2,472,6],[577,0,577,7],[684,0,684,7],[685,0,685,1],[685,2,685,6],[472,0,472,1],[611,0,611,7],[612,0,612,1],[612,2,612,6],[578,0,578,7],[579,0,579,1],[579,2,579,6],[505,0,505,7],[506,0,506,7],[507,0,507,1],[507,2,507,6],[647,0,647,7],[648,0,648,7],[649,0,649,1],[649,2,649,6],[471,0,471,7],[435,0,435,7],[436,0,436,7],[437,0,437,1],[437,2,437,6],[541,0,541,7],[542,0,542,1],[542,2,542,6],[4,0,4,7],[5,0,5,7],[41,0,41,1],[41,2,41,6],[40,0,40,7],[6,0,6,1],[6,2,6,6],[794,42,794,44],[152,2,152,6],[221,0,221,7],[222,0,222,1],[222,2,222,6],[794,21,794,22],[256,0,256,7],[257,0,257,1],[257,2,257,6],[362,0,362,7],[396,0,396,7],[397,0,397,1],[397,2,397,6],[364,0,364,1],[364,2,364,6],[363,0,363,7],[720,0,720,7]]}
[null,null,null,null,null,null,null,null,null,null,"Critical","Diamond","Complete","Advantage","Secure","Essential"]
[null,"REGIÓN",{"$f":"'INGRESO DE DATOS'!W14","v":"Resto de Ecuador"},null,"FACTOR SEMESTRAL :",null,0.53,null,"TOTAL DISCOUNT",null,{"$f":"'INGRESO DE DATOS'!O42","v":1},{"$f":"'INGRESO DE DATOS'!P42","v":1},{"$f":"'INGRESO DE DATOS'!Q42","v":1},{"$f":"'INGRESO DE DATOS'!R42","v":1},{"$f":"'INGRESO DE DATOS'!S42","v":1},{"$f":"'INGRESO DE DATOS'!T42","v":1},null,null,null,"Impuesto (14.94%)",null,1]
[]
[]
["BUPA DIAMOND CARE (MUNDIAL)",null,null,null,null,null,null,null,null,null,"ORIGINAL RATES",null,null,null,null,null,"DISCOUNTS APPLIED"]
["TARIFAS ANUALES"]
["EDAD"]
[" "," ","DW1","DW2","DW3","DW4","DW5","DW6"]
[18,"18-24",{"$f":"P9*$V$2","v":31719},{"$f":"Q9*$V$2","v":19610},{"$f":"R9*$V$2","v":12204},8880,5699,4509,null,{"$f":"IF('INGRESO DE DATOS'!$W$13=1,'Tablas Guyanas y Santa Elena'!C9,'Tablas Resto de Ecuador'!C9)","v":31719},{"$f":"IF('INGRESO DE DATOS'!$W$13=1,'Tablas Guyanas y Santa Elena'!D9,'Tablas Resto de Ecuador'!D9)","v":19610},{"$f":"IF('INGRESO DE DATOS'!$W$13=1,'Tablas Guyanas y Santa Elena'!E9,'Tablas Resto de Ecuador'!E9)","v":12204},{"$f":"IF('INGRESO DE DATOS'!$W$13=1,'Tablas Guyanas y Santa Elena'!F9,'Tablas Resto de Ecuador'!F9)","v":8880},{"$f":"IF('INGRESO DE DATOS'!$W$13=1,'Tablas Guyanas y Santa Elena'!G9,'Tablas Resto de Ecuador'!G9)","v":5699},{"$f":"IF('INGRESO DE DATOS'!$W$13=1,'Tablas Guyanas y Santa Elena'!H9,'Tablas Resto de Ecuador'!H9)","v":4509},{"$f":"(J9-50)*$L$2+50","v":31719},{"$f":"(K9-50)*$L$2+50","v":19610},{"$f":"(L9-50)*$L$2+50","v":12204},8880,5699,4509]
[25,"25-29",{"$f":"P10*$V$2","v":33285},{"$f":"Q10*$V$2","v":20562},{"$f":"R10*$V$2","v":14355},{"$f":"S10*$V$2","v":9825},{"$f":"T10*$V$2","v":6297},{"$f":"U10*$V$2","v":4979},null,{"$f":"IF('INGRESO DE DATOS'!$W$13=1,'Tablas Guyanas y Santa Elena'!C10,'Tablas Resto de Ecuador'!C10)","v":33285},{"$f":"IF('INGRESO DE DATOS'!$W$13=1,'Tablas Guyanas y Santa Elena'!D10,'Tablas Resto de Ecuador'!D10)","v":20562},{"$f":"IF('INGRESO DE DATOS'!$W$13=1,'Tablas Guyanas y Santa Elena'!E10,'Tablas Resto de Ecuador'!E10)","v":14355},{"$f":"IF('INGRESO DE DATOS'!$W$13=1,'Tablas Guyanas y Santa Elena'!F10,'Tablas Resto de Ecuador'!F10)","v":9825},{"$f":"IF('INGRESO DE DATOS'!$W$13=1,'Tablas Guyanas y Santa Elena'!G10,'Tablas Resto de Ecuador'!G10)","v":6297},{"$f":"IF('INGRESO DE DATOS'!$W$13=1,'Tablas Guyanas y Santa Elena'!H10,'Tablas Resto de Ecuador'!H10)","v":4979},{"$f":"(J10-50)*$L$2+50","v":33285},{"$f":"(K10-50)*$L$2+50","v":20562},{"$f":"(L10-50)*$L$2+50","v":14355},{"$f":"(M10-50)*$L$2+50","v":9825},{"$f":"(N10-50)*$L$2+50","v":6297},{"$f":"(O10-50)*$L$2+50","v":4979}]
[30,"30-34",34404,21387,15387,10984,7520,5954,null,{"$f":"IF('INGRESO DE DATOS'!$W$13=1,'Tablas Guyanas y Santa Elena'!C11,'Tablas Resto de Ecuador'!C11)","v":34404},{"$f":"IF('INGRESO DE DATOS'!$W$13=1,'Tablas Guyanas y Santa Elena'!D11,'Tablas Resto de Ecuador'!D11)","v":21387},{"$f":"IF('INGRESO DE DATOS'!$W$13=1,'Tablas Guyanas y Santa Elena'!E11,'Tablas Resto de Ecuador'!E11)","v":15387},{"$f":"IF('INGRESO DE DATOS'!$W$13=1,'Tablas Guyanas y Santa Elena'!F11,'Tablas Resto de Ecuador'!F11)","v":10984},{"$f":"IF('INGRESO DE DATOS'!$W$13=1,'Tablas Guyanas y Santa Elena'!G11,'Tablas Resto de Ecuador'!G11)","v":7520},{"$f":"IF('INGRESO DE DATOS'!$W$13=1,'Tablas Guyanas y Santa Elena'!H11,'Tablas Resto de Ecuador'!H11)","v":5954},34404,21387,15387,10984,7520,5954]
[35,"35-39",38452,23936,17206,12295,8414,6661,null,{"$f":"IF('INGRESO DE DATOS'!$W$13=1,'Tablas Guyanas y Santa Elena'!C12,'Tablas Resto de Ecuador'!C12)","v":38452},{"$f":"IF('INGRESO DE DATOS'!$W$13=1,'Tablas Guyanas y Santa Elena'!D12,'Tablas Resto de Ecuador'!D12)","v":23936},{"$f":"IF('INGRESO DE DATOS'!$W$13=1,'Tablas Guyanas y Santa Elena'!E12,'Tablas Resto de Ecuador'!E12)","v":17206},{"$f":"IF('INGRESO DE DATOS'!$W$13=1,'Tablas Guyanas y Santa Elena'!F12,'Tablas Resto de Ecuador'!F12)","v":12295},{"$f":"IF('INGRESO DE DATOS'!$W$13=1,'Tablas Guyanas y Santa Elena'!G12,'Tablas Resto de Ecuador'!G12)","v":8414},{"$f":"IF('INGRESO DE DATOS'!$W$13=1,'Tablas Guyanas y Santa Elena'!H12,'Tablas Resto de Ecuador'!H12)","v":6661},38452,23936,17206,12295,8414,6661]
[40,"40-44",44490,27720,18808,13630,9233,7304,null,{"$f":"IF('INGRESO DE DATOS'!$W$13=1,'Tablas Guyanas y Santa Elena'!C13,'Tablas Resto de Ecuador'!C13)","v":44490},{"$f":"IF('INGRESO DE DATOS'!$W$13=1,'Tablas Guyanas y Santa Elena'!D13,'Tablas Resto de Ecuador'!D13)","v":27720},{"$f":"IF('INGRESO DE DATOS'!$W$13=1,'Tablas Guyanas y Santa Elena'!E13,'Tablas Resto de Ecuador'!E13)","v":18808},{"$f":"IF('INGRESO DE DATOS'!$W$13=1,'Tablas Guyanas y Santa Elena'!F13,'Tablas Resto de Ecuador'!F13)","v":13630},{"$f":"IF('INGRESO DE DATOS'!$W$13=1,'Tablas Guyanas y Santa Elena'!G13,'Tablas Resto de Ecuador'!G13)","v":9233},{"$f":"IF('INGRESO DE DATOS'!$W$13=1,'Tablas Guyanas y Santa Elena'!H13,'Tablas Resto de Ecuador'!H13)","v":7304},44490,27720,18808,13630,9233,7304]
[45,"45-49",49659,30978,21023,15210,10308,8144,null,{"$f":"IF('INGRESO DE DATOS'!$W$13=1,'Tablas Guyanas y Santa Elena'!C14,'Tablas Resto de Ecuador'!C14)","v":49659},{"$f":"IF('INGRESO DE DATOS'!$W$13=1,'Tablas Guyanas y Santa Elena'!D14,'Tablas Resto de Ecuador'!D14)","v":30978},{"$f":"IF('INGRESO DE DATOS'!$W$13=1,'Tablas Guyanas y Santa Elena'!E14,'Tablas Resto de Ecuador'!E14)","v":21023},{"$f":"IF('INGRESO DE DATOS'!$W$13=1,'Tablas Guyanas y Santa Elena'!F14,'Tablas Resto de Ecuador'!F14)","v":15210},{"$f":"IF('INGRESO DE DATOS'!$W$13=1,'Tablas Guyanas y Santa Elena'!G14,'Tablas Resto de Ecuador'!G14)","v":10308},{"$f":"IF('INGRESO DE DATOS'!$W$13=1,'Tablas Guyanas y Santa Elena'!H14,'Tablas Resto de Ecuador'!H14)","v":8144},49659,30978,21023,15210,10308,8144]
[50,"50-54",63729,39619,27529,19822,14503,11467,null,{"$f":"IF('INGRESO DE DATOS'!$W$13=1,'Tablas Guyanas y Santa Elena'!C15,'Tablas Resto de Ecuador'!C15)","v":63729},{"$f":"IF('INGRESO DE DATOS'!$W$13=1,'Tablas Guyanas y Santa Elena'!D15,'Tablas Resto de Ecuador'!D15)","v":39619},{"$f":"IF('INGRESO DE DATOS'!$W$13=1,'Tablas Guyanas y Santa Elena'!E15,'Tablas Resto de Ecuador'!E15)","v":27529},{"$f":"IF('INGRESO DE DATOS'!$W$13=1,'Tablas Guyanas y Santa Elena'!F15,'Tablas Resto de Ecuador'!F15)","v":19822},{"$f":"IF('INGRESO DE DATOS'!$W$13=1,'Tablas Guyanas y Santa Elena'!G15,'Tablas Resto de Ecuador'!G15)","v":14503},{"$f":"IF('INGRESO DE DATOS'!$W$13=1,'Tablas Guyanas y Santa Elena'!H15,'Tablas Resto de Ecuador'!H15)","v":11467},63729,39619,27529,19822,14503,11467]
[55,"55-59",68594,42134,29295,21077,15435,12200,null,{"$f":"IF('INGRESO DE DATOS'!$W$13=1,'Tablas Guyanas y Santa Elena'!C16,'Tablas Resto de Ecuador'!C16)","v":68594},{"$f":"IF('INGRESO DE DATOS'!$W$13=1,'Tablas Guyanas y Santa Elena'!D16,'Tablas Resto de Ecuador'!D16)","v":42134},{"$f":"IF('INGRESO DE DATOS'!$W$13=1,'Tablas Guyanas y Santa Elena'!E16,'Tablas Resto de Ecuador'!E16)","v":29295},{"$f":"IF('INGRESO DE DATOS'!$W$13=1,'Tablas Guyanas y Santa Elena'!F16,'Tablas Resto de Ecuador'!F16)","v":21077},{"$f":"IF('INGRESO DE DATOS'!$W$13=1,'Tablas Guyanas y Santa Elena'!G16,'Tablas Resto de Ecuador'!G16)","v":15435},{"$f":"IF('INGRESO DE DATOS'!$W$13=1,'Tablas Guyanas y Santa Elena'!H16,'Tablas Resto de Ecuador'!H16)","v":12200},68594,42134,29295,21077,15435,12200]
[60,"60",71322,45886,31947,24234,18563,15126,null,{"$f":"IF('INGRESO DE DATOS'!$W$13=1,'Tablas Guyanas y Santa Elena'!C17,'Tablas Resto de Ecuador'!C17)","v":71322},{"$f":"IF('INGRESO DE DATOS'!$W$13=1,'Tablas Guyanas y Santa Elena'!D17,'Tablas Resto de Ecuador'!D17)","v":45886},{"$f":"IF('INGRESO DE DATOS'!$W$13=1,'Tablas Guyanas y Santa Elena'!E17,'Tablas Resto de Ecuador'!E17)","v":31947},{"$f":"IF('INGRESO DE DATOS'!$W$13=1,'Tablas Guyanas y Santa Elena'!F17,'Tablas Resto de Ecuador'!F17)","v":24234},{"$f":"IF('INGRESO DE DATOS'!$W$13=1,'Tablas Guyanas y Santa Elena'!G17,'Tablas Resto de Ecuador'!G17)","v":18563},{"$f":"IF('INGRESO DE DATOS'!$W$13=1,'Tablas Guyanas y Santa Elena'!H17,'Tablas Resto de Ecuador'!H17)","v":15126},71322,45886,31947,24234,18563,15126]
[61,"61",77401,49294,34321,26010,19939,16234,null,{"$f":"IF('INGRESO DE DATOS'!$W$13=1,'Tablas Guyanas y Santa Elena'!C18,'Tablas Resto de Ecuador'!C18)","v":77401},{"$f":"IF('INGRESO DE DATOS'!$W$13=1,'Tablas Guyanas y Santa Elena'!D18,'Tablas Resto de Ecuador'!D18)","v":49294},{"$f":"IF('INGRESO DE DATOS'!$W$13=1,'Tablas Guyanas y Santa Elena'!E18,'Tablas Resto de Ecuador'!E18)","v":34321},{"$f":"IF('INGRESO DE DATOS'!$W$13=1,'Tablas Guyanas y Santa Elena'!F18,'Tablas Resto de Ecuador'!F18)","v":26010},{"$f":"IF('INGRESO DE DATOS'!$W$13=1,'Tablas Guyanas y Santa Elena'!G18,'Tablas Resto de Ecuador'!G18)","v":19939},{"$f":"IF('INGRESO DE DATOS'!$W$13=1,'Tablas Guyanas y Santa Elena'!H18,'Tablas Resto de Ecuador'!H18)","v":16234},77401,49294,34321,26010,19939,16234]
[62,"62",85147,53956,37564,28480,21812,17767,null,{"$f":"IF('INGRESO DE DATOS'!$W$13=1,'Tablas Guyanas y Santa Elena'!C19,'Tablas Resto de Ecuador'!C19)","v":85147},{"$f":"IF('INGRESO DE DATOS'!$W$13=1,'Tablas Guyanas y Santa Elena'!D19,'Tablas Resto de Ecuador'!D19)","v":53956},{"$f":"IF('INGRESO DE DATOS'!$W$13=1,'Tablas Guyanas y Santa Elena'!E19,'Tablas Resto de Ecuador'!E19)","v":37564},{"$f":"IF('INGRESO DE DATOS'!$W$13=1,'Tablas Guyanas y Santa Elena'!F19,'Tablas Resto de Ecuador'!F19)","v":28480},{"$f":"IF('INGRESO DE DATOS'!$W$13=1,'Tablas Guyanas y Santa Elena'!G19,'Tablas Resto de Ecuador'!G19)","v":21812},{"$f":"IF('INGRESO DE DATOS'!$W$13=1,'Tablas Guyanas y Santa Elena'!H19,'Tablas Resto de Ecuador'!H19)","v":17767},85147,53956,37564,28480,21812,17767]
[63,"63",91087,57360,39933,30262,23190,18883,null,{"$f":"IF('INGRESO DE DATOS'!$W$13=1,'Tablas Guyanas y Santa Elena'!C20,'Tablas Resto de Ecuador'!C20)","v":91087},{"$f":"IF('INGRESO DE DATOS'!$W$13=1,'Tablas Guyanas y Santa Elena'!D20,'Tablas Resto de Ecuador'!D20)","v":57360},{"$f":"IF('INGRESO DE DATOS'!$W$13=1,'Tablas Guyanas y Santa Elena'!E20,'Tablas Resto de Ecuador'!E20)","v":39933},{"$f":"IF('INGRESO DE DATOS'!$W$13=1,'Tablas Guyanas y Santa Elena'!F20,'Tablas Resto de Ecuador'!F20)","v":30262},{"$f":"IF('INGRESO DE DATOS'!$W$13=1,'Tablas Guyanas y Santa Elena'!G20,'Tablas Resto de Ecuador'!G20)","v":23190},{"$f":"IF('INGRESO DE DATOS'!$W$13=1,'Tablas Guyanas y Santa Elena'!H20,'Tablas Resto de Ecuador'!H20)","v":18883},91087,57360,39933,30262,23190,18883]
[64,"64",98495,62036,43210,32736,25077,20420,null,{"$f":"IF('INGRESO DE DATOS'!$W$13=1,'Tablas Guyanas y Santa Elena'!C21,'Tablas Resto de Ecuador'!C21)","v":98495},{"$f":"IF('INGRESO DE DATOS'!$W$13=1,'Tablas Guyanas y Santa Elena'!D21,'Tablas Resto de Ecuador'!D21)","v":62036},{"$f":"IF('INGRESO DE DATOS'!$W$13=1,'Tablas Guyanas y Santa Elena'!E21,'Tablas Resto de Ecuador'!E21)","v":43210},{"$f":"IF('INGRESO DE DATOS'!$W$13=1,'Tablas Guyanas y Santa Elena'!F21,'Tablas Resto de Ecuador'!F21)","v":32736},{"$f":"IF('INGRESO DE DATOS'!$W$13=1,'Tablas Guyanas y Santa Elena'!G21,'Tablas Resto de Ecuador'!G21)","v":25077},{"$f":"IF('INGRESO DE DATOS'!$W$13=1,'Tablas Guyanas y Santa Elena'!H21,'Tablas Resto de Ecuador'!H21)","v":20420},98495,62036,43210,32736,25077,20420]
[65,"65",103205,81045,56306,41354,33397,28750,null,{"$f":"IF('INGRESO DE DATOS'!$W$13=1,'Tablas Guyanas y Santa Elena'!C22,'Tablas Resto de Ecuador'!C22)","v":103205},{"$f":"IF('INGRESO DE DATOS'!$W$13=1,'Tablas Guyanas y Santa Elena'!D22,'Tablas Resto de Ecuador'!D22)","v":81045},{"$f":"IF('INGRESO DE DATOS'!$W$13=1,'Tablas Guyanas y Santa Elena'!E22,'Tablas Resto de Ecuador'!E22)","v":56306},{"$f":"IF('INGRESO DE DATOS'!$W$13=1,'Tablas Guyanas y Santa Elena'!F22,'Tablas Resto de Ecuador'!F22)","v":41354},{"$f":"IF('INGRESO DE DATOS'!$W$13=1,'Tablas Guyanas y Santa Elena'!G22,'Tablas Resto de Ecuador'!G22)","v":33397},{"$f":"IF('INGRESO DE DATOS'!$W$13=1,'Tablas Guyanas y Santa Elena'!H22,'Tablas Resto de Ecuador'!H22)","v":28750},103205,81045,56306,41354,33397,28750]
[66,"66",107877,89246,65401,48038,38800,33380,null,{"$f":"IF('INGRESO DE DATOS'!$W$13=1,'Tablas Guyanas y Santa Elena'!C23,'Tablas Resto de Ecuador'!C23)","v":107877},{"$f":"IF('INGRESO DE DATOS'!$W$13=1,'Tablas Guyanas y Santa Elena'!D23,'Tablas Resto de Ecuador'!D23)","v":89246},{"$f":"IF('INGRESO DE DATOS'!$W$13=1,'Tablas Guyanas y Santa Elena'!E23,'Tablas Resto de Ecuador'!E23)","v":65401},{"$f":"IF('INGRESO DE DATOS'!$W$13=1,'Tablas Guyanas y Santa Elena'!F23,'Tablas Resto de Ecuador'!F23)","v":48038},{"$f":"IF('INGRESO DE DATOS'!$W$13=1,'Tablas Guyanas y Santa Elena'!G23,'Tablas Resto de Ecuador'!G23)","v":38800},{"$f":"IF('INGRESO DE DATOS'!$W$13=1,'Tablas Guyanas y Santa Elena'!H23,'Tablas Resto de Ecuador'!H23)","v":33380},107877,89246,65401,48038,38800,33380]
[67,"67",117790,95996,71420,52454,42362,36443,null,{"$f":"IF('INGRESO DE DATOS'!$W$13=1,'Tablas Guyanas y Santa Elena'!C24,'Tablas Resto de Ecuador'!C24)","v":117790},{"$f":"IF('INGRESO DE DATOS'!$W$13=1,'Tablas Guyanas y Santa Elena'!D24,'Tablas Resto de Ecuador'!D24)","v":95996},{"$f":"IF('INGRESO DE DATOS'!$W$13=1,'Tablas Guyanas y Santa Elena'!E24,'Tablas Resto de Ecuador'!E24)","v":71420},{"$f":"IF('INGRESO DE DATOS'!$W$13=1,'Tablas Guyanas y Santa Elena'!F24,'Tablas Resto de Ecuador'!F24)","v":52454},{"$f":"IF('INGRESO DE DATOS'!$W$13=1,'Tablas Guyanas y Santa Elena'!G24,'Tablas Resto de Ecuador'!G24)","v":42362},{"$f":"IF('INGRESO DE DATOS'!$W$13=1,'Tablas Guyanas y Santa Elena'!H24,'Tablas Resto de Ecuador'!H24)","v":36443},117790,95996,71420,52454,42362,36443]
[68,"68",130368,102909,76319,58065,46898,40354,null,{"$f":"IF('INGRESO DE DATOS'!$W$13=1,'Tablas Guyanas y Santa Elena'!C25,'Tablas Resto de Ecuador'!C25)","v":130368},{"$f":"IF('INGRESO DE DATOS'!$W$13=1,'Tablas Guyanas y Santa Elena'!D25,'Tablas Resto de Ecuador'!D25)","v":102909},{"$f":"IF('INGRESO DE DATOS'!$W$13=1,'Tablas Guyanas y Santa Elena'!E25,'Tablas Resto de Ecuador'!E25)","v":76319},{"$f":"IF('INGRESO DE DATOS'!$W$13=1,'Tablas Guyanas y Santa Elena'!F25,'Tablas Resto de Ecuador'!F25)","v":58065},{"$f":"IF('INGRESO DE DATOS'!$W$13=1,'Tablas Guyanas y Santa Elena'!G25,'Tablas Resto de Ecuador'!G25)","v":46898},{"$f":"IF('INGRESO DE DATOS'!$W$13=1,'Tablas Guyanas y Santa Elena'!H25,'Tablas Resto de Ecuador'!H25)","v":40354},130368,102909,76319,58065,46898,40354]
[69,"69",143383,110024,81222,63872,51585,44385,null,{"$f":"IF('INGRESO DE DATOS'!$W$13=1,'Tablas Guyanas y Santa Elena'!C26,'Tablas Resto de Ecuador'!C26)","v":143383},{"$f":"IF('INGRESO DE DATOS'!$W$13=1,'Tablas Guyanas y Santa Elena'!D26,'Tablas Resto de Ecuador'!D26)","v":110024},{"$f":"IF('INGRESO DE DATOS'!$W$13=1,'Tablas Guyanas y Santa Elena'!E26,'Tablas Resto de Ecuador'!E26)","v":81222},{"$f":"IF('INGRESO DE DATOS'!$W$13=1,'Tablas Guyanas y Santa Elena'!F26,'Tablas Resto de Ecuador'!F26)","v":63872},{"$f":"IF('INGRESO DE DATOS'!$W$13=1,'Tablas Guyanas y Santa Elena'!G26,'Tablas Resto de Ecuador'!G26)","v":51585},{"$f":"IF('INGRESO DE DATOS'!$W$13=1,'Tablas Guyanas y Santa Elena'!H26,'Tablas Resto de Ecuador'!H26)","v":44385},143383,110024,81222,63872,51585,44385]
[70,"70",156864,117383,86292,69492,60093,52182,null,{"$f":"IF('INGRESO DE DATOS'!$W$13=1,'Tablas Guyanas y Santa Elena'!C27,'Tablas Resto de Ecuador'!C27)","v":156864},{"$f":"IF('INGRESO DE DATOS'!$W$13=1,'Tablas Guyanas y Santa Elena'!D27,'Tablas Resto de Ecuador'!D27)","v":117383},{"$f":"IF('INGRESO DE DATOS'!$W$13=1,'Tablas Guyanas y Santa Elena'!E27,'Tablas Resto de Ecuador'!E27)","v":86292},{"$f":"IF('INGRESO DE DATOS'!$W$13=1,'Tablas Guyanas y Santa Elena'!F27,'Tablas Resto de Ecuador'!F27)","v":69492},{"$f":"IF('INGRESO DE DATOS'!$W$13=1,'Tablas Guyanas y Santa Elena'!G27,'Tablas Resto de Ecuador'!G27)","v":60093},{"$f":"IF('INGRESO DE DATOS'!$W$13=1,'Tablas Guyanas y Santa Elena'!H27,'Tablas Resto de Ecuador'!H27)","v":52182},156864,117383,86292,69492,60093,52182]
[71,"71",167620,125073,91584,74014,62448,54224,null,{"$f":"IF('INGRESO DE DATOS'!$W$13=1,'Tablas Guyanas y Santa Elena'!C28,'Tablas Resto de Ecuador'!C28)","v":167620},{"$f":"IF('INGRESO DE DATOS'!$W$13=1,'Tablas Guyanas y Santa Elena'!D28,'Tablas Resto de Ecuador'!D28)","v":125073},{"$f":"IF('INGRESO DE DATOS'!$W$13=1,'Tablas Guyanas y Santa Elena'!E28,'Tablas Resto de Ecuador'!E28)","v":91584},{"$f":"IF('INGRESO DE DATOS'!$W$13=1,'Tablas Guyanas y Santa Elena'!F28,'Tablas Resto de Ecuador'!F28)","v":74014},{"$f":"IF('INGRESO DE DATOS'!$W$13=1,'Tablas Guyanas y Santa Elena'!G28,'Tablas Resto de Ecuador'!G28)","v":62448},{"$f":"IF('INGRESO DE DATOS'!$W$13=1,'Tablas Guyanas y Santa Elena'!H28,'Tablas Resto de Ecuador'!H28)","v":54224},167620,125073,91584,74014,62448,54224]
[72,"72",179108,133066,97073,78737,64209,55760,null,{"$f":"IF('INGRESO DE DATOS'!$W$13=1,'Tablas Guyanas y Santa Elena'!C29,'Tablas Resto de Ecuador'!C29)","v":179108},{"$f":"IF('INGRESO DE DATOS'!$W$13=1,'Tablas Guyanas y Santa Elena'!D29,'Tablas Resto de Ecuador'!D29)","v":133066},{"$f":"IF('INGRESO DE DATOS'!$W$13=1,'Tablas Guyanas y Santa Elena'!E29,'Tablas Resto de Ecuador'!E29)","v":97073},{"$f":"IF('INGRESO DE DATOS'!$W$13=1,'Tablas Guyanas y Santa Elena'!F29,'Tablas Resto de Ecuador'!F29)","v":78737},{"$f":"IF('INGRESO DE DATOS'!$W$13=1,'Tablas Guyanas y Santa Elena'!G29,'Tablas Resto de Ecuador'!G29)","v":64209},{"$f":"IF('INGRESO DE DATOS'!$W$13=1,'Tablas Guyanas y Santa Elena'!H29,'Tablas Resto de Ecuador'!H29)","v":55760},179108,133066,97073,78737,64209,55760]
[73,"73",187936,141233,102674,83272,66571,57803,null,{"$f":"IF('INGRESO DE DATOS'!$W$13=1,'Tablas Guyanas y Santa Elena'!C30,'Tablas Resto de Ecuador'!C30)","v":187936},{"$f":"IF('INGRESO DE DATOS'!$W$13=1,'Tablas Guyanas y Santa Elena'!D30,'Tablas Resto de Ecuador'!D30)","v":141233},{"$f":"IF('INGRESO DE DATOS'!$W$13=1,'Tablas Guyanas y Santa Elena'!E30,'Tablas Resto de Ecuador'!E30)","v":102674},{"$f":"IF('INGRESO DE DATOS'!$W$13=1,'Tablas Guyanas y Santa Elena'!F30,'Tablas Resto de Ecuador'!F30)","v":83272},{"$f":"IF('INGRESO DE DATOS'!$W$13=1,'Tablas Guyanas y Santa Elena'!G30,'Tablas Resto de Ecuador'!G30)","v":66571},{"$f":"IF('INGRESO DE DATOS'!$W$13=1,'Tablas Guyanas y Santa Elena'!H30,'Tablas Resto de Ecuador'!H30)","v":57803},187936,141233,102674,83272,66571,57803]
[74,"74",191245,149442,108303,84744,67738,58829,null,{"$f":"IF('INGRESO DE DATOS'!$W$13=1,'Tablas Guyanas y Santa Elena'!C31,'Tablas Resto de Ecuador'!C31)","v":191245},{"$f":"IF('INGRESO DE DATOS'!$W$13=1,'Tablas Guyanas y Santa Elena'!D31,'Tablas Resto de Ecuador'!D31)","v":149442},{"$f":"IF('INGRESO DE DATOS'!$W$13=1,'Tablas Guyanas y Santa Elena'!E31,'Tablas Resto de Ecuador'!E31)","v":108303},{"$f":"IF('INGRESO DE DATOS'!$W$13=1,'Tablas Guyanas y Santa Elena'!F31,'Tablas Resto de Ecuador'!F31)","v":84744},{"$f":"IF('INGRESO DE DATOS'!$W$13=1,'Tablas Guyanas y Santa Elena'!G31,'Tablas Resto de Ecuador'!G31)","v":67738},{"$f":"IF('INGRESO DE DATOS'!$W$13=1,'Tablas Guyanas y Santa Elena'!H31,'Tablas Resto de Ecuador'!H31)","v":58829},191245,149442,108303,84744,67738,58829]
[75,"75+",199547,157566,113876,88427,70691,61385,null,{"$f":"IF('INGRESO DE DATOS'!$W$13=1,'Tablas Guyanas y Santa Elena'!C32,'Tablas Resto de Ecuador'!C32)","v":199547},{"$f":"IF('INGRESO DE DATOS'!$W$13=1,'Tablas Guyanas y Santa Elena'!D32,'Tablas Resto de Ecuador'!D32)","v":157566},{"$f":"IF('INGRESO DE DATOS'!$W$13=1,'Tablas Guyanas y Santa Elena'!E32,'Tablas Resto de Ecuador'!E32)","v":113876},{"$f":"IF('INGRESO DE DATOS'!$W$13=1,'Tablas Guyanas y Santa Elena'!F32,'Tablas Resto de Ecuador'!F32)","v":88427},{"$f":"IF('INGRESO DE DATOS'!$W$13=1,'Tablas Guyanas y Santa Elena'!G32,'Tablas Resto de Ecuador'!G32)","v":70691},{"$f":"IF('INGRESO DE DATOS'!$W$13=1,'Tablas Guyanas y Santa Elena'!H32,'Tablas Resto de Ecuador'!H32)","v":61385},199547,157566,113876,88427,70691,61385]
[1,"1 Child",6954,4549,3111,2376,2304,2005,null,{"$f":"IF('INGRESO DE DATOS'!$W$13=1,'Tablas Guyanas y Santa Elena'!C33,'Tablas Resto de Ecuador'!C33)","v":6954},{"$f":"IF('INGRESO DE DATOS'!$W$13=1,'Tablas Guyanas y Santa Elena'!D33,'Tablas Resto de Ecuador'!D33)","v":4549},{"$f":"IF('INGRESO DE DATOS'!$W$13=1,'Tablas Guyanas y Santa Elena'!E33,'Tablas Resto de Ecuador'!E33)","v":3111},{"$f":"IF('INGRESO DE DATOS'!$W$13=1,'Tablas Guyanas y Santa Elena'!F33,'Tablas Resto de Ecuador'!F33)","v":2376},{"$f":"IF('INGRESO DE DATOS'!$W$13=1,'Tablas Guyanas y Santa Elena'!G33,'Tablas Resto de Ecuador'!G33)","v":2304},{"$f":"IF('INGRESO DE DATOS'!$W$13=1,'Tablas Guyanas y Santa Elena'!H33,'Tablas Resto de Ecuador'!H33)","v":2005},{"$f":"(J33)*$L$2","v":6954},{"$f":"(K33)*$L$2","v":4549},3111,2376,2304,2005]
[2,"2 Children",11533,7606,5355,4104,3978,3436,null,{"$f":"IF('INGRESO DE DATOS'!$W$13=1,'Tablas Guyanas y Santa Elena'!C34,'Tablas Resto de Ecuador'!C34)","v":11533},{"$f":"IF('INGRESO DE DATOS'!$W$13=1,'Tablas Guyanas y Santa Elena'!D34,'Tablas Resto de Ecuador'!D34)","v":7606},{"$f":"IF('INGRESO DE DATOS'!$W$13=1,'Tablas Guyanas y Santa Elena'!E34,'Tablas Resto de Ecuador'!E34)","v":5355},{"$f":"IF('INGRESO DE DATOS'!$W$13=1,'Tablas Guyanas y Santa Elena'!F34,'Tablas Resto de Ecuador'!F34)","v":4104},{"$f":"IF('INGRESO DE DATOS'!$W$13=1,'Tablas Guyanas y Santa Elena'!G34,'Tablas Resto de Ecuador'!G34)","v":3978},{"$f":"IF('INGRESO DE DATOS'!$W$13=1,'Tablas Guyanas y Santa Elena'!H34,'Tablas Resto de Ecuador'!H34)","v":3436},{"$f":"(J34)*$L$2","v":11533},{"$f":"(K34)*$L$2","v":7606},{"$f":"(L34)*$L$2","v":5355},{"$f":"(M34)*$L$2","v":4104},{"$f":"(N34)*$L$2","v":3978},{"$f":"(O34)*$L$2","v":3436}]
[3,"3+ Children",15658,{"$f":"Q35*$V$2","v":10421},7437,5726,5533,4763,null,{"$f":"IF('INGRESO DE DATOS'!$W$13=1,'Tablas Guyanas y Santa Elena'!C35,'Tablas Resto de Ecuador'!C35)","v":15658},{"$f":"IF('INGRESO DE DATOS'!$W$13=1,'Tablas Guyanas y Santa Elena'!D35,'Tablas Resto de Ecuador'!D35)","v":10421},{"$f":"IF('INGRESO DE DATOS'!$W$13=1,'Tablas Guyanas y Santa Elena'!E35,'Tablas Resto de Ecuador'!E35)","v":7437},{"$f":"IF('INGRESO DE DATOS'!$W$13=1,'Tablas Guyanas y Santa Elena'!F35,'Tablas Resto de Ecuador'!F35)","v":5726},{"$f":"IF('INGRESO DE DATOS'!$W$13=1,'Tablas Guyanas y Santa Elena'!G35,'Tablas Resto de Ecuador'!G35)","v":5533},{"$f":"IF('INGRESO DE DATOS'!$W$13=1,'Tablas Guyanas y Santa Elena'!H35,'Tablas Resto de Ecuador'!H35)","v":4763},15658,10421,7437,5726,5533,4763]
[1,"Rider Comp. Maternidad",{"$f":"J36*$V$2","v":0},{"$f":"K36*$V$2","v":0},{"$f":"L36*$V$2","v":0},225,225,225,null,{"$f":"IF('INGRESO DE DATOS'!$W$13=1,'Tablas Guyanas y Santa Elena'!C36,'Tablas Resto de Ecuador'!C36)","v":0},0,0,225,225,225]
[1,"Transplante de organos",{"$f":"J37*$V$2","v":0},{"$f":"K37*$V$2","v":0},{"$f":"L37*$V$2","v":0},{"$f":"M37*$V$2","v":0},{"$f":"N37*$V$2","v":0},{"$f":"O37*$V$2","v":0},null,{"$f":"IF('INGRESO DE DATOS'!$W$13=1,'Tablas Guyanas y Santa Elena'!C37,'Tablas Resto de Ecuador'!C37)","v":0},0,0,0,0,0]
[null,null,0,0,0,0,0,0,null,{"$f":"IF('INGRESO DE DATOS'!$W$13=1,'Tablas Guyanas y Santa Elena'!C38,'Tablas Resto de Ecuador'!C38)","v":0}]
[]
[]
["TARIFAS SEMESTRALES "]
["EDAD"]
[" "," ","DW1","DW2","DW3","DW4","DW5","DW6"]
[18,"18-24",{"$f":"$G$2*C9","v":16811.07},10393.300000000001,6468.12,4706.4000000000005,3020.4700000000003,2389.77]
[25,"25-29",{"$f":"$G$2*C10","v":17641.05},10897.86,7608.1500000000005,5207.25,3337.4100000000003,2638.8700000000003]
[30,"30-34",{"$f":"$G$2*C11","v":18234.120000000003},11335.11,8155.1100000000006,5821.52,3985.6000000000004,3155.6200000000003]
[35,"35-39",{"$f":"$G$2*C12","v":20379.560000000001},12686.08,9119.18,6516.35,4459.42,3530.3300000000004]
[40,"40-44",{"$f":"$G$2*C13","v":23579.7},14691.6,9968.24,7223.9000000000005,4893.4900000000007,3871.1200000000003]
[45,"45-49",{"$f":"$G$2*C14","v":26319.27},16418.34,11142.19,8061.3,5463.2400000000007,4316.3200000000006]
[50,"50-54",{"$f":"$G$2*C15","v":33776.370000000003},20998.07,14590.37,10505.66,7686.59,6077.51]
[55,"55-59",{"$f":"$G$2*C16","v":36354.82},22331.02,15526.35,11170.810000000001,8180.55,6466]
[60,"60",{"$f":"$G$2*C17","v":37800.660000000003},24319.58,16931.91,12844.02,9838.3900000000012,8016.7800000000007]
[61,"61",{"$f":"$G$2*C18","v":41022.53},26125.82,18190.13,13785.300000000001,10567.67,8604.02]
[62,"62",{"$f":"$G$2*C19","v":45127.91},{"$f":"$G$2*D19","v":28596.68},19908.920000000002,15094.400000000001,11560.36,9416.51]
[63,"63",{"$f":"$G$2*C20","v":48276.11},30400.800000000003,21164.49,16038.86,12290.7,10007.99]
[64,"64",{"$f":"$G$2*C21","v":52202.350000000006},32879.08,22901.300000000003,17350.080000000002,13290.810000000001,10822.6]
[65,"65",{"$f":"$G$2*C22","v":54698.65},42953.85,29842.18,21917.620000000003,17700.41,15237.5]
[66,"66",{"$f":"$G$2*C23","v":57174.810000000005},47300.380000000005,34662.53,25460.140000000003,20564,17691.400000000001]
[67,"67",{"$f":"$G$2*C24","v":62428.700000000004},50877.880000000005,37852.6,27800.620000000003,22451.86,19314.79]
[68,"68",{"$f":"$G$2*C25","v":69095.040000000008},54541.770000000004,40449.07,30774.45,24855.940000000002,21387.620000000003]
[69,"69",{"$f":"$G$2*C26","v":75992.990000000005},58312.72,43047.66,33852.160000000003,27340.050000000003,23524.050000000003]
[70,"70",{"$f":"$G$2*C27","v":83137.919999999998},62212.990000000005,45734.76,36830.76,31849.29,27656.460000000003]
[71,"71",{"$f":"$G$2*C28","v":88838.6},66288.69,48539.520000000004,39227.420000000006,33097.440000000002,28738.720000000001]
[72,"72",{"$f":"$G$2*C29","v":94927.24},{"$f":"$G$2*D29","v":70524.98000000001},51448.69,41730.61,34030.770000000004,29552.800000000003]
[73,"73",{"$f":"$G$2*C30","v":99606.080000000002},74853.490000000005,54417.22,44134.16,35282.630000000005,30635.59]
[74,"74",{"$f":"$G$2*C31","v":101359.85},79204.260000000009,57400.590000000004,44914.32,35901.14,31179.370000000003]
[75,"75+",{"$f":"$G$2*C32","v":105759.91},83509.98000000001,60354.280000000006,46866.310000000005,37466.230000000003,32534.050000000003]
[1,"1 Child",{"$f":"$G$2*C33","v":3685.6200000000003},2410.9700000000003,1648.8300000000002,1259.28,1221.1200000000001,1062.6500000000001]
[2,"2 Children",{"$f":"$G$2*C34","v":6112.4900000000007},4031.1800000000003,2838.15,2175.12,2108.34,1821.0800000000002]
[3,"3+ Children",{"$f":"$G$2*C35","v":8298.74},5523.13,3941.61,3034.78,2932.4900000000002,2524.3900000000003]
[1,"Rider Comp. Maternidad",{"$f":"$G$2*C36","v":0},{"$f":"+D36*$G$2","v":0},0,119.25,119.25,119.25]
[1,"Transplante de organos",{"$f":"$G$2*C37","v":0},0,0,0,0,0]
[]
[]
[]
[]
[]
["BUPA DIAMOND CARE (LATIN AMERICA)",null,null,null,null,null,null,null,null,null,"ORIGINAL RATES",null,null,null,null,null,"DISCOUNTS APPLIED"]
["TARIFAS ANUALES"]
["EDAD"]
[" "," ","DW1","DW2","DW3","DW4","DW5","DW6"]
[18,"18-24",{"$f":"P82*$V$2","v":24996},{"$f":"Q82*$V$2","v":15396},{"$f":"R82*$V$2","v":10167},6905,4389,3445,null,{"$f":"IF('INGRESO DE DATOS'!$W$13=1,'Tablas Guyanas y Santa Elena'!C79,'Tablas Resto de Ecuador'!C79)","v":24996},{"$f":"IF('INGRESO DE DATOS'!$W$13=1,'Tablas Guyanas y Santa Elena'!D79,'Tablas Resto de Ecuador'!D79)","v":15396},{"$f":"IF('INGRESO DE DATOS'!$W$13=1,'Tablas Guyanas y Santa Elena'!E79,'Tablas Resto de Ecuador'!E79)","v":10167},{"$f":"IF('INGRESO DE DATOS'!$W$13=1,'Tablas Guyanas y Santa Elena'!F79,'Tablas Resto de Ecuador'!F79)","v":6905},{"$f":"IF('INGRESO DE DATOS'!$W$13=1,'Tablas Guyanas y Santa Elena'!G79,'Tablas Resto de Ecuador'!G79)","v":4389},{"$f":"IF('INGRESO DE DATOS'!$W$13=1,'Tablas Guyanas y Santa Elena'!H79,'Tablas Resto de Ecuador'!H79)","v":3445},{"$f":"(J82-50)*$L$2+50","v":24996},{"$f":"(K82-50)*$L$2+50","v":15396},{"$f":"(L82-50)*$L$2+50","v":10167},{"$f":"(M82-50)*$L$2+50","v":6905},{"$f":"(N82-50)*$L$2+50","v":4389},{"$f":"(O82-50)*$L$2+50","v":3445}]
[25,"25-29",{"$f":"P83*$V$2","v":26219},{"$f":"Q83*$V$2","v":16147},{"$f":"R83*$V$2","v":11248},{"$f":"S83*$V$2","v":7657},{"$f":"T83*$V$2","v":4872},{"$f":"U83*$V$2","v":3833},null,{"$f":"IF('INGRESO DE DATOS'!$W$13=1,'Tablas Guyanas y Santa Elena'!C80,'Tablas Resto de Ecuador'!C80)","v":26219},{"$f":"IF('INGRESO DE DATOS'!$W$13=1,'Tablas Guyanas y Santa Elena'!D80,'Tablas Resto de Ecuador'!D80)","v":16147},{"$f":"IF('INGRESO DE DATOS'!$W$13=1,'Tablas Guyanas y Santa Elena'!E80,'Tablas Resto de Ecuador'!E80)","v":11248},{"$f":"IF('INGRESO DE DATOS'!$W$13=1,'Tablas Guyanas y Santa Elena'!F80,'Tablas Resto de Ecuador'!F80)","v":7657},{"$f":"IF('INGRESO DE DATOS'!$W$13=1,'Tablas Guyanas y Santa Elena'!G80,'Tablas Resto de Ecuador'!G80)","v":4872},{"$f":"IF('INGRESO DE DATOS'!$W$13=1,'Tablas Guyanas y Santa Elena'!H80,'Tablas Resto de Ecuador'!H80)","v":3833},{"$f":"(J83-50)*$L$2+50","v":26219},{"$f":"(K83-50)*$L$2+50","v":16147},11248,7657,4872,3833]
[30,"30-34",27114,16816,12058,8593,5843,4597,null,{"$f":"IF('INGRESO DE DATOS'!$W$13=1,'Tablas Guyanas y Santa Elena'!C81,'Tablas Resto de Ecuador'!C81)","v":27114},{"$f":"IF('INGRESO DE DATOS'!$W$13=1,'Tablas Guyanas y Santa Elena'!D81,'Tablas Resto de Ecuador'!D81)","v":16816},{"$f":"IF('INGRESO DE DATOS'!$W$13=1,'Tablas Guyanas y Santa Elena'!E81,'Tablas Resto de Ecuador'!E81)","v":12058},{"$f":"IF('INGRESO DE DATOS'!$W$13=1,'Tablas Guyanas y Santa Elena'!F81,'Tablas Resto de Ecuador'!F81)","v":8593},{"$f":"IF('INGRESO DE DATOS'!$W$13=1,'Tablas Guyanas y Santa Elena'!G81,'Tablas Resto de Ecuador'!G81)","v":5843},{"$f":"IF('INGRESO DE DATOS'!$W$13=1,'Tablas Guyanas y Santa Elena'!H81,'Tablas Resto de Ecuador'!H81)","v":4597},27114,16816,12058,8593,5843,4597]
[35,"35-39",30321,18821,13510,9612,6545,5154,null,{"$f":"IF('INGRESO DE DATOS'!$W$13=1,'Tablas Guyanas y Santa Elena'!C82,'Tablas Resto de Ecuador'!C82)","v":30321},{"$f":"IF('INGRESO DE DATOS'!$W$13=1,'Tablas Guyanas y Santa Elena'!D82,'Tablas Resto de Ecuador'!D82)","v":18821},{"$f":"IF('INGRESO DE DATOS'!$W$13=1,'Tablas Guyanas y Santa Elena'!E82,'Tablas Resto de Ecuador'!E82)","v":13510},{"$f":"IF('INGRESO DE DATOS'!$W$13=1,'Tablas Guyanas y Santa Elena'!F82,'Tablas Resto de Ecuador'!F82)","v":9612},{"$f":"IF('INGRESO DE DATOS'!$W$13=1,'Tablas Guyanas y Santa Elena'!G82,'Tablas Resto de Ecuador'!G82)","v":6545},{"$f":"IF('INGRESO DE DATOS'!$W$13=1,'Tablas Guyanas y Santa Elena'!H82,'Tablas Resto de Ecuador'!H82)","v":5154},30321,18821,13510,9612,6545,5154]
[40,"40-44",35108,21822,14763,10682,7195,5674,null,{"$f":"IF('INGRESO DE DATOS'!$W$13=1,'Tablas Guyanas y Santa Elena'!C83,'Tablas Resto de Ecuador'!C83)","v":35108},{"$f":"IF('INGRESO DE DATOS'!$W$13=1,'Tablas Guyanas y Santa Elena'!D83,'Tablas Resto de Ecuador'!D83)","v":21822},{"$f":"IF('INGRESO DE DATOS'!$W$13=1,'Tablas Guyanas y Santa Elena'!E83,'Tablas Resto de Ecuador'!E83)","v":14763},{"$f":"IF('INGRESO DE DATOS'!$W$13=1,'Tablas Guyanas y Santa Elena'!F83,'Tablas Resto de Ecuador'!F83)","v":10682},{"$f":"IF('INGRESO DE DATOS'!$W$13=1,'Tablas Guyanas y Santa Elena'!G83,'Tablas Resto de Ecuador'!G83)","v":7195},{"$f":"IF('INGRESO DE DATOS'!$W$13=1,'Tablas Guyanas y Santa Elena'!H83,'Tablas Resto de Ecuador'!H83)","v":5674},35108,21822,14763,10682,7195,5674]
[45,"45-49",39199,24405,16520,11952,8049,6340,null,{"$f":"IF('INGRESO DE DATOS'!$W$13=1,'Tablas Guyanas y Santa Elena'!C84,'Tablas Resto de Ecuador'!C84)","v":39199},{"$f":"IF('INGRESO DE DATOS'!$W$13=1,'Tablas Guyanas y Santa Elena'!D84,'Tablas Resto de Ecuador'!D84)","v":24405},{"$f":"IF('INGRESO DE DATOS'!$W$13=1,'Tablas Guyanas y Santa Elena'!E84,'Tablas Resto de Ecuador'!E84)","v":16520},{"$f":"IF('INGRESO DE DATOS'!$W$13=1,'Tablas Guyanas y Santa Elena'!F84,'Tablas Resto de Ecuador'!F84)","v":11952},{"$f":"IF('INGRESO DE DATOS'!$W$13=1,'Tablas Guyanas y Santa Elena'!G84,'Tablas Resto de Ecuador'!G84)","v":8049},{"$f":"IF('INGRESO DE DATOS'!$W$13=1,'Tablas Guyanas y Santa Elena'!H84,'Tablas Resto de Ecuador'!H84)","v":6340},39199,24405,16520,11952,8049,6340]
[50,"50-54",50951,31243,21680,15595,11380,8974,null,{"$f":"IF('INGRESO DE DATOS'!$W$13=1,'Tablas Guyanas y Santa Elena'!C85,'Tablas Resto de Ecuador'!C85)","v":50951},{"$f":"IF('INGRESO DE DATOS'!$W$13=1,'Tablas Guyanas y Santa Elena'!D85,'Tablas Resto de Ecuador'!D85)","v":31243},{"$f":"IF('INGRESO DE DATOS'!$W$13=1,'Tablas Guyanas y Santa Elena'!E85,'Tablas Resto de Ecuador'!E85)","v":21680},{"$f":"IF('INGRESO DE DATOS'!$W$13=1,'Tablas Guyanas y Santa Elena'!F85,'Tablas Resto de Ecuador'!F85)","v":15595},{"$f":"IF('INGRESO DE DATOS'!$W$13=1,'Tablas Guyanas y Santa Elena'!G85,'Tablas Resto de Ecuador'!G85)","v":11380},{"$f":"IF('INGRESO DE DATOS'!$W$13=1,'Tablas Guyanas y Santa Elena'!H85,'Tablas Resto de Ecuador'!H85)","v":8974},50951,31243,21680,15595,11380,8974]
[55,"55-59",54196,33229,23079,16579,12111,9551,null,{"$f":"IF('INGRESO DE DATOS'!$W$13=1,'Tablas Guyanas y Santa Elena'!C86,'Tablas Resto de Ecuador'!C86)","v":54196},{"$f":"IF('INGRESO DE DATOS'!$W$13=1,'Tablas Guyanas y Santa Elena'!D86,'Tablas Resto de Ecuador'!D86)","v":33229},{"$f":"IF('INGRESO DE DATOS'!$W$13=1,'Tablas Guyanas y Santa Elena'!E86,'Tablas Resto de Ecuador'!E86)","v":23079},{"$f":"IF('INGRESO DE DATOS'!$W$13=1,'Tablas Guyanas y Santa Elena'!F86,'Tablas Resto de Ecuador'!F86)","v":16579},{"$f":"IF('INGRESO DE DATOS'!$W$13=1,'Tablas Guyanas y Santa Elena'!G86,'Tablas Resto de Ecuador'!G86)","v":12111},{"$f":"IF('INGRESO DE DATOS'!$W$13=1,'Tablas Guyanas y Santa Elena'!H86,'Tablas Resto de Ecuador'!H86)","v":9551},54196,33229,23079,16579,12111,9551]
[60,"60",57649,36207,25175,19075,14600,11866,null,{"$f":"IF('INGRESO DE DATOS'!$W$13=1,'Tablas Guyanas y Santa Elena'!C87,'Tablas Resto de Ecuador'!C87)","v":57649},{"$f":"IF('INGRESO DE DATOS'!$W$13=1,'Tablas Guyanas y Santa Elena'!D87,'Tablas Resto de Ecuador'!D87)","v":36207},{"$f":"IF('INGRESO DE DATOS'!$W$13=1,'Tablas Guyanas y Santa Elena'!E87,'Tablas Resto de Ecuador'!E87)","v":25175},{"$f":"IF('INGRESO DE DATOS'!$W$13=1,'Tablas Guyanas y Santa Elena'!F87,'Tablas Resto de Ecuador'!F87)","v":19075},{"$f":"IF('INGRESO DE DATOS'!$W$13=1,'Tablas Guyanas y Santa Elena'!G87,'Tablas Resto de Ecuador'!G87)","v":14600},{"$f":"IF('INGRESO DE DATOS'!$W$13=1,'Tablas Guyanas y Santa Elena'!H87,'Tablas Resto de Ecuador'!H87)","v":11866},57649,36207,25175,19075,14600,11866]
[61,"61",61922,38912,27048,20487,15690,12738,null,{"$f":"IF('INGRESO DE DATOS'!$W$13=1,'Tablas Guyanas y Santa Elena'!C88,'Tablas Resto de Ecuador'!C88)","v":61922},{"$f":"IF('INGRESO DE DATOS'!$W$13=1,'Tablas Guyanas y Santa Elena'!D88,'Tablas Resto de Ecuador'!D88)","v":38912},{"$f":"IF('INGRESO DE DATOS'!$W$13=1,'Tablas Guyanas y Santa Elena'!E88,'Tablas Resto de Ecuador'!E88)","v":27048},{"$f":"IF('INGRESO DE DATOS'!$W$13=1,'Tablas Guyanas y Santa Elena'!F88,'Tablas Resto de Ecuador'!F88)","v":20487},{"$f":"IF('INGRESO DE DATOS'!$W$13=1,'Tablas Guyanas y Santa Elena'!G88,'Tablas Resto de Ecuador'!G88)","v":15690},{"$f":"IF('INGRESO DE DATOS'!$W$13=1,'Tablas Guyanas y Santa Elena'!H88,'Tablas Resto de Ecuador'!H88)","v":12738},61922,38912,27048,20487,15690,12738]
[62,"62",67740,42608,29635,22453,17179,13951,null,{"$f":"IF('INGRESO DE DATOS'!$W$13=1,'Tablas Guyanas y Santa Elena'!C89,'Tablas Resto de Ecuador'!C89)","v":67740},{"$f":"IF('INGRESO DE DATOS'!$W$13=1,'Tablas Guyanas y Santa Elena'!D89,'Tablas Resto de Ecuador'!D89)","v":42608},{"$f":"IF('INGRESO DE DATOS'!$W$13=1,'Tablas Guyanas y Santa Elena'!E89,'Tablas Resto de Ecuador'!E89)","v":29635},{"$f":"IF('INGRESO DE DATOS'!$W$13=1,'Tablas Guyanas y Santa Elena'!F89,'Tablas Resto de Ecuador'!F89)","v":22453},{"$f":"IF('INGRESO DE DATOS'!$W$13=1,'Tablas Guyanas y Santa Elena'!G89,'Tablas Resto de Ecuador'!G89)","v":17179},{"$f":"IF('INGRESO DE DATOS'!$W$13=1,'Tablas Guyanas y Santa Elena'!H89,'Tablas Resto de Ecuador'!H89)","v":13951},67740,42608,29635,22453,17179,13951]
[63,"63",72008,45294,31503,23865,18266,14840,null,{"$f":"IF('INGRESO DE DATOS'!$W$13=1,'Tablas Guyanas y Santa Elena'!C90,'Tablas Resto de Ecuador'!C90)","v":72008},{"$f":"IF('INGRESO DE DATOS'!$W$13=1,'Tablas Guyanas y Santa Elena'!D90,'Tablas Resto de Ecuador'!D90)","v":45294},{"$f":"IF('INGRESO DE DATOS'!$W$13=1,'Tablas Guyanas y Santa Elena'!E90,'Tablas Resto de Ecuador'!E90)","v":31503},{"$f":"IF('INGRESO DE DATOS'!$W$13=1,'Tablas Guyanas y Santa Elena'!F90,'Tablas Resto de Ecuador'!F90)","v":23865},{"$f":"IF('INGRESO DE DATOS'!$W$13=1,'Tablas Guyanas y Santa Elena'!G90,'Tablas Resto de Ecuador'!G90)","v":18266},{"$f":"IF('INGRESO DE DATOS'!$W$13=1,'Tablas Guyanas y Santa Elena'!H90,'Tablas Resto de Ecuador'!H90)","v":14840},72008,45294,31503,23865,18266,14840]
[64,"64",77878,48988,34098,25826,19748,16065,null,{"$f":"IF('INGRESO DE DATOS'!$W$13=1,'Tablas Guyanas y Santa Elena'!C91,'Tablas Resto de Ecuador'!C91)","v":77878},{"$f":"IF('INGRESO DE DATOS'!$W$13=1,'Tablas Guyanas y Santa Elena'!D91,'Tablas Resto de Ecuador'!D91)","v":48988},{"$f":"IF('INGRESO DE DATOS'!$W$13=1,'Tablas Guyanas y Santa Elena'!E91,'Tablas Resto de Ecuador'!E91)","v":34098},{"$f":"IF('INGRESO DE DATOS'!$W$13=1,'Tablas Guyanas y Santa Elena'!F91,'Tablas Resto de Ecuador'!F91)","v":25826},{"$f":"IF('INGRESO DE DATOS'!$W$13=1,'Tablas Guyanas y Santa Elena'!G91,'Tablas Resto de Ecuador'!G91)","v":19748},{"$f":"IF('INGRESO DE DATOS'!$W$13=1,'Tablas Guyanas y Santa Elena'!H91,'Tablas Resto de Ecuador'!H91)","v":16065},77878,48988,34098,25826,19748,16065]
[65,"65",81599,64067,44479,32656,26361,22677,null,{"$f":"IF('INGRESO DE DATOS'!$W$13=1,'Tablas Guyanas y Santa Elena'!C92,'Tablas Resto de Ecuador'!C92)","v":81599},{"$f":"IF('INGRESO DE DATOS'!$W$13=1,'Tablas Guyanas y Santa Elena'!D92,'Tablas Resto de Ecuador'!D92)","v":64067},{"$f":"IF('INGRESO DE DATOS'!$W$13=1,'Tablas Guyanas y Santa Elena'!E92,'Tablas Resto de Ecuador'!E92)","v":44479},{"$f":"IF('INGRESO DE DATOS'!$W$13=1,'Tablas Guyanas y Santa Elena'!F92,'Tablas Resto de Ecuador'!F92)","v":32656},{"$f":"IF('INGRESO DE DATOS'!$W$13=1,'Tablas Guyanas y Santa Elena'!G92,'Tablas Resto de Ecuador'!G92)","v":26361},{"$f":"IF('INGRESO DE DATOS'!$W$13=1,'Tablas Guyanas y Santa Elena'!H92,'Tablas Resto de Ecuador'!H92)","v":22677},81599,64067,44479,32656,26361,22677]
[66,"66",85312,74428,51674,37949,30638,26334,null,{"$f":"IF('INGRESO DE DATOS'!$W$13=1,'Tablas Guyanas y Santa Elena'!C93,'Tablas Resto de Ecuador'!C93)","v":85312},{"$f":"IF('INGRESO DE DATOS'!$W$13=1,'Tablas Guyanas y Santa Elena'!D93,'Tablas Resto de Ecuador'!D93)","v":74428},{"$f":"IF('INGRESO DE DATOS'!$W$13=1,'Tablas Guyanas y Santa Elena'!E93,'Tablas Resto de Ecuador'!E93)","v":51674},{"$f":"IF('INGRESO DE DATOS'!$W$13=1,'Tablas Guyanas y Santa Elena'!F93,'Tablas Resto de Ecuador'!F93)","v":37949},{"$f":"IF('INGRESO DE DATOS'!$W$13=1,'Tablas Guyanas y Santa Elena'!G93,'Tablas Resto de Ecuador'!G93)","v":30638},{"$f":"IF('INGRESO DE DATOS'!$W$13=1,'Tablas Guyanas y Santa Elena'!H93,'Tablas Resto de Ecuador'!H93)","v":26334},85312,74428,51674,37949,30638,26334]
[67,"67",93155,81308,56449,41456,33455,28776,null,{"$f":"IF('INGRESO DE DATOS'!$W$13=1,'Tablas Guyanas y Santa Elena'!C94,'Tablas Resto de Ecuador'!C94)","v":93155},{"$f":"IF('INGRESO DE DATOS'!$W$13=1,'Tablas Guyanas y Santa Elena'!D94,'Tablas Resto de Ecuador'!D94)","v":81308},{"$f":"IF('INGRESO DE DATOS'!$W$13=1,'Tablas Guyanas y Santa Elena'!E94,'Tablas Resto de Ecuador'!E94)","v":56449},{"$f":"IF('INGRESO DE DATOS'!$W$13=1,'Tablas Guyanas y Santa Elena'!F94,'Tablas Resto de Ecuador'!F94)","v":41456},{"$f":"IF('INGRESO DE DATOS'!$W$13=1,'Tablas Guyanas y Santa Elena'!G94,'Tablas Resto de Ecuador'!G94)","v":33455},{"$f":"IF('INGRESO DE DATOS'!$W$13=1,'Tablas Guyanas y Santa Elena'!H94,'Tablas Resto de Ecuador'!H94)","v":28776},93155,81308,56449,41456,33455,28776]
[68,"68",103126,90031,62492,45911,37059,31862,null,{"$f":"IF('INGRESO DE DATOS'!$W$13=1,'Tablas Guyanas y Santa Elena'!C95,'Tablas Resto de Ecuador'!C95)","v":103126},{"$f":"IF('INGRESO DE DATOS'!$W$13=1,'Tablas Guyanas y Santa Elena'!D95,'Tablas Resto de Ecuador'!D95)","v":90031},{"$f":"IF('INGRESO DE DATOS'!$W$13=1,'Tablas Guyanas y Santa Elena'!E95,'Tablas Resto de Ecuador'!E95)","v":62492},{"$f":"IF('INGRESO DE DATOS'!$W$13=1,'Tablas Guyanas y Santa Elena'!F95,'Tablas Resto de Ecuador'!F95)","v":45911},{"$f":"IF('INGRESO DE DATOS'!$W$13=1,'Tablas Guyanas y Santa Elena'!G95,'Tablas Resto de Ecuador'!G95)","v":37059},{"$f":"IF('INGRESO DE DATOS'!$W$13=1,'Tablas Guyanas y Santa Elena'!H95,'Tablas Resto de Ecuador'!H95)","v":31862},103126,90031,62492,45911,37059,31862]
[69,"69",113437,99057,68777,50510,40772,35058,null,{"$f":"IF('INGRESO DE DATOS'!$W$13=1,'Tablas Guyanas y Santa Elena'!C96,'Tablas Resto de Ecuador'!C96)","v":113437},{"$f":"IF('INGRESO DE DATOS'!$W$13=1,'Tablas Guyanas y Santa Elena'!D96,'Tablas Resto de Ecuador'!D96)","v":99057},{"$f":"IF('INGRESO DE DATOS'!$W$13=1,'Tablas Guyanas y Santa Elena'!E96,'Tablas Resto de Ecuador'!E96)","v":68777},{"$f":"IF('INGRESO DE DATOS'!$W$13=1,'Tablas Guyanas y Santa Elena'!F96,'Tablas Resto de Ecuador'!F96)","v":50510},{"$f":"IF('INGRESO DE DATOS'!$W$13=1,'Tablas Guyanas y Santa Elena'!G96,'Tablas Resto de Ecuador'!G96)","v":40772},{"$f":"IF('INGRESO DE DATOS'!$W$13=1,'Tablas Guyanas y Santa Elena'!H96,'Tablas Resto de Ecuador'!H96)","v":35058},113437,99057,68777,50510,40772,35058]
[70,"70",134235,121916,83740,59461,47513,41236,null,{"$f":"IF('INGRESO DE DATOS'!$W$13=1,'Tablas Guyanas y Santa Elena'!C97,'Tablas Resto de Ecuador'!C97)","v":134235},{"$f":"IF('INGRESO DE DATOS'!$W$13=1,'Tablas Guyanas y Santa Elena'!D97,'Tablas Resto de Ecuador'!D97)","v":121916},{"$f":"IF('INGRESO DE DATOS'!$W$13=1,'Tablas Guyanas y Santa Elena'!E97,'Tablas Resto de Ecuador'!E97)","v":83740},{"$f":"IF('INGRESO DE DATOS'!$W$13=1,'Tablas Guyanas y Santa Elena'!F97,'Tablas Resto de Ecuador'!F97)","v":59461},{"$f":"IF('INGRESO DE DATOS'!$W$13=1,'Tablas Guyanas y Santa Elena'!G97,'Tablas Resto de Ecuador'!G97)","v":47513},{"$f":"IF('INGRESO DE DATOS'!$W$13=1,'Tablas Guyanas y Santa Elena'!H97,'Tablas Resto de Ecuador'!H97)","v":41236},134235,121916,83740,59461,47513,41236]
[71,"71",139510,126706,87018,61799,49374,42874,null,{"$f":"IF('INGRESO DE DATOS'!$W$13=1,'Tablas Guyanas y Santa Elena'!C98,'Tablas Resto de Ecuador'!C98)","v":139510},{"$f":"IF('INGRESO DE DATOS'!$W$13=1,'Tablas Guyanas y Santa Elena'!D98,'Tablas Resto de Ecuador'!D98)","v":126706},{"$f":"IF('INGRESO DE DATOS'!$W$13=1,'Tablas Guyanas y Santa Elena'!E98,'Tablas Resto de Ecuador'!E98)","v":87018},{"$f":"IF('INGRESO DE DATOS'!$W$13=1,'Tablas Guyanas y Santa Elena'!F98,'Tablas Resto de Ecuador'!F98)","v":61799},{"$f":"IF('INGRESO DE DATOS'!$W$13=1,'Tablas Guyanas y Santa Elena'!G98,'Tablas Resto de Ecuador'!G98)","v":49374},{"$f":"IF('INGRESO DE DATOS'!$W$13=1,'Tablas Guyanas y Santa Elena'!H98,'Tablas Resto de Ecuador'!H98)","v":42874},139510,126706,87018,61799,49374,42874]
[72,"72",143438,130289,89486,63545,50778,44067,null,{"$f":"IF('INGRESO DE DATOS'!$W$13=1,'Tablas Guyanas y Santa Elena'!C99,'Tablas Resto de Ecuador'!C99)","v":143438},{"$f":"IF('INGRESO DE DATOS'!$W$13=1,'Tablas Guyanas y Santa Elena'!D99,'Tablas Resto de Ecuador'!D99)","v":130289},{"$f":"IF('INGRESO DE DATOS'!$W$13=1,'Tablas Guyanas y Santa Elena'!E99,'Tablas Resto de Ecuador'!E99)","v":89486},{"$f":"IF('INGRESO DE DATOS'!$W$13=1,'Tablas Guyanas y Santa Elena'!F99,'Tablas Resto de Ecuador'!F99)","v":63545},{"$f":"IF('INGRESO DE DATOS'!$W$13=1,'Tablas Guyanas y Santa Elena'!G99,'Tablas Resto de Ecuador'!G99)","v":50778},{"$f":"IF('INGRESO DE DATOS'!$W$13=1,'Tablas Guyanas y Santa Elena'!H99,'Tablas Resto de Ecuador'!H99)","v":44067},143438,130289,89486,63545,50778,44067]
[73,"73",148713,135087,92769,65884,52642,45703,null,{"$f":"IF('INGRESO DE DATOS'!$W$13=1,'Tablas Guyanas y Santa Elena'!C100,'Tablas Resto de Ecuador'!C100)","v":148713},{"$f":"IF('INGRESO DE DATOS'!$W$13=1,'Tablas Guyanas y Santa Elena'!D100,'Tablas Resto de Ecuador'!D100)","v":135087},{"$f":"IF('INGRESO DE DATOS'!$W$13=1,'Tablas Guyanas y Santa Elena'!E100,'Tablas Resto de Ecuador'!E100)","v":92769},{"$f":"IF('INGRESO DE DATOS'!$W$13=1,'Tablas Guyanas y Santa Elena'!F100,'Tablas Resto de Ecuador'!F100)","v":65884},{"$f":"IF('INGRESO DE DATOS'!$W$13=1,'Tablas Guyanas y Santa Elena'!G100,'Tablas Resto de Ecuador'!G100)","v":52642},{"$f":"IF('INGRESO DE DATOS'!$W$13=1,'Tablas Guyanas y Santa Elena'!H100,'Tablas Resto de Ecuador'!H100)","v":45703},148713,135087,92769,65884,52642,45703]
[74,"74",151323,137464,94423,67034,53581,46504,null,{"$f":"IF('INGRESO DE DATOS'!$W$13=1,'Tablas Guyanas y Santa Elena'!C101,'Tablas Resto de Ecuador'!C101)","v":151323},{"$f":"IF('INGRESO DE DATOS'!$W$13=1,'Tablas Guyanas y Santa Elena'!D101,'Tablas Resto de Ecuador'!D101)","v":137464},{"$f":"IF('INGRESO DE DATOS'!$W$13=1,'Tablas Guyanas y Santa Elena'!E101,'Tablas Resto de Ecuador'!E101)","v":94423},{"$f":"IF('INGRESO DE DATOS'!$W$13=1,'Tablas Guyanas y Santa Elena'!F101,'Tablas Resto de Ecuador'!F101)","v":67034},{"$f":"IF('INGRESO DE DATOS'!$W$13=1,'Tablas Guyanas y Santa Elena'!G101,'Tablas Resto de Ecuador'!G101)","v":53581},{"$f":"IF('INGRESO DE DATOS'!$W$13=1,'Tablas Guyanas y Santa Elena'!H101,'Tablas Resto de Ecuador'!H101)","v":46504},151323,137464,94423,67034,53581,46504]
[75,"75+",157905,143449,98525,69971,55906,48547,null,{"$f":"IF('INGRESO DE DATOS'!$W$13=1,'Tablas Guyanas y Santa Elena'!C102,'Tablas Resto de Ecuador'!C102)","v":157905},{"$f":"IF('INGRESO DE DATOS'!$W$13=1,'Tablas Guyanas y Santa Elena'!D102,'Tablas Resto de Ecuador'!D102)","v":143449},{"$f":"IF('INGRESO DE DATOS'!$W$13=1,'Tablas Guyanas y Santa Elena'!E102,'Tablas Resto de Ecuador'!E102)","v":98525},{"$f":"IF('INGRESO DE DATOS'!$W$13=1,'Tablas Guyanas y Santa Elena'!F102,'Tablas Resto de Ecuador'!F102)","v":69971},{"$f":"IF('INGRESO DE DATOS'!$W$13=1,'Tablas Guyanas y Santa Elena'!G102,'Tablas Resto de Ecuador'!G102)","v":55906},{"$f":"IF('INGRESO DE DATOS'!$W$13=1,'Tablas Guyanas y Santa Elena'!H102,'Tablas Resto de Ecuador'!H102)","v":48547},157905,143449,98525,69971,55906,48547]
[1,"1 Child",8667,5361,3957,3097,2327,1829,null,{"$f":"IF('INGRESO DE DATOS'!$W$13=1,'Tablas Guyanas y Santa Elena'!C103,'Tablas Resto de Ecuador'!C103)","v":8667},{"$f":"IF('INGRESO DE DATOS'!$W$13=1,'Tablas Guyanas y Santa Elena'!D103,'Tablas Resto de Ecuador'!D103)","v":5361},{"$f":"IF('INGRESO DE DATOS'!$W$13=1,'Tablas Guyanas y Santa Elena'!E103,'Tablas Resto de Ecuador'!E103)","v":3957},{"$f":"IF('INGRESO DE DATOS'!$W$13=1,'Tablas Guyanas y Santa Elena'!F103,'Tablas Resto de Ecuador'!F103)","v":3097},{"$f":"IF('INGRESO DE DATOS'!$W$13=1,'Tablas Guyanas y Santa Elena'!G103,'Tablas Resto de Ecuador'!G103)","v":2327},{"$f":"IF('INGRESO DE DATOS'!$W$13=1,'Tablas Guyanas y Santa Elena'!H103,'Tablas Resto de Ecuador'!H103)","v":1829},{"$f":"(J106)*$L$2","v":8667},{"$f":"(K106)*$L$2","v":5361},3957,3097,2327,1829]
[2,"2 Children",13601,8526,6286,4930,3717,2898,null,{"$f":"IF('INGRESO DE DATOS'!$W$13=1,'Tablas Guyanas y Santa Elena'!C104,'Tablas Resto de Ecuador'!C104)","v":13601},{"$f":"IF('INGRESO DE DATOS'!$W$13=1,'Tablas Guyanas y Santa Elena'!D104,'Tablas Resto de Ecuador'!D104)","v":8526},{"$f":"IF('INGRESO DE DATOS'!$W$13=1,'Tablas Guyanas y Santa Elena'!E104,'Tablas Resto de Ecuador'!E104)","v":6286},{"$f":"IF('INGRESO DE DATOS'!$W$13=1,'Tablas Guyanas y Santa Elena'!F104,'Tablas Resto de Ecuador'!F104)","v":4930},{"$f":"IF('INGRESO DE DATOS'!$W$13=1,'Tablas Guyanas y Santa Elena'!G104,'Tablas Resto de Ecuador'!G104)","v":3717},{"$f":"IF('INGRESO DE DATOS'!$W$13=1,'Tablas Guyanas y Santa Elena'!H104,'Tablas Resto de Ecuador'!H104)","v":2898},{"$f":"(J107)*$L$2","v":13601},{"$f":"(K107)*$L$2","v":8526},{"$f":"(L107)*$L$2","v":6286},{"$f":"(M107)*$L$2","v":4930},{"$f":"(N107)*$L$2","v":3717},{"$f":"(O107)*$L$2","v":2898}]
[3,"3+ Children",19806,12487,9214,7224,5451,4245,null,{"$f":"IF('INGRESO DE DATOS'!$W$13=1,'Tablas Guyanas y Santa Elena'!C105,'Tablas Resto de Ecuador'!C105)","v":19806},{"$f":"IF('INGRESO DE DATOS'!$W$13=1,'Tablas Guyanas y Santa Elena'!D105,'Tablas Resto de Ecuador'!D105)","v":12487},{"$f":"IF('INGRESO DE DATOS'!$W$13=1,'Tablas Guyanas y Santa Elena'!E105,'Tablas Resto de Ecuador'!E105)","v":9214},{"$f":"IF('INGRESO DE DATOS'!$W$13=1,'Tablas Guyanas y Santa Elena'!F105,'Tablas Resto de Ecuador'!F105)","v":7224},{"$f":"IF('INGRESO DE DATOS'!$W$13=1,'Tablas Guyanas y Santa Elena'!G105,'Tablas Resto de Ecuador'!G105)","v":5451},{"$f":"IF('INGRESO DE DATOS'!$W$13=1,'Tablas Guyanas y Santa Elena'!H105,'Tablas Resto de Ecuador'!H105)","v":4245},19806,12487,9214,7224,5451,4245]
[1,"Rider Comp. Maternidad",{"$f":"J109*$V$2","v":0},{"$f":"K109*$V$2","v":0},{"$f":"L109*$V$2","v":0},225,225,225,null,{"$f":"IF('INGRESO DE DATOS'!$W$13=1,'Tablas Guyanas y Santa Elena'!C106,'Tablas Resto de Ecuador'!C106)","v":0},0,0,225,225,225]
[1,"Transplante de organos",{"$f":"J110*$V$2","v":0},{"$f":"K110*$V$2","v":0},{"$f":"L110*$V$2","v":0},{"$f":"M110*$V$2","v":0},{"$f":"N110*$V$2","v":0},{"$f":"O110*$V$2","v":0},null,{"$f":"IF('INGRESO DE DATOS'!$W$13=1,'Tablas Guyanas y Santa Elena'!C107,'Tablas Resto de Ecuador'!C107)","v":0},0,0,0,0,0]
[null,null,0,0,0,0,0,0,null,{"$f":"IF('INGRESO DE DATOS'!$W$13=1,'Tablas Guyanas y Santa Elena'!C108,'Tablas Resto de Ecuador'!C108)","v":0}]
[]
[]
["TARIFAS SEMESTRALES "]
["EDAD"]
[" "," ","DW1","DW2","DW3","DW4","DW5","DW6"]
[18,"18-24",{"$f":"$G$2*C82","v":13247.880000000001},8159.88,5388.51,3659.65,2326.17,1825.8500000000001]
[25,"25-29",{"$f":"$G$2*C83","v":13896.070000000002},{"$f":"$G$2*D83","v":8557.91},5961.4400000000005,4058.21,2582.1600000000003,2031.49]
[30,"30-34",{"$f":"$G$2*C84","v":14370.42},{"$f":"$G$2*D84","v":8912.48},6390.7400000000007,4554.29,3096.79,2436.4100000000003]
[35,"35-39",{"$f":"$G$2*C85","v":16070.130000000001},{"$f":"$G$2*D85","v":9975.130000000001},7160.3,5094.3600000000006,3468.8500000000004,2731.6200000000003]
[40,"40-44",{"$f":"$G$2*C86","v":18607.240000000002},{"$f":"$G$2*D86","v":11565.66},7824.39,5661.46,3813.3500000000004,3007.2200000000003]
[45,"45-49",{"$f":"$G$2*C87","v":20775.47},{"$f":"$G$2*D87","v":12934.650000000001},8755.6,6334.56,4265.97,3360.2000000000003]
[50,"50-54",{"$f":"$G$2*C88","v":27004.030000000002},{"$f":"$G$2*D88","v":16558.79},11490.400000000001,8265.35,6031.4000000000005,4756.22]
[55,"55-59",{"$f":"$G$2*C89","v":28723.88},{"$f":"$G$2*D89","v":17611.370000000003},12231.87,8786.8700000000008,6418.83,5062.0300000000007]
[60,"60",{"$f":"$G$2*C90","v":30553.97},{"$f":"$G$2*D90","v":19189.710000000003},13342.75,10109.75,7738,6288.9800000000005]
[61,"61",{"$f":"$G$2*C91","v":32818.660000000003},{"$f":"$G$2*D91","v":20623.36},14335.44,10858.11,8315.7000000000007,6751.14]
[62,"62",{"$f":"$G$2*C92","v":35902.200000000004},{"$f":"$G$2*D92","v":22582.240000000002},15706.550000000001,11900.09,9104.8700000000008,7394.0300000000007]
[63,"63",{"$f":"$G$2*C93","v":38164.240000000005},{"$f":"$G$2*D93","v":24005.82},16696.59,12648.45,9680.9800000000014,7865.2000000000007]
[64,"64",{"$f":"$G$2*C94","v":41275.340000000004},{"$f":"$G$2*D94","v":25963.640000000003},18071.940000000002,13687.78,10466.44,8514.4500000000007]
[65,"65",{"$f":"$G$2*C95","v":43247.47},{"$f":"$G$2*D95","v":33955.51},23573.870000000003,17307.68,13971.33,12018.810000000001]
[66,"66",{"$f":"$G$2*C96","v":45215.360000000001},{"$f":"$G$2*D96","v":39446.840000000004},27387.22,20112.97,16238.140000000001,13957.02]
[67,"67",{"$f":"$G$2*C97","v":49372.15},{"$f":"$G$2*D97","v":43093.240000000005},29917.97,21971.68,17731.150000000001,15251.28]
[68,"68",{"$f":"$G$2*C98","v":54656.780000000006},{"$f":"$G$2*D98","v":47716.43},33120.76,24332.83,19641.27,16886.86]
[69,"69",{"$f":"$G$2*C99","v":60121.61},{"$f":"$G$2*D99","v":52500.21},36451.810000000005,26770.300000000003,21609.16,18580.740000000002]
[70,"70",{"$f":"$G$2*C100","v":71144.55},{"$f":"$G$2*D100","v":64615.48},44382.200000000004,31514.33,25181.890000000003,21855.08]
[71,"71",{"$f":"$G$2*C101","v":73940.3},{"$f":"$G$2*D101","v":67154.180000000008},46119.54,32753.47,26168.22,22723.22]
[72,"72",{"$f":"$G$2*C102","v":76022.14},{"$f":"$G$2*D102","v":69053.17},47427.58,33678.85,26912.34,23355.510000000002]
[73,"73",{"$f":"$G$2*C103","v":78817.89},{"$f":"$G$2*D103","v":71596.11},49167.57,34918.520000000004,27900.260000000002,24222.59]
[74,"74",{"$f":"$G$2*C104","v":80201.19},{"$f":"$G$2*D104","v":72855.92},50044.19,35528.020000000004,28397.93,24647.120000000003]
[75,"75+",{"$f":"$G$2*C105","v":83689.650000000009},{"$f":"$G$2*D105","v":76027.97},52218.25,37084.630000000005,29630.18,25729.91]
[1,"1 Child",{"$f":"$G$2*C106","v":4593.51},{"$f":"$G$2*D106","v":2841.33},2097.21,1641.41,1233.3100000000002,969.37]
[2,"2 Children",{"$f":"$G$2*C107","v":7208.5300000000007},{"$f":"$G$2*D107","v":4518.7800000000007},3331.5800000000004,2612.9,1970.01,1535.94]
[3,"3+ Children",{"$f":"$G$2*C108","v":10497.18},{"$f":"$G$2*D108","v":6618.1100000000006},4883.42,3828.7200000000003,2889.03,2249.85]
[1,"Rider Comp. Maternidad",{"$f":"$G$2*C109","v":0},{"$f":"+D109*$G$2","v":0},0,119.25,119.25,119.25]
[1,"Transplante de organos",{"$f":"$G$2*C110","v":0},{"$f":"+D110*$G$2","v":0},0,0,0,0]
[]
[]
[]
[]
[]
["DIAMOND (LATINAMERICA ONLY)"]
["TARIFAS ANUALES"]
["EDAD"]
[" "," ","DL1","DL2","DL3","DL4","DL5","DL6"]
[18,"-  24"]
[25,"-  29"]
[30,"-  34"]
[35,"-  39"]
[40,"-  44"]
[45,"-  49"]
[50,"-  54"]
[55,"-  59"]
[60]
[61]
[62]
[63]
[64]
[65]
[66]
[67]
[68]
[69]
[70]
[71]
[72]
[73]
[74]
[75,"o más"]
[1,"Hijo"]
[2,"Hijos"]
[3,"Hijos o más"]
[1,"Rider Comp. Maternidad"]
[1,"Transplante de organos",0,0,0,0,0,0]
[]
["TARIFAS SEMESTRALES "]
["EDAD"]
[" "," ","DL1","DL2","DL3","DL4","DL5","DL6"]
[18,"-  24",{"$f":"+C155*$G$2","v":0},0,0,0,0,0]
[25,"-  29",0,0,0,0,0,0]
[30,"-  34",0,0,0,0,0,0]
[35,"-  39",0,0,0,0,0,0]
[40,"-  44",0,0,0,0,0,0]
[45,"-  49",0,0,0,0,0,0]
[50,"-  54",0,0,0,0,0,0]
[55,"-  59",0,0,0,0,0,0]
[60,null,0,0,0,0,0,0]
[61,null,0,0,0,0,0,0]
[62,null,{"$f":"+C165*$G$2","v":0},0,0,0,0,0]
[63,null,0,0,0,0,0,0]
[64,null,0,0,0,0,0,0]
[65,null,0,0,0,0,0,0]
[66,null,0,0,0,0,0,0]
[67,null,0,0,0,0,0,0]
[68,null,0,0,0,0,0,0]
[69,null,0,0,0,0,0,0]
[70,null,0,0,0,0,0,0]
[71,null,0,0,0,0,0,0]
[72,null,{"$f":"+C175*$G$2","v":0},0,0,0,0,0]
[73,null,0,0,0,0,0,0]
[74,null,0,0,0,0,0,0]
[75,"o más",0,0,0,0,0,0]
[1,"Hijo",0,0,0,0,0,0]
[2,"Hijos",0,0,0,0,0,0]
[3,"Hijos o más",0,0,0,0,0,0]
[1,"Rider Comp. Maternidad",0,0,0,0,0,0]
[1,"Transplante de organos",0,0,0,0,0,0]
[]
[]
[]
[]
["BUPA COMPLETE CARE (MUNDIAL)"]
["TARIFAS ANUALES"]
["EDAD"]
[" "," ","CW1","CW2","CW3","CW4","CW5","CW6"]
[18,"18-24",{"$f":"P225*$V$2","v":27050},{"$f":"Q225*$V$2","v":14057},{"$f":"R225*$V$2","v":8171},4544,3906,3788,null,{"$f":"IF('INGRESO DE DATOS'!$W$13=1,'Tablas Guyanas y Santa Elena'!C188,'Tablas Resto de Ecuador'!C188)","v":27050},{"$f":"IF('INGRESO DE DATOS'!$W$13=1,'Tablas Guyanas y Santa Elena'!D188,'Tablas Resto de Ecuador'!D188)","v":14057},{"$f":"IF('INGRESO DE DATOS'!$W$13=1,'Tablas Guyanas y Santa Elena'!E188,'Tablas Resto de Ecuador'!E188)","v":8171},{"$f":"IF('INGRESO DE DATOS'!$W$13=1,'Tablas Guyanas y Santa Elena'!F188,'Tablas Resto de Ecuador'!F188)","v":4544},{"$f":"IF('INGRESO DE DATOS'!$W$13=1,'Tablas Guyanas y Santa Elena'!G188,'Tablas Resto de Ecuador'!G188)","v":3906},{"$f":"IF('INGRESO DE DATOS'!$W$13=1,'Tablas Guyanas y Santa Elena'!H188,'Tablas Resto de Ecuador'!H188)","v":3788},{"$f":"(J225-50)*$M$2+50","v":27050},{"$f":"(K225-50)*$M$2+50","v":14057},{"$f":"(L225-50)*$M$2+50","v":8171},4544,3906,3788]
[25,"25-29",{"$f":"P226*$V$2","v":28437},{"$f":"Q226*$V$2","v":16092},{"$f":"R226*$V$2","v":10410},{"$f":"S226*$V$2","v":6345},{"$f":"T226*$V$2","v":5236},{"$f":"U226*$V$2","v":4194},null,{"$f":"IF('INGRESO DE DATOS'!$W$13=1,'Tablas Guyanas y Santa Elena'!C189,'Tablas Resto de Ecuador'!C189)","v":28437},{"$f":"IF('INGRESO DE DATOS'!$W$13=1,'Tablas Guyanas y Santa Elena'!D189,'Tablas Resto de Ecuador'!D189)","v":16092},{"$f":"IF('INGRESO DE DATOS'!$W$13=1,'Tablas Guyanas y Santa Elena'!E189,'Tablas Resto de Ecuador'!E189)","v":10410},{"$f":"IF('INGRESO DE DATOS'!$W$13=1,'Tablas Guyanas y Santa Elena'!F189,'Tablas Resto de Ecuador'!F189)","v":6345},{"$f":"IF('INGRESO DE DATOS'!$W$13=1,'Tablas Guyanas y Santa Elena'!G189,'Tablas Resto de Ecuador'!G189)","v":5236},{"$f":"IF('INGRESO DE DATOS'!$W$13=1,'Tablas Guyanas y Santa Elena'!H189,'Tablas Resto de Ecuador'!H189)","v":4194},{"$f":"(J226-50)*$M$2+50","v":28437},{"$f":"(K226-50)*$M$2+50","v":16092},{"$f":"(L226-50)*$M$2+50","v":10410},{"$f":"(M226-50)*$M$2+50","v":6345},{"$f":"(N226-50)*$M$2+50","v":5236},{"$f":"(O226-50)*$M$2+50","v":4194}]
[30,"30-34",29659,18091,12650,8146,6567,5051,null,{"$f":"IF('INGRESO DE DATOS'!$W$13=1,'Tablas Guyanas y Santa Elena'!C190,'Tablas Resto de Ecuador'!C190)","v":29659},{"$f":"IF('INGRESO DE DATOS'!$W$13=1,'Tablas Guyanas y Santa Elena'!D190,'Tablas Resto de Ecuador'!D190)","v":18091},{"$f":"IF('INGRESO DE DATOS'!$W$13=1,'Tablas Guyanas y Santa Elena'!E190,'Tablas Resto de Ecuador'!E190)","v":12650},{"$f":"IF('INGRESO DE DATOS'!$W$13=1,'Tablas Guyanas y Santa Elena'!F190,'Tablas Resto de Ecuador'!F190)","v":8146},{"$f":"IF('INGRESO DE DATOS'!$W$13=1,'Tablas Guyanas y Santa Elena'!G190,'Tablas Resto de Ecuador'!G190)","v":6567},{"$f":"IF('INGRESO DE DATOS'!$W$13=1,'Tablas Guyanas y Santa Elena'!H190,'Tablas Resto de Ecuador'!H190)","v":5051},29659,18091,12650,8146,6567,5051]
[35,"35-39",33144,20099,14889,9947,7376,5651,null,{"$f":"IF('INGRESO DE DATOS'!$W$13=1,'Tablas Guyanas y Santa Elena'!C191,'Tablas Resto de Ecuador'!C191)","v":33144},{"$f":"IF('INGRESO DE DATOS'!$W$13=1,'Tablas Guyanas y Santa Elena'!D191,'Tablas Resto de Ecuador'!D191)","v":20099},{"$f":"IF('INGRESO DE DATOS'!$W$13=1,'Tablas Guyanas y Santa Elena'!E191,'Tablas Resto de Ecuador'!E191)","v":14889},{"$f":"IF('INGRESO DE DATOS'!$W$13=1,'Tablas Guyanas y Santa Elena'!F191,'Tablas Resto de Ecuador'!F191)","v":9947},{"$f":"IF('INGRESO DE DATOS'!$W$13=1,'Tablas Guyanas y Santa Elena'!G191,'Tablas Resto de Ecuador'!G191)","v":7376},{"$f":"IF('INGRESO DE DATOS'!$W$13=1,'Tablas Guyanas y Santa Elena'!H191,'Tablas Resto de Ecuador'!H191)","v":5651},33144,20099,14889,9947,7376,5651]
[40,"40-44",34710,22374,16493,10237,8016,6222,null,{"$f":"IF('INGRESO DE DATOS'!$W$13=1,'Tablas Guyanas y Santa Elena'!C192,'Tablas Resto de Ecuador'!C192)","v":34710},{"$f":"IF('INGRESO DE DATOS'!$W$13=1,'Tablas Guyanas y Santa Elena'!D192,'Tablas Resto de Ecuador'!D192)","v":22374},{"$f":"IF('INGRESO DE DATOS'!$W$13=1,'Tablas Guyanas y Santa Elena'!E192,'Tablas Resto de Ecuador'!E192)","v":16493},{"$f":"IF('INGRESO DE DATOS'!$W$13=1,'Tablas Guyanas y Santa Elena'!F192,'Tablas Resto de Ecuador'!F192)","v":10237},{"$f":"IF('INGRESO DE DATOS'!$W$13=1,'Tablas Guyanas y Santa Elena'!G192,'Tablas Resto de Ecuador'!G192)","v":8016},{"$f":"IF('INGRESO DE DATOS'!$W$13=1,'Tablas Guyanas y Santa Elena'!H192,'Tablas Resto de Ecuador'!H192)","v":6222},34710,22374,16493,10237,8016,6222]
[45,"45-49",36759,25728,18415,13293,9056,6948,null,{"$f":"IF('INGRESO DE DATOS'!$W$13=1,'Tablas Guyanas y Santa Elena'!C193,'Tablas Resto de Ecuador'!C193)","v":36759},{"$f":"IF('INGRESO DE DATOS'!$W$13=1,'Tablas Guyanas y Santa Elena'!D193,'Tablas Resto de Ecuador'!D193)","v":25728},{"$f":"IF('INGRESO DE DATOS'!$W$13=1,'Tablas Guyanas y Santa Elena'!E193,'Tablas Resto de Ecuador'!E193)","v":18415},{"$f":"IF('INGRESO DE DATOS'!$W$13=1,'Tablas Guyanas y Santa Elena'!F193,'Tablas Resto de Ecuador'!F193)","v":13293},{"$f":"IF('INGRESO DE DATOS'!$W$13=1,'Tablas Guyanas y Santa Elena'!G193,'Tablas Resto de Ecuador'!G193)","v":9056},{"$f":"IF('INGRESO DE DATOS'!$W$13=1,'Tablas Guyanas y Santa Elena'!H193,'Tablas Resto de Ecuador'!H193)","v":6948},36759,25728,18415,13293,9056,6948]
[50,"50-54",45153,32016,24257,17406,12884,9872,null,{"$f":"IF('INGRESO DE DATOS'!$W$13=1,'Tablas Guyanas y Santa Elena'!C194,'Tablas Resto de Ecuador'!C194)","v":45153},{"$f":"IF('INGRESO DE DATOS'!$W$13=1,'Tablas Guyanas y Santa Elena'!D194,'Tablas Resto de Ecuador'!D194)","v":32016},{"$f":"IF('INGRESO DE DATOS'!$W$13=1,'Tablas Guyanas y Santa Elena'!E194,'Tablas Resto de Ecuador'!E194)","v":24257},{"$f":"IF('INGRESO DE DATOS'!$W$13=1,'Tablas Guyanas y Santa Elena'!F194,'Tablas Resto de Ecuador'!F194)","v":17406},{"$f":"IF('INGRESO DE DATOS'!$W$13=1,'Tablas Guyanas y Santa Elena'!G194,'Tablas Resto de Ecuador'!G194)","v":12884},{"$f":"IF('INGRESO DE DATOS'!$W$13=1,'Tablas Guyanas y Santa Elena'!H194,'Tablas Resto de Ecuador'!H194)","v":9872},45153,32016,24257,17406,12884,9872]
[55,"55-59",54031,36315,25800,18518,13696,10501,null,{"$f":"IF('INGRESO DE DATOS'!$W$13=1,'Tablas Guyanas y Santa Elena'!C195,'Tablas Resto de Ecuador'!C195)","v":54031},{"$f":"IF('INGRESO DE DATOS'!$W$13=1,'Tablas Guyanas y Santa Elena'!D195,'Tablas Resto de Ecuador'!D195)","v":36315},{"$f":"IF('INGRESO DE DATOS'!$W$13=1,'Tablas Guyanas y Santa Elena'!E195,'Tablas Resto de Ecuador'!E195)","v":25800},{"$f":"IF('INGRESO DE DATOS'!$W$13=1,'Tablas Guyanas y Santa Elena'!F195,'Tablas Resto de Ecuador'!F195)","v":18518},{"$f":"IF('INGRESO DE DATOS'!$W$13=1,'Tablas Guyanas y Santa Elena'!G195,'Tablas Resto de Ecuador'!G195)","v":13696},{"$f":"IF('INGRESO DE DATOS'!$W$13=1,'Tablas Guyanas y Santa Elena'!H195,'Tablas Resto de Ecuador'!H195)","v":10501},54031,36315,25800,18518,13696,10501]
[60,"60",62344,39530,28017,21055,16281,13084,null,{"$f":"IF('INGRESO DE DATOS'!$W$13=1,'Tablas Guyanas y Santa Elena'!C196,'Tablas Resto de Ecuador'!C196)","v":62344},{"$f":"IF('INGRESO DE DATOS'!$W$13=1,'Tablas Guyanas y Santa Elena'!D196,'Tablas Resto de Ecuador'!D196)","v":39530},{"$f":"IF('INGRESO DE DATOS'!$W$13=1,'Tablas Guyanas y Santa Elena'!E196,'Tablas Resto de Ecuador'!E196)","v":28017},{"$f":"IF('INGRESO DE DATOS'!$W$13=1,'Tablas Guyanas y Santa Elena'!F196,'Tablas Resto de Ecuador'!F196)","v":21055},{"$f":"IF('INGRESO DE DATOS'!$W$13=1,'Tablas Guyanas y Santa Elena'!G196,'Tablas Resto de Ecuador'!G196)","v":16281},{"$f":"IF('INGRESO DE DATOS'!$W$13=1,'Tablas Guyanas y Santa Elena'!H196,'Tablas Resto de Ecuador'!H196)","v":13084},62344,39530,28017,21055,16281,13084]
[61,"61",66951,42466,30077,22607,17478,14056,null,{"$f":"IF('INGRESO DE DATOS'!$W$13=1,'Tablas Guyanas y Santa Elena'!C197,'Tablas Resto de Ecuador'!C197)","v":66951},{"$f":"IF('INGRESO DE DATOS'!$W$13=1,'Tablas Guyanas y Santa Elena'!D197,'Tablas Resto de Ecuador'!D197)","v":42466},{"$f":"IF('INGRESO DE DATOS'!$W$13=1,'Tablas Guyanas y Santa Elena'!E197,'Tablas Resto de Ecuador'!E197)","v":30077},{"$f":"IF('INGRESO DE DATOS'!$W$13=1,'Tablas Guyanas y Santa Elena'!F197,'Tablas Resto de Ecuador'!F197)","v":22607},{"$f":"IF('INGRESO DE DATOS'!$W$13=1,'Tablas Guyanas y Santa Elena'!G197,'Tablas Resto de Ecuador'!G197)","v":17478},{"$f":"IF('INGRESO DE DATOS'!$W$13=1,'Tablas Guyanas y Santa Elena'!H197,'Tablas Resto de Ecuador'!H197)","v":14056},66951,42466,30077,22607,17478,14056]
[62,"62",73243,46475,32930,24755,19125,15382,null,{"$f":"IF('INGRESO DE DATOS'!$W$13=1,'Tablas Guyanas y Santa Elena'!C198,'Tablas Resto de Ecuador'!C198)","v":73243},{"$f":"IF('INGRESO DE DATOS'!$W$13=1,'Tablas Guyanas y Santa Elena'!D198,'Tablas Resto de Ecuador'!D198)","v":46475},{"$f":"IF('INGRESO DE DATOS'!$W$13=1,'Tablas Guyanas y Santa Elena'!E198,'Tablas Resto de Ecuador'!E198)","v":32930},{"$f":"IF('INGRESO DE DATOS'!$W$13=1,'Tablas Guyanas y Santa Elena'!F198,'Tablas Resto de Ecuador'!F198)","v":24755},{"$f":"IF('INGRESO DE DATOS'!$W$13=1,'Tablas Guyanas y Santa Elena'!G198,'Tablas Resto de Ecuador'!G198)","v":19125},{"$f":"IF('INGRESO DE DATOS'!$W$13=1,'Tablas Guyanas y Santa Elena'!H198,'Tablas Resto de Ecuador'!H198)","v":15382},73243,46475,32930,24755,19125,15382]
[63,"63",77835,49411,35000,26302,20330,16340,null,{"$f":"IF('INGRESO DE DATOS'!$W$13=1,'Tablas Guyanas y Santa Elena'!C199,'Tablas Resto de Ecuador'!C199)","v":77835},{"$f":"IF('INGRESO DE DATOS'!$W$13=1,'Tablas Guyanas y Santa Elena'!D199,'Tablas Resto de Ecuador'!D199)","v":49411},{"$f":"IF('INGRESO DE DATOS'!$W$13=1,'Tablas Guyanas y Santa Elena'!E199,'Tablas Resto de Ecuador'!E199)","v":35000},{"$f":"IF('INGRESO DE DATOS'!$W$13=1,'Tablas Guyanas y Santa Elena'!F199,'Tablas Resto de Ecuador'!F199)","v":26302},{"$f":"IF('INGRESO DE DATOS'!$W$13=1,'Tablas Guyanas y Santa Elena'!G199,'Tablas Resto de Ecuador'!G199)","v":20330},{"$f":"IF('INGRESO DE DATOS'!$W$13=1,'Tablas Guyanas y Santa Elena'!H199,'Tablas Resto de Ecuador'!H199)","v":16340},77835,49411,35000,26302,20330,16340]
[64,"64",84163,53432,37856,28445,21978,17681,null,{"$f":"IF('INGRESO DE DATOS'!$W$13=1,'Tablas Guyanas y Santa Elena'!C200,'Tablas Resto de Ecuador'!C200)","v":84163},{"$f":"IF('INGRESO DE DATOS'!$W$13=1,'Tablas Guyanas y Santa Elena'!D200,'Tablas Resto de Ecuador'!D200)","v":53432},{"$f":"IF('INGRESO DE DATOS'!$W$13=1,'Tablas Guyanas y Santa Elena'!E200,'Tablas Resto de Ecuador'!E200)","v":37856},{"$f":"IF('INGRESO DE DATOS'!$W$13=1,'Tablas Guyanas y Santa Elena'!F200,'Tablas Resto de Ecuador'!F200)","v":28445},{"$f":"IF('INGRESO DE DATOS'!$W$13=1,'Tablas Guyanas y Santa Elena'!G200,'Tablas Resto de Ecuador'!G200)","v":21978},{"$f":"IF('INGRESO DE DATOS'!$W$13=1,'Tablas Guyanas y Santa Elena'!H200,'Tablas Resto de Ecuador'!H200)","v":17681},84163,53432,37856,28445,21978,17681]
[65,"65",88173,65223,49342,35937,29268,24360,null,{"$f":"IF('INGRESO DE DATOS'!$W$13=1,'Tablas Guyanas y Santa Elena'!C201,'Tablas Resto de Ecuador'!C201)","v":88173},{"$f":"IF('INGRESO DE DATOS'!$W$13=1,'Tablas Guyanas y Santa Elena'!D201,'Tablas Resto de Ecuador'!D201)","v":65223},{"$f":"IF('INGRESO DE DATOS'!$W$13=1,'Tablas Guyanas y Santa Elena'!E201,'Tablas Resto de Ecuador'!E201)","v":49342},{"$f":"IF('INGRESO DE DATOS'!$W$13=1,'Tablas Guyanas y Santa Elena'!F201,'Tablas Resto de Ecuador'!F201)","v":35937},{"$f":"IF('INGRESO DE DATOS'!$W$13=1,'Tablas Guyanas y Santa Elena'!G201,'Tablas Resto de Ecuador'!G201)","v":29268},{"$f":"IF('INGRESO DE DATOS'!$W$13=1,'Tablas Guyanas y Santa Elena'!H201,'Tablas Resto de Ecuador'!H201)","v":24360},88173,65223,49342,35937,29268,24360]
[66,"66",92185,68914,57316,41731,34001,25902,null,{"$f":"IF('INGRESO DE DATOS'!$W$13=1,'Tablas Guyanas y Santa Elena'!C202,'Tablas Resto de Ecuador'!C202)","v":92185},{"$f":"IF('INGRESO DE DATOS'!$W$13=1,'Tablas Guyanas y Santa Elena'!D202,'Tablas Resto de Ecuador'!D202)","v":68914},{"$f":"IF('INGRESO DE DATOS'!$W$13=1,'Tablas Guyanas y Santa Elena'!E202,'Tablas Resto de Ecuador'!E202)","v":57316},{"$f":"IF('INGRESO DE DATOS'!$W$13=1,'Tablas Guyanas y Santa Elena'!F202,'Tablas Resto de Ecuador'!F202)","v":41731},{"$f":"IF('INGRESO DE DATOS'!$W$13=1,'Tablas Guyanas y Santa Elena'!G202,'Tablas Resto de Ecuador'!G202)","v":34001},{"$f":"IF('INGRESO DE DATOS'!$W$13=1,'Tablas Guyanas y Santa Elena'!H202,'Tablas Resto de Ecuador'!H202)","v":25902},92185,68914,57316,41731,34001,25902]
[67,"67",100634,72663,61463,45572,37126,27497,null,{"$f":"IF('INGRESO DE DATOS'!$W$13=1,'Tablas Guyanas y Santa Elena'!C203,'Tablas Resto de Ecuador'!C203)","v":100634},{"$f":"IF('INGRESO DE DATOS'!$W$13=1,'Tablas Guyanas y Santa Elena'!D203,'Tablas Resto de Ecuador'!D203)","v":72663},{"$f":"IF('INGRESO DE DATOS'!$W$13=1,'Tablas Guyanas y Santa Elena'!E203,'Tablas Resto de Ecuador'!E203)","v":61463},{"$f":"IF('INGRESO DE DATOS'!$W$13=1,'Tablas Guyanas y Santa Elena'!F203,'Tablas Resto de Ecuador'!F203)","v":45572},{"$f":"IF('INGRESO DE DATOS'!$W$13=1,'Tablas Guyanas y Santa Elena'!G203,'Tablas Resto de Ecuador'!G203)","v":37126},{"$f":"IF('INGRESO DE DATOS'!$W$13=1,'Tablas Guyanas y Santa Elena'!H203,'Tablas Resto de Ecuador'!H203)","v":27497},100634,72663,61463,45572,37126,27497]
[68,"68",108965,76955,65104,50399,40486,29321,null,{"$f":"IF('INGRESO DE DATOS'!$W$13=1,'Tablas Guyanas y Santa Elena'!C204,'Tablas Resto de Ecuador'!C204)","v":108965},{"$f":"IF('INGRESO DE DATOS'!$W$13=1,'Tablas Guyanas y Santa Elena'!D204,'Tablas Resto de Ecuador'!D204)","v":76955},{"$f":"IF('INGRESO DE DATOS'!$W$13=1,'Tablas Guyanas y Santa Elena'!E204,'Tablas Resto de Ecuador'!E204)","v":65104},{"$f":"IF('INGRESO DE DATOS'!$W$13=1,'Tablas Guyanas y Santa Elena'!F204,'Tablas Resto de Ecuador'!F204)","v":50399},{"$f":"IF('INGRESO DE DATOS'!$W$13=1,'Tablas Guyanas y Santa Elena'!G204,'Tablas Resto de Ecuador'!G204)","v":40486},{"$f":"IF('INGRESO DE DATOS'!$W$13=1,'Tablas Guyanas y Santa Elena'!H204,'Tablas Resto de Ecuador'!H204)","v":29321},108965,76955,65104,50399,40486,29321]
[69,"69",117982,82272,69347,53817,42529,31553,null,{"$f":"IF('INGRESO DE DATOS'!$W$13=1,'Tablas Guyanas y Santa Elena'!C205,'Tablas Resto de Ecuador'!C205)","v":117982},{"$f":"IF('INGRESO DE DATOS'!$W$13=1,'Tablas Guyanas y Santa Elena'!D205,'Tablas Resto de Ecuador'!D205)","v":82272},{"$f":"IF('INGRESO DE DATOS'!$W$13=1,'Tablas Guyanas y Santa Elena'!E205,'Tablas Resto de Ecuador'!E205)","v":69347},{"$f":"IF('INGRESO DE DATOS'!$W$13=1,'Tablas Guyanas y Santa Elena'!F205,'Tablas Resto de Ecuador'!F205)","v":53817},{"$f":"IF('INGRESO DE DATOS'!$W$13=1,'Tablas Guyanas y Santa Elena'!G205,'Tablas Resto de Ecuador'!G205)","v":42529},{"$f":"IF('INGRESO DE DATOS'!$W$13=1,'Tablas Guyanas y Santa Elena'!H205,'Tablas Resto de Ecuador'!H205)","v":31553},117982,82272,69347,53817,42529,31553]
[70,"70",129166,89096,74454,57830,45376,34370,null,{"$f":"IF('INGRESO DE DATOS'!$W$13=1,'Tablas Guyanas y Santa Elena'!C206,'Tablas Resto de Ecuador'!C206)","v":129166},{"$f":"IF('INGRESO DE DATOS'!$W$13=1,'Tablas Guyanas y Santa Elena'!D206,'Tablas Resto de Ecuador'!D206)","v":89096},{"$f":"IF('INGRESO DE DATOS'!$W$13=1,'Tablas Guyanas y Santa Elena'!E206,'Tablas Resto de Ecuador'!E206)","v":74454},{"$f":"IF('INGRESO DE DATOS'!$W$13=1,'Tablas Guyanas y Santa Elena'!F206,'Tablas Resto de Ecuador'!F206)","v":57830},{"$f":"IF('INGRESO DE DATOS'!$W$13=1,'Tablas Guyanas y Santa Elena'!G206,'Tablas Resto de Ecuador'!G206)","v":45376},{"$f":"IF('INGRESO DE DATOS'!$W$13=1,'Tablas Guyanas y Santa Elena'!H206,'Tablas Resto de Ecuador'!H206)","v":34370},129166,89096,74454,57830,45376,34370]
[71,"71",143229,97902,80702,62633,49253,37958,null,{"$f":"IF('INGRESO DE DATOS'!$W$13=1,'Tablas Guyanas y Santa Elena'!C207,'Tablas Resto de Ecuador'!C207)","v":143229},{"$f":"IF('INGRESO DE DATOS'!$W$13=1,'Tablas Guyanas y Santa Elena'!D207,'Tablas Resto de Ecuador'!D207)","v":97902},{"$f":"IF('INGRESO DE DATOS'!$W$13=1,'Tablas Guyanas y Santa Elena'!E207,'Tablas Resto de Ecuador'!E207)","v":80702},{"$f":"IF('INGRESO DE DATOS'!$W$13=1,'Tablas Guyanas y Santa Elena'!F207,'Tablas Resto de Ecuador'!F207)","v":62633},{"$f":"IF('INGRESO DE DATOS'!$W$13=1,'Tablas Guyanas y Santa Elena'!G207,'Tablas Resto de Ecuador'!G207)","v":49253},{"$f":"IF('INGRESO DE DATOS'!$W$13=1,'Tablas Guyanas y Santa Elena'!H207,'Tablas Resto de Ecuador'!H207)","v":37958},143229,97902,80702,62633,49253,37958]
[72,"72",154846,108368,87914,68109,53920,42199,null,{"$f":"IF('INGRESO DE DATOS'!$W$13=1,'Tablas Guyanas y Santa Elena'!C208,'Tablas Resto de Ecuador'!C208)","v":154846},{"$f":"IF('INGRESO DE DATOS'!$W$13=1,'Tablas Guyanas y Santa Elena'!D208,'Tablas Resto de Ecuador'!D208)","v":108368},{"$f":"IF('INGRESO DE DATOS'!$W$13=1,'Tablas Guyanas y Santa Elena'!E208,'Tablas Resto de Ecuador'!E208)","v":87914},{"$f":"IF('INGRESO DE DATOS'!$W$13=1,'Tablas Guyanas y Santa Elena'!F208,'Tablas Resto de Ecuador'!F208)","v":68109},{"$f":"IF('INGRESO DE DATOS'!$W$13=1,'Tablas Guyanas y Santa Elena'!G208,'Tablas Resto de Ecuador'!G208)","v":53920},{"$f":"IF('INGRESO DE DATOS'!$W$13=1,'Tablas Guyanas y Santa Elena'!H208,'Tablas Resto de Ecuador'!H208)","v":42199},154846,108368,87914,68109,53920,42199]
[73,"73",160527,119782,95678,72347,58332,46813,null,{"$f":"IF('INGRESO DE DATOS'!$W$13=1,'Tablas Guyanas y Santa Elena'!C209,'Tablas Resto de Ecuador'!C209)","v":160527},{"$f":"IF('INGRESO DE DATOS'!$W$13=1,'Tablas Guyanas y Santa Elena'!D209,'Tablas Resto de Ecuador'!D209)","v":119782},{"$f":"IF('INGRESO DE DATOS'!$W$13=1,'Tablas Guyanas y Santa Elena'!E209,'Tablas Resto de Ecuador'!E209)","v":95678},{"$f":"IF('INGRESO DE DATOS'!$W$13=1,'Tablas Guyanas y Santa Elena'!F209,'Tablas Resto de Ecuador'!F209)","v":72347},{"$f":"IF('INGRESO DE DATOS'!$W$13=1,'Tablas Guyanas y Santa Elena'!G209,'Tablas Resto de Ecuador'!G209)","v":58332},{"$f":"IF('INGRESO DE DATOS'!$W$13=1,'Tablas Guyanas y Santa Elena'!H209,'Tablas Resto de Ecuador'!H209)","v":46813},160527,119782,95678,72347,58332,46813]
[74,"74",163361,131433,103579,73617,59361,50898,null,{"$f":"IF('INGRESO DE DATOS'!$W$13=1,'Tablas Guyanas y Santa Elena'!C210,'Tablas Resto de Ecuador'!C210)","v":163361},{"$f":"IF('INGRESO DE DATOS'!$W$13=1,'Tablas Guyanas y Santa Elena'!D210,'Tablas Resto de Ecuador'!D210)","v":131433},{"$f":"IF('INGRESO DE DATOS'!$W$13=1,'Tablas Guyanas y Santa Elena'!E210,'Tablas Resto de Ecuador'!E210)","v":103579},{"$f":"IF('INGRESO DE DATOS'!$W$13=1,'Tablas Guyanas y Santa Elena'!F210,'Tablas Resto de Ecuador'!F210)","v":73617},{"$f":"IF('INGRESO DE DATOS'!$W$13=1,'Tablas Guyanas y Santa Elena'!G210,'Tablas Resto de Ecuador'!G210)","v":59361},{"$f":"IF('INGRESO DE DATOS'!$W$13=1,'Tablas Guyanas y Santa Elena'!H210,'Tablas Resto de Ecuador'!H210)","v":50898},163361,131433,103579,73617,59361,50898]
[75,"75+",170452,142610,109138,76824,61942,53108,null,{"$f":"IF('INGRESO DE DATOS'!$W$13=1,'Tablas Guyanas y Santa Elena'!C211,'Tablas Resto de Ecuador'!C211)","v":170452},{"$f":"IF('INGRESO DE DATOS'!$W$13=1,'Tablas Guyanas y Santa Elena'!D211,'Tablas Resto de Ecuador'!D211)","v":142610},{"$f":"IF('INGRESO DE DATOS'!$W$13=1,'Tablas Guyanas y Santa Elena'!E211,'Tablas Resto de Ecuador'!E211)","v":109138},{"$f":"IF('INGRESO DE DATOS'!$W$13=1,'Tablas Guyanas y Santa Elena'!F211,'Tablas Resto de Ecuador'!F211)","v":76824},{"$f":"IF('INGRESO DE DATOS'!$W$13=1,'Tablas Guyanas y Santa Elena'!G211,'Tablas Resto de Ecuador'!G211)","v":61942},{"$f":"IF('INGRESO DE DATOS'!$W$13=1,'Tablas Guyanas y Santa Elena'!H211,'Tablas Resto de Ecuador'!H211)","v":53108},170452,142610,109138,76824,61942,53108]
[1,"1 Child",9151,5694,4163,2926,2341,1730,null,{"$f":"IF('INGRESO DE DATOS'!$W$13=1,'Tablas Guyanas y Santa Elena'!C212,'Tablas Resto de Ecuador'!C212)","v":9151},{"$f":"IF('INGRESO DE DATOS'!$W$13=1,'Tablas Guyanas y Santa Elena'!D212,'Tablas Resto de Ecuador'!D212)","v":5694},{"$f":"IF('INGRESO DE DATOS'!$W$13=1,'Tablas Guyanas y Santa Elena'!E212,'Tablas Resto de Ecuador'!E212)","v":4163},{"$f":"IF('INGRESO DE DATOS'!$W$13=1,'Tablas Guyanas y Santa Elena'!F212,'Tablas Resto de Ecuador'!F212)","v":2926},{"$f":"IF('INGRESO DE DATOS'!$W$13=1,'Tablas Guyanas y Santa Elena'!G212,'Tablas Resto de Ecuador'!G212)","v":2341},{"$f":"IF('INGRESO DE DATOS'!$W$13=1,'Tablas Guyanas y Santa Elena'!H212,'Tablas Resto de Ecuador'!H212)","v":1730},{"$f":"(J249)*$M$2","v":9151},{"$f":"(K249)*$M$2","v":5694},4163,2926,2341,1730]
[2,"2 Children",14341,9051,6153,3928,3128,2756,null,{"$f":"IF('INGRESO DE DATOS'!$W$13=1,'Tablas Guyanas y Santa Elena'!C213,'Tablas Resto de Ecuador'!C213)","v":14341},{"$f":"IF('INGRESO DE DATOS'!$W$13=1,'Tablas Guyanas y Santa Elena'!D213,'Tablas Resto de Ecuador'!D213)","v":9051},{"$f":"IF('INGRESO DE DATOS'!$W$13=1,'Tablas Guyanas y Santa Elena'!E213,'Tablas Resto de Ecuador'!E213)","v":6153},{"$f":"IF('INGRESO DE DATOS'!$W$13=1,'Tablas Guyanas y Santa Elena'!F213,'Tablas Resto de Ecuador'!F213)","v":3928},{"$f":"IF('INGRESO DE DATOS'!$W$13=1,'Tablas Guyanas y Santa Elena'!G213,'Tablas Resto de Ecuador'!G213)","v":3128},{"$f":"IF('INGRESO DE DATOS'!$W$13=1,'Tablas Guyanas y Santa Elena'!H213,'Tablas Resto de Ecuador'!H213)","v":2756},{"$f":"(J250)*$M$2","v":14341},{"$f":"(K250)*$M$2","v":9051},{"$f":"(L250)*$M$2","v":6153},{"$f":"(M250)*$M$2","v":3928},{"$f":"(N250)*$M$2","v":3128},{"$f":"(O250)*$M$2","v":2756}]
[3,"3+ Children",20845,11105,7504,4825,3762,3376,null,{"$f":"IF('INGRESO DE DATOS'!$W$13=1,'Tablas Guyanas y Santa Elena'!C214,'Tablas Resto de Ecuador'!C214)","v":20845},{"$f":"IF('INGRESO DE DATOS'!$W$13=1,'Tablas Guyanas y Santa Elena'!D214,'Tablas Resto de Ecuador'!D214)","v":11105},{"$f":"IF('INGRESO DE DATOS'!$W$13=1,'Tablas Guyanas y Santa Elena'!E214,'Tablas Resto de Ecuador'!E214)","v":7504},{"$f":"IF('INGRESO DE DATOS'!$W$13=1,'Tablas Guyanas y Santa Elena'!F214,'Tablas Resto de Ecuador'!F214)","v":4825},{"$f":"IF('INGRESO DE DATOS'!$W$13=1,'Tablas Guyanas y Santa Elena'!G214,'Tablas Resto de Ecuador'!G214)","v":3762},{"$f":"IF('INGRESO DE DATOS'!$W$13=1,'Tablas Guyanas y Santa Elena'!H214,'Tablas Resto de Ecuador'!H214)","v":3376},20845,11105,7504,4825,3762,3376]
[1,"Rider Comp. Maternidad",{"$f":"J252*$V$2","v":0},{"$f":"K252*$V$2","v":0},{"$f":"L252*$V$2","v":0},225,225,225,null,{"$f":"IF('INGRESO DE DATOS'!$W$13=1,'Tablas Guyanas y Santa Elena'!C215,'Tablas Resto de Ecuador'!C215)","v":0},0,0,225,225,225]
[1,"Transplante de organos",{"$f":"J253*$V$2","v":0},{"$f":"K253*$V$2","v":0},{"$f":"L253*$V$2","v":0},{"$f":"M253*$V$2","v":0},{"$f":"N253*$V$2","v":0},{"$f":"O253*$V$2","v":0},null,{"$f":"IF('INGRESO DE DATOS'!$W$13=1,'Tablas Guyanas y Santa Elena'!C216,'Tablas Resto de Ecuador'!C216)","v":0},0,0,0,0,0]
[null,null,0,0,0,0,0,0,null,{"$f":"IF('INGRESO DE DATOS'!$W$13=1,'Tablas Guyanas y Santa Elena'!C217,'Tablas Resto de Ecuador'!C217)","v":0}]
[]
[]
["TARIFAS SEMESTRALES "]
["EDAD"]
[" "," ","CW1","CW2","CW3","CW4","CW5","CW6"]
[18,"18-24",{"$f":"$G$2*C225","v":14336.5},7450.21,4330.63,2408.3200000000002,2070.1800000000003,2007.64]
[25,"25-29",{"$f":"$G$2*C226","v":15071.61},8528.76,5517.3,3362.8500000000004,2775.08,2222.8200000000002]
[30,"30-34",{"$f":"$G$2*C227","v":15719.27},9588.2300000000014,6704.5,4317.38,3480.51,2677.03]
[35,"35-39",{"$f":"$G$2*C228","v":17566.32},10652.470000000001,7891.17,5271.91,3909.28,2995.03]
[40,"40-44",{"$f":"$G$2*C229","v":18396.3},11858.220000000001,8741.2900000000009,5425.6100000000006,4248.4800000000005,3297.6600000000003]
[45,"45-49",{"$f":"$G$2*C230","v":19482.27},13635.84,9759.9500000000007,7045.29,4799.68,3682.44]
[50,"50-54",{"$f":"$G$2*C231","v":23931.09},16968.48,12856.210000000001,9225.18,6828.52,5232.16]
[55,"55-59",{"$f":"$G$2*C232","v":28636.43},19246.95,13674,9814.5400000000009,7258.88,5565.5300000000007]
[60,"60",{"$f":"$G$2*C233","v":33042.32},20950.900000000001,14849.01,11159.150000000001,8628.93,6934.52]
[61,"61",{"$f":"$G$2*C234","v":35484.03},22506.98,15940.810000000001,11981.710000000001,9263.34,7449.68]
[62,"62",{"$f":"$G$2*C235","v":38818.79},{"$f":"$G$2*D235","v":24631.75},17452.900000000001,13120.150000000001,10136.25,8152.46]
[63,"63",{"$f":"$G$2*C236","v":41252.550000000003},26187.83,18550,13940.060000000001,10774.9,8660.2000000000007]
[64,"64",{"$f":"$G$2*C237","v":44606.39},28318.960000000003,20063.68,15075.85,11648.34,9370.93]
[65,"65",{"$f":"$G$2*C238","v":46731.69},34568.19,26151.260000000002,19046.61,15512.04,12910.800000000001]
[66,"66",{"$f":"$G$2*C239","v":48858.05},36524.42,30377.480000000003,22117.43,18020.530000000002,13728.060000000001]
[67,"67",{"$f":"$G$2*C240","v":53336.020000000004},38511.39,32575.390000000003,24153.16,19676.780000000002,14573.41]
[68,"68",{"$f":"$G$2*C241","v":57751.450000000004},40786.15,34505.120000000003,26711.47,21457.58,15540.130000000001]
[69,"69",{"$f":"$G$2*C242","v":62530.460000000006},43604.160000000003,36753.910000000003,28523.010000000002,22540.370000000003,16723.09]
[70,"70",{"$f":"$G$2*C243","v":68457.98000000001},47220.880000000005,39460.620000000003,30649.9,24049.280000000002,18216.100000000002]
[71,"71",{"$f":"$G$2*C244","v":75911.37000000001},51888.060000000005,42772.060000000005,33195.490000000005,26104.09,20117.740000000002]
[72,"72",{"$f":"$G$2*C245","v":82068.38},{"$f":"$G$2*D245","v":57435.040000000001},46594.420000000006,36097.770000000004,28577.600000000002,22365.47]
[73,"73",{"$f":"$G$2*C246","v":85079.31},63484.460000000006,50709.340000000004,38343.910000000003,30915.960000000003,24810.890000000003]
[74,"74",{"$f":"$G$2*C247","v":86581.33},69659.490000000005,54896.87,39017.01,31461.33,26975.940000000002]
[75,"75+",{"$f":"$G$2*C248","v":90339.56},75583.3,57843.14,40716.720000000001,32829.26,28147.24]
[1,"1 Child",{"$f":"$G$2*C249","v":4850.0300000000007},3017.82,2206.3900000000003,1550.78,1240.73,916.90000000000009]
[2,"2 Children",{"$f":"$G$2*C250","v":7600.7300000000005},4797.0300000000007,3261.09,2081.84,1657.8400000000001,1460.68]
[3,"3+ Children",{"$f":"$G$2*C251","v":11047.85},5885.6500000000005,3977.1200000000003,2557.25,1993.8600000000001,1789.2800000000002]
[1,"Rider Comp. Maternidad",{"$f":"$G$2*C252","v":0},{"$f":"+D252*$G$2","v":0},0,119.25,119.25,119.25]
[1,"Transplante de organos",{"$f":"$G$2*C253","v":0},0,0,0,0,0]
[]
[]
[]
["BUPA COMPLETE CARE (LATIN AMERICA)"]
["TARIFAS ANUALES"]
["EDAD"]
[" "," ","CW1","CW2","CW3","CW4","CW5","CW6"]
[18,"18-24",{"$f":"P296*$V$2","v":21331},{"$f":"Q296*$V$2","v":12945},{"$f":"R296*$V$2","v":8891},5998,3802,2889,null,{"$f":"IF('INGRESO DE DATOS'!$W$13=1,'Tablas Guyanas y Santa Elena'!C257,'Tablas Resto de Ecuador'!C257)","v":21331},{"$f":"IF('INGRESO DE DATOS'!$W$13=1,'Tablas Guyanas y Santa Elena'!D257,'Tablas Resto de Ecuador'!D257)","v":12945},{"$f":"IF('INGRESO DE DATOS'!$W$13=1,'Tablas Guyanas y Santa Elena'!E257,'Tablas Resto de Ecuador'!E257)","v":8891},{"$f":"IF('INGRESO DE DATOS'!$W$13=1,'Tablas Guyanas y Santa Elena'!F257,'Tablas Resto de Ecuador'!F257)","v":5998},{"$f":"IF('INGRESO DE DATOS'!$W$13=1,'Tablas Guyanas y Santa Elena'!G257,'Tablas Resto de Ecuador'!G257)","v":3802},{"$f":"IF('INGRESO DE DATOS'!$W$13=1,'Tablas Guyanas y Santa Elena'!H257,'Tablas Resto de Ecuador'!H257)","v":2889},{"$f":"(J296-50)*$M$2+50","v":21331},{"$f":"(K296-50)*$M$2+50","v":12945},{"$f":"(L296-50)*$M$2+50","v":8891},{"$f":"(M296-50)*$M$2+50","v":5998},{"$f":"(N296-50)*$M$2+50","v":3802},{"$f":"(O296-50)*$M$2+50","v":2889}]
[25,"25-29",{"$f":"P297*$V$2","v":22390},{"$f":"Q297*$V$2","v":13594},{"$f":"R297*$V$2","v":9828},{"$f":"S297*$V$2","v":6656},{"$f":"T297*$V$2","v":4211},{"$f":"U297*$V$2","v":3205},null,{"$f":"IF('INGRESO DE DATOS'!$W$13=1,'Tablas Guyanas y Santa Elena'!C258,'Tablas Resto de Ecuador'!C258)","v":22390},{"$f":"IF('INGRESO DE DATOS'!$W$13=1,'Tablas Guyanas y Santa Elena'!D258,'Tablas Resto de Ecuador'!D258)","v":13594},{"$f":"IF('INGRESO DE DATOS'!$W$13=1,'Tablas Guyanas y Santa Elena'!E258,'Tablas Resto de Ecuador'!E258)","v":9828},{"$f":"IF('INGRESO DE DATOS'!$W$13=1,'Tablas Guyanas y Santa Elena'!F258,'Tablas Resto de Ecuador'!F258)","v":6656},{"$f":"IF('INGRESO DE DATOS'!$W$13=1,'Tablas Guyanas y Santa Elena'!G258,'Tablas Resto de Ecuador'!G258)","v":4211},{"$f":"IF('INGRESO DE DATOS'!$W$13=1,'Tablas Guyanas y Santa Elena'!H258,'Tablas Resto de Ecuador'!H258)","v":3205},{"$f":"(J297-50)*$M$2+50","v":22390},{"$f":"(K297-50)*$M$2+50","v":13594},9828,6656,4211,3205]
[30,"30-34",23349,14196,10537,7464,5114,3888,null,{"$f":"IF('INGRESO DE DATOS'!$W$13=1,'Tablas Guyanas y Santa Elena'!C259,'Tablas Resto de Ecuador'!C259)","v":23349},{"$f":"IF('INGRESO DE DATOS'!$W$13=1,'Tablas Guyanas y Santa Elena'!D259,'Tablas Resto de Ecuador'!D259)","v":14196},{"$f":"IF('INGRESO DE DATOS'!$W$13=1,'Tablas Guyanas y Santa Elena'!E259,'Tablas Resto de Ecuador'!E259)","v":10537},{"$f":"IF('INGRESO DE DATOS'!$W$13=1,'Tablas Guyanas y Santa Elena'!F259,'Tablas Resto de Ecuador'!F259)","v":7464},{"$f":"IF('INGRESO DE DATOS'!$W$13=1,'Tablas Guyanas y Santa Elena'!G259,'Tablas Resto de Ecuador'!G259)","v":5114},{"$f":"IF('INGRESO DE DATOS'!$W$13=1,'Tablas Guyanas y Santa Elena'!H259,'Tablas Resto de Ecuador'!H259)","v":3888},23349,14196,10537,7464,5114,3888]
[35,"35-39",26116,15883,11795,8365,5734,4362,null,{"$f":"IF('INGRESO DE DATOS'!$W$13=1,'Tablas Guyanas y Santa Elena'!C260,'Tablas Resto de Ecuador'!C260)","v":26116},{"$f":"IF('INGRESO DE DATOS'!$W$13=1,'Tablas Guyanas y Santa Elena'!D260,'Tablas Resto de Ecuador'!D260)","v":15883},{"$f":"IF('INGRESO DE DATOS'!$W$13=1,'Tablas Guyanas y Santa Elena'!E260,'Tablas Resto de Ecuador'!E260)","v":11795},{"$f":"IF('INGRESO DE DATOS'!$W$13=1,'Tablas Guyanas y Santa Elena'!F260,'Tablas Resto de Ecuador'!F260)","v":8365},{"$f":"IF('INGRESO DE DATOS'!$W$13=1,'Tablas Guyanas y Santa Elena'!G260,'Tablas Resto de Ecuador'!G260)","v":5734},{"$f":"IF('INGRESO DE DATOS'!$W$13=1,'Tablas Guyanas y Santa Elena'!H260,'Tablas Resto de Ecuador'!H260)","v":4362},26116,15883,11795,8365,5734,4362]
[40,"40-44",29589,18401,12936,9311,6322,4815,null,{"$f":"IF('INGRESO DE DATOS'!$W$13=1,'Tablas Guyanas y Santa Elena'!C261,'Tablas Resto de Ecuador'!C261)","v":29589},{"$f":"IF('INGRESO DE DATOS'!$W$13=1,'Tablas Guyanas y Santa Elena'!D261,'Tablas Resto de Ecuador'!D261)","v":18401},{"$f":"IF('INGRESO DE DATOS'!$W$13=1,'Tablas Guyanas y Santa Elena'!E261,'Tablas Resto de Ecuador'!E261)","v":12936},{"$f":"IF('INGRESO DE DATOS'!$W$13=1,'Tablas Guyanas y Santa Elena'!F261,'Tablas Resto de Ecuador'!F261)","v":9311},{"$f":"IF('INGRESO DE DATOS'!$W$13=1,'Tablas Guyanas y Santa Elena'!G261,'Tablas Resto de Ecuador'!G261)","v":6322},{"$f":"IF('INGRESO DE DATOS'!$W$13=1,'Tablas Guyanas y Santa Elena'!H261,'Tablas Resto de Ecuador'!H261)","v":4815},29589,18401,12936,9311,6322,4815]
[45,"45-49",33030,20571,14462,10411,7061,5392,null,{"$f":"IF('INGRESO DE DATOS'!$W$13=1,'Tablas Guyanas y Santa Elena'!C262,'Tablas Resto de Ecuador'!C262)","v":33030},{"$f":"IF('INGRESO DE DATOS'!$W$13=1,'Tablas Guyanas y Santa Elena'!D262,'Tablas Resto de Ecuador'!D262)","v":20571},{"$f":"IF('INGRESO DE DATOS'!$W$13=1,'Tablas Guyanas y Santa Elena'!E262,'Tablas Resto de Ecuador'!E262)","v":14462},{"$f":"IF('INGRESO DE DATOS'!$W$13=1,'Tablas Guyanas y Santa Elena'!F262,'Tablas Resto de Ecuador'!F262)","v":10411},{"$f":"IF('INGRESO DE DATOS'!$W$13=1,'Tablas Guyanas y Santa Elena'!G262,'Tablas Resto de Ecuador'!G262)","v":7061},{"$f":"IF('INGRESO DE DATOS'!$W$13=1,'Tablas Guyanas y Santa Elena'!H262,'Tablas Resto de Ecuador'!H262)","v":5392},33030,20571,14462,10411,7061,5392]
[50,"50-54",43608,26900,19083,13679,10101,7702,null,{"$f":"IF('INGRESO DE DATOS'!$W$13=1,'Tablas Guyanas y Santa Elena'!C263,'Tablas Resto de Ecuador'!C263)","v":43608},{"$f":"IF('INGRESO DE DATOS'!$W$13=1,'Tablas Guyanas y Santa Elena'!D263,'Tablas Resto de Ecuador'!D263)","v":26900},{"$f":"IF('INGRESO DE DATOS'!$W$13=1,'Tablas Guyanas y Santa Elena'!E263,'Tablas Resto de Ecuador'!E263)","v":19083},{"$f":"IF('INGRESO DE DATOS'!$W$13=1,'Tablas Guyanas y Santa Elena'!F263,'Tablas Resto de Ecuador'!F263)","v":13679},{"$f":"IF('INGRESO DE DATOS'!$W$13=1,'Tablas Guyanas y Santa Elena'!G263,'Tablas Resto de Ecuador'!G263)","v":10101},{"$f":"IF('INGRESO DE DATOS'!$W$13=1,'Tablas Guyanas y Santa Elena'!H263,'Tablas Resto de Ecuador'!H263)","v":7702},43608,26900,19083,13679,10101,7702]
[55,"55-59",46379,28630,20301,14546,10744,8196,null,{"$f":"IF('INGRESO DE DATOS'!$W$13=1,'Tablas Guyanas y Santa Elena'!C264,'Tablas Resto de Ecuador'!C264)","v":46379},{"$f":"IF('INGRESO DE DATOS'!$W$13=1,'Tablas Guyanas y Santa Elena'!D264,'Tablas Resto de Ecuador'!D264)","v":28630},{"$f":"IF('INGRESO DE DATOS'!$W$13=1,'Tablas Guyanas y Santa Elena'!E264,'Tablas Resto de Ecuador'!E264)","v":20301},{"$f":"IF('INGRESO DE DATOS'!$W$13=1,'Tablas Guyanas y Santa Elena'!F264,'Tablas Resto de Ecuador'!F264)","v":14546},{"$f":"IF('INGRESO DE DATOS'!$W$13=1,'Tablas Guyanas y Santa Elena'!G264,'Tablas Resto de Ecuador'!G264)","v":10744},{"$f":"IF('INGRESO DE DATOS'!$W$13=1,'Tablas Guyanas y Santa Elena'!H264,'Tablas Resto de Ecuador'!H264)","v":8196},46379,28630,20301,14546,10744,8196]
[60,"60",49233,31173,22048,16572,12783,10255,null,{"$f":"IF('INGRESO DE DATOS'!$W$13=1,'Tablas Guyanas y Santa Elena'!C265,'Tablas Resto de Ecuador'!C265)","v":49233},{"$f":"IF('INGRESO DE DATOS'!$W$13=1,'Tablas Guyanas y Santa Elena'!D265,'Tablas Resto de Ecuador'!D265)","v":31173},{"$f":"IF('INGRESO DE DATOS'!$W$13=1,'Tablas Guyanas y Santa Elena'!E265,'Tablas Resto de Ecuador'!E265)","v":22048},{"$f":"IF('INGRESO DE DATOS'!$W$13=1,'Tablas Guyanas y Santa Elena'!F265,'Tablas Resto de Ecuador'!F265)","v":16572},{"$f":"IF('INGRESO DE DATOS'!$W$13=1,'Tablas Guyanas y Santa Elena'!G265,'Tablas Resto de Ecuador'!G265)","v":12783},{"$f":"IF('INGRESO DE DATOS'!$W$13=1,'Tablas Guyanas y Santa Elena'!H265,'Tablas Resto de Ecuador'!H265)","v":10255},49233,31173,22048,16572,12783,10255]
[61,"61",52871,33494,23690,17796,13732,11023,null,{"$f":"IF('INGRESO DE DATOS'!$W$13=1,'Tablas Guyanas y Santa Elena'!C266,'Tablas Resto de Ecuador'!C266)","v":52871},{"$f":"IF('INGRESO DE DATOS'!$W$13=1,'Tablas Guyanas y Santa Elena'!D266,'Tablas Resto de Ecuador'!D266)","v":33494},{"$f":"IF('INGRESO DE DATOS'!$W$13=1,'Tablas Guyanas y Santa Elena'!E266,'Tablas Resto de Ecuador'!E266)","v":23690},{"$f":"IF('INGRESO DE DATOS'!$W$13=1,'Tablas Guyanas y Santa Elena'!F266,'Tablas Resto de Ecuador'!F266)","v":17796},{"$f":"IF('INGRESO DE DATOS'!$W$13=1,'Tablas Guyanas y Santa Elena'!G266,'Tablas Resto de Ecuador'!G266)","v":13732},{"$f":"IF('INGRESO DE DATOS'!$W$13=1,'Tablas Guyanas y Santa Elena'!H266,'Tablas Resto de Ecuador'!H266)","v":11023},52871,33494,23690,17796,13732,11023]
[62,"62",57856,36663,25948,19487,15039,12063,null,{"$f":"IF('INGRESO DE DATOS'!$W$13=1,'Tablas Guyanas y Santa Elena'!C267,'Tablas Resto de Ecuador'!C267)","v":57856},{"$f":"IF('INGRESO DE DATOS'!$W$13=1,'Tablas Guyanas y Santa Elena'!D267,'Tablas Resto de Ecuador'!D267)","v":36663},{"$f":"IF('INGRESO DE DATOS'!$W$13=1,'Tablas Guyanas y Santa Elena'!E267,'Tablas Resto de Ecuador'!E267)","v":25948},{"$f":"IF('INGRESO DE DATOS'!$W$13=1,'Tablas Guyanas y Santa Elena'!F267,'Tablas Resto de Ecuador'!F267)","v":19487},{"$f":"IF('INGRESO DE DATOS'!$W$13=1,'Tablas Guyanas y Santa Elena'!G267,'Tablas Resto de Ecuador'!G267)","v":15039},{"$f":"IF('INGRESO DE DATOS'!$W$13=1,'Tablas Guyanas y Santa Elena'!H267,'Tablas Resto de Ecuador'!H267)","v":12063},57856,36663,25948,19487,15039,12063]
[63,"63",61487,38983,27592,20719,15992,12832,null,{"$f":"IF('INGRESO DE DATOS'!$W$13=1,'Tablas Guyanas y Santa Elena'!C268,'Tablas Resto de Ecuador'!C268)","v":61487},{"$f":"IF('INGRESO DE DATOS'!$W$13=1,'Tablas Guyanas y Santa Elena'!D268,'Tablas Resto de Ecuador'!D268)","v":38983},{"$f":"IF('INGRESO DE DATOS'!$W$13=1,'Tablas Guyanas y Santa Elena'!E268,'Tablas Resto de Ecuador'!E268)","v":27592},{"$f":"IF('INGRESO DE DATOS'!$W$13=1,'Tablas Guyanas y Santa Elena'!F268,'Tablas Resto de Ecuador'!F268)","v":20719},{"$f":"IF('INGRESO DE DATOS'!$W$13=1,'Tablas Guyanas y Santa Elena'!G268,'Tablas Resto de Ecuador'!G268)","v":15992},{"$f":"IF('INGRESO DE DATOS'!$W$13=1,'Tablas Guyanas y Santa Elena'!H268,'Tablas Resto de Ecuador'!H268)","v":12832},61487,38983,27592,20719,15992,12832]
[64,"64",66489,42171,29849,22421,17300,13892,null,{"$f":"IF('INGRESO DE DATOS'!$W$13=1,'Tablas Guyanas y Santa Elena'!C269,'Tablas Resto de Ecuador'!C269)","v":66489},{"$f":"IF('INGRESO DE DATOS'!$W$13=1,'Tablas Guyanas y Santa Elena'!D269,'Tablas Resto de Ecuador'!D269)","v":42171},{"$f":"IF('INGRESO DE DATOS'!$W$13=1,'Tablas Guyanas y Santa Elena'!E269,'Tablas Resto de Ecuador'!E269)","v":29849},{"$f":"IF('INGRESO DE DATOS'!$W$13=1,'Tablas Guyanas y Santa Elena'!F269,'Tablas Resto de Ecuador'!F269)","v":22421},{"$f":"IF('INGRESO DE DATOS'!$W$13=1,'Tablas Guyanas y Santa Elena'!G269,'Tablas Resto de Ecuador'!G269)","v":17300},{"$f":"IF('INGRESO DE DATOS'!$W$13=1,'Tablas Guyanas y Santa Elena'!H269,'Tablas Resto de Ecuador'!H269)","v":13892},66489,42171,29849,22421,17300,13892]
[65,"65",69678,55128,38941,28366,23078,19589,null,{"$f":"IF('INGRESO DE DATOS'!$W$13=1,'Tablas Guyanas y Santa Elena'!C270,'Tablas Resto de Ecuador'!C270)","v":69678},{"$f":"IF('INGRESO DE DATOS'!$W$13=1,'Tablas Guyanas y Santa Elena'!D270,'Tablas Resto de Ecuador'!D270)","v":55128},{"$f":"IF('INGRESO DE DATOS'!$W$13=1,'Tablas Guyanas y Santa Elena'!E270,'Tablas Resto de Ecuador'!E270)","v":38941},{"$f":"IF('INGRESO DE DATOS'!$W$13=1,'Tablas Guyanas y Santa Elena'!F270,'Tablas Resto de Ecuador'!F270)","v":28366},{"$f":"IF('INGRESO DE DATOS'!$W$13=1,'Tablas Guyanas y Santa Elena'!G270,'Tablas Resto de Ecuador'!G270)","v":23078},{"$f":"IF('INGRESO DE DATOS'!$W$13=1,'Tablas Guyanas y Santa Elena'!H270,'Tablas Resto de Ecuador'!H270)","v":19589},69678,55128,38941,28366,23078,19589]
[66,"66",72849,64064,45248,32954,26820,22775,null,{"$f":"IF('INGRESO DE DATOS'!$W$13=1,'Tablas Guyanas y Santa Elena'!C271,'Tablas Resto de Ecuador'!C271)","v":72849},{"$f":"IF('INGRESO DE DATOS'!$W$13=1,'Tablas Guyanas y Santa Elena'!D271,'Tablas Resto de Ecuador'!D271)","v":64064},{"$f":"IF('INGRESO DE DATOS'!$W$13=1,'Tablas Guyanas y Santa Elena'!E271,'Tablas Resto de Ecuador'!E271)","v":45248},{"$f":"IF('INGRESO DE DATOS'!$W$13=1,'Tablas Guyanas y Santa Elena'!F271,'Tablas Resto de Ecuador'!F271)","v":32954},{"$f":"IF('INGRESO DE DATOS'!$W$13=1,'Tablas Guyanas y Santa Elena'!G271,'Tablas Resto de Ecuador'!G271)","v":26820},{"$f":"IF('INGRESO DE DATOS'!$W$13=1,'Tablas Guyanas y Santa Elena'!H271,'Tablas Resto de Ecuador'!H271)","v":22775},72849,64064,45248,32954,26820,22775]
[67,"67",79536,69974,49425,35993,29301,24876,null,{"$f":"IF('INGRESO DE DATOS'!$W$13=1,'Tablas Guyanas y Santa Elena'!C272,'Tablas Resto de Ecuador'!C272)","v":79536},{"$f":"IF('INGRESO DE DATOS'!$W$13=1,'Tablas Guyanas y Santa Elena'!D272,'Tablas Resto de Ecuador'!D272)","v":69974},{"$f":"IF('INGRESO DE DATOS'!$W$13=1,'Tablas Guyanas y Santa Elena'!E272,'Tablas Resto de Ecuador'!E272)","v":49425},{"$f":"IF('INGRESO DE DATOS'!$W$13=1,'Tablas Guyanas y Santa Elena'!F272,'Tablas Resto de Ecuador'!F272)","v":35993},{"$f":"IF('INGRESO DE DATOS'!$W$13=1,'Tablas Guyanas y Santa Elena'!G272,'Tablas Resto de Ecuador'!G272)","v":29301},{"$f":"IF('INGRESO DE DATOS'!$W$13=1,'Tablas Guyanas y Santa Elena'!H272,'Tablas Resto de Ecuador'!H272)","v":24876},79536,69974,49425,35993,29301,24876]
[68,"68",88040,77486,54733,39861,32451,27553,null,{"$f":"IF('INGRESO DE DATOS'!$W$13=1,'Tablas Guyanas y Santa Elena'!C273,'Tablas Resto de Ecuador'!C273)","v":88040},{"$f":"IF('INGRESO DE DATOS'!$W$13=1,'Tablas Guyanas y Santa Elena'!D273,'Tablas Resto de Ecuador'!D273)","v":77486},{"$f":"IF('INGRESO DE DATOS'!$W$13=1,'Tablas Guyanas y Santa Elena'!E273,'Tablas Resto de Ecuador'!E273)","v":54733},{"$f":"IF('INGRESO DE DATOS'!$W$13=1,'Tablas Guyanas y Santa Elena'!F273,'Tablas Resto de Ecuador'!F273)","v":39861},{"$f":"IF('INGRESO DE DATOS'!$W$13=1,'Tablas Guyanas y Santa Elena'!G273,'Tablas Resto de Ecuador'!G273)","v":32451},{"$f":"IF('INGRESO DE DATOS'!$W$13=1,'Tablas Guyanas y Santa Elena'!H273,'Tablas Resto de Ecuador'!H273)","v":27553},88040,77486,54733,39861,32451,27553]
[69,"69",96840,85257,60219,43851,35706,30315,null,{"$f":"IF('INGRESO DE DATOS'!$W$13=1,'Tablas Guyanas y Santa Elena'!C274,'Tablas Resto de Ecuador'!C274)","v":96840},{"$f":"IF('INGRESO DE DATOS'!$W$13=1,'Tablas Guyanas y Santa Elena'!D274,'Tablas Resto de Ecuador'!D274)","v":85257},{"$f":"IF('INGRESO DE DATOS'!$W$13=1,'Tablas Guyanas y Santa Elena'!E274,'Tablas Resto de Ecuador'!E274)","v":60219},{"$f":"IF('INGRESO DE DATOS'!$W$13=1,'Tablas Guyanas y Santa Elena'!F274,'Tablas Resto de Ecuador'!F274)","v":43851},{"$f":"IF('INGRESO DE DATOS'!$W$13=1,'Tablas Guyanas y Santa Elena'!G274,'Tablas Resto de Ecuador'!G274)","v":35706},{"$f":"IF('INGRESO DE DATOS'!$W$13=1,'Tablas Guyanas y Santa Elena'!H274,'Tablas Resto de Ecuador'!H274)","v":30315},96840,85257,60219,43851,35706,30315]
[70,"70",114612,104933,73323,51632,41606,35657,null,{"$f":"IF('INGRESO DE DATOS'!$W$13=1,'Tablas Guyanas y Santa Elena'!C275,'Tablas Resto de Ecuador'!C275)","v":114612},{"$f":"IF('INGRESO DE DATOS'!$W$13=1,'Tablas Guyanas y Santa Elena'!D275,'Tablas Resto de Ecuador'!D275)","v":104933},{"$f":"IF('INGRESO DE DATOS'!$W$13=1,'Tablas Guyanas y Santa Elena'!E275,'Tablas Resto de Ecuador'!E275)","v":73323},{"$f":"IF('INGRESO DE DATOS'!$W$13=1,'Tablas Guyanas y Santa Elena'!F275,'Tablas Resto de Ecuador'!F275)","v":51632},{"$f":"IF('INGRESO DE DATOS'!$W$13=1,'Tablas Guyanas y Santa Elena'!G275,'Tablas Resto de Ecuador'!G275)","v":41606},{"$f":"IF('INGRESO DE DATOS'!$W$13=1,'Tablas Guyanas y Santa Elena'!H275,'Tablas Resto de Ecuador'!H275)","v":35657},114612,104933,73323,51632,41606,35657]
[71,"71",119095,109054,76209,53661,43249,37063,null,{"$f":"IF('INGRESO DE DATOS'!$W$13=1,'Tablas Guyanas y Santa Elena'!C276,'Tablas Resto de Ecuador'!C276)","v":119095},{"$f":"IF('INGRESO DE DATOS'!$W$13=1,'Tablas Guyanas y Santa Elena'!D276,'Tablas Resto de Ecuador'!D276)","v":109054},{"$f":"IF('INGRESO DE DATOS'!$W$13=1,'Tablas Guyanas y Santa Elena'!E276,'Tablas Resto de Ecuador'!E276)","v":76209},{"$f":"IF('INGRESO DE DATOS'!$W$13=1,'Tablas Guyanas y Santa Elena'!F276,'Tablas Resto de Ecuador'!F276)","v":53661},{"$f":"IF('INGRESO DE DATOS'!$W$13=1,'Tablas Guyanas y Santa Elena'!G276,'Tablas Resto de Ecuador'!G276)","v":43249},{"$f":"IF('INGRESO DE DATOS'!$W$13=1,'Tablas Guyanas y Santa Elena'!H276,'Tablas Resto de Ecuador'!H276)","v":37063},119095,109054,76209,53661,43249,37063]
[72,"72",122462,112136,78368,55176,44472,38117,null,{"$f":"IF('INGRESO DE DATOS'!$W$13=1,'Tablas Guyanas y Santa Elena'!C277,'Tablas Resto de Ecuador'!C277)","v":122462},{"$f":"IF('INGRESO DE DATOS'!$W$13=1,'Tablas Guyanas y Santa Elena'!D277,'Tablas Resto de Ecuador'!D277)","v":112136},{"$f":"IF('INGRESO DE DATOS'!$W$13=1,'Tablas Guyanas y Santa Elena'!E277,'Tablas Resto de Ecuador'!E277)","v":78368},{"$f":"IF('INGRESO DE DATOS'!$W$13=1,'Tablas Guyanas y Santa Elena'!F277,'Tablas Resto de Ecuador'!F277)","v":55176},{"$f":"IF('INGRESO DE DATOS'!$W$13=1,'Tablas Guyanas y Santa Elena'!G277,'Tablas Resto de Ecuador'!G277)","v":44472},{"$f":"IF('INGRESO DE DATOS'!$W$13=1,'Tablas Guyanas y Santa Elena'!H277,'Tablas Resto de Ecuador'!H277)","v":38117},122462,112136,78368,55176,44472,38117]
[73,"73",126952,116261,81245,57205,46098,39522,null,{"$f":"IF('INGRESO DE DATOS'!$W$13=1,'Tablas Guyanas y Santa Elena'!C278,'Tablas Resto de Ecuador'!C278)","v":126952},{"$f":"IF('INGRESO DE DATOS'!$W$13=1,'Tablas Guyanas y Santa Elena'!D278,'Tablas Resto de Ecuador'!D278)","v":116261},{"$f":"IF('INGRESO DE DATOS'!$W$13=1,'Tablas Guyanas y Santa Elena'!E278,'Tablas Resto de Ecuador'!E278)","v":81245},{"$f":"IF('INGRESO DE DATOS'!$W$13=1,'Tablas Guyanas y Santa Elena'!F278,'Tablas Resto de Ecuador'!F278)","v":57205},{"$f":"IF('INGRESO DE DATOS'!$W$13=1,'Tablas Guyanas y Santa Elena'!G278,'Tablas Resto de Ecuador'!G278)","v":46098},{"$f":"IF('INGRESO DE DATOS'!$W$13=1,'Tablas Guyanas y Santa Elena'!H278,'Tablas Resto de Ecuador'!H278)","v":39522},126952,116261,81245,57205,46098,39522]
[74,"74",129201,118325,82680,58210,46921,40225,null,{"$f":"IF('INGRESO DE DATOS'!$W$13=1,'Tablas Guyanas y Santa Elena'!C279,'Tablas Resto de Ecuador'!C279)","v":129201},{"$f":"IF('INGRESO DE DATOS'!$W$13=1,'Tablas Guyanas y Santa Elena'!D279,'Tablas Resto de Ecuador'!D279)","v":118325},{"$f":"IF('INGRESO DE DATOS'!$W$13=1,'Tablas Guyanas y Santa Elena'!E279,'Tablas Resto de Ecuador'!E279)","v":82680},{"$f":"IF('INGRESO DE DATOS'!$W$13=1,'Tablas Guyanas y Santa Elena'!F279,'Tablas Resto de Ecuador'!F279)","v":58210},{"$f":"IF('INGRESO DE DATOS'!$W$13=1,'Tablas Guyanas y Santa Elena'!G279,'Tablas Resto de Ecuador'!G279)","v":46921},{"$f":"IF('INGRESO DE DATOS'!$W$13=1,'Tablas Guyanas y Santa Elena'!H279,'Tablas Resto de Ecuador'!H279)","v":40225},129201,118325,82680,58210,46921,40225]
[75,"75+",134806,123477,86280,60742,48971,41966,null,{"$f":"IF('INGRESO DE DATOS'!$W$13=1,'Tablas Guyanas y Santa Elena'!C280,'Tablas Resto de Ecuador'!C280)","v":134806},{"$f":"IF('INGRESO DE DATOS'!$W$13=1,'Tablas Guyanas y Santa Elena'!D280,'Tablas Resto de Ecuador'!D280)","v":123477},{"$f":"IF('INGRESO DE DATOS'!$W$13=1,'Tablas Guyanas y Santa Elena'!E280,'Tablas Resto de Ecuador'!E280)","v":86280},{"$f":"IF('INGRESO DE DATOS'!$W$13=1,'Tablas Guyanas y Santa Elena'!F280,'Tablas Resto de Ecuador'!F280)","v":60742},{"$f":"IF('INGRESO DE DATOS'!$W$13=1,'Tablas Guyanas y Santa Elena'!G280,'Tablas Resto de Ecuador'!G280)","v":48971},{"$f":"IF('INGRESO DE DATOS'!$W$13=1,'Tablas Guyanas y Santa Elena'!H280,'Tablas Resto de Ecuador'!H280)","v":41966},134806,123477,86280,60742,48971,41966]
[1,"1 Child",7245,4509,3279,2452,1858,1380,null,{"$f":"IF('INGRESO DE DATOS'!$W$13=1,'Tablas Guyanas y Santa Elena'!C281,'Tablas Resto de Ecuador'!C281)","v":7245},{"$f":"IF('INGRESO DE DATOS'!$W$13=1,'Tablas Guyanas y Santa Elena'!D281,'Tablas Resto de Ecuador'!D281)","v":4509},{"$f":"IF('INGRESO DE DATOS'!$W$13=1,'Tablas Guyanas y Santa Elena'!E281,'Tablas Resto de Ecuador'!E281)","v":3279},{"$f":"IF('INGRESO DE DATOS'!$W$13=1,'Tablas Guyanas y Santa Elena'!F281,'Tablas Resto de Ecuador'!F281)","v":2452},{"$f":"IF('INGRESO DE DATOS'!$W$13=1,'Tablas Guyanas y Santa Elena'!G281,'Tablas Resto de Ecuador'!G281)","v":1858},{"$f":"IF('INGRESO DE DATOS'!$W$13=1,'Tablas Guyanas y Santa Elena'!H281,'Tablas Resto de Ecuador'!H281)","v":1380},{"$f":"(J320)*$M$2","v":7245},{"$f":"(K320)*$M$2","v":4509},3279,2452,1858,1380]
[2,"2 Children",11362,7162,5241,3905,2944,2196,null,{"$f":"IF('INGRESO DE DATOS'!$W$13=1,'Tablas Guyanas y Santa Elena'!C282,'Tablas Resto de Ecuador'!C282)","v":11362},{"$f":"IF('INGRESO DE DATOS'!$W$13=1,'Tablas Guyanas y Santa Elena'!D282,'Tablas Resto de Ecuador'!D282)","v":7162},{"$f":"IF('INGRESO DE DATOS'!$W$13=1,'Tablas Guyanas y Santa Elena'!E282,'Tablas Resto de Ecuador'!E282)","v":5241},{"$f":"IF('INGRESO DE DATOS'!$W$13=1,'Tablas Guyanas y Santa Elena'!F282,'Tablas Resto de Ecuador'!F282)","v":3905},{"$f":"IF('INGRESO DE DATOS'!$W$13=1,'Tablas Guyanas y Santa Elena'!G282,'Tablas Resto de Ecuador'!G282)","v":2944},{"$f":"IF('INGRESO DE DATOS'!$W$13=1,'Tablas Guyanas y Santa Elena'!H282,'Tablas Resto de Ecuador'!H282)","v":2196},{"$f":"(J321)*$M$2","v":11362},{"$f":"(K321)*$M$2","v":7162},{"$f":"(L321)*$M$2","v":5241},{"$f":"(M321)*$M$2","v":3905},{"$f":"(N321)*$M$2","v":2944},{"$f":"(O321)*$M$2","v":2196}]
[3,"3+ Children",16510,10507,7684,5725,4325,3205,null,{"$f":"IF('INGRESO DE DATOS'!$W$13=1,'Tablas Guyanas y Santa Elena'!C283,'Tablas Resto de Ecuador'!C283)","v":16510},{"$f":"IF('INGRESO DE DATOS'!$W$13=1,'Tablas Guyanas y Santa Elena'!D283,'Tablas Resto de Ecuador'!D283)","v":10507},{"$f":"IF('INGRESO DE DATOS'!$W$13=1,'Tablas Guyanas y Santa Elena'!E283,'Tablas Resto de Ecuador'!E283)","v":7684},{"$f":"IF('INGRESO DE DATOS'!$W$13=1,'Tablas Guyanas y Santa Elena'!F283,'Tablas Resto de Ecuador'!F283)","v":5725},{"$f":"IF('INGRESO DE DATOS'!$W$13=1,'Tablas Guyanas y Santa Elena'!G283,'Tablas Resto de Ecuador'!G283)","v":4325},{"$f":"IF('INGRESO DE DATOS'!$W$13=1,'Tablas Guyanas y Santa Elena'!H283,'Tablas Resto de Ecuador'!H283)","v":3205},16510,10507,7684,5725,4325,3205]
[1,"Rider Comp. Maternidad",{"$f":"J323*$V$2","v":0},{"$f":"K323*$V$2","v":0},{"$f":"L323*$V$2","v":0},225,225,225,null,{"$f":"IF('INGRESO DE DATOS'!$W$13=1,'Tablas Guyanas y Santa Elena'!C284,'Tablas Resto de Ecuador'!C284)","v":0},0,0,225,225,225]
[1,"Transplante de organos",{"$f":"J324*$V$2","v":0},{"$f":"K324*$V$2","v":0},{"$f":"L324*$V$2","v":0},{"$f":"M324*$V$2","v":0},{"$f":"N324*$V$2","v":0},{"$f":"O324*$V$2","v":0},null,{"$f":"IF('INGRESO DE DATOS'!$W$13=1,'Tablas Guyanas y Santa Elena'!C285,'Tablas Resto de Ecuador'!C285)","v":0},0,0,0,0,0]
[null,null,0,0,0,0,0,0,null,{"$f":"IF('INGRESO DE DATOS'!$W$13=1,'Tablas Guyanas y Santa Elena'!C286,'Tablas Resto de Ecuador'!C286)","v":0}]
[]
[]
["TARIFAS SEMESTRALES "]
["EDAD"]
[" "," ","CW1","CW2","CW3","CW4","CW5","CW6"]
[18,"18-24",{"$f":"$G$2*C296","v":11305.43},6860.85,4712.2300000000005,3178.94,2015.0600000000002,1531.17]
[25,"25-29",{"$f":"$G$2*C297","v":11866.7},{"$f":"$G$2*D297","v":7204.8200000000006},5208.84,3527.6800000000003,2231.83,1698.65]
[30,"30-34",{"$f":"$G$2*C298","v":12374.970000000001},{"$f":"$G$2*D298","v":7523.88},5584.6100000000006,3955.92,2710.42,2060.6400000000003]
[35,"35-39",{"$f":"$G$2*C299","v":13841.480000000001},{"$f":"$G$2*D299","v":8417.99},6251.35,4433.45,3039.02,2311.86]
[40,"40-44",{"$f":"$G$2*C300","v":15682.17},{"$f":"$G$2*D300","v":9752.5300000000007},6856.08,4934.83,3350.6600000000003,2551.9500000000003]
[45,"45-49",{"$f":"$G$2*C301","v":17505.900000000001},{"$f":"$G$2*D301","v":10902.630000000001},7664.8600000000006,5517.83,3742.3300000000004,2857.76]
[50,"50-54",{"$f":"$G$2*C302","v":23112.240000000002},{"$f":"$G$2*D302","v":14257},10113.99,7249.8700000000008,5353.5300000000007,4082.0600000000004]
[55,"55-59",{"$f":"$G$2*C303","v":24580.870000000003},{"$f":"$G$2*D303","v":15173.900000000001},10759.53,7709.38,5694.3200000000006,4343.88]
[60,"60",{"$f":"$G$2*C304","v":26093.49},{"$f":"$G$2*D304","v":16521.690000000002},11685.44,8783.16,6774.9900000000007,5435.1500000000005]
[61,"61",{"$f":"$G$2*C305","v":28021.63},{"$f":"$G$2*D305","v":17751.82},12555.7,9431.880000000001,7277.96,5842.1900000000005]
[62,"62",{"$f":"$G$2*C306","v":30663.68},{"$f":"$G$2*D306","v":19431.39},13752.44,10328.11,7970.67,6393.39]
[63,"63",{"$f":"$G$2*C307","v":32588.11},{"$f":"$G$2*D307","v":20660.990000000002},14623.76,10981.07,8475.76,6800.96]
[64,"64",{"$f":"$G$2*C308","v":35239.17},{"$f":"$G$2*D308","v":22350.63},15819.970000000001,11883.130000000001,9169,7362.76]
[65,"65",{"$f":"$G$2*C309","v":36929.340000000004},{"$f":"$G$2*D309","v":29217.84},20638.73,15033.980000000001,12231.34,10382.17]
[66,"66",{"$f":"$G$2*C310","v":38609.97},{"$f":"$G$2*D310","v":33953.919999999998},23981.440000000002,17465.620000000003,14214.6,12070.75]
[67,"67",{"$f":"$G$2*C311","v":42154.080000000002},{"$f":"$G$2*D311","v":37086.22},26195.25,19076.29,15529.53,13184.28]
[68,"68",{"$f":"$G$2*C312","v":46661.200000000004},{"$f":"$G$2*D312","v":41067.58},29008.49,21126.33,17199.030000000002,14603.09]
[69,"69",{"$f":"$G$2*C313","v":51325.200000000004},{"$f":"$G$2*D313","v":45186.21},31916.070000000003,23241.030000000002,18924.18,16066.95]
[70,"70",{"$f":"$G$2*C314","v":60744.36},{"$f":"$G$2*D314","v":55614.490000000005},38861.19,27364.960000000003,22051.18,18898.210000000003]
[71,"71",{"$f":"$G$2*C315","v":63120.350000000006},{"$f":"$G$2*D315","v":57798.62},40390.770000000004,28440.33,22921.97,19643.39]
[72,"72",{"$f":"$G$2*C316","v":64904.86},{"$f":"$G$2*D316","v":59432.08},41535.040000000001,29243.280000000002,23570.16,20202.010000000002]
[73,"73",{"$f":"$G$2*C317","v":67284.56},{"$f":"$G$2*D317","v":61618.33},43059.85,30318.65,24431.940000000002,20946.66]
[74,"74",{"$f":"$G$2*C318","v":68476.53},{"$f":"$G$2*D318","v":62712.25},43820.4,30851.300000000003,24868.13,21319.25]
[75,"75+",{"$f":"$G$2*C319","v":71447.180000000008},{"$f":"$G$2*D319","v":65442.810000000005},45728.4,32193.260000000002,25954.63,22241.98]
[1,"1 Child",{"$f":"$G$2*C320","v":3839.8500000000004},{"$f":"$G$2*D320","v":2389.77},1737.8700000000001,1299.5600000000002,984.74,731.40000000000009]
[2,"2 Children",{"$f":"$G$2*C321","v":6021.8600000000006},{"$f":"$G$2*D321","v":3795.86},2777.73,2069.65,1560.3200000000002,1163.8800000000001]
[3,"3+ Children",{"$f":"$G$2*C322","v":8750.3000000000011},{"$f":"$G$2*D322","v":5568.71},4072.52,3034.25,2292.25,1698.65]
[1,"Rider Comp. Maternidad",{"$f":"$G$2*C323","v":0},{"$f":"+D323*$G$2","v":0},0,119.25,119.25,119.25]
[1,"Transplante de organos",{"$f":"$G$2*C324","v":0},{"$f":"+D324*$G$2","v":0},0,0,0,0]
[]
[]
[]
["COMPLETE (LATINAMERICA ONLY)"]
["TARIFAS ANUALES"]
["EDAD"]
[" "," ","CL1","CL2","CL3","CL4","CL5","CL6"]
[18,"-  24"]
[25,"-  29"]
[30,"-  34"]
[35,"-  39"]
[40,"-  44"]
[45,"-  49"]
[50,"-  54"]
[55,"-  59"]
[60]
[61]
[62]
[63]
[64]
[65]
[66]
[67]
[68]
[69]
[70]
[71]
[72]
[73]
[74]
[75,"o más"]
[1,"Hijo"]
[2,"Hijos"]
[3,"Hijos o más"]
[1,"Rider Comp. Maternidad"]
[1,"Transplante de organos",0,0,0,0,0,0]
[]
["TARIFAS SEMESTRALES "]
["EDAD"]
[" "," ","CL1","CL2","CL3","CL4","CL5","CL6"]
[18,"-  24",{"$f":"+C367*$G$2","v":0},0,0,0,0,0]
[25,"-  29",0,0,0,0,0,0]
[30,"-  34",0,0,0,0,0,0]
[35,"-  39",0,0,0,0,0,0]
[40,"-  44",0,0,0,0,0,0]
[45,"-  49",0,0,0,0,0,0]
[50,"-  54",0,0,0,0,0,0]
[55,"-  59",0,0,0,0,0,0]
[60,null,0,0,0,0,0,0]
[61,null,0,0,0,0,0,0]
[62,null,{"$f":"+C377*$G$2","v":0},0,0,0,0,0]
[63,null,0,0,0,0,0,0]
[64,null,0,0,0,0,0,0]
[65,null,0,0,0,0,0,0]
[66,null,0,0,0,0,0,0]
[67,null,0,0,0,0,0,0]
[68,null,0,0,0,0,0,0]
[69,null,0,0,0,0,0,0]
[70,null,0,0,0,0,0,0]
[71,null,0,0,0,0,0,0]
[72,null,{"$f":"+C387*$G$2","v":0},0,0,0,0,0]
[73,null,0,0,0,0,0,0]
[74,null,0,0,0,0,0,0]
[75,"o más",0,0,0,0,0,0]
[1,"Hijo",0,0,0,0,0,0]
[2,"Hijos",0,0,0,0,0,0]
[3,"Hijos o más",0,0,0,0,0,0]
[1,"Rider Comp. Maternidad",0,0,0,0,0,0]
[1,"Transplante de organos",0,0,0,0,0,0]
[]
[]
[]
[]
[]
[]
[]
["BUPA ADVANTAGE CARE (MUNDIAL)"]
["TARIFAS ANUALES"]
["EDAD"]
[" "," ","AW1","AW2","AW3","AW4","AW5","AW6"]
[18,"18-24",{"$f":"P440*$V$2","v":14971},{"$f":"Q440*$V$2","v":10713},{"$f":"R440*$V$2","v":8082},4070,3759,3086,null,{"$f":"IF('INGRESO DE DATOS'!$W$13=1,'Tablas Guyanas y Santa Elena'!C369,'Tablas Resto de Ecuador'!C369)","v":14971},{"$f":"IF('INGRESO DE DATOS'!$W$13=1,'Tablas Guyanas y Santa Elena'!D369,'Tablas Resto de Ecuador'!D369)","v":10713},{"$f":"IF('INGRESO DE DATOS'!$W$13=1,'Tablas Guyanas y Santa Elena'!E369,'Tablas Resto de Ecuador'!E369)","v":8082},{"$f":"IF('INGRESO DE DATOS'!$W$13=1,'Tablas Guyanas y Santa Elena'!F369,'Tablas Resto de Ecuador'!F369)","v":4070},{"$f":"IF('INGRESO DE DATOS'!$W$13=1,'Tablas Guyanas y Santa Elena'!G369,'Tablas Resto de Ecuador'!G369)","v":3759},{"$f":"IF('INGRESO DE DATOS'!$W$13=1,'Tablas Guyanas y Santa Elena'!H369,'Tablas Resto de Ecuador'!H369)","v":3086},{"$f":"(J440-50)*$N$2+50","v":14971},{"$f":"(K440-50)*$N$2+50","v":10713},{"$f":"(L440-50)*$N$2+50","v":8082},4070,3759,3086]
[25,"25-29",{"$f":"P441*$V$2","v":16725},{"$f":"Q441*$V$2","v":11912},{"$f":"R441*$V$2","v":9010},{"$f":"S441*$V$2","v":4687},{"$f":"T441*$V$2","v":4048},{"$f":"U441*$V$2","v":3252},null,{"$f":"IF('INGRESO DE DATOS'!$W$13=1,'Tablas Guyanas y Santa Elena'!C370,'Tablas Resto de Ecuador'!C370)","v":16725},{"$f":"IF('INGRESO DE DATOS'!$W$13=1,'Tablas Guyanas y Santa Elena'!D370,'Tablas Resto de Ecuador'!D370)","v":11912},{"$f":"IF('INGRESO DE DATOS'!$W$13=1,'Tablas Guyanas y Santa Elena'!E370,'Tablas Resto de Ecuador'!E370)","v":9010},{"$f":"IF('INGRESO DE DATOS'!$W$13=1,'Tablas Guyanas y Santa Elena'!F370,'Tablas Resto de Ecuador'!F370)","v":4687},{"$f":"IF('INGRESO DE DATOS'!$W$13=1,'Tablas Guyanas y Santa Elena'!G370,'Tablas Resto de Ecuador'!G370)","v":4048},{"$f":"IF('INGRESO DE DATOS'!$W$13=1,'Tablas Guyanas y Santa Elena'!H370,'Tablas Resto de Ecuador'!H370)","v":3252},{"$f":"(J441-50)*$N$2+50","v":16725},{"$f":"(K441-50)*$N$2+50","v":11912},{"$f":"(L441-50)*$N$2+50","v":9010},{"$f":"(M441-50)*$N$2+50","v":4687},{"$f":"(N441-50)*$N$2+50","v":4048},{"$f":"(O441-50)*$N$2+50","v":3252}]
[30,"30-34",19521,13772,10567,6011,5351,4151,null,{"$f":"IF('INGRESO DE DATOS'!$W$13=1,'Tablas Guyanas y Santa Elena'!C371,'Tablas Resto de Ecuador'!C371)","v":19521},{"$f":"IF('INGRESO DE DATOS'!$W$13=1,'Tablas Guyanas y Santa Elena'!D371,'Tablas Resto de Ecuador'!D371)","v":13772},{"$f":"IF('INGRESO DE DATOS'!$W$13=1,'Tablas Guyanas y Santa Elena'!E371,'Tablas Resto de Ecuador'!E371)","v":10567},{"$f":"IF('INGRESO DE DATOS'!$W$13=1,'Tablas Guyanas y Santa Elena'!F371,'Tablas Resto de Ecuador'!F371)","v":6011},{"$f":"IF('INGRESO DE DATOS'!$W$13=1,'Tablas Guyanas y Santa Elena'!G371,'Tablas Resto de Ecuador'!G371)","v":5351},{"$f":"IF('INGRESO DE DATOS'!$W$13=1,'Tablas Guyanas y Santa Elena'!H371,'Tablas Resto de Ecuador'!H371)","v":4151},19521,13772,10567,6011,5351,4151]
[35,"35-39",22024,15258,11751,7938,6082,4598,null,{"$f":"IF('INGRESO DE DATOS'!$W$13=1,'Tablas Guyanas y Santa Elena'!C372,'Tablas Resto de Ecuador'!C372)","v":22024},{"$f":"IF('INGRESO DE DATOS'!$W$13=1,'Tablas Guyanas y Santa Elena'!D372,'Tablas Resto de Ecuador'!D372)","v":15258},{"$f":"IF('INGRESO DE DATOS'!$W$13=1,'Tablas Guyanas y Santa Elena'!E372,'Tablas Resto de Ecuador'!E372)","v":11751},{"$f":"IF('INGRESO DE DATOS'!$W$13=1,'Tablas Guyanas y Santa Elena'!F372,'Tablas Resto de Ecuador'!F372)","v":7938},{"$f":"IF('INGRESO DE DATOS'!$W$13=1,'Tablas Guyanas y Santa Elena'!G372,'Tablas Resto de Ecuador'!G372)","v":6082},{"$f":"IF('INGRESO DE DATOS'!$W$13=1,'Tablas Guyanas y Santa Elena'!H372,'Tablas Resto de Ecuador'!H372)","v":4598},22024,15258,11751,7938,6082,4598]
[40,"40-44",24924,17197,13311,9023,6784,5181,null,{"$f":"IF('INGRESO DE DATOS'!$W$13=1,'Tablas Guyanas y Santa Elena'!C373,'Tablas Resto de Ecuador'!C373)","v":24924},{"$f":"IF('INGRESO DE DATOS'!$W$13=1,'Tablas Guyanas y Santa Elena'!D373,'Tablas Resto de Ecuador'!D373)","v":17197},{"$f":"IF('INGRESO DE DATOS'!$W$13=1,'Tablas Guyanas y Santa Elena'!E373,'Tablas Resto de Ecuador'!E373)","v":13311},{"$f":"IF('INGRESO DE DATOS'!$W$13=1,'Tablas Guyanas y Santa Elena'!F373,'Tablas Resto de Ecuador'!F373)","v":9023},{"$f":"IF('INGRESO DE DATOS'!$W$13=1,'Tablas Guyanas y Santa Elena'!G373,'Tablas Resto de Ecuador'!G373)","v":6784},{"$f":"IF('INGRESO DE DATOS'!$W$13=1,'Tablas Guyanas y Santa Elena'!H373,'Tablas Resto de Ecuador'!H373)","v":5181},24924,17197,13311,9023,6784,5181]
[45,"45-49",28763,19970,15302,10281,7705,6008,null,{"$f":"IF('INGRESO DE DATOS'!$W$13=1,'Tablas Guyanas y Santa Elena'!C374,'Tablas Resto de Ecuador'!C374)","v":28763},{"$f":"IF('INGRESO DE DATOS'!$W$13=1,'Tablas Guyanas y Santa Elena'!D374,'Tablas Resto de Ecuador'!D374)","v":19970},{"$f":"IF('INGRESO DE DATOS'!$W$13=1,'Tablas Guyanas y Santa Elena'!E374,'Tablas Resto de Ecuador'!E374)","v":15302},{"$f":"IF('INGRESO DE DATOS'!$W$13=1,'Tablas Guyanas y Santa Elena'!F374,'Tablas Resto de Ecuador'!F374)","v":10281},{"$f":"IF('INGRESO DE DATOS'!$W$13=1,'Tablas Guyanas y Santa Elena'!G374,'Tablas Resto de Ecuador'!G374)","v":7705},{"$f":"IF('INGRESO DE DATOS'!$W$13=1,'Tablas Guyanas y Santa Elena'!H374,'Tablas Resto de Ecuador'!H374)","v":6008},28763,19970,15302,10281,7705,6008]
[50,"50-54",28277,21871,17193,12126,8644,6582,null,{"$f":"IF('INGRESO DE DATOS'!$W$13=1,'Tablas Guyanas y Santa Elena'!C375,'Tablas Resto de Ecuador'!C375)","v":28277},{"$f":"IF('INGRESO DE DATOS'!$W$13=1,'Tablas Guyanas y Santa Elena'!D375,'Tablas Resto de Ecuador'!D375)","v":21871},{"$f":"IF('INGRESO DE DATOS'!$W$13=1,'Tablas Guyanas y Santa Elena'!E375,'Tablas Resto de Ecuador'!E375)","v":17193},{"$f":"IF('INGRESO DE DATOS'!$W$13=1,'Tablas Guyanas y Santa Elena'!F375,'Tablas Resto de Ecuador'!F375)","v":12126},{"$f":"IF('INGRESO DE DATOS'!$W$13=1,'Tablas Guyanas y Santa Elena'!G375,'Tablas Resto de Ecuador'!G375)","v":8644},{"$f":"IF('INGRESO DE DATOS'!$W$13=1,'Tablas Guyanas y Santa Elena'!H375,'Tablas Resto de Ecuador'!H375)","v":6582},28277,21871,17193,12126,8644,6582]
[55,"55-59",33289,25820,19827,14093,9986,7758,null,{"$f":"IF('INGRESO DE DATOS'!$W$13=1,'Tablas Guyanas y Santa Elena'!C376,'Tablas Resto de Ecuador'!C376)","v":33289},{"$f":"IF('INGRESO DE DATOS'!$W$13=1,'Tablas Guyanas y Santa Elena'!D376,'Tablas Resto de Ecuador'!D376)","v":25820},{"$f":"IF('INGRESO DE DATOS'!$W$13=1,'Tablas Guyanas y Santa Elena'!E376,'Tablas Resto de Ecuador'!E376)","v":19827},{"$f":"IF('INGRESO DE DATOS'!$W$13=1,'Tablas Guyanas y Santa Elena'!F376,'Tablas Resto de Ecuador'!F376)","v":14093},{"$f":"IF('INGRESO DE DATOS'!$W$13=1,'Tablas Guyanas y Santa Elena'!G376,'Tablas Resto de Ecuador'!G376)","v":9986},{"$f":"IF('INGRESO DE DATOS'!$W$13=1,'Tablas Guyanas y Santa Elena'!H376,'Tablas Resto de Ecuador'!H376)","v":7758},33289,25820,19827,14093,9986,7758]
[60,"60",40085,28512,21943,15489,11005,8571,null,{"$f":"IF('INGRESO DE DATOS'!$W$13=1,'Tablas Guyanas y Santa Elena'!C377,'Tablas Resto de Ecuador'!C377)","v":40085},{"$f":"IF('INGRESO DE DATOS'!$W$13=1,'Tablas Guyanas y Santa Elena'!D377,'Tablas Resto de Ecuador'!D377)","v":28512},{"$f":"IF('INGRESO DE DATOS'!$W$13=1,'Tablas Guyanas y Santa Elena'!E377,'Tablas Resto de Ecuador'!E377)","v":21943},{"$f":"IF('INGRESO DE DATOS'!$W$13=1,'Tablas Guyanas y Santa Elena'!F377,'Tablas Resto de Ecuador'!F377)","v":15489},{"$f":"IF('INGRESO DE DATOS'!$W$13=1,'Tablas Guyanas y Santa Elena'!G377,'Tablas Resto de Ecuador'!G377)","v":11005},{"$f":"IF('INGRESO DE DATOS'!$W$13=1,'Tablas Guyanas y Santa Elena'!H377,'Tablas Resto de Ecuador'!H377)","v":8571},40085,28512,21943,15489,11005,8571]
[61,"61",45093,32065,24680,17408,12376,9642,null,{"$f":"IF('INGRESO DE DATOS'!$W$13=1,'Tablas Guyanas y Santa Elena'!C378,'Tablas Resto de Ecuador'!C378)","v":45093},{"$f":"IF('INGRESO DE DATOS'!$W$13=1,'Tablas Guyanas y Santa Elena'!D378,'Tablas Resto de Ecuador'!D378)","v":32065},{"$f":"IF('INGRESO DE DATOS'!$W$13=1,'Tablas Guyanas y Santa Elena'!E378,'Tablas Resto de Ecuador'!E378)","v":24680},{"$f":"IF('INGRESO DE DATOS'!$W$13=1,'Tablas Guyanas y Santa Elena'!F378,'Tablas Resto de Ecuador'!F378)","v":17408},{"$f":"IF('INGRESO DE DATOS'!$W$13=1,'Tablas Guyanas y Santa Elena'!G378,'Tablas Resto de Ecuador'!G378)","v":12376},{"$f":"IF('INGRESO DE DATOS'!$W$13=1,'Tablas Guyanas y Santa Elena'!H378,'Tablas Resto de Ecuador'!H378)","v":9642},45093,32065,24680,17408,12376,9642]
[62,"62",47929,35640,27414,19335,13744,10697,null,{"$f":"IF('INGRESO DE DATOS'!$W$13=1,'Tablas Guyanas y Santa Elena'!C379,'Tablas Resto de Ecuador'!C379)","v":47929},{"$f":"IF('INGRESO DE DATOS'!$W$13=1,'Tablas Guyanas y Santa Elena'!D379,'Tablas Resto de Ecuador'!D379)","v":35640},{"$f":"IF('INGRESO DE DATOS'!$W$13=1,'Tablas Guyanas y Santa Elena'!E379,'Tablas Resto de Ecuador'!E379)","v":27414},{"$f":"IF('INGRESO DE DATOS'!$W$13=1,'Tablas Guyanas y Santa Elena'!F379,'Tablas Resto de Ecuador'!F379)","v":19335},{"$f":"IF('INGRESO DE DATOS'!$W$13=1,'Tablas Guyanas y Santa Elena'!G379,'Tablas Resto de Ecuador'!G379)","v":13744},{"$f":"IF('INGRESO DE DATOS'!$W$13=1,'Tablas Guyanas y Santa Elena'!H379,'Tablas Resto de Ecuador'!H379)","v":10697},47929,35640,27414,19335,13744,10697]
[63,"63",49600,39200,30156,21272,15115,11782,null,{"$f":"IF('INGRESO DE DATOS'!$W$13=1,'Tablas Guyanas y Santa Elena'!C380,'Tablas Resto de Ecuador'!C380)","v":49600},{"$f":"IF('INGRESO DE DATOS'!$W$13=1,'Tablas Guyanas y Santa Elena'!D380,'Tablas Resto de Ecuador'!D380)","v":39200},{"$f":"IF('INGRESO DE DATOS'!$W$13=1,'Tablas Guyanas y Santa Elena'!E380,'Tablas Resto de Ecuador'!E380)","v":30156},{"$f":"IF('INGRESO DE DATOS'!$W$13=1,'Tablas Guyanas y Santa Elena'!F380,'Tablas Resto de Ecuador'!F380)","v":21272},{"$f":"IF('INGRESO DE DATOS'!$W$13=1,'Tablas Guyanas y Santa Elena'!G380,'Tablas Resto de Ecuador'!G380)","v":15115},{"$f":"IF('INGRESO DE DATOS'!$W$13=1,'Tablas Guyanas y Santa Elena'!H380,'Tablas Resto de Ecuador'!H380)","v":11782},49600,39200,30156,21272,15115,11782]
[64,"64",51424,42314,32889,23214,16480,12837,null,{"$f":"IF('INGRESO DE DATOS'!$W$13=1,'Tablas Guyanas y Santa Elena'!C381,'Tablas Resto de Ecuador'!C381)","v":51424},{"$f":"IF('INGRESO DE DATOS'!$W$13=1,'Tablas Guyanas y Santa Elena'!D381,'Tablas Resto de Ecuador'!D381)","v":42314},{"$f":"IF('INGRESO DE DATOS'!$W$13=1,'Tablas Guyanas y Santa Elena'!E381,'Tablas Resto de Ecuador'!E381)","v":32889},{"$f":"IF('INGRESO DE DATOS'!$W$13=1,'Tablas Guyanas y Santa Elena'!F381,'Tablas Resto de Ecuador'!F381)","v":23214},{"$f":"IF('INGRESO DE DATOS'!$W$13=1,'Tablas Guyanas y Santa Elena'!G381,'Tablas Resto de Ecuador'!G381)","v":16480},{"$f":"IF('INGRESO DE DATOS'!$W$13=1,'Tablas Guyanas y Santa Elena'!H381,'Tablas Resto de Ecuador'!H381)","v":12837},51424,42314,32889,23214,16480,12837]
[65,"65",54330,44572,35784,25277,17943,14597,null,{"$f":"IF('INGRESO DE DATOS'!$W$13=1,'Tablas Guyanas y Santa Elena'!C382,'Tablas Resto de Ecuador'!C382)","v":54330},{"$f":"IF('INGRESO DE DATOS'!$W$13=1,'Tablas Guyanas y Santa Elena'!D382,'Tablas Resto de Ecuador'!D382)","v":44572},{"$f":"IF('INGRESO DE DATOS'!$W$13=1,'Tablas Guyanas y Santa Elena'!E382,'Tablas Resto de Ecuador'!E382)","v":35784},{"$f":"IF('INGRESO DE DATOS'!$W$13=1,'Tablas Guyanas y Santa Elena'!F382,'Tablas Resto de Ecuador'!F382)","v":25277},{"$f":"IF('INGRESO DE DATOS'!$W$13=1,'Tablas Guyanas y Santa Elena'!G382,'Tablas Resto de Ecuador'!G382)","v":17943},{"$f":"IF('INGRESO DE DATOS'!$W$13=1,'Tablas Guyanas y Santa Elena'!H382,'Tablas Resto de Ecuador'!H382)","v":14597},54330,44572,35784,25277,17943,14597]
[66,"66",57991,47877,37899,26768,18999,15456,null,{"$f":"IF('INGRESO DE DATOS'!$W$13=1,'Tablas Guyanas y Santa Elena'!C383,'Tablas Resto de Ecuador'!C383)","v":57991},{"$f":"IF('INGRESO DE DATOS'!$W$13=1,'Tablas Guyanas y Santa Elena'!D383,'Tablas Resto de Ecuador'!D383)","v":47877},{"$f":"IF('INGRESO DE DATOS'!$W$13=1,'Tablas Guyanas y Santa Elena'!E383,'Tablas Resto de Ecuador'!E383)","v":37899},{"$f":"IF('INGRESO DE DATOS'!$W$13=1,'Tablas Guyanas y Santa Elena'!F383,'Tablas Resto de Ecuador'!F383)","v":26768},{"$f":"IF('INGRESO DE DATOS'!$W$13=1,'Tablas Guyanas y Santa Elena'!G383,'Tablas Resto de Ecuador'!G383)","v":18999},{"$f":"IF('INGRESO DE DATOS'!$W$13=1,'Tablas Guyanas y Santa Elena'!H383,'Tablas Resto de Ecuador'!H383)","v":15456},57991,47877,37899,26768,18999,15456]
[67,"67",61787,51564,42097,29740,21105,17170,null,{"$f":"IF('INGRESO DE DATOS'!$W$13=1,'Tablas Guyanas y Santa Elena'!C384,'Tablas Resto de Ecuador'!C384)","v":61787},{"$f":"IF('INGRESO DE DATOS'!$W$13=1,'Tablas Guyanas y Santa Elena'!D384,'Tablas Resto de Ecuador'!D384)","v":51564},{"$f":"IF('INGRESO DE DATOS'!$W$13=1,'Tablas Guyanas y Santa Elena'!E384,'Tablas Resto de Ecuador'!E384)","v":42097},{"$f":"IF('INGRESO DE DATOS'!$W$13=1,'Tablas Guyanas y Santa Elena'!F384,'Tablas Resto de Ecuador'!F384)","v":29740},{"$f":"IF('INGRESO DE DATOS'!$W$13=1,'Tablas Guyanas y Santa Elena'!G384,'Tablas Resto de Ecuador'!G384)","v":21105},{"$f":"IF('INGRESO DE DATOS'!$W$13=1,'Tablas Guyanas y Santa Elena'!H384,'Tablas Resto de Ecuador'!H384)","v":17170},61787,51564,42097,29740,21105,17170]
[68,"68",66210,55770,46305,32704,23209,18869,null,{"$f":"IF('INGRESO DE DATOS'!$W$13=1,'Tablas Guyanas y Santa Elena'!C385,'Tablas Resto de Ecuador'!C385)","v":66210},{"$f":"IF('INGRESO DE DATOS'!$W$13=1,'Tablas Guyanas y Santa Elena'!D385,'Tablas Resto de Ecuador'!D385)","v":55770},{"$f":"IF('INGRESO DE DATOS'!$W$13=1,'Tablas Guyanas y Santa Elena'!E385,'Tablas Resto de Ecuador'!E385)","v":46305},{"$f":"IF('INGRESO DE DATOS'!$W$13=1,'Tablas Guyanas y Santa Elena'!F385,'Tablas Resto de Ecuador'!F385)","v":32704},{"$f":"IF('INGRESO DE DATOS'!$W$13=1,'Tablas Guyanas y Santa Elena'!G385,'Tablas Resto de Ecuador'!G385)","v":23209},{"$f":"IF('INGRESO DE DATOS'!$W$13=1,'Tablas Guyanas y Santa Elena'!H385,'Tablas Resto de Ecuador'!H385)","v":18869},66210,55770,46305,32704,23209,18869]
[69,"69",71751,60629,48401,34189,24258,19734,null,{"$f":"IF('INGRESO DE DATOS'!$W$13=1,'Tablas Guyanas y Santa Elena'!C386,'Tablas Resto de Ecuador'!C386)","v":71751},{"$f":"IF('INGRESO DE DATOS'!$W$13=1,'Tablas Guyanas y Santa Elena'!D386,'Tablas Resto de Ecuador'!D386)","v":60629},{"$f":"IF('INGRESO DE DATOS'!$W$13=1,'Tablas Guyanas y Santa Elena'!E386,'Tablas Resto de Ecuador'!E386)","v":48401},{"$f":"IF('INGRESO DE DATOS'!$W$13=1,'Tablas Guyanas y Santa Elena'!F386,'Tablas Resto de Ecuador'!F386)","v":34189},{"$f":"IF('INGRESO DE DATOS'!$W$13=1,'Tablas Guyanas y Santa Elena'!G386,'Tablas Resto de Ecuador'!G386)","v":24258},{"$f":"IF('INGRESO DE DATOS'!$W$13=1,'Tablas Guyanas y Santa Elena'!H386,'Tablas Resto de Ecuador'!H386)","v":19734},71751,60629,48401,34189,24258,19734]
[70,"70",78903,63326,49177,34712,24727,19992,null,{"$f":"IF('INGRESO DE DATOS'!$W$13=1,'Tablas Guyanas y Santa Elena'!C387,'Tablas Resto de Ecuador'!C387)","v":78903},{"$f":"IF('INGRESO DE DATOS'!$W$13=1,'Tablas Guyanas y Santa Elena'!D387,'Tablas Resto de Ecuador'!D387)","v":63326},{"$f":"IF('INGRESO DE DATOS'!$W$13=1,'Tablas Guyanas y Santa Elena'!E387,'Tablas Resto de Ecuador'!E387)","v":49177},{"$f":"IF('INGRESO DE DATOS'!$W$13=1,'Tablas Guyanas y Santa Elena'!F387,'Tablas Resto de Ecuador'!F387)","v":34712},{"$f":"IF('INGRESO DE DATOS'!$W$13=1,'Tablas Guyanas y Santa Elena'!G387,'Tablas Resto de Ecuador'!G387)","v":24727},{"$f":"IF('INGRESO DE DATOS'!$W$13=1,'Tablas Guyanas y Santa Elena'!H387,'Tablas Resto de Ecuador'!H387)","v":19992},78903,63326,49177,34712,24727,19992]
[71,"71",88177,71245,55313,39044,27799,22477,null,{"$f":"IF('INGRESO DE DATOS'!$W$13=1,'Tablas Guyanas y Santa Elena'!C388,'Tablas Resto de Ecuador'!C388)","v":88177},{"$f":"IF('INGRESO DE DATOS'!$W$13=1,'Tablas Guyanas y Santa Elena'!D388,'Tablas Resto de Ecuador'!D388)","v":71245},{"$f":"IF('INGRESO DE DATOS'!$W$13=1,'Tablas Guyanas y Santa Elena'!E388,'Tablas Resto de Ecuador'!E388)","v":55313},{"$f":"IF('INGRESO DE DATOS'!$W$13=1,'Tablas Guyanas y Santa Elena'!F388,'Tablas Resto de Ecuador'!F388)","v":39044},{"$f":"IF('INGRESO DE DATOS'!$W$13=1,'Tablas Guyanas y Santa Elena'!G388,'Tablas Resto de Ecuador'!G388)","v":27799},{"$f":"IF('INGRESO DE DATOS'!$W$13=1,'Tablas Guyanas y Santa Elena'!H388,'Tablas Resto de Ecuador'!H388)","v":22477},88177,71245,55313,39044,27799,22477]
[72,"72",99247,79144,61464,43378,30883,24972,null,{"$f":"IF('INGRESO DE DATOS'!$W$13=1,'Tablas Guyanas y Santa Elena'!C389,'Tablas Resto de Ecuador'!C389)","v":99247},{"$f":"IF('INGRESO DE DATOS'!$W$13=1,'Tablas Guyanas y Santa Elena'!D389,'Tablas Resto de Ecuador'!D389)","v":79144},{"$f":"IF('INGRESO DE DATOS'!$W$13=1,'Tablas Guyanas y Santa Elena'!E389,'Tablas Resto de Ecuador'!E389)","v":61464},{"$f":"IF('INGRESO DE DATOS'!$W$13=1,'Tablas Guyanas y Santa Elena'!F389,'Tablas Resto de Ecuador'!F389)","v":43378},{"$f":"IF('INGRESO DE DATOS'!$W$13=1,'Tablas Guyanas y Santa Elena'!G389,'Tablas Resto de Ecuador'!G389)","v":30883},{"$f":"IF('INGRESO DE DATOS'!$W$13=1,'Tablas Guyanas y Santa Elena'!H389,'Tablas Resto de Ecuador'!H389)","v":24972},99247,79144,61464,43378,30883,24972]
[73,"73",111343,87060,67599,47708,33970,27465,null,{"$f":"IF('INGRESO DE DATOS'!$W$13=1,'Tablas Guyanas y Santa Elena'!C390,'Tablas Resto de Ecuador'!C390)","v":111343},{"$f":"IF('INGRESO DE DATOS'!$W$13=1,'Tablas Guyanas y Santa Elena'!D390,'Tablas Resto de Ecuador'!D390)","v":87060},{"$f":"IF('INGRESO DE DATOS'!$W$13=1,'Tablas Guyanas y Santa Elena'!E390,'Tablas Resto de Ecuador'!E390)","v":67599},{"$f":"IF('INGRESO DE DATOS'!$W$13=1,'Tablas Guyanas y Santa Elena'!F390,'Tablas Resto de Ecuador'!F390)","v":47708},{"$f":"IF('INGRESO DE DATOS'!$W$13=1,'Tablas Guyanas y Santa Elena'!G390,'Tablas Resto de Ecuador'!G390)","v":33970},{"$f":"IF('INGRESO DE DATOS'!$W$13=1,'Tablas Guyanas y Santa Elena'!H390,'Tablas Resto de Ecuador'!H390)","v":27465},111343,87060,67599,47708,33970,27465]
[74,"74",123695,94973,73743,51388,37057,29957,null,{"$f":"IF('INGRESO DE DATOS'!$W$13=1,'Tablas Guyanas y Santa Elena'!C391,'Tablas Resto de Ecuador'!C391)","v":123695},{"$f":"IF('INGRESO DE DATOS'!$W$13=1,'Tablas Guyanas y Santa Elena'!D391,'Tablas Resto de Ecuador'!D391)","v":94973},{"$f":"IF('INGRESO DE DATOS'!$W$13=1,'Tablas Guyanas y Santa Elena'!E391,'Tablas Resto de Ecuador'!E391)","v":73743},{"$f":"IF('INGRESO DE DATOS'!$W$13=1,'Tablas Guyanas y Santa Elena'!F391,'Tablas Resto de Ecuador'!F391)","v":51388},{"$f":"IF('INGRESO DE DATOS'!$W$13=1,'Tablas Guyanas y Santa Elena'!G391,'Tablas Resto de Ecuador'!G391)","v":37057},{"$f":"IF('INGRESO DE DATOS'!$W$13=1,'Tablas Guyanas y Santa Elena'!H391,'Tablas Resto de Ecuador'!H391)","v":29957},123695,94973,73743,51388,37057,29957]
[75,"75+",135535,103875,82234,54619,40550,34360,null,{"$f":"IF('INGRESO DE DATOS'!$W$13=1,'Tablas Guyanas y Santa Elena'!C392,'Tablas Resto de Ecuador'!C392)","v":135535},{"$f":"IF('INGRESO DE DATOS'!$W$13=1,'Tablas Guyanas y Santa Elena'!D392,'Tablas Resto de Ecuador'!D392)","v":103875},{"$f":"IF('INGRESO DE DATOS'!$W$13=1,'Tablas Guyanas y Santa Elena'!E392,'Tablas Resto de Ecuador'!E392)","v":82234},{"$f":"IF('INGRESO DE DATOS'!$W$13=1,'Tablas Guyanas y Santa Elena'!F392,'Tablas Resto de Ecuador'!F392)","v":54619},{"$f":"IF('INGRESO DE DATOS'!$W$13=1,'Tablas Guyanas y Santa Elena'!G392,'Tablas Resto de Ecuador'!G392)","v":40550},{"$f":"IF('INGRESO DE DATOS'!$W$13=1,'Tablas Guyanas y Santa Elena'!H392,'Tablas Resto de Ecuador'!H392)","v":34360},135535,103875,82234,54619,40550,34360]
[1,"1 Child",6124,4728,3365,1751,1606,1431,null,{"$f":"IF('INGRESO DE DATOS'!$W$13=1,'Tablas Guyanas y Santa Elena'!C393,'Tablas Resto de Ecuador'!C393)","v":6124},{"$f":"IF('INGRESO DE DATOS'!$W$13=1,'Tablas Guyanas y Santa Elena'!D393,'Tablas Resto de Ecuador'!D393)","v":4728},{"$f":"IF('INGRESO DE DATOS'!$W$13=1,'Tablas Guyanas y Santa Elena'!E393,'Tablas Resto de Ecuador'!E393)","v":3365},{"$f":"IF('INGRESO DE DATOS'!$W$13=1,'Tablas Guyanas y Santa Elena'!F393,'Tablas Resto de Ecuador'!F393)","v":1751},{"$f":"IF('INGRESO DE DATOS'!$W$13=1,'Tablas Guyanas y Santa Elena'!G393,'Tablas Resto de Ecuador'!G393)","v":1606},{"$f":"IF('INGRESO DE DATOS'!$W$13=1,'Tablas Guyanas y Santa Elena'!H393,'Tablas Resto de Ecuador'!H393)","v":1431},{"$f":"(J464)*$N$2","v":6124},{"$f":"(K464)*$N$2","v":4728},3365,1751,1606,1431]
[2,"2 Children",9433,7696,5312,2373,2174,1857,null,{"$f":"IF('INGRESO DE DATOS'!$W$13=1,'Tablas Guyanas y Santa Elena'!C394,'Tablas Resto de Ecuador'!C394)","v":9433},{"$f":"IF('INGRESO DE DATOS'!$W$13=1,'Tablas Guyanas y Santa Elena'!D394,'Tablas Resto de Ecuador'!D394)","v":7696},{"$f":"IF('INGRESO DE DATOS'!$W$13=1,'Tablas Guyanas y Santa Elena'!E394,'Tablas Resto de Ecuador'!E394)","v":5312},{"$f":"IF('INGRESO DE DATOS'!$W$13=1,'Tablas Guyanas y Santa Elena'!F394,'Tablas Resto de Ecuador'!F394)","v":2373},{"$f":"IF('INGRESO DE DATOS'!$W$13=1,'Tablas Guyanas y Santa Elena'!G394,'Tablas Resto de Ecuador'!G394)","v":2174},{"$f":"IF('INGRESO DE DATOS'!$W$13=1,'Tablas Guyanas y Santa Elena'!H394,'Tablas Resto de Ecuador'!H394)","v":1857},{"$f":"(J465)*$N$2","v":9433},{"$f":"(K465)*$N$2","v":7696},{"$f":"(L465)*$N$2","v":5312},{"$f":"(M465)*$N$2","v":2373},{"$f":"(N465)*$N$2","v":2174},{"$f":"(O465)*$N$2","v":1857}]
[3,"3+ Children",13767,9522,7741,2942,2691,2251,null,{"$f":"IF('INGRESO DE DATOS'!$W$13=1,'Tablas Guyanas y Santa Elena'!C395,'Tablas Resto de Ecuador'!C395)","v":13767},{"$f":"IF('INGRESO DE DATOS'!$W$13=1,'Tablas Guyanas y Santa Elena'!D395,'Tablas Resto de Ecuador'!D395)","v":9522},{"$f":"IF('INGRESO DE DATOS'!$W$13=1,'Tablas Guyanas y Santa Elena'!E395,'Tablas Resto de Ecuador'!E395)","v":7741},{"$f":"IF('INGRESO DE DATOS'!$W$13=1,'Tablas Guyanas y Santa Elena'!F395,'Tablas Resto de Ecuador'!F395)","v":2942},{"$f":"IF('INGRESO DE DATOS'!$W$13=1,'Tablas Guyanas y Santa Elena'!G395,'Tablas Resto de Ecuador'!G395)","v":2691},{"$f":"IF('INGRESO DE DATOS'!$W$13=1,'Tablas Guyanas y Santa Elena'!H395,'Tablas Resto de Ecuador'!H395)","v":2251},13767,9522,7741,2942,2691,2251]
[1,"Rider Comp. Maternidad",{"$f":"J467*$V$2","v":225},{"$f":"K467*$V$2","v":225},{"$f":"L467*$V$2","v":225},225,225,225,null,{"$f":"IF('INGRESO DE DATOS'!$W$13=1,'Tablas Guyanas y Santa Elena'!C396,'Tablas Resto de Ecuador'!C396)","v":225},225,225,225,225,225]
[1,"Transplante de organos",{"$f":"J468*$V$2","v":300},{"$f":"K468*$V$2","v":300},{"$f":"L468*$V$2","v":300},{"$f":"M468*$V$2","v":300},{"$f":"N468*$V$2","v":300},{"$f":"O468*$V$2","v":300},null,{"$f":"IF('INGRESO DE DATOS'!$W$13=1,'Tablas Guyanas y Santa Elena'!C397,'Tablas Resto de Ecuador'!C397)","v":300},300,300,300,300,300]
[]
[]
[]
["TARIFAS SEMESTRALES "]
["EDAD"]
[" "," ","AW1","AW2","AW3","AW4","AW5","AW6"]
[18,"18-24",{"$f":"+C440*$G$2","v":7934.63},5677.89,4283.46,2157.1,1992.2700000000002,1635.5800000000002]
[25,"25-29",{"$f":"+C441*$G$2","v":8864.25},6313.3600000000006,4775.3,2484.11,2145.44,1723.5600000000002]
[30,"30-34",{"$f":"+C442*$G$2","v":10346.130000000001},7299.1600000000008,5600.51,3185.8300000000004,2836.03,2200.0300000000002]
[35,"35-39",{"$f":"+C443*$G$2","v":11672.720000000001},8086.7400000000007,6228.0300000000007,4207.1400000000003,3223.46,2436.94]
[40,"40-44",{"$f":"+C444*$G$2","v":13209.720000000001},9114.41,7054.83,4782.1900000000005,3595.52,2745.9300000000003]
[45,"45-49",{"$f":"+C445*$G$2","v":15244.390000000001},10584.1,8110.06,5448.93,4083.65,3184.2400000000002]
[50,"50-54",{"$f":"+C446*$G$2","v":14986.810000000001},11591.630000000001,9112.2900000000009,6426.7800000000007,4581.3200000000006,3488.46]
[55,"55-59",{"$f":"+C447*$G$2","v":17643.170000000002},13684.6,10508.310000000001,7469.29,5292.58,4111.74]
[60,"60",{"$f":"+C448*$G$2","v":21245.05},15111.36,11629.79,8209.17,5832.6500000000005,4542.63]
[61,"61",{"$f":"+C449*$G$2","v":23899.29},16994.45,13080.400000000001,9226.24,6559.2800000000007,5110.26]
[62,"62",{"$f":"+C450*$G$2","v":25402.370000000003},{"$f":"+D450*$G$2","v":18889.2},14529.42,10247.550000000001,7284.3200000000006,5669.41]
[63,"63",{"$f":"+C451*$G$2","v":26288},20776,15982.68,11274.16,8010.9500000000007,6244.46]
[64,"64",{"$f":"+C452*$G$2","v":27254.720000000001},22426.420000000002,17431.170000000002,12303.42,8734.4,6803.6100000000006]
[65,"65",{"$f":"+C453*$G$2","v":28794.9},23623.16,18965.52,13396.810000000001,9509.7900000000009,7736.4100000000008]
[66,"66",{"$f":"+C454*$G$2","v":30735.230000000003},25374.81,20086.47,14187.04,10069.470000000001,8191.68]
[67,"67",{"$f":"+C455*$G$2","v":32747.11},27328.920000000002,22311.41,15762.2,11185.650000000001,9100.1]
[68,"68",{"$f":"+C456*$G$2","v":35091.300000000003},29558.100000000002,24541.65,17333.120000000003,12300.77,10000.57]
[69,"69",{"$f":"+C457*$G$2","v":38028.03},32133.370000000003,25652.530000000002,18120.170000000002,12856.74,10459.02]
[70,"70",{"$f":"+C458*$G$2","v":41818.590000000004},33562.78,26063.81,18397.36,13105.310000000001,10595.76]
[71,"71",{"$f":"+C459*$G$2","v":46733.810000000005},37759.85,29315.890000000003,20693.32,14733.470000000001,11912.810000000001]
[72,"72",{"$f":"+C460*$G$2","v":52600.91},{"$f":"+D460*$G$2","v":41946.32},32575.920000000002,22990.34,16367.990000000002,13235.16]
[73,"73",{"$f":"+C461*$G$2","v":59011.79},46141.8,35827.47,25285.24,18004.100000000002,14556.45]
[74,"74",{"$f":"+C462*$G$2","v":65558.350000000006},50335.69,39083.79,27235.640000000003,19640.210000000003,15877.210000000001]
[75,"75+",{"$f":"+C463*$G$2","v":71833.55},55053.75,43584.020000000004,28948.07,21491.5,18210.8]
[1,"1 Child",{"$f":"+C464*$G$2","v":3245.7200000000003},2505.84,1783.45,928.03000000000009,851.18000000000006,758.43000000000006]
[2,"2 Children",{"$f":"+C465*$G$2","v":4999.4900000000007},4078.88,2815.36,1257.69,1152.22,984.21]
[3,"3+ Children",{"$f":"+C466*$G$2","v":7296.51},5046.66,4102.7300000000005,1559.26,1426.23,1193.03]
[1,"Rider Comp. Maternidad",{"$f":"+C467*$G$2","v":119.25},119.25,119.25,119.25,119.25,119.25]
[1,"Transplante de organos",159,159,159,159,159,159]
[]
[]
["BUPA ADVANTAGE CARE (LATIN AMERICA)"]
["TARIFAS ANUALES"]
["EDAD"]
[" "," ","AW1","AW2","AW3","AW4","AW5","AW6"]
[18,"18-24",{"$f":"P510*$V$2","v":11843},{"$f":"Q510*$V$2","v":8442},{"$f":"R510*$V$2","v":6327},4578,3140,2479,null,{"$f":"IF('INGRESO DE DATOS'!$W$13=1,'Tablas Guyanas y Santa Elena'!C437,'Tablas Resto de Ecuador'!C437)","v":11843},{"$f":"IF('INGRESO DE DATOS'!$W$13=1,'Tablas Guyanas y Santa Elena'!D437,'Tablas Resto de Ecuador'!D437)","v":8442},{"$f":"IF('INGRESO DE DATOS'!$W$13=1,'Tablas Guyanas y Santa Elena'!E437,'Tablas Resto de Ecuador'!E437)","v":6327},{"$f":"IF('INGRESO DE DATOS'!$W$13=1,'Tablas Guyanas y Santa Elena'!F437,'Tablas Resto de Ecuador'!F437)","v":4578},{"$f":"IF('INGRESO DE DATOS'!$W$13=1,'Tablas Guyanas y Santa Elena'!G437,'Tablas Resto de Ecuador'!G437)","v":3140},{"$f":"IF('INGRESO DE DATOS'!$W$13=1,'Tablas Guyanas y Santa Elena'!H437,'Tablas Resto de Ecuador'!H437)","v":2479},{"$f":"(J510-50)*$N$2+50","v":11843},{"$f":"(K510-50)*$N$2+50","v":8442},{"$f":"(L510-50)*$N$2+50","v":6327},4578,3140,2479]
[25,"25-29",{"$f":"P511*$V$2","v":13224},{"$f":"Q511*$V$2","v":9387},{"$f":"R511*$V$2","v":7068},{"$f":"S511*$V$2","v":5102},{"$f":"T511*$V$2","v":3508},{"$f":"U511*$V$2","v":2758},null,{"$f":"IF('INGRESO DE DATOS'!$W$13=1,'Tablas Guyanas y Santa Elena'!C438,'Tablas Resto de Ecuador'!C438)","v":13224},{"$f":"IF('INGRESO DE DATOS'!$W$13=1,'Tablas Guyanas y Santa Elena'!D438,'Tablas Resto de Ecuador'!D438)","v":9387},{"$f":"IF('INGRESO DE DATOS'!$W$13=1,'Tablas Guyanas y Santa Elena'!E438,'Tablas Resto de Ecuador'!E438)","v":7068},{"$f":"IF('INGRESO DE DATOS'!$W$13=1,'Tablas Guyanas y Santa Elena'!F438,'Tablas Resto de Ecuador'!F438)","v":5102},{"$f":"IF('INGRESO DE DATOS'!$W$13=1,'Tablas Guyanas y Santa Elena'!G438,'Tablas Resto de Ecuador'!G438)","v":3508},{"$f":"IF('INGRESO DE DATOS'!$W$13=1,'Tablas Guyanas y Santa Elena'!H438,'Tablas Resto de Ecuador'!H438)","v":2758},{"$f":"(J511-50)*$N$2+50","v":13224},{"$f":"(K511-50)*$N$2+50","v":9387},{"$f":"(L511-50)*$N$2+50","v":7068},{"$f":"(M511-50)*$N$2+50","v":5102},{"$f":"(N511-50)*$N$2+50","v":3508},{"$f":"(O511-50)*$N$2+50","v":2758}]
[30,"30-34",15462,10875,8317,6064,4160,3207,null,{"$f":"IF('INGRESO DE DATOS'!$W$13=1,'Tablas Guyanas y Santa Elena'!C439,'Tablas Resto de Ecuador'!C439)","v":15462},{"$f":"IF('INGRESO DE DATOS'!$W$13=1,'Tablas Guyanas y Santa Elena'!D439,'Tablas Resto de Ecuador'!D439)","v":10875},{"$f":"IF('INGRESO DE DATOS'!$W$13=1,'Tablas Guyanas y Santa Elena'!E439,'Tablas Resto de Ecuador'!E439)","v":8317},{"$f":"IF('INGRESO DE DATOS'!$W$13=1,'Tablas Guyanas y Santa Elena'!F439,'Tablas Resto de Ecuador'!F439)","v":6064},{"$f":"IF('INGRESO DE DATOS'!$W$13=1,'Tablas Guyanas y Santa Elena'!G439,'Tablas Resto de Ecuador'!G439)","v":4160},{"$f":"IF('INGRESO DE DATOS'!$W$13=1,'Tablas Guyanas y Santa Elena'!H439,'Tablas Resto de Ecuador'!H439)","v":3207},15462,10875,8317,6064,4160,3207]
[35,"35-39",17456,12058,9257,6748,4749,3565,null,{"$f":"IF('INGRESO DE DATOS'!$W$13=1,'Tablas Guyanas y Santa Elena'!C440,'Tablas Resto de Ecuador'!C440)","v":17456},{"$f":"IF('INGRESO DE DATOS'!$W$13=1,'Tablas Guyanas y Santa Elena'!D440,'Tablas Resto de Ecuador'!D440)","v":12058},{"$f":"IF('INGRESO DE DATOS'!$W$13=1,'Tablas Guyanas y Santa Elena'!E440,'Tablas Resto de Ecuador'!E440)","v":9257},{"$f":"IF('INGRESO DE DATOS'!$W$13=1,'Tablas Guyanas y Santa Elena'!F440,'Tablas Resto de Ecuador'!F440)","v":6748},{"$f":"IF('INGRESO DE DATOS'!$W$13=1,'Tablas Guyanas y Santa Elena'!G440,'Tablas Resto de Ecuador'!G440)","v":4749},{"$f":"IF('INGRESO DE DATOS'!$W$13=1,'Tablas Guyanas y Santa Elena'!H440,'Tablas Resto de Ecuador'!H440)","v":3565},17456,12058,9257,6748,4749,3565]
[40,"40-44",19760,13616,10498,7662,5306,4024,null,{"$f":"IF('INGRESO DE DATOS'!$W$13=1,'Tablas Guyanas y Santa Elena'!C441,'Tablas Resto de Ecuador'!C441)","v":19760},{"$f":"IF('INGRESO DE DATOS'!$W$13=1,'Tablas Guyanas y Santa Elena'!D441,'Tablas Resto de Ecuador'!D441)","v":13616},{"$f":"IF('INGRESO DE DATOS'!$W$13=1,'Tablas Guyanas y Santa Elena'!E441,'Tablas Resto de Ecuador'!E441)","v":10498},{"$f":"IF('INGRESO DE DATOS'!$W$13=1,'Tablas Guyanas y Santa Elena'!F441,'Tablas Resto de Ecuador'!F441)","v":7662},{"$f":"IF('INGRESO DE DATOS'!$W$13=1,'Tablas Guyanas y Santa Elena'!G441,'Tablas Resto de Ecuador'!G441)","v":5306},{"$f":"IF('INGRESO DE DATOS'!$W$13=1,'Tablas Guyanas y Santa Elena'!H441,'Tablas Resto de Ecuador'!H441)","v":4024},19760,13616,10498,7662,5306,4024]
[45,"45-49",22846,15805,12090,8630,6036,4679,null,{"$f":"IF('INGRESO DE DATOS'!$W$13=1,'Tablas Guyanas y Santa Elena'!C442,'Tablas Resto de Ecuador'!C442)","v":22846},{"$f":"IF('INGRESO DE DATOS'!$W$13=1,'Tablas Guyanas y Santa Elena'!D442,'Tablas Resto de Ecuador'!D442)","v":15805},{"$f":"IF('INGRESO DE DATOS'!$W$13=1,'Tablas Guyanas y Santa Elena'!E442,'Tablas Resto de Ecuador'!E442)","v":12090},{"$f":"IF('INGRESO DE DATOS'!$W$13=1,'Tablas Guyanas y Santa Elena'!F442,'Tablas Resto de Ecuador'!F442)","v":8630},{"$f":"IF('INGRESO DE DATOS'!$W$13=1,'Tablas Guyanas y Santa Elena'!G442,'Tablas Resto de Ecuador'!G442)","v":6036},{"$f":"IF('INGRESO DE DATOS'!$W$13=1,'Tablas Guyanas y Santa Elena'!H442,'Tablas Resto de Ecuador'!H442)","v":4679},22846,15805,12090,8630,6036,4679]
[50,"50-54",25848,17327,13607,10075,6796,5144,null,{"$f":"IF('INGRESO DE DATOS'!$W$13=1,'Tablas Guyanas y Santa Elena'!C443,'Tablas Resto de Ecuador'!C443)","v":25848},{"$f":"IF('INGRESO DE DATOS'!$W$13=1,'Tablas Guyanas y Santa Elena'!D443,'Tablas Resto de Ecuador'!D443)","v":17327},{"$f":"IF('INGRESO DE DATOS'!$W$13=1,'Tablas Guyanas y Santa Elena'!E443,'Tablas Resto de Ecuador'!E443)","v":13607},{"$f":"IF('INGRESO DE DATOS'!$W$13=1,'Tablas Guyanas y Santa Elena'!F443,'Tablas Resto de Ecuador'!F443)","v":10075},{"$f":"IF('INGRESO DE DATOS'!$W$13=1,'Tablas Guyanas y Santa Elena'!G443,'Tablas Resto de Ecuador'!G443)","v":6796},{"$f":"IF('INGRESO DE DATOS'!$W$13=1,'Tablas Guyanas y Santa Elena'!H443,'Tablas Resto de Ecuador'!H443)","v":5144},25848,17327,13607,10075,6796,5144]
[55,"55-59",29960,20484,15703,11146,7871,6073,null,{"$f":"IF('INGRESO DE DATOS'!$W$13=1,'Tablas Guyanas y Santa Elena'!C444,'Tablas Resto de Ecuador'!C444)","v":29960},{"$f":"IF('INGRESO DE DATOS'!$W$13=1,'Tablas Guyanas y Santa Elena'!D444,'Tablas Resto de Ecuador'!D444)","v":20484},{"$f":"IF('INGRESO DE DATOS'!$W$13=1,'Tablas Guyanas y Santa Elena'!E444,'Tablas Resto de Ecuador'!E444)","v":15703},{"$f":"IF('INGRESO DE DATOS'!$W$13=1,'Tablas Guyanas y Santa Elena'!F444,'Tablas Resto de Ecuador'!F444)","v":11146},{"$f":"IF('INGRESO DE DATOS'!$W$13=1,'Tablas Guyanas y Santa Elena'!G444,'Tablas Resto de Ecuador'!G444)","v":7871},{"$f":"IF('INGRESO DE DATOS'!$W$13=1,'Tablas Guyanas y Santa Elena'!H444,'Tablas Resto de Ecuador'!H444)","v":6073},29960,20484,15703,11146,7871,6073]
[60,"60",31874,22632,17393,12268,8681,6743,null,{"$f":"IF('INGRESO DE DATOS'!$W$13=1,'Tablas Guyanas y Santa Elena'!C445,'Tablas Resto de Ecuador'!C445)","v":31874},{"$f":"IF('INGRESO DE DATOS'!$W$13=1,'Tablas Guyanas y Santa Elena'!D445,'Tablas Resto de Ecuador'!D445)","v":22632},{"$f":"IF('INGRESO DE DATOS'!$W$13=1,'Tablas Guyanas y Santa Elena'!E445,'Tablas Resto de Ecuador'!E445)","v":17393},{"$f":"IF('INGRESO DE DATOS'!$W$13=1,'Tablas Guyanas y Santa Elena'!F445,'Tablas Resto de Ecuador'!F445)","v":12268},{"$f":"IF('INGRESO DE DATOS'!$W$13=1,'Tablas Guyanas y Santa Elena'!G445,'Tablas Resto de Ecuador'!G445)","v":8681},{"$f":"IF('INGRESO DE DATOS'!$W$13=1,'Tablas Guyanas y Santa Elena'!H445,'Tablas Resto de Ecuador'!H445)","v":6743},31874,22632,17393,12268,8681,6743]
[61,"61",35878,25475,19584,13790,9772,7585,null,{"$f":"IF('INGRESO DE DATOS'!$W$13=1,'Tablas Guyanas y Santa Elena'!C446,'Tablas Resto de Ecuador'!C446)","v":35878},{"$f":"IF('INGRESO DE DATOS'!$W$13=1,'Tablas Guyanas y Santa Elena'!D446,'Tablas Resto de Ecuador'!D446)","v":25475},{"$f":"IF('INGRESO DE DATOS'!$W$13=1,'Tablas Guyanas y Santa Elena'!E446,'Tablas Resto de Ecuador'!E446)","v":19584},{"$f":"IF('INGRESO DE DATOS'!$W$13=1,'Tablas Guyanas y Santa Elena'!F446,'Tablas Resto de Ecuador'!F446)","v":13790},{"$f":"IF('INGRESO DE DATOS'!$W$13=1,'Tablas Guyanas y Santa Elena'!G446,'Tablas Resto de Ecuador'!G446)","v":9772},{"$f":"IF('INGRESO DE DATOS'!$W$13=1,'Tablas Guyanas y Santa Elena'!H446,'Tablas Resto de Ecuador'!H446)","v":7585},35878,25475,19584,13790,9772,7585]
[62,"62",39879,28328,21771,15337,10865,8439,null,{"$f":"IF('INGRESO DE DATOS'!$W$13=1,'Tablas Guyanas y Santa Elena'!C447,'Tablas Resto de Ecuador'!C447)","v":39879},{"$f":"IF('INGRESO DE DATOS'!$W$13=1,'Tablas Guyanas y Santa Elena'!D447,'Tablas Resto de Ecuador'!D447)","v":28328},{"$f":"IF('INGRESO DE DATOS'!$W$13=1,'Tablas Guyanas y Santa Elena'!E447,'Tablas Resto de Ecuador'!E447)","v":21771},{"$f":"IF('INGRESO DE DATOS'!$W$13=1,'Tablas Guyanas y Santa Elena'!F447,'Tablas Resto de Ecuador'!F447)","v":15337},{"$f":"IF('INGRESO DE DATOS'!$W$13=1,'Tablas Guyanas y Santa Elena'!G447,'Tablas Resto de Ecuador'!G447)","v":10865},{"$f":"IF('INGRESO DE DATOS'!$W$13=1,'Tablas Guyanas y Santa Elena'!H447,'Tablas Resto de Ecuador'!H447)","v":8439},39879,28328,21771,15337,10865,8439]
[63,"63",43878,31163,23956,16885,11970,9291,null,{"$f":"IF('INGRESO DE DATOS'!$W$13=1,'Tablas Guyanas y Santa Elena'!C448,'Tablas Resto de Ecuador'!C448)","v":43878},{"$f":"IF('INGRESO DE DATOS'!$W$13=1,'Tablas Guyanas y Santa Elena'!D448,'Tablas Resto de Ecuador'!D448)","v":31163},{"$f":"IF('INGRESO DE DATOS'!$W$13=1,'Tablas Guyanas y Santa Elena'!E448,'Tablas Resto de Ecuador'!E448)","v":23956},{"$f":"IF('INGRESO DE DATOS'!$W$13=1,'Tablas Guyanas y Santa Elena'!F448,'Tablas Resto de Ecuador'!F448)","v":16885},{"$f":"IF('INGRESO DE DATOS'!$W$13=1,'Tablas Guyanas y Santa Elena'!G448,'Tablas Resto de Ecuador'!G448)","v":11970},{"$f":"IF('INGRESO DE DATOS'!$W$13=1,'Tablas Guyanas y Santa Elena'!H448,'Tablas Resto de Ecuador'!H448)","v":9291},43878,31163,23956,16885,11970,9291]
[64,"64",47874,34012,26131,18431,13061,10143,null,{"$f":"IF('INGRESO DE DATOS'!$W$13=1,'Tablas Guyanas y Santa Elena'!C449,'Tablas Resto de Ecuador'!C449)","v":47874},{"$f":"IF('INGRESO DE DATOS'!$W$13=1,'Tablas Guyanas y Santa Elena'!D449,'Tablas Resto de Ecuador'!D449)","v":34012},{"$f":"IF('INGRESO DE DATOS'!$W$13=1,'Tablas Guyanas y Santa Elena'!E449,'Tablas Resto de Ecuador'!E449)","v":26131},{"$f":"IF('INGRESO DE DATOS'!$W$13=1,'Tablas Guyanas y Santa Elena'!F449,'Tablas Resto de Ecuador'!F449)","v":18431},{"$f":"IF('INGRESO DE DATOS'!$W$13=1,'Tablas Guyanas y Santa Elena'!G449,'Tablas Resto de Ecuador'!G449)","v":13061},{"$f":"IF('INGRESO DE DATOS'!$W$13=1,'Tablas Guyanas y Santa Elena'!H449,'Tablas Resto de Ecuador'!H449)","v":10143},47874,34012,26131,18431,13061,10143]
[65,"65",52580,36768,28452,20080,14222,11554,null,{"$f":"IF('INGRESO DE DATOS'!$W$13=1,'Tablas Guyanas y Santa Elena'!C450,'Tablas Resto de Ecuador'!C450)","v":52580},{"$f":"IF('INGRESO DE DATOS'!$W$13=1,'Tablas Guyanas y Santa Elena'!D450,'Tablas Resto de Ecuador'!D450)","v":36768},{"$f":"IF('INGRESO DE DATOS'!$W$13=1,'Tablas Guyanas y Santa Elena'!E450,'Tablas Resto de Ecuador'!E450)","v":28452},{"$f":"IF('INGRESO DE DATOS'!$W$13=1,'Tablas Guyanas y Santa Elena'!F450,'Tablas Resto de Ecuador'!F450)","v":20080},{"$f":"IF('INGRESO DE DATOS'!$W$13=1,'Tablas Guyanas y Santa Elena'!G450,'Tablas Resto de Ecuador'!G450)","v":14222},{"$f":"IF('INGRESO DE DATOS'!$W$13=1,'Tablas Guyanas y Santa Elena'!H450,'Tablas Resto de Ecuador'!H450)","v":11554},52580,36768,28452,20080,14222,11554]
[66,"66",55690,38938,30125,21272,15063,12232,null,{"$f":"IF('INGRESO DE DATOS'!$W$13=1,'Tablas Guyanas y Santa Elena'!C451,'Tablas Resto de Ecuador'!C451)","v":55690},{"$f":"IF('INGRESO DE DATOS'!$W$13=1,'Tablas Guyanas y Santa Elena'!D451,'Tablas Resto de Ecuador'!D451)","v":38938},{"$f":"IF('INGRESO DE DATOS'!$W$13=1,'Tablas Guyanas y Santa Elena'!E451,'Tablas Resto de Ecuador'!E451)","v":30125},{"$f":"IF('INGRESO DE DATOS'!$W$13=1,'Tablas Guyanas y Santa Elena'!F451,'Tablas Resto de Ecuador'!F451)","v":21272},{"$f":"IF('INGRESO DE DATOS'!$W$13=1,'Tablas Guyanas y Santa Elena'!G451,'Tablas Resto de Ecuador'!G451)","v":15063},{"$f":"IF('INGRESO DE DATOS'!$W$13=1,'Tablas Guyanas y Santa Elena'!H451,'Tablas Resto de Ecuador'!H451)","v":12232},55690,38938,30125,21272,15063,12232]
[67,"67",61886,43270,33487,23652,16749,13608,null,{"$f":"IF('INGRESO DE DATOS'!$W$13=1,'Tablas Guyanas y Santa Elena'!C452,'Tablas Resto de Ecuador'!C452)","v":61886},{"$f":"IF('INGRESO DE DATOS'!$W$13=1,'Tablas Guyanas y Santa Elena'!D452,'Tablas Resto de Ecuador'!D452)","v":43270},{"$f":"IF('INGRESO DE DATOS'!$W$13=1,'Tablas Guyanas y Santa Elena'!E452,'Tablas Resto de Ecuador'!E452)","v":33487},{"$f":"IF('INGRESO DE DATOS'!$W$13=1,'Tablas Guyanas y Santa Elena'!F452,'Tablas Resto de Ecuador'!F452)","v":23652},{"$f":"IF('INGRESO DE DATOS'!$W$13=1,'Tablas Guyanas y Santa Elena'!G452,'Tablas Resto de Ecuador'!G452)","v":16749},{"$f":"IF('INGRESO DE DATOS'!$W$13=1,'Tablas Guyanas y Santa Elena'!H452,'Tablas Resto de Ecuador'!H452)","v":13608},61886,43270,33487,23652,16749,13608]
[68,"68",68091,47606,36845,26015,18439,14973,null,{"$f":"IF('INGRESO DE DATOS'!$W$13=1,'Tablas Guyanas y Santa Elena'!C453,'Tablas Resto de Ecuador'!C453)","v":68091},{"$f":"IF('INGRESO DE DATOS'!$W$13=1,'Tablas Guyanas y Santa Elena'!D453,'Tablas Resto de Ecuador'!D453)","v":47606},{"$f":"IF('INGRESO DE DATOS'!$W$13=1,'Tablas Guyanas y Santa Elena'!E453,'Tablas Resto de Ecuador'!E453)","v":36845},{"$f":"IF('INGRESO DE DATOS'!$W$13=1,'Tablas Guyanas y Santa Elena'!F453,'Tablas Resto de Ecuador'!F453)","v":26015},{"$f":"IF('INGRESO DE DATOS'!$W$13=1,'Tablas Guyanas y Santa Elena'!G453,'Tablas Resto de Ecuador'!G453)","v":18439},{"$f":"IF('INGRESO DE DATOS'!$W$13=1,'Tablas Guyanas y Santa Elena'!H453,'Tablas Resto de Ecuador'!H453)","v":14973},68091,47606,36845,26015,18439,14973]
[69,"69",71176,49780,38526,27202,19275,15656,null,{"$f":"IF('INGRESO DE DATOS'!$W$13=1,'Tablas Guyanas y Santa Elena'!C454,'Tablas Resto de Ecuador'!C454)","v":71176},{"$f":"IF('INGRESO DE DATOS'!$W$13=1,'Tablas Guyanas y Santa Elena'!D454,'Tablas Resto de Ecuador'!D454)","v":49780},{"$f":"IF('INGRESO DE DATOS'!$W$13=1,'Tablas Guyanas y Santa Elena'!E454,'Tablas Resto de Ecuador'!E454)","v":38526},{"$f":"IF('INGRESO DE DATOS'!$W$13=1,'Tablas Guyanas y Santa Elena'!F454,'Tablas Resto de Ecuador'!F454)","v":27202},{"$f":"IF('INGRESO DE DATOS'!$W$13=1,'Tablas Guyanas y Santa Elena'!G454,'Tablas Resto de Ecuador'!G454)","v":19275},{"$f":"IF('INGRESO DE DATOS'!$W$13=1,'Tablas Guyanas y Santa Elena'!H454,'Tablas Resto de Ecuador'!H454)","v":15656},71176,49780,38526,27202,19275,15656]
[70,"70",72705,50430,39127,27621,19645,15860,null,{"$f":"IF('INGRESO DE DATOS'!$W$13=1,'Tablas Guyanas y Santa Elena'!C455,'Tablas Resto de Ecuador'!C455)","v":72705},{"$f":"IF('INGRESO DE DATOS'!$W$13=1,'Tablas Guyanas y Santa Elena'!D455,'Tablas Resto de Ecuador'!D455)","v":50430},{"$f":"IF('INGRESO DE DATOS'!$W$13=1,'Tablas Guyanas y Santa Elena'!E455,'Tablas Resto de Ecuador'!E455)","v":39127},{"$f":"IF('INGRESO DE DATOS'!$W$13=1,'Tablas Guyanas y Santa Elena'!F455,'Tablas Resto de Ecuador'!F455)","v":27621},{"$f":"IF('INGRESO DE DATOS'!$W$13=1,'Tablas Guyanas y Santa Elena'!G455,'Tablas Resto de Ecuador'!G455)","v":19645},{"$f":"IF('INGRESO DE DATOS'!$W$13=1,'Tablas Guyanas y Santa Elena'!H455,'Tablas Resto de Ecuador'!H455)","v":15860},72705,50430,39127,27621,19645,15860]
[71,"71",81803,56751,44036,31086,22097,17850,null,{"$f":"IF('INGRESO DE DATOS'!$W$13=1,'Tablas Guyanas y Santa Elena'!C456,'Tablas Resto de Ecuador'!C456)","v":81803},{"$f":"IF('INGRESO DE DATOS'!$W$13=1,'Tablas Guyanas y Santa Elena'!D456,'Tablas Resto de Ecuador'!D456)","v":56751},{"$f":"IF('INGRESO DE DATOS'!$W$13=1,'Tablas Guyanas y Santa Elena'!E456,'Tablas Resto de Ecuador'!E456)","v":44036},{"$f":"IF('INGRESO DE DATOS'!$W$13=1,'Tablas Guyanas y Santa Elena'!F456,'Tablas Resto de Ecuador'!F456)","v":31086},{"$f":"IF('INGRESO DE DATOS'!$W$13=1,'Tablas Guyanas y Santa Elena'!G456,'Tablas Resto de Ecuador'!G456)","v":22097},{"$f":"IF('INGRESO DE DATOS'!$W$13=1,'Tablas Guyanas y Santa Elena'!H456,'Tablas Resto de Ecuador'!H456)","v":17850},81803,56751,44036,31086,22097,17850]
[72,"72",90891,63049,48950,34540,24567,19838,null,{"$f":"IF('INGRESO DE DATOS'!$W$13=1,'Tablas Guyanas y Santa Elena'!C457,'Tablas Resto de Ecuador'!C457)","v":90891},{"$f":"IF('INGRESO DE DATOS'!$W$13=1,'Tablas Guyanas y Santa Elena'!D457,'Tablas Resto de Ecuador'!D457)","v":63049},{"$f":"IF('INGRESO DE DATOS'!$W$13=1,'Tablas Guyanas y Santa Elena'!E457,'Tablas Resto de Ecuador'!E457)","v":48950},{"$f":"IF('INGRESO DE DATOS'!$W$13=1,'Tablas Guyanas y Santa Elena'!F457,'Tablas Resto de Ecuador'!F457)","v":34540},{"$f":"IF('INGRESO DE DATOS'!$W$13=1,'Tablas Guyanas y Santa Elena'!G457,'Tablas Resto de Ecuador'!G457)","v":24567},{"$f":"IF('INGRESO DE DATOS'!$W$13=1,'Tablas Guyanas y Santa Elena'!H457,'Tablas Resto de Ecuador'!H457)","v":19838},90891,63049,48950,34540,24567,19838]
[73,"73",99995,69381,53844,38011,27030,21830,null,{"$f":"IF('INGRESO DE DATOS'!$W$13=1,'Tablas Guyanas y Santa Elena'!C458,'Tablas Resto de Ecuador'!C458)","v":99995},{"$f":"IF('INGRESO DE DATOS'!$W$13=1,'Tablas Guyanas y Santa Elena'!D458,'Tablas Resto de Ecuador'!D458)","v":69381},{"$f":"IF('INGRESO DE DATOS'!$W$13=1,'Tablas Guyanas y Santa Elena'!E458,'Tablas Resto de Ecuador'!E458)","v":53844},{"$f":"IF('INGRESO DE DATOS'!$W$13=1,'Tablas Guyanas y Santa Elena'!F458,'Tablas Resto de Ecuador'!F458)","v":38011},{"$f":"IF('INGRESO DE DATOS'!$W$13=1,'Tablas Guyanas y Santa Elena'!G458,'Tablas Resto de Ecuador'!G458)","v":27030},{"$f":"IF('INGRESO DE DATOS'!$W$13=1,'Tablas Guyanas y Santa Elena'!H458,'Tablas Resto de Ecuador'!H458)","v":21830},99995,69381,53844,38011,27030,21830]
[74,"74",109089,75706,58754,41479,29504,23834,null,{"$f":"IF('INGRESO DE DATOS'!$W$13=1,'Tablas Guyanas y Santa Elena'!C459,'Tablas Resto de Ecuador'!C459)","v":109089},{"$f":"IF('INGRESO DE DATOS'!$W$13=1,'Tablas Guyanas y Santa Elena'!D459,'Tablas Resto de Ecuador'!D459)","v":75706},{"$f":"IF('INGRESO DE DATOS'!$W$13=1,'Tablas Guyanas y Santa Elena'!E459,'Tablas Resto de Ecuador'!E459)","v":58754},{"$f":"IF('INGRESO DE DATOS'!$W$13=1,'Tablas Guyanas y Santa Elena'!F459,'Tablas Resto de Ecuador'!F459)","v":41479},{"$f":"IF('INGRESO DE DATOS'!$W$13=1,'Tablas Guyanas y Santa Elena'!G459,'Tablas Resto de Ecuador'!G459)","v":29504},{"$f":"IF('INGRESO DE DATOS'!$W$13=1,'Tablas Guyanas y Santa Elena'!H459,'Tablas Resto de Ecuador'!H459)","v":23834},109089,75706,58754,41479,29504,23834]
[75,"75+",119126,82799,65531,47586,32297,27343,null,{"$f":"IF('INGRESO DE DATOS'!$W$13=1,'Tablas Guyanas y Santa Elena'!C460,'Tablas Resto de Ecuador'!C460)","v":119126},{"$f":"IF('INGRESO DE DATOS'!$W$13=1,'Tablas Guyanas y Santa Elena'!D460,'Tablas Resto de Ecuador'!D460)","v":82799},{"$f":"IF('INGRESO DE DATOS'!$W$13=1,'Tablas Guyanas y Santa Elena'!E460,'Tablas Resto de Ecuador'!E460)","v":65531},{"$f":"IF('INGRESO DE DATOS'!$W$13=1,'Tablas Guyanas y Santa Elena'!F460,'Tablas Resto de Ecuador'!F460)","v":47586},{"$f":"IF('INGRESO DE DATOS'!$W$13=1,'Tablas Guyanas y Santa Elena'!G460,'Tablas Resto de Ecuador'!G460)","v":32297},{"$f":"IF('INGRESO DE DATOS'!$W$13=1,'Tablas Guyanas y Santa Elena'!H460,'Tablas Resto de Ecuador'!H460)","v":27343},119126,82799,65531,47586,32297,27343]
[1,"1 Child",4897,3767,2688,2013,1604,1159,null,{"$f":"IF('INGRESO DE DATOS'!$W$13=1,'Tablas Guyanas y Santa Elena'!C461,'Tablas Resto de Ecuador'!C461)","v":4897},{"$f":"IF('INGRESO DE DATOS'!$W$13=1,'Tablas Guyanas y Santa Elena'!D461,'Tablas Resto de Ecuador'!D461)","v":3767},{"$f":"IF('INGRESO DE DATOS'!$W$13=1,'Tablas Guyanas y Santa Elena'!E461,'Tablas Resto de Ecuador'!E461)","v":2688},{"$f":"IF('INGRESO DE DATOS'!$W$13=1,'Tablas Guyanas y Santa Elena'!F461,'Tablas Resto de Ecuador'!F461)","v":2013},{"$f":"IF('INGRESO DE DATOS'!$W$13=1,'Tablas Guyanas y Santa Elena'!G461,'Tablas Resto de Ecuador'!G461)","v":1604},{"$f":"IF('INGRESO DE DATOS'!$W$13=1,'Tablas Guyanas y Santa Elena'!H461,'Tablas Resto de Ecuador'!H461)","v":1159},{"$f":"(J534)*$N$2","v":4897},{"$f":"(K534)*$N$2","v":3767},2688,2013,1604,1159]
[2,"2 Children",7533,6137,4245,3181,2530,1695,null,{"$f":"IF('INGRESO DE DATOS'!$W$13=1,'Tablas Guyanas y Santa Elena'!C462,'Tablas Resto de Ecuador'!C462)","v":7533},{"$f":"IF('INGRESO DE DATOS'!$W$13=1,'Tablas Guyanas y Santa Elena'!D462,'Tablas Resto de Ecuador'!D462)","v":6137},{"$f":"IF('INGRESO DE DATOS'!$W$13=1,'Tablas Guyanas y Santa Elena'!E462,'Tablas Resto de Ecuador'!E462)","v":4245},{"$f":"IF('INGRESO DE DATOS'!$W$13=1,'Tablas Guyanas y Santa Elena'!F462,'Tablas Resto de Ecuador'!F462)","v":3181},{"$f":"IF('INGRESO DE DATOS'!$W$13=1,'Tablas Guyanas y Santa Elena'!G462,'Tablas Resto de Ecuador'!G462)","v":2530},{"$f":"IF('INGRESO DE DATOS'!$W$13=1,'Tablas Guyanas y Santa Elena'!H462,'Tablas Resto de Ecuador'!H462)","v":1695},{"$f":"(J535)*$N$2","v":7533},{"$f":"(K535)*$N$2","v":6137},{"$f":"(L535)*$N$2","v":4245},{"$f":"(M535)*$N$2","v":3181},{"$f":"(N535)*$N$2","v":2530},{"$f":"(O535)*$N$2","v":1695}]
[3,"3+ Children",10987,8991,6177,4635,3655,2574,null,{"$f":"IF('INGRESO DE DATOS'!$W$13=1,'Tablas Guyanas y Santa Elena'!C463,'Tablas Resto de Ecuador'!C463)","v":10987},{"$f":"IF('INGRESO DE DATOS'!$W$13=1,'Tablas Guyanas y Santa Elena'!D463,'Tablas Resto de Ecuador'!D463)","v":8991},{"$f":"IF('INGRESO DE DATOS'!$W$13=1,'Tablas Guyanas y Santa Elena'!E463,'Tablas Resto de Ecuador'!E463)","v":6177},{"$f":"IF('INGRESO DE DATOS'!$W$13=1,'Tablas Guyanas y Santa Elena'!F463,'Tablas Resto de Ecuador'!F463)","v":4635},{"$f":"IF('INGRESO DE DATOS'!$W$13=1,'Tablas Guyanas y Santa Elena'!G463,'Tablas Resto de Ecuador'!G463)","v":3655},{"$f":"IF('INGRESO DE DATOS'!$W$13=1,'Tablas Guyanas y Santa Elena'!H463,'Tablas Resto de Ecuador'!H463)","v":2574},10987,8991,6177,4635,3655,2574]
[1,"Rider Comp. Maternidad",{"$f":"J537*$V$2","v":225},{"$f":"K537*$V$2","v":225},{"$f":"L537*$V$2","v":225},225,225,225,null,{"$f":"IF('INGRESO DE DATOS'!$W$13=1,'Tablas Guyanas y Santa Elena'!C464,'Tablas Resto de Ecuador'!C464)","v":225},225,225,225,225,225]
[1,"Transplante de organos",{"$f":"J538*$V$2","v":300},{"$f":"K538*$V$2","v":300},{"$f":"L538*$V$2","v":300},{"$f":"M538*$V$2","v":300},{"$f":"N538*$V$2","v":300},{"$f":"O538*$V$2","v":300},null,{"$f":"IF('INGRESO DE DATOS'!$W$13=1,'Tablas Guyanas y Santa Elena'!C465,'Tablas Resto de Ecuador'!C465)","v":300},300,300,300,300,300]
[]
[]
[]
["TARIFAS SEMESTRALES "]
["EDAD"]
[" "," ","AW1","AW2","AW3","AW4","AW5","AW6"]
[18,"18-24",{"$f":"+C510*$G$2","v":6276.79},4474.26,3353.31,2426.34,1664.2,1313.8700000000001]
[25,"25-29",{"$f":"+C511*$G$2","v":7008.72},{"$f":"+D511*$G$2","v":4975.1100000000006},3746.04,2704.06,1859.24,1461.74]
[30,"30-34",{"$f":"+C512*$G$2","v":8194.86},{"$f":"+D512*$G$2","v":5763.75},4408.01,3213.92,2204.8000000000002,1699.71]
[35,"35-39",{"$f":"+C513*$G$2","v":9251.68},{"$f":"+D513*$G$2","v":6390.7400000000007},4906.21,3576.44,2516.9700000000003,1889.45]
[40,"40-44",{"$f":"+C514*$G$2","v":10472.800000000001},{"$f":"+D514*$G$2","v":7216.4800000000005},5563.9400000000005,4060.86,2812.1800000000003,2132.7200000000003]
[45,"45-49",{"$f":"+C515*$G$2","v":12108.380000000001},{"$f":"+D515*$G$2","v":8376.65},6407.7000000000007,4573.9000000000005,3199.0800000000004,2479.8700000000003]
[50,"50-54",{"$f":"+C516*$G$2","v":13699.44},{"$f":"+D516*$G$2","v":9183.3100000000013},7211.71,5339.75,3601.88,2726.32]
[55,"55-59",{"$f":"+C517*$G$2","v":15878.800000000001},{"$f":"+D517*$G$2","v":10856.52},8322.59,5907.38,4171.63,3218.69]
[60,"60",{"$f":"+C518*$G$2","v":16893.22},{"$f":"+D518*$G$2","v":11994.960000000001},9218.2900000000009,6502.04,4600.93,3573.79]
[61,"61",{"$f":"+C519*$G$2","v":19015.34},{"$f":"+D519*$G$2","v":13501.75},10379.52,7308.7000000000007,5179.16,4020.05]
[62,"62",{"$f":"+C520*$G$2","v":21135.870000000003},{"$f":"+D520*$G$2","v":15013.84},11538.630000000001,8128.6100000000006,5758.4500000000007,4472.67]
[63,"63",{"$f":"+C521*$G$2","v":23255.34},{"$f":"+D521*$G$2","v":16516.39},12696.68,8949.0500000000011,6344.1,4924.2300000000005]
[64,"64",{"$f":"+C522*$G$2","v":25373.22},{"$f":"+D522*$G$2","v":18026.36},13849.43,9768.43,6922.33,5375.79]
[65,"65",{"$f":"+C523*$G$2","v":27867.4},{"$f":"+D523*$G$2","v":19487.04},15079.560000000001,10642.4,7537.6600000000008,6123.62]
[66,"66",{"$f":"+C524*$G$2","v":29515.7},{"$f":"+D524*$G$2","v":20637.14},15966.25,11274.16,7983.39,6482.96]
[67,"67",{"$f":"+C525*$G$2","v":32799.58},{"$f":"+D525*$G$2","v":22933.100000000002},17748.11,12535.560000000001,8876.9700000000012,7212.2400000000007]
[68,"68",{"$f":"+C526*$G$2","v":36088.230000000003},{"$f":"+D526*$G$2","v":25231.18},19527.850000000002,13787.95,9772.67,7935.6900000000005]
[69,"69",{"$f":"+C527*$G$2","v":37723.279999999999},{"$f":"+D527*$G$2","v":26383.4},20418.780000000002,14417.060000000001,10215.75,8297.68]
[70,"70",{"$f":"+C528*$G$2","v":38533.65},{"$f":"+D528*$G$2","v":26727.9},20737.310000000001,14639.130000000001,10411.85,8405.8000000000011]
[71,"71",{"$f":"+C529*$G$2","v":43355.590000000004},{"$f":"+D529*$G$2","v":30078.030000000002},23339.08,16475.580000000002,11711.41,9460.5]
[72,"72",{"$f":"+C530*$G$2","v":48172.23},{"$f":"+D530*$G$2","v":33415.97},25943.5,18306.2,13020.51,10514.140000000001]
[73,"73",{"$f":"+C531*$G$2","v":52997.350000000006},{"$f":"+D531*$G$2","v":36771.93},28537.32,20145.830000000002,14325.900000000001,11569.900000000001]
[74,"74",{"$f":"+C532*$G$2","v":57817.170000000006},{"$f":"+D532*$G$2","v":40124.18},31139.620000000003,21983.870000000003,15637.12,12632.02]
[75,"75+",{"$f":"+C533*$G$2","v":63136.780000000006},{"$f":"+D533*$G$2","v":43883.47},34731.43,25220.58,17117.41,14491.79]
[1,"1 Child",{"$f":"+C534*$G$2","v":2595.4100000000003},{"$f":"+D534*$G$2","v":1996.51},1424.64,1066.8900000000001,850.12,614.27]
[2,"2 Children",{"$f":"+C535*$G$2","v":3992.4900000000002},{"$f":"+D535*$G$2","v":3252.61},2249.85,1685.93,1340.9,898.35]
[3,"3+ Children",{"$f":"+C536*$G$2","v":5823.1100000000006},{"$f":"+D536*$G$2","v":4765.2300000000005},3273.81,2456.5500000000002,1937.15,1364.22]
[1,"Rider Comp. Maternidad",{"$f":"+C537*$G$2","v":119.25},{"$f":"+D537*$G$2","v":119.25},119.25,119.25,119.25,119.25]
[1,"Transplante de organos",{"$f":"+C538*$G$2","v":159},{"$f":"+D538*$G$2","v":159},159,159,159,159]
[]
[]
[]
[]
["ADVANTAGE (LATINAMERICA ONLY)"]
["TARIFAS ANUALES"]
["EDAD"]
[" "," ",null,"AL2","AL3","AL4","AL5","AL6"]
[18,"18-24",null,11240,8450,6003,4521,3578]
[25,"25-29",null,12522,9432,6676,5046,3960]
[30,"30-34",null,14491,11087,7953,5984,4611]
[35,"35-39",null,16068,12342,8853,6822,5116]
[40,"40-44",null,18135,13999,10040,7628,5791]
[45,"45-49",null,21074,16127,11319,8682,6734]
[50,"50-54",null,23095,18131,13196,9747,7397]
[55,"55-59",null,27290,20932,14596,11305,8747]
[60,"60",null,30152,23179,16056,12465,9685]
[61,"61",null,33942,26076,18072,14038,10913]
[62,"62",null,37722,29010,20091,15611,12132]
[63,"63",null,41505,31913,22117,17178,13360]
[64,"64",null,45292,34829,24140,18760,14569]
[65,"65",null,48973,37903,26303,20431,16582]
[66,"66",null,51857,40135,27861,21635,17581]
[67,"67",null,57634,44613,30968,24062,19536]
[68,"68",null,63406,49074,34077,26482,21499]
[69,"69",null,66294,51314,35619,27680,22488]
[70,"70",null,67143,52135,36169,28205,22786]
[71,"71",null,75557,58666,40705,31745,25636]
[72,"72",null,83973,65215,45242,35276,28498]
[73,"73",null,92378,71746,49775,38821,31358]
[74,"74",null,100789,78269,54304,42358,34218]
[75,"75+",null,110253,87280,62287,46373,39262]
[1,"1 Child",null,5009,3572,2624,2281,1656]
[2,"2 Children",null,8181,5634,4146,3620,2438]
[3,"3+ Children",null,11967,8220,6057,5241,3690]
[1,"Rider Comp. Maternidad"]
[1,"Transplante de organos"]
[]
["TARIFAS SEMESTRALES "]
["EDAD"]
[" "," ",null,"AL2","AL3","AL4","AL5","AL6"]
[18,"18-24",null,{"$f":"+D582*$G$2","v":5957.2000000000007},4478.5,3181.59,2396.13,1896.3400000000001]
[25,"25-29",null,6636.6600000000008,4998.96,3538.28,2674.38,2098.8000000000002]
[30,"30-34",null,7680.2300000000005,5876.1100000000006,4215.09,3171.52,2443.83]
[35,"35-39",null,8516.0400000000009,6541.26,4692.09,3615.6600000000003,2711.48]
[40,"40-44",null,9611.5500000000011,7419.47,5321.2,4042.84,3069.23]
[45,"45-49",null,11169.220000000001,8547.3100000000013,5999.0700000000006,4601.46,3569.02]
[50,"50-54",null,12240.35,9609.43,6993.88,5165.91,3920.4100000000003]
[55,"55-59",null,14463.7,11093.960000000001,7735.88,5991.6500000000005,4635.91]
[60,"60",null,15980.560000000001,12284.87,8509.68,6606.4500000000007,5133.05]
[61,"61",null,17989.260000000002,13820.28,9578.16,7440.14,5783.89]
[62,"62",null,{"$f":"+D592*$G$2","v":19992.66},15375.300000000001,10648.230000000001,8273.83,6429.96]
[63,"63",null,21997.65,16913.89,11722.01,9104.34,7080.8]
[64,"64",null,24004.760000000002,18459.370000000003,12794.2,9942.8000000000011,7721.5700000000006]
[65,"65",null,25955.690000000002,20088.59,13940.59,10828.43,8788.4600000000009]
[66,"66",null,27484.210000000003,21271.55,14766.33,11466.550000000001,9317.93]
[67,"67",null,30546.02,23644.89,16413.04,12752.86,10354.08]
[68,"68",null,33605.18,26009.22,18060.810000000001,14035.460000000001,11394.470000000001]
[69,"69",null,35135.82,27196.420000000002,18878.07,14670.400000000001,11918.640000000001]
[70,"70",null,35585.79,27631.550000000003,19169.57,14948.650000000001,12076.58]
[71,"71",null,40045.21,31092.980000000003,21573.65,16824.850000000002,13587.08]
[72,"72",null,{"$f":"+D602*$G$2","v":44505.69},34563.950000000004,23978.260000000002,18696.280000000002,15103.94]
[73,"73",null,48960.340000000004,38025.380000000005,26380.75,20575.13,16619.740000000002]
[74,"74",null,53418.170000000006,41482.57,28781.120000000003,22449.74,18135.54]
[75,"75+",null,58434.090000000004,46258.400000000001,33012.11,24577.690000000002,20808.86]
[1,"1 Child",null,2654.77,1893.16,1390.72,1208.93,877.68000000000006]
[2,"2 Children",null,4335.93,2986.02,2197.38,1918.6000000000001,1292.1400000000001]
[3,"3+ Children",null,6342.51,4356.6000000000004,3210.21,2777.73,1955.7]
[1,"Rider Comp. Maternidad",null,0,0,0,0,0]
[1,"Transplante de organos",null,0,0,0,0,0]
[]
[]
[]
[]
["BUPA SECURE CARE"]
["TARIFAS ANUALES"]
["EDAD"]
[" "," ","SE1","SE2","SE3","SE4","SE5","SE6"]
[18,"18-24",{"$f":"P652*$V$2","v":9024},{"$f":"Q652*$V$2","v":7314},{"$f":"R652*$V$2","v":6411},3780,3385,2807,null,{"$f":"IF('INGRESO DE DATOS'!$W$13=1,'Tablas Guyanas y Santa Elena'!C545,'Tablas Resto de Ecuador'!C545)","v":9024},{"$f":"IF('INGRESO DE DATOS'!$W$13=1,'Tablas Guyanas y Santa Elena'!D545,'Tablas Resto de Ecuador'!D545)","v":7314},{"$f":"IF('INGRESO DE DATOS'!$W$13=1,'Tablas Guyanas y Santa Elena'!E545,'Tablas Resto de Ecuador'!E545)","v":6411},{"$f":"IF('INGRESO DE DATOS'!$W$13=1,'Tablas Guyanas y Santa Elena'!F545,'Tablas Resto de Ecuador'!F545)","v":3780},{"$f":"IF('INGRESO DE DATOS'!$W$13=1,'Tablas Guyanas y Santa Elena'!G545,'Tablas Resto de Ecuador'!G545)","v":3385},{"$f":"IF('INGRESO DE DATOS'!$W$13=1,'Tablas Guyanas y Santa Elena'!H545,'Tablas Resto de Ecuador'!H545)","v":2807},{"$f":"(J652-50)*$O$2+50","v":9024},{"$f":"(K652-50)*$O$2+50","v":7314},{"$f":"(L652-50)*$O$2+50","v":6411},3780,3385,2807]
[25,"25-29",{"$f":"P653*$V$2","v":9968},{"$f":"Q653*$V$2","v":7798},{"$f":"R653*$V$2","v":7202},{"$f":"S653*$V$2","v":3997},{"$f":"T653*$V$2","v":3799},{"$f":"U653*$V$2","v":3098},null,{"$f":"IF('INGRESO DE DATOS'!$W$13=1,'Tablas Guyanas y Santa Elena'!C546,'Tablas Resto de Ecuador'!C546)","v":9968},{"$f":"IF('INGRESO DE DATOS'!$W$13=1,'Tablas Guyanas y Santa Elena'!D546,'Tablas Resto de Ecuador'!D546)","v":7798},{"$f":"IF('INGRESO DE DATOS'!$W$13=1,'Tablas Guyanas y Santa Elena'!E546,'Tablas Resto de Ecuador'!E546)","v":7202},{"$f":"IF('INGRESO DE DATOS'!$W$13=1,'Tablas Guyanas y Santa Elena'!F546,'Tablas Resto de Ecuador'!F546)","v":3997},{"$f":"IF('INGRESO DE DATOS'!$W$13=1,'Tablas Guyanas y Santa Elena'!G546,'Tablas Resto de Ecuador'!G546)","v":3799},{"$f":"IF('INGRESO DE DATOS'!$W$13=1,'Tablas Guyanas y Santa Elena'!H546,'Tablas Resto de Ecuador'!H546)","v":3098},{"$f":"(J653-50)*$O$2+50","v":9968},{"$f":"(K653-50)*$O$2+50","v":7798},{"$f":"(L653-50)*$O$2+50","v":7202},{"$f":"(M653-50)*$O$2+50","v":3997},{"$f":"(N653-50)*$O$2+50","v":3799},{"$f":"(O653-50)*$O$2+50","v":3098}]
[30,"30-34",12287,9527,8449,4645,4699,3578,null,{"$f":"IF('INGRESO DE DATOS'!$W$13=1,'Tablas Guyanas y Santa Elena'!C547,'Tablas Resto de Ecuador'!C547)","v":12287},{"$f":"IF('INGRESO DE DATOS'!$W$13=1,'Tablas Guyanas y Santa Elena'!D547,'Tablas Resto de Ecuador'!D547)","v":9527},{"$f":"IF('INGRESO DE DATOS'!$W$13=1,'Tablas Guyanas y Santa Elena'!E547,'Tablas Resto de Ecuador'!E547)","v":8449},{"$f":"IF('INGRESO DE DATOS'!$W$13=1,'Tablas Guyanas y Santa Elena'!F547,'Tablas Resto de Ecuador'!F547)","v":4645},{"$f":"IF('INGRESO DE DATOS'!$W$13=1,'Tablas Guyanas y Santa Elena'!G547,'Tablas Resto de Ecuador'!G547)","v":4699},{"$f":"IF('INGRESO DE DATOS'!$W$13=1,'Tablas Guyanas y Santa Elena'!H547,'Tablas Resto de Ecuador'!H547)","v":3578},12287,9527,8449,4645,4699,3578]
[35,"35-39",13592,10129,9443,5330,5206,3954,null,{"$f":"IF('INGRESO DE DATOS'!$W$13=1,'Tablas Guyanas y Santa Elena'!C548,'Tablas Resto de Ecuador'!C548)","v":13592},{"$f":"IF('INGRESO DE DATOS'!$W$13=1,'Tablas Guyanas y Santa Elena'!D548,'Tablas Resto de Ecuador'!D548)","v":10129},{"$f":"IF('INGRESO DE DATOS'!$W$13=1,'Tablas Guyanas y Santa Elena'!E548,'Tablas Resto de Ecuador'!E548)","v":9443},{"$f":"IF('INGRESO DE DATOS'!$W$13=1,'Tablas Guyanas y Santa Elena'!F548,'Tablas Resto de Ecuador'!F548)","v":5330},{"$f":"IF('INGRESO DE DATOS'!$W$13=1,'Tablas Guyanas y Santa Elena'!G548,'Tablas Resto de Ecuador'!G548)","v":5206},{"$f":"IF('INGRESO DE DATOS'!$W$13=1,'Tablas Guyanas y Santa Elena'!H548,'Tablas Resto de Ecuador'!H548)","v":3954},13592,10129,9443,5330,5206,3954]
[40,"40-44",15319,10441,10767,5488,5315,4335,null,{"$f":"IF('INGRESO DE DATOS'!$W$13=1,'Tablas Guyanas y Santa Elena'!C549,'Tablas Resto de Ecuador'!C549)","v":15319},{"$f":"IF('INGRESO DE DATOS'!$W$13=1,'Tablas Guyanas y Santa Elena'!D549,'Tablas Resto de Ecuador'!D549)","v":10441},{"$f":"IF('INGRESO DE DATOS'!$W$13=1,'Tablas Guyanas y Santa Elena'!E549,'Tablas Resto de Ecuador'!E549)","v":10767},{"$f":"IF('INGRESO DE DATOS'!$W$13=1,'Tablas Guyanas y Santa Elena'!F549,'Tablas Resto de Ecuador'!F549)","v":5488},{"$f":"IF('INGRESO DE DATOS'!$W$13=1,'Tablas Guyanas y Santa Elena'!G549,'Tablas Resto de Ecuador'!G549)","v":5315},{"$f":"IF('INGRESO DE DATOS'!$W$13=1,'Tablas Guyanas y Santa Elena'!H549,'Tablas Resto de Ecuador'!H549)","v":4335},15319,10441,10767,5488,5315,4335]
[45,"45-49",17717,11892,11881,5687,5345,4512,null,{"$f":"IF('INGRESO DE DATOS'!$W$13=1,'Tablas Guyanas y Santa Elena'!C550,'Tablas Resto de Ecuador'!C550)","v":17717},{"$f":"IF('INGRESO DE DATOS'!$W$13=1,'Tablas Guyanas y Santa Elena'!D550,'Tablas Resto de Ecuador'!D550)","v":11892},{"$f":"IF('INGRESO DE DATOS'!$W$13=1,'Tablas Guyanas y Santa Elena'!E550,'Tablas Resto de Ecuador'!E550)","v":11881},{"$f":"IF('INGRESO DE DATOS'!$W$13=1,'Tablas Guyanas y Santa Elena'!F550,'Tablas Resto de Ecuador'!F550)","v":5687},{"$f":"IF('INGRESO DE DATOS'!$W$13=1,'Tablas Guyanas y Santa Elena'!G550,'Tablas Resto de Ecuador'!G550)","v":5345},{"$f":"IF('INGRESO DE DATOS'!$W$13=1,'Tablas Guyanas y Santa Elena'!H550,'Tablas Resto de Ecuador'!H550)","v":4512},17717,11892,11881,5687,5345,4512]
[50,"50-54",19374,12046,12234,6964,6093,5615,null,{"$f":"IF('INGRESO DE DATOS'!$W$13=1,'Tablas Guyanas y Santa Elena'!C551,'Tablas Resto de Ecuador'!C551)","v":19374},{"$f":"IF('INGRESO DE DATOS'!$W$13=1,'Tablas Guyanas y Santa Elena'!D551,'Tablas Resto de Ecuador'!D551)","v":12046},{"$f":"IF('INGRESO DE DATOS'!$W$13=1,'Tablas Guyanas y Santa Elena'!E551,'Tablas Resto de Ecuador'!E551)","v":12234},{"$f":"IF('INGRESO DE DATOS'!$W$13=1,'Tablas Guyanas y Santa Elena'!F551,'Tablas Resto de Ecuador'!F551)","v":6964},{"$f":"IF('INGRESO DE DATOS'!$W$13=1,'Tablas Guyanas y Santa Elena'!G551,'Tablas Resto de Ecuador'!G551)","v":6093},{"$f":"IF('INGRESO DE DATOS'!$W$13=1,'Tablas Guyanas y Santa Elena'!H551,'Tablas Resto de Ecuador'!H551)","v":5615},19374,12046,12234,6964,6093,5615]
[55,"55-59",20442,15951,14662,8968,8626,6634,null,{"$f":"IF('INGRESO DE DATOS'!$W$13=1,'Tablas Guyanas y Santa Elena'!C552,'Tablas Resto de Ecuador'!C552)","v":20442},{"$f":"IF('INGRESO DE DATOS'!$W$13=1,'Tablas Guyanas y Santa Elena'!D552,'Tablas Resto de Ecuador'!D552)","v":15951},{"$f":"IF('INGRESO DE DATOS'!$W$13=1,'Tablas Guyanas y Santa Elena'!E552,'Tablas Resto de Ecuador'!E552)","v":14662},{"$f":"IF('INGRESO DE DATOS'!$W$13=1,'Tablas Guyanas y Santa Elena'!F552,'Tablas Resto de Ecuador'!F552)","v":8968},{"$f":"IF('INGRESO DE DATOS'!$W$13=1,'Tablas Guyanas y Santa Elena'!G552,'Tablas Resto de Ecuador'!G552)","v":8626},{"$f":"IF('INGRESO DE DATOS'!$W$13=1,'Tablas Guyanas y Santa Elena'!H552,'Tablas Resto de Ecuador'!H552)","v":6634},20442,15951,14662,8968,8626,6634]
[60,"60",21533,16330,15086,10305,8872,7000,null,{"$f":"IF('INGRESO DE DATOS'!$W$13=1,'Tablas Guyanas y Santa Elena'!C553,'Tablas Resto de Ecuador'!C553)","v":21533},{"$f":"IF('INGRESO DE DATOS'!$W$13=1,'Tablas Guyanas y Santa Elena'!D553,'Tablas Resto de Ecuador'!D553)","v":16330},{"$f":"IF('INGRESO DE DATOS'!$W$13=1,'Tablas Guyanas y Santa Elena'!E553,'Tablas Resto de Ecuador'!E553)","v":15086},{"$f":"IF('INGRESO DE DATOS'!$W$13=1,'Tablas Guyanas y Santa Elena'!F553,'Tablas Resto de Ecuador'!F553)","v":10305},{"$f":"IF('INGRESO DE DATOS'!$W$13=1,'Tablas Guyanas y Santa Elena'!G553,'Tablas Resto de Ecuador'!G553)","v":8872},{"$f":"IF('INGRESO DE DATOS'!$W$13=1,'Tablas Guyanas y Santa Elena'!H553,'Tablas Resto de Ecuador'!H553)","v":7000},21533,16330,15086,10305,8872,7000]
[61,"61",22643,17161,16186,11620,9375,7873,null,{"$f":"IF('INGRESO DE DATOS'!$W$13=1,'Tablas Guyanas y Santa Elena'!C554,'Tablas Resto de Ecuador'!C554)","v":22643},{"$f":"IF('INGRESO DE DATOS'!$W$13=1,'Tablas Guyanas y Santa Elena'!D554,'Tablas Resto de Ecuador'!D554)","v":17161},{"$f":"IF('INGRESO DE DATOS'!$W$13=1,'Tablas Guyanas y Santa Elena'!E554,'Tablas Resto de Ecuador'!E554)","v":16186},{"$f":"IF('INGRESO DE DATOS'!$W$13=1,'Tablas Guyanas y Santa Elena'!F554,'Tablas Resto de Ecuador'!F554)","v":11620},{"$f":"IF('INGRESO DE DATOS'!$W$13=1,'Tablas Guyanas y Santa Elena'!G554,'Tablas Resto de Ecuador'!G554)","v":9375},{"$f":"IF('INGRESO DE DATOS'!$W$13=1,'Tablas Guyanas y Santa Elena'!H554,'Tablas Resto de Ecuador'!H554)","v":7873},22643,17161,16186,11620,9375,7873]
[62,"62",23827,18570,17543,12915,10222,8751,null,{"$f":"IF('INGRESO DE DATOS'!$W$13=1,'Tablas Guyanas y Santa Elena'!C555,'Tablas Resto de Ecuador'!C555)","v":23827},{"$f":"IF('INGRESO DE DATOS'!$W$13=1,'Tablas Guyanas y Santa Elena'!D555,'Tablas Resto de Ecuador'!D555)","v":18570},{"$f":"IF('INGRESO DE DATOS'!$W$13=1,'Tablas Guyanas y Santa Elena'!E555,'Tablas Resto de Ecuador'!E555)","v":17543},{"$f":"IF('INGRESO DE DATOS'!$W$13=1,'Tablas Guyanas y Santa Elena'!F555,'Tablas Resto de Ecuador'!F555)","v":12915},{"$f":"IF('INGRESO DE DATOS'!$W$13=1,'Tablas Guyanas y Santa Elena'!G555,'Tablas Resto de Ecuador'!G555)","v":10222},{"$f":"IF('INGRESO DE DATOS'!$W$13=1,'Tablas Guyanas y Santa Elena'!H555,'Tablas Resto de Ecuador'!H555)","v":8751},23827,18570,17543,12915,10222,8751]
[63,"63",25137,20354,19086,14217,11295,9624,null,{"$f":"IF('INGRESO DE DATOS'!$W$13=1,'Tablas Guyanas y Santa Elena'!C556,'Tablas Resto de Ecuador'!C556)","v":25137},{"$f":"IF('INGRESO DE DATOS'!$W$13=1,'Tablas Guyanas y Santa Elena'!D556,'Tablas Resto de Ecuador'!D556)","v":20354},{"$f":"IF('INGRESO DE DATOS'!$W$13=1,'Tablas Guyanas y Santa Elena'!E556,'Tablas Resto de Ecuador'!E556)","v":19086},{"$f":"IF('INGRESO DE DATOS'!$W$13=1,'Tablas Guyanas y Santa Elena'!F556,'Tablas Resto de Ecuador'!F556)","v":14217},{"$f":"IF('INGRESO DE DATOS'!$W$13=1,'Tablas Guyanas y Santa Elena'!G556,'Tablas Resto de Ecuador'!G556)","v":11295},{"$f":"IF('INGRESO DE DATOS'!$W$13=1,'Tablas Guyanas y Santa Elena'!H556,'Tablas Resto de Ecuador'!H556)","v":9624},25137,20354,19086,14217,11295,9624]
[64,"64",26629,22310,20747,15552,12477,10304,null,{"$f":"IF('INGRESO DE DATOS'!$W$13=1,'Tablas Guyanas y Santa Elena'!C557,'Tablas Resto de Ecuador'!C557)","v":26629},{"$f":"IF('INGRESO DE DATOS'!$W$13=1,'Tablas Guyanas y Santa Elena'!D557,'Tablas Resto de Ecuador'!D557)","v":22310},{"$f":"IF('INGRESO DE DATOS'!$W$13=1,'Tablas Guyanas y Santa Elena'!E557,'Tablas Resto de Ecuador'!E557)","v":20747},{"$f":"IF('INGRESO DE DATOS'!$W$13=1,'Tablas Guyanas y Santa Elena'!F557,'Tablas Resto de Ecuador'!F557)","v":15552},{"$f":"IF('INGRESO DE DATOS'!$W$13=1,'Tablas Guyanas y Santa Elena'!G557,'Tablas Resto de Ecuador'!G557)","v":12477},{"$f":"IF('INGRESO DE DATOS'!$W$13=1,'Tablas Guyanas y Santa Elena'!H557,'Tablas Resto de Ecuador'!H557)","v":10304},26629,22310,20747,15552,12477,10304]
[65,"65",28354,24237,22455,16946,13649,10541,null,{"$f":"IF('INGRESO DE DATOS'!$W$13=1,'Tablas Guyanas y Santa Elena'!C558,'Tablas Resto de Ecuador'!C558)","v":28354},{"$f":"IF('INGRESO DE DATOS'!$W$13=1,'Tablas Guyanas y Santa Elena'!D558,'Tablas Resto de Ecuador'!D558)","v":24237},{"$f":"IF('INGRESO DE DATOS'!$W$13=1,'Tablas Guyanas y Santa Elena'!E558,'Tablas Resto de Ecuador'!E558)","v":22455},{"$f":"IF('INGRESO DE DATOS'!$W$13=1,'Tablas Guyanas y Santa Elena'!F558,'Tablas Resto de Ecuador'!F558)","v":16946},{"$f":"IF('INGRESO DE DATOS'!$W$13=1,'Tablas Guyanas y Santa Elena'!G558,'Tablas Resto de Ecuador'!G558)","v":13649},{"$f":"IF('INGRESO DE DATOS'!$W$13=1,'Tablas Guyanas y Santa Elena'!H558,'Tablas Resto de Ecuador'!H558)","v":10541},28354,24237,22455,16946,13649,10541]
[66,"66",30261,26056,24126,18247,14133,10577,null,{"$f":"IF('INGRESO DE DATOS'!$W$13=1,'Tablas Guyanas y Santa Elena'!C559,'Tablas Resto de Ecuador'!C559)","v":30261},{"$f":"IF('INGRESO DE DATOS'!$W$13=1,'Tablas Guyanas y Santa Elena'!D559,'Tablas Resto de Ecuador'!D559)","v":26056},{"$f":"IF('INGRESO DE DATOS'!$W$13=1,'Tablas Guyanas y Santa Elena'!E559,'Tablas Resto de Ecuador'!E559)","v":24126},{"$f":"IF('INGRESO DE DATOS'!$W$13=1,'Tablas Guyanas y Santa Elena'!F559,'Tablas Resto de Ecuador'!F559)","v":18247},{"$f":"IF('INGRESO DE DATOS'!$W$13=1,'Tablas Guyanas y Santa Elena'!G559,'Tablas Resto de Ecuador'!G559)","v":14133},{"$f":"IF('INGRESO DE DATOS'!$W$13=1,'Tablas Guyanas y Santa Elena'!H559,'Tablas Resto de Ecuador'!H559)","v":10577},30261,26056,24126,18247,14133,10577]
[67,"67",32321,27904,25806,19731,15690,11737,null,{"$f":"IF('INGRESO DE DATOS'!$W$13=1,'Tablas Guyanas y Santa Elena'!C560,'Tablas Resto de Ecuador'!C560)","v":32321},{"$f":"IF('INGRESO DE DATOS'!$W$13=1,'Tablas Guyanas y Santa Elena'!D560,'Tablas Resto de Ecuador'!D560)","v":27904},{"$f":"IF('INGRESO DE DATOS'!$W$13=1,'Tablas Guyanas y Santa Elena'!E560,'Tablas Resto de Ecuador'!E560)","v":25806},{"$f":"IF('INGRESO DE DATOS'!$W$13=1,'Tablas Guyanas y Santa Elena'!F560,'Tablas Resto de Ecuador'!F560)","v":19731},{"$f":"IF('INGRESO DE DATOS'!$W$13=1,'Tablas Guyanas y Santa Elena'!G560,'Tablas Resto de Ecuador'!G560)","v":15690},{"$f":"IF('INGRESO DE DATOS'!$W$13=1,'Tablas Guyanas y Santa Elena'!H560,'Tablas Resto de Ecuador'!H560)","v":11737},32321,27904,25806,19731,15690,11737]
[68,"68",34630,29895,27623,21186,17223,12919,null,{"$f":"IF('INGRESO DE DATOS'!$W$13=1,'Tablas Guyanas y Santa Elena'!C561,'Tablas Resto de Ecuador'!C561)","v":34630},{"$f":"IF('INGRESO DE DATOS'!$W$13=1,'Tablas Guyanas y Santa Elena'!D561,'Tablas Resto de Ecuador'!D561)","v":29895},{"$f":"IF('INGRESO DE DATOS'!$W$13=1,'Tablas Guyanas y Santa Elena'!E561,'Tablas Resto de Ecuador'!E561)","v":27623},{"$f":"IF('INGRESO DE DATOS'!$W$13=1,'Tablas Guyanas y Santa Elena'!F561,'Tablas Resto de Ecuador'!F561)","v":21186},{"$f":"IF('INGRESO DE DATOS'!$W$13=1,'Tablas Guyanas y Santa Elena'!G561,'Tablas Resto de Ecuador'!G561)","v":17223},{"$f":"IF('INGRESO DE DATOS'!$W$13=1,'Tablas Guyanas y Santa Elena'!H561,'Tablas Resto de Ecuador'!H561)","v":12919},34630,29895,27623,21186,17223,12919]
[69,"69",37282,32143,29700,22790,18037,13508,null,{"$f":"IF('INGRESO DE DATOS'!$W$13=1,'Tablas Guyanas y Santa Elena'!C562,'Tablas Resto de Ecuador'!C562)","v":37282},{"$f":"IF('INGRESO DE DATOS'!$W$13=1,'Tablas Guyanas y Santa Elena'!D562,'Tablas Resto de Ecuador'!D562)","v":32143},{"$f":"IF('INGRESO DE DATOS'!$W$13=1,'Tablas Guyanas y Santa Elena'!E562,'Tablas Resto de Ecuador'!E562)","v":29700},{"$f":"IF('INGRESO DE DATOS'!$W$13=1,'Tablas Guyanas y Santa Elena'!F562,'Tablas Resto de Ecuador'!F562)","v":22790},{"$f":"IF('INGRESO DE DATOS'!$W$13=1,'Tablas Guyanas y Santa Elena'!G562,'Tablas Resto de Ecuador'!G562)","v":18037},{"$f":"IF('INGRESO DE DATOS'!$W$13=1,'Tablas Guyanas y Santa Elena'!H562,'Tablas Resto de Ecuador'!H562)","v":13508},37282,32143,29700,22790,18037,13508]
[70,"70",40372,34762,32165,23552,18220,13566,null,{"$f":"IF('INGRESO DE DATOS'!$W$13=1,'Tablas Guyanas y Santa Elena'!C563,'Tablas Resto de Ecuador'!C563)","v":40372},{"$f":"IF('INGRESO DE DATOS'!$W$13=1,'Tablas Guyanas y Santa Elena'!D563,'Tablas Resto de Ecuador'!D563)","v":34762},{"$f":"IF('INGRESO DE DATOS'!$W$13=1,'Tablas Guyanas y Santa Elena'!E563,'Tablas Resto de Ecuador'!E563)","v":32165},{"$f":"IF('INGRESO DE DATOS'!$W$13=1,'Tablas Guyanas y Santa Elena'!F563,'Tablas Resto de Ecuador'!F563)","v":23552},{"$f":"IF('INGRESO DE DATOS'!$W$13=1,'Tablas Guyanas y Santa Elena'!G563,'Tablas Resto de Ecuador'!G563)","v":18220},{"$f":"IF('INGRESO DE DATOS'!$W$13=1,'Tablas Guyanas y Santa Elena'!H563,'Tablas Resto de Ecuador'!H563)","v":13566},40372,34762,32165,23552,18220,13566]
[71,"71",44050,37870,35138,26502,20495,15261,null,{"$f":"IF('INGRESO DE DATOS'!$W$13=1,'Tablas Guyanas y Santa Elena'!C564,'Tablas Resto de Ecuador'!C564)","v":44050},{"$f":"IF('INGRESO DE DATOS'!$W$13=1,'Tablas Guyanas y Santa Elena'!D564,'Tablas Resto de Ecuador'!D564)","v":37870},{"$f":"IF('INGRESO DE DATOS'!$W$13=1,'Tablas Guyanas y Santa Elena'!E564,'Tablas Resto de Ecuador'!E564)","v":35138},{"$f":"IF('INGRESO DE DATOS'!$W$13=1,'Tablas Guyanas y Santa Elena'!F564,'Tablas Resto de Ecuador'!F564)","v":26502},{"$f":"IF('INGRESO DE DATOS'!$W$13=1,'Tablas Guyanas y Santa Elena'!G564,'Tablas Resto de Ecuador'!G564)","v":20495},{"$f":"IF('INGRESO DE DATOS'!$W$13=1,'Tablas Guyanas y Santa Elena'!H564,'Tablas Resto de Ecuador'!H564)","v":15261},44050,37870,35138,26502,20495,15261]
[72,"72",48251,41390,38536,29139,22777,16953,null,{"$f":"IF('INGRESO DE DATOS'!$W$13=1,'Tablas Guyanas y Santa Elena'!C565,'Tablas Resto de Ecuador'!C565)","v":48251},{"$f":"IF('INGRESO DE DATOS'!$W$13=1,'Tablas Guyanas y Santa Elena'!D565,'Tablas Resto de Ecuador'!D565)","v":41390},{"$f":"IF('INGRESO DE DATOS'!$W$13=1,'Tablas Guyanas y Santa Elena'!E565,'Tablas Resto de Ecuador'!E565)","v":38536},{"$f":"IF('INGRESO DE DATOS'!$W$13=1,'Tablas Guyanas y Santa Elena'!F565,'Tablas Resto de Ecuador'!F565)","v":29139},{"$f":"IF('INGRESO DE DATOS'!$W$13=1,'Tablas Guyanas y Santa Elena'!G565,'Tablas Resto de Ecuador'!G565)","v":22777},{"$f":"IF('INGRESO DE DATOS'!$W$13=1,'Tablas Guyanas y Santa Elena'!H565,'Tablas Resto de Ecuador'!H565)","v":16953},48251,41390,38536,29139,22777,16953]
[73,"73",52753,45147,42177,31660,25041,18653,null,{"$f":"IF('INGRESO DE DATOS'!$W$13=1,'Tablas Guyanas y Santa Elena'!C566,'Tablas Resto de Ecuador'!C566)","v":52753},{"$f":"IF('INGRESO DE DATOS'!$W$13=1,'Tablas Guyanas y Santa Elena'!D566,'Tablas Resto de Ecuador'!D566)","v":45147},{"$f":"IF('INGRESO DE DATOS'!$W$13=1,'Tablas Guyanas y Santa Elena'!E566,'Tablas Resto de Ecuador'!E566)","v":42177},{"$f":"IF('INGRESO DE DATOS'!$W$13=1,'Tablas Guyanas y Santa Elena'!F566,'Tablas Resto de Ecuador'!F566)","v":31660},{"$f":"IF('INGRESO DE DATOS'!$W$13=1,'Tablas Guyanas y Santa Elena'!G566,'Tablas Resto de Ecuador'!G566)","v":25041},{"$f":"IF('INGRESO DE DATOS'!$W$13=1,'Tablas Guyanas y Santa Elena'!H566,'Tablas Resto de Ecuador'!H566)","v":18653},52753,45147,42177,31660,25041,18653]
[74,"74",57329,48962,45878,34217,27312,20346,null,{"$f":"IF('INGRESO DE DATOS'!$W$13=1,'Tablas Guyanas y Santa Elena'!C567,'Tablas Resto de Ecuador'!C567)","v":57329},{"$f":"IF('INGRESO DE DATOS'!$W$13=1,'Tablas Guyanas y Santa Elena'!D567,'Tablas Resto de Ecuador'!D567)","v":48962},{"$f":"IF('INGRESO DE DATOS'!$W$13=1,'Tablas Guyanas y Santa Elena'!E567,'Tablas Resto de Ecuador'!E567)","v":45878},{"$f":"IF('INGRESO DE DATOS'!$W$13=1,'Tablas Guyanas y Santa Elena'!F567,'Tablas Resto de Ecuador'!F567)","v":34217},{"$f":"IF('INGRESO DE DATOS'!$W$13=1,'Tablas Guyanas y Santa Elena'!G567,'Tablas Resto de Ecuador'!G567)","v":27312},{"$f":"IF('INGRESO DE DATOS'!$W$13=1,'Tablas Guyanas y Santa Elena'!H567,'Tablas Resto de Ecuador'!H567)","v":20346},57329,48962,45878,34217,27312,20346]
[75,"75+",61756,52660,49457,36703,29869,22216,null,{"$f":"IF('INGRESO DE DATOS'!$W$13=1,'Tablas Guyanas y Santa Elena'!C568,'Tablas Resto de Ecuador'!C568)","v":61756},{"$f":"IF('INGRESO DE DATOS'!$W$13=1,'Tablas Guyanas y Santa Elena'!D568,'Tablas Resto de Ecuador'!D568)","v":52660},{"$f":"IF('INGRESO DE DATOS'!$W$13=1,'Tablas Guyanas y Santa Elena'!E568,'Tablas Resto de Ecuador'!E568)","v":49457},{"$f":"IF('INGRESO DE DATOS'!$W$13=1,'Tablas Guyanas y Santa Elena'!F568,'Tablas Resto de Ecuador'!F568)","v":36703},{"$f":"IF('INGRESO DE DATOS'!$W$13=1,'Tablas Guyanas y Santa Elena'!G568,'Tablas Resto de Ecuador'!G568)","v":29869},{"$f":"IF('INGRESO DE DATOS'!$W$13=1,'Tablas Guyanas y Santa Elena'!H568,'Tablas Resto de Ecuador'!H568)","v":22216},61756,52660,49457,36703,29869,22216]
[1,"1 Child",2078,1778,1277,946,713,728,null,{"$f":"IF('INGRESO DE DATOS'!$W$13=1,'Tablas Guyanas y Santa Elena'!C569,'Tablas Resto de Ecuador'!C569)","v":2078},{"$f":"IF('INGRESO DE DATOS'!$W$13=1,'Tablas Guyanas y Santa Elena'!D569,'Tablas Resto de Ecuador'!D569)","v":1778},{"$f":"IF('INGRESO DE DATOS'!$W$13=1,'Tablas Guyanas y Santa Elena'!E569,'Tablas Resto de Ecuador'!E569)","v":1277},{"$f":"IF('INGRESO DE DATOS'!$W$13=1,'Tablas Guyanas y Santa Elena'!F569,'Tablas Resto de Ecuador'!F569)","v":946},{"$f":"IF('INGRESO DE DATOS'!$W$13=1,'Tablas Guyanas y Santa Elena'!G569,'Tablas Resto de Ecuador'!G569)","v":713},{"$f":"IF('INGRESO DE DATOS'!$W$13=1,'Tablas Guyanas y Santa Elena'!H569,'Tablas Resto de Ecuador'!H569)","v":728},{"$f":"(J676)*$O$2","v":2078},{"$f":"(K676)*$O$2","v":1778},1277,946,713,728]
[2,"2 Children",3878,3262,2429,1765,1370,1357,null,{"$f":"IF('INGRESO DE DATOS'!$W$13=1,'Tablas Guyanas y Santa Elena'!C570,'Tablas Resto de Ecuador'!C570)","v":3878},{"$f":"IF('INGRESO DE DATOS'!$W$13=1,'Tablas Guyanas y Santa Elena'!D570,'Tablas Resto de Ecuador'!D570)","v":3262},{"$f":"IF('INGRESO DE DATOS'!$W$13=1,'Tablas Guyanas y Santa Elena'!E570,'Tablas Resto de Ecuador'!E570)","v":2429},{"$f":"IF('INGRESO DE DATOS'!$W$13=1,'Tablas Guyanas y Santa Elena'!F570,'Tablas Resto de Ecuador'!F570)","v":1765},{"$f":"IF('INGRESO DE DATOS'!$W$13=1,'Tablas Guyanas y Santa Elena'!G570,'Tablas Resto de Ecuador'!G570)","v":1370},{"$f":"IF('INGRESO DE DATOS'!$W$13=1,'Tablas Guyanas y Santa Elena'!H570,'Tablas Resto de Ecuador'!H570)","v":1357},{"$f":"(J677)*$O$2","v":3878},{"$f":"(K677)*$O$2","v":3262},{"$f":"(L677)*$O$2","v":2429},{"$f":"(M677)*$O$2","v":1765},{"$f":"(N677)*$O$2","v":1370},{"$f":"(O677)*$O$2","v":1357}]
[3,"3+ Children",5530,4606,3502,2520,1991,1932,null,{"$f":"IF('INGRESO DE DATOS'!$W$13=1,'Tablas Guyanas y Santa Elena'!C571,'Tablas Resto de Ecuador'!C571)","v":5530},{"$f":"IF('INGRESO DE DATOS'!$W$13=1,'Tablas Guyanas y Santa Elena'!D571,'Tablas Resto de Ecuador'!D571)","v":4606},{"$f":"IF('INGRESO DE DATOS'!$W$13=1,'Tablas Guyanas y Santa Elena'!E571,'Tablas Resto de Ecuador'!E571)","v":3502},{"$f":"IF('INGRESO DE DATOS'!$W$13=1,'Tablas Guyanas y Santa Elena'!F571,'Tablas Resto de Ecuador'!F571)","v":2520},{"$f":"IF('INGRESO DE DATOS'!$W$13=1,'Tablas Guyanas y Santa Elena'!G571,'Tablas Resto de Ecuador'!G571)","v":1991},{"$f":"IF('INGRESO DE DATOS'!$W$13=1,'Tablas Guyanas y Santa Elena'!H571,'Tablas Resto de Ecuador'!H571)","v":1932},5530,4606,3502,2520,1991,1932]
[1,"Rider Comp. Maternidad",{"$f":"J679*$V$2","v":225},{"$f":"K679*$V$2","v":225},{"$f":"L679*$V$2","v":225},225,225,225,null,{"$f":"IF('INGRESO DE DATOS'!$W$13=1,'Tablas Guyanas y Santa Elena'!C572,'Tablas Resto de Ecuador'!C572)","v":225},225,225,225,225,225]
[1,"Transplante de organos",{"$f":"J680*$V$2","v":300},{"$f":"K680*$V$2","v":300},{"$f":"L680*$V$2","v":300},{"$f":"M680*$V$2","v":300},{"$f":"N680*$V$2","v":300},{"$f":"O680*$V$2","v":300},null,{"$f":"IF('INGRESO DE DATOS'!$W$13=1,'Tablas Guyanas y Santa Elena'!C573,'Tablas Resto de Ecuador'!C573)","v":300},300,300,300,300,300]
[]
[]
[]
[]
["TARIFAS SEMESTRALES "]
["EDAD"]
[" "," ","SE1","SE2","SE3","SE4","SE5","SE6"]
[18,"18-24",{"$f":"+C652*$G$2","v":4782.72},3876.42,3397.8300000000004,2003.4,1794.0500000000002,1487.71]
[25,"25-29",{"$f":"+C653*$G$2","v":5283.04},4132.9400000000005,3817.0600000000004,2118.4100000000003,2013.47,1641.94]
[30,"30-34",{"$f":"+C654*$G$2","v":6512.1100000000006},5049.3100000000004,4477.97,2461.85,2490.4700000000003,1896.3400000000001]
[35,"35-39",{"$f":"+C655*$G$2","v":7203.76},5368.37,5004.79,2824.9,2759.1800000000003,2095.62]
[40,"40-44",{"$f":"+C656*$G$2","v":8119.0700000000006},5533.7300000000005,5706.51,2908.6400000000003,2816.9500000000003,2297.5500000000002]
[45,"45-49",{"$f":"+C657*$G$2","v":9390.01},6302.76,6296.93,3014.11,2832.8500000000004,2391.36]
[50,"50-54",{"$f":"+C658*$G$2","v":10268.220000000001},6384.38,6484.02,3690.92,3229.29,2975.9500000000003]
[55,"55-59",{"$f":"+C659*$G$2","v":10834.26},8454.0300000000007,7770.8600000000006,4753.04,4571.7800000000007,3516.02]
[60,"60",{"$f":"+C660*$G$2","v":11412.49},8654.9,7995.5800000000008,5461.6500000000005,4702.16,3710]
[61,"61",{"$f":"+C661*$G$2","v":12000.79},9095.33,8578.58,6158.6,4968.75,4172.6900000000005]
[62,"62",{"$f":"+C662*$G$2","v":12628.310000000001},{"$f":"+D662*$G$2","v":9842.1},9297.7900000000009,6844.9500000000007,5417.66,4638.0300000000007]
[63,"63",{"$f":"+C663*$G$2","v":13322.61},10787.62,10115.58,7535.01,5986.35,5100.72]
[64,"64",{"$f":"+C664*$G$2","v":14113.37},11824.300000000001,10995.91,8242.5600000000013,6612.81,5461.12]
[65,"65",{"$f":"+C665*$G$2","v":15027.62},12845.61,11901.150000000001,8981.380000000001,7233.97,5586.7300000000005]
[66,"66",{"$f":"+C666*$G$2","v":16038.33},13809.68,12786.78,9670.91,7490.4900000000007,5605.81]
[67,"67",{"$f":"+C667*$G$2","v":17130.13},14789.12,13677.18,10457.43,8315.7000000000007,6220.6100000000006]
[68,"68",{"$f":"+C668*$G$2","v":18353.900000000001},15844.35,14640.19,11228.58,9128.19,6847.0700000000006]
[69,"69",{"$f":"+C669*$G$2","v":19759.460000000003},17035.79,15741,12078.7,9559.61,7159.2400000000007]
[70,"70",{"$f":"+C670*$G$2","v":21397.16},18423.86,17047.45,12482.560000000001,9656.6,7189.9800000000005]
[71,"71",{"$f":"+C671*$G$2","v":23346.5},20071.100000000002,18623.14,14046.060000000001,10862.35,8088.3300000000008]
[72,"72",{"$f":"+C672*$G$2","v":25573.030000000002},{"$f":"+D672*$G$2","v":21936.7},20424.080000000002,15443.67,12071.810000000001,8985.09]
[73,"73",{"$f":"+C673*$G$2","v":27959.09},23927.91,22353.81,16779.8,13271.730000000001,9886.09]
[74,"74",{"$f":"+C674*$G$2","v":30384.370000000003},25949.86,24315.34,18135.010000000002,14475.36,10783.380000000001]
[75,"75+",{"$f":"+C675*$G$2","v":32730.68},27909.800000000003,26212.210000000003,19452.59,15830.570000000002,11774.480000000001]
[1,"1 Child",{"$f":"+C676*$G$2","v":1101.3400000000001},942.34,676.81000000000006,501.38000000000005,377.89000000000004,385.84000000000003]
[2,"2 Children",{"$f":"+C677*$G$2","v":2055.34},1728.8600000000001,1287.3700000000001,935.45,726.1,719.21]
[3,"3+ Children",{"$f":"+C678*$G$2","v":2930.9},2441.1800000000003,1856.0600000000002,1335.6000000000001,1055.23,1023.96]
[1,"Rider Comp. Maternidad",{"$f":"+C679*$G$2","v":119.25},119.25,119.25,119.25,119.25,119.25]
[1,"Transplante de organos",{"$f":"+C680*$G$2","v":159},159,159,159,159,159]
[]
[]
[]
[]
["ESSENTIAL"]
["TARIFAS ANUALES"]
["EDAD"]
[" "," ","ET1","ET2","ET3","ET4","ET5","ET6"]
[18,"18-24",{"$f":"P725*$V$2","v":4941},{"$f":"Q725*$V$2","v":4816},{"$f":"R725*$V$2","v":4239},3105,2438,1870,null,{"$f":"IF('INGRESO DE DATOS'!$W$13=1,'Tablas Guyanas y Santa Elena'!C618,'Tablas Resto de Ecuador'!C618)","v":4941},{"$f":"IF('INGRESO DE DATOS'!$W$13=1,'Tablas Guyanas y Santa Elena'!D618,'Tablas Resto de Ecuador'!D618)","v":4816},{"$f":"IF('INGRESO DE DATOS'!$W$13=1,'Tablas Guyanas y Santa Elena'!E618,'Tablas Resto de Ecuador'!E618)","v":4239},{"$f":"IF('INGRESO DE DATOS'!$W$13=1,'Tablas Guyanas y Santa Elena'!F618,'Tablas Resto de Ecuador'!F618)","v":3105},{"$f":"IF('INGRESO DE DATOS'!$W$13=1,'Tablas Guyanas y Santa Elena'!G618,'Tablas Resto de Ecuador'!G618)","v":2438},{"$f":"IF('INGRESO DE DATOS'!$W$13=1,'Tablas Guyanas y Santa Elena'!H618,'Tablas Resto de Ecuador'!H618)","v":1870},{"$f":"(J725-50)*$P$2+50","v":4941},{"$f":"(K725-50)*$P$2+50","v":4816},{"$f":"(L725-50)*$P$2+50","v":4239},3105,2438,1870]
[25,"25-29",{"$f":"P726*$V$2","v":5484},{"$f":"Q726*$V$2","v":5611},{"$f":"R726*$V$2","v":4775},{"$f":"S726*$V$2","v":3450},{"$f":"T726*$V$2","v":2718},{"$f":"U726*$V$2","v":2071},null,{"$f":"IF('INGRESO DE DATOS'!$W$13=1,'Tablas Guyanas y Santa Elena'!C619,'Tablas Resto de Ecuador'!C619)","v":5484},{"$f":"IF('INGRESO DE DATOS'!$W$13=1,'Tablas Guyanas y Santa Elena'!D619,'Tablas Resto de Ecuador'!D619)","v":5611},{"$f":"IF('INGRESO DE DATOS'!$W$13=1,'Tablas Guyanas y Santa Elena'!E619,'Tablas Resto de Ecuador'!E619)","v":4775},{"$f":"IF('INGRESO DE DATOS'!$W$13=1,'Tablas Guyanas y Santa Elena'!F619,'Tablas Resto de Ecuador'!F619)","v":3450},{"$f":"IF('INGRESO DE DATOS'!$W$13=1,'Tablas Guyanas y Santa Elena'!G619,'Tablas Resto de Ecuador'!G619)","v":2718},{"$f":"IF('INGRESO DE DATOS'!$W$13=1,'Tablas Guyanas y Santa Elena'!H619,'Tablas Resto de Ecuador'!H619)","v":2071},{"$f":"(J726-50)*$P$2+50","v":5484},{"$f":"(K726-50)*$P$2+50","v":5611},{"$f":"(L726-50)*$P$2+50","v":4775},{"$f":"(M726-50)*$P$2+50","v":3450},{"$f":"(N726-50)*$P$2+50","v":2718},{"$f":"(O726-50)*$P$2+50","v":2071}]
[30,"30-34",6285,6389,5599,3988,3123,2382,null,{"$f":"IF('INGRESO DE DATOS'!$W$13=1,'Tablas Guyanas y Santa Elena'!C620,'Tablas Resto de Ecuador'!C620)","v":6285},{"$f":"IF('INGRESO DE DATOS'!$W$13=1,'Tablas Guyanas y Santa Elena'!D620,'Tablas Resto de Ecuador'!D620)","v":6389},{"$f":"IF('INGRESO DE DATOS'!$W$13=1,'Tablas Guyanas y Santa Elena'!E620,'Tablas Resto de Ecuador'!E620)","v":5599},{"$f":"IF('INGRESO DE DATOS'!$W$13=1,'Tablas Guyanas y Santa Elena'!F620,'Tablas Resto de Ecuador'!F620)","v":3988},{"$f":"IF('INGRESO DE DATOS'!$W$13=1,'Tablas Guyanas y Santa Elena'!G620,'Tablas Resto de Ecuador'!G620)","v":3123},{"$f":"IF('INGRESO DE DATOS'!$W$13=1,'Tablas Guyanas y Santa Elena'!H620,'Tablas Resto de Ecuador'!H620)","v":2382},6285,6389,5599,3988,3123,2382]
[35,"35-39",6919,7155,6245,4430,3462,2636,null,{"$f":"IF('INGRESO DE DATOS'!$W$13=1,'Tablas Guyanas y Santa Elena'!C621,'Tablas Resto de Ecuador'!C621)","v":6919},{"$f":"IF('INGRESO DE DATOS'!$W$13=1,'Tablas Guyanas y Santa Elena'!D621,'Tablas Resto de Ecuador'!D621)","v":7155},{"$f":"IF('INGRESO DE DATOS'!$W$13=1,'Tablas Guyanas y Santa Elena'!E621,'Tablas Resto de Ecuador'!E621)","v":6245},{"$f":"IF('INGRESO DE DATOS'!$W$13=1,'Tablas Guyanas y Santa Elena'!F621,'Tablas Resto de Ecuador'!F621)","v":4430},{"$f":"IF('INGRESO DE DATOS'!$W$13=1,'Tablas Guyanas y Santa Elena'!G621,'Tablas Resto de Ecuador'!G621)","v":3462},{"$f":"IF('INGRESO DE DATOS'!$W$13=1,'Tablas Guyanas y Santa Elena'!H621,'Tablas Resto de Ecuador'!H621)","v":2636},6919,7155,6245,4430,3462,2636]
[40,"40-44",7761,7918,7114,4993,3912,2962,null,{"$f":"IF('INGRESO DE DATOS'!$W$13=1,'Tablas Guyanas y Santa Elena'!C622,'Tablas Resto de Ecuador'!C622)","v":7761},{"$f":"IF('INGRESO DE DATOS'!$W$13=1,'Tablas Guyanas y Santa Elena'!D622,'Tablas Resto de Ecuador'!D622)","v":7918},{"$f":"IF('INGRESO DE DATOS'!$W$13=1,'Tablas Guyanas y Santa Elena'!E622,'Tablas Resto de Ecuador'!E622)","v":7114},{"$f":"IF('INGRESO DE DATOS'!$W$13=1,'Tablas Guyanas y Santa Elena'!F622,'Tablas Resto de Ecuador'!F622)","v":4993},{"$f":"IF('INGRESO DE DATOS'!$W$13=1,'Tablas Guyanas y Santa Elena'!G622,'Tablas Resto de Ecuador'!G622)","v":3912},{"$f":"IF('INGRESO DE DATOS'!$W$13=1,'Tablas Guyanas y Santa Elena'!H622,'Tablas Resto de Ecuador'!H622)","v":2962},7761,7918,7114,4993,3912,2962]
[45,"45-49",8807,8682,8305,5806,4531,3427,null,{"$f":"IF('INGRESO DE DATOS'!$W$13=1,'Tablas Guyanas y Santa Elena'!C623,'Tablas Resto de Ecuador'!C623)","v":8807},{"$f":"IF('INGRESO DE DATOS'!$W$13=1,'Tablas Guyanas y Santa Elena'!D623,'Tablas Resto de Ecuador'!D623)","v":8682},{"$f":"IF('INGRESO DE DATOS'!$W$13=1,'Tablas Guyanas y Santa Elena'!E623,'Tablas Resto de Ecuador'!E623)","v":8305},{"$f":"IF('INGRESO DE DATOS'!$W$13=1,'Tablas Guyanas y Santa Elena'!F623,'Tablas Resto de Ecuador'!F623)","v":5806},{"$f":"IF('INGRESO DE DATOS'!$W$13=1,'Tablas Guyanas y Santa Elena'!G623,'Tablas Resto de Ecuador'!G623)","v":4531},{"$f":"IF('INGRESO DE DATOS'!$W$13=1,'Tablas Guyanas y Santa Elena'!H623,'Tablas Resto de Ecuador'!H623)","v":3427},8807,8682,8305,5806,4531,3427]
[50,"50-54",9580,9455,8906,6350,4961,3740,null,{"$f":"IF('INGRESO DE DATOS'!$W$13=1,'Tablas Guyanas y Santa Elena'!C624,'Tablas Resto de Ecuador'!C624)","v":9580},{"$f":"IF('INGRESO DE DATOS'!$W$13=1,'Tablas Guyanas y Santa Elena'!D624,'Tablas Resto de Ecuador'!D624)","v":9455},{"$f":"IF('INGRESO DE DATOS'!$W$13=1,'Tablas Guyanas y Santa Elena'!E624,'Tablas Resto de Ecuador'!E624)","v":8906},{"$f":"IF('INGRESO DE DATOS'!$W$13=1,'Tablas Guyanas y Santa Elena'!F624,'Tablas Resto de Ecuador'!F624)","v":6350},{"$f":"IF('INGRESO DE DATOS'!$W$13=1,'Tablas Guyanas y Santa Elena'!G624,'Tablas Resto de Ecuador'!G624)","v":4961},{"$f":"IF('INGRESO DE DATOS'!$W$13=1,'Tablas Guyanas y Santa Elena'!H624,'Tablas Resto de Ecuador'!H624)","v":3740},9580,9455,8906,6350,4961,3740]
[55,"55-59",10369,10244,9529,7214,5874,4407,null,{"$f":"IF('INGRESO DE DATOS'!$W$13=1,'Tablas Guyanas y Santa Elena'!C625,'Tablas Resto de Ecuador'!C625)","v":10369},{"$f":"IF('INGRESO DE DATOS'!$W$13=1,'Tablas Guyanas y Santa Elena'!D625,'Tablas Resto de Ecuador'!D625)","v":10244},{"$f":"IF('INGRESO DE DATOS'!$W$13=1,'Tablas Guyanas y Santa Elena'!E625,'Tablas Resto de Ecuador'!E625)","v":9529},{"$f":"IF('INGRESO DE DATOS'!$W$13=1,'Tablas Guyanas y Santa Elena'!F625,'Tablas Resto de Ecuador'!F625)","v":7214},{"$f":"IF('INGRESO DE DATOS'!$W$13=1,'Tablas Guyanas y Santa Elena'!G625,'Tablas Resto de Ecuador'!G625)","v":5874},{"$f":"IF('INGRESO DE DATOS'!$W$13=1,'Tablas Guyanas y Santa Elena'!H625,'Tablas Resto de Ecuador'!H625)","v":4407},10369,10244,9529,7214,5874,4407]
[60,"60",11179,11054,10184,7730,6202,4659,null,{"$f":"IF('INGRESO DE DATOS'!$W$13=1,'Tablas Guyanas y Santa Elena'!C626,'Tablas Resto de Ecuador'!C626)","v":11179},{"$f":"IF('INGRESO DE DATOS'!$W$13=1,'Tablas Guyanas y Santa Elena'!D626,'Tablas Resto de Ecuador'!D626)","v":11054},{"$f":"IF('INGRESO DE DATOS'!$W$13=1,'Tablas Guyanas y Santa Elena'!E626,'Tablas Resto de Ecuador'!E626)","v":10184},{"$f":"IF('INGRESO DE DATOS'!$W$13=1,'Tablas Guyanas y Santa Elena'!F626,'Tablas Resto de Ecuador'!F626)","v":7730},{"$f":"IF('INGRESO DE DATOS'!$W$13=1,'Tablas Guyanas y Santa Elena'!G626,'Tablas Resto de Ecuador'!G626)","v":6202},{"$f":"IF('INGRESO DE DATOS'!$W$13=1,'Tablas Guyanas y Santa Elena'!H626,'Tablas Resto de Ecuador'!H626)","v":4659},11179,11054,10184,7730,6202,4659]
[61,"61",12018,11893,10880,8296,6979,5245,null,{"$f":"IF('INGRESO DE DATOS'!$W$13=1,'Tablas Guyanas y Santa Elena'!C627,'Tablas Resto de Ecuador'!C627)","v":12018},{"$f":"IF('INGRESO DE DATOS'!$W$13=1,'Tablas Guyanas y Santa Elena'!D627,'Tablas Resto de Ecuador'!D627)","v":11893},{"$f":"IF('INGRESO DE DATOS'!$W$13=1,'Tablas Guyanas y Santa Elena'!E627,'Tablas Resto de Ecuador'!E627)","v":10880},{"$f":"IF('INGRESO DE DATOS'!$W$13=1,'Tablas Guyanas y Santa Elena'!F627,'Tablas Resto de Ecuador'!F627)","v":8296},{"$f":"IF('INGRESO DE DATOS'!$W$13=1,'Tablas Guyanas y Santa Elena'!G627,'Tablas Resto de Ecuador'!G627)","v":6979},{"$f":"IF('INGRESO DE DATOS'!$W$13=1,'Tablas Guyanas y Santa Elena'!H627,'Tablas Resto de Ecuador'!H627)","v":5245},12018,11893,10880,8296,6979,5245]
[62,"62",12892,12767,11626,8925,7750,5829,null,{"$f":"IF('INGRESO DE DATOS'!$W$13=1,'Tablas Guyanas y Santa Elena'!C628,'Tablas Resto de Ecuador'!C628)","v":12892},{"$f":"IF('INGRESO DE DATOS'!$W$13=1,'Tablas Guyanas y Santa Elena'!D628,'Tablas Resto de Ecuador'!D628)","v":12767},{"$f":"IF('INGRESO DE DATOS'!$W$13=1,'Tablas Guyanas y Santa Elena'!E628,'Tablas Resto de Ecuador'!E628)","v":11626},{"$f":"IF('INGRESO DE DATOS'!$W$13=1,'Tablas Guyanas y Santa Elena'!F628,'Tablas Resto de Ecuador'!F628)","v":8925},{"$f":"IF('INGRESO DE DATOS'!$W$13=1,'Tablas Guyanas y Santa Elena'!G628,'Tablas Resto de Ecuador'!G628)","v":7750},{"$f":"IF('INGRESO DE DATOS'!$W$13=1,'Tablas Guyanas y Santa Elena'!H628,'Tablas Resto de Ecuador'!H628)","v":5829},12892,12767,11626,8925,7750,5829]
[63,"63",13808,13683,12432,9627,8520,6400,null,{"$f":"IF('INGRESO DE DATOS'!$W$13=1,'Tablas Guyanas y Santa Elena'!C629,'Tablas Resto de Ecuador'!C629)","v":13808},{"$f":"IF('INGRESO DE DATOS'!$W$13=1,'Tablas Guyanas y Santa Elena'!D629,'Tablas Resto de Ecuador'!D629)","v":13683},{"$f":"IF('INGRESO DE DATOS'!$W$13=1,'Tablas Guyanas y Santa Elena'!E629,'Tablas Resto de Ecuador'!E629)","v":12432},{"$f":"IF('INGRESO DE DATOS'!$W$13=1,'Tablas Guyanas y Santa Elena'!F629,'Tablas Resto de Ecuador'!F629)","v":9627},{"$f":"IF('INGRESO DE DATOS'!$W$13=1,'Tablas Guyanas y Santa Elena'!G629,'Tablas Resto de Ecuador'!G629)","v":8520},{"$f":"IF('INGRESO DE DATOS'!$W$13=1,'Tablas Guyanas y Santa Elena'!H629,'Tablas Resto de Ecuador'!H629)","v":6400},13808,13683,12432,9627,8520,6400]
[64,"64",14706,14581,13264,10401,9293,6979,null,{"$f":"IF('INGRESO DE DATOS'!$W$13=1,'Tablas Guyanas y Santa Elena'!C630,'Tablas Resto de Ecuador'!C630)","v":14706},{"$f":"IF('INGRESO DE DATOS'!$W$13=1,'Tablas Guyanas y Santa Elena'!D630,'Tablas Resto de Ecuador'!D630)","v":14581},{"$f":"IF('INGRESO DE DATOS'!$W$13=1,'Tablas Guyanas y Santa Elena'!E630,'Tablas Resto de Ecuador'!E630)","v":13264},{"$f":"IF('INGRESO DE DATOS'!$W$13=1,'Tablas Guyanas y Santa Elena'!F630,'Tablas Resto de Ecuador'!F630)","v":10401},{"$f":"IF('INGRESO DE DATOS'!$W$13=1,'Tablas Guyanas y Santa Elena'!G630,'Tablas Resto de Ecuador'!G630)","v":9293},{"$f":"IF('INGRESO DE DATOS'!$W$13=1,'Tablas Guyanas y Santa Elena'!H630,'Tablas Resto de Ecuador'!H630)","v":6979},14706,14581,13264,10401,9293,6979]
[65,"65",15589,15464,14127,11253,9345,7006,null,{"$f":"IF('INGRESO DE DATOS'!$W$13=1,'Tablas Guyanas y Santa Elena'!C631,'Tablas Resto de Ecuador'!C631)","v":15589},{"$f":"IF('INGRESO DE DATOS'!$W$13=1,'Tablas Guyanas y Santa Elena'!D631,'Tablas Resto de Ecuador'!D631)","v":15464},{"$f":"IF('INGRESO DE DATOS'!$W$13=1,'Tablas Guyanas y Santa Elena'!E631,'Tablas Resto de Ecuador'!E631)","v":14127},{"$f":"IF('INGRESO DE DATOS'!$W$13=1,'Tablas Guyanas y Santa Elena'!F631,'Tablas Resto de Ecuador'!F631)","v":11253},{"$f":"IF('INGRESO DE DATOS'!$W$13=1,'Tablas Guyanas y Santa Elena'!G631,'Tablas Resto de Ecuador'!G631)","v":9345},{"$f":"IF('INGRESO DE DATOS'!$W$13=1,'Tablas Guyanas y Santa Elena'!H631,'Tablas Resto de Ecuador'!H631)","v":7006},15589,15464,14127,11253,9345,7006]
[66,"66",16560,16435,15090,12070,9388,7017,null,{"$f":"IF('INGRESO DE DATOS'!$W$13=1,'Tablas Guyanas y Santa Elena'!C632,'Tablas Resto de Ecuador'!C632)","v":16560},{"$f":"IF('INGRESO DE DATOS'!$W$13=1,'Tablas Guyanas y Santa Elena'!D632,'Tablas Resto de Ecuador'!D632)","v":16435},{"$f":"IF('INGRESO DE DATOS'!$W$13=1,'Tablas Guyanas y Santa Elena'!E632,'Tablas Resto de Ecuador'!E632)","v":15090},{"$f":"IF('INGRESO DE DATOS'!$W$13=1,'Tablas Guyanas y Santa Elena'!F632,'Tablas Resto de Ecuador'!F632)","v":12070},{"$f":"IF('INGRESO DE DATOS'!$W$13=1,'Tablas Guyanas y Santa Elena'!G632,'Tablas Resto de Ecuador'!G632)","v":9388},{"$f":"IF('INGRESO DE DATOS'!$W$13=1,'Tablas Guyanas y Santa Elena'!H632,'Tablas Resto de Ecuador'!H632)","v":7017},16560,16435,15090,12070,9388,7017]
[67,"67",17717,17592,16219,13288,10436,7801,null,{"$f":"IF('INGRESO DE DATOS'!$W$13=1,'Tablas Guyanas y Santa Elena'!C633,'Tablas Resto de Ecuador'!C633)","v":17717},{"$f":"IF('INGRESO DE DATOS'!$W$13=1,'Tablas Guyanas y Santa Elena'!D633,'Tablas Resto de Ecuador'!D633)","v":17592},{"$f":"IF('INGRESO DE DATOS'!$W$13=1,'Tablas Guyanas y Santa Elena'!E633,'Tablas Resto de Ecuador'!E633)","v":16219},{"$f":"IF('INGRESO DE DATOS'!$W$13=1,'Tablas Guyanas y Santa Elena'!F633,'Tablas Resto de Ecuador'!F633)","v":13288},{"$f":"IF('INGRESO DE DATOS'!$W$13=1,'Tablas Guyanas y Santa Elena'!G633,'Tablas Resto de Ecuador'!G633)","v":10436},{"$f":"IF('INGRESO DE DATOS'!$W$13=1,'Tablas Guyanas y Santa Elena'!H633,'Tablas Resto de Ecuador'!H633)","v":7801},17717,17592,16219,13288,10436,7801]
[68,"68",19162,19037,17584,14521,11473,8581,null,{"$f":"IF('INGRESO DE DATOS'!$W$13=1,'Tablas Guyanas y Santa Elena'!C634,'Tablas Resto de Ecuador'!C634)","v":19162},{"$f":"IF('INGRESO DE DATOS'!$W$13=1,'Tablas Guyanas y Santa Elena'!D634,'Tablas Resto de Ecuador'!D634)","v":19037},{"$f":"IF('INGRESO DE DATOS'!$W$13=1,'Tablas Guyanas y Santa Elena'!E634,'Tablas Resto de Ecuador'!E634)","v":17584},{"$f":"IF('INGRESO DE DATOS'!$W$13=1,'Tablas Guyanas y Santa Elena'!F634,'Tablas Resto de Ecuador'!F634)","v":14521},{"$f":"IF('INGRESO DE DATOS'!$W$13=1,'Tablas Guyanas y Santa Elena'!G634,'Tablas Resto de Ecuador'!G634)","v":11473},{"$f":"IF('INGRESO DE DATOS'!$W$13=1,'Tablas Guyanas y Santa Elena'!H634,'Tablas Resto de Ecuador'!H634)","v":8581},19162,19037,17584,14521,11473,8581]
[69,"69",20984,20859,19260,15409,11978,8975,null,{"$f":"IF('INGRESO DE DATOS'!$W$13=1,'Tablas Guyanas y Santa Elena'!C635,'Tablas Resto de Ecuador'!C635)","v":20984},{"$f":"IF('INGRESO DE DATOS'!$W$13=1,'Tablas Guyanas y Santa Elena'!D635,'Tablas Resto de Ecuador'!D635)","v":20859},{"$f":"IF('INGRESO DE DATOS'!$W$13=1,'Tablas Guyanas y Santa Elena'!E635,'Tablas Resto de Ecuador'!E635)","v":19260},{"$f":"IF('INGRESO DE DATOS'!$W$13=1,'Tablas Guyanas y Santa Elena'!F635,'Tablas Resto de Ecuador'!F635)","v":15409},{"$f":"IF('INGRESO DE DATOS'!$W$13=1,'Tablas Guyanas y Santa Elena'!G635,'Tablas Resto de Ecuador'!G635)","v":11978},{"$f":"IF('INGRESO DE DATOS'!$W$13=1,'Tablas Guyanas y Santa Elena'!H635,'Tablas Resto de Ecuador'!H635)","v":8975},20984,20859,19260,15409,11978,8975]
[70,"70",23090,22989,21202,15573,12108,9020,null,{"$f":"IF('INGRESO DE DATOS'!$W$13=1,'Tablas Guyanas y Santa Elena'!C636,'Tablas Resto de Ecuador'!C636)","v":23090},{"$f":"IF('INGRESO DE DATOS'!$W$13=1,'Tablas Guyanas y Santa Elena'!D636,'Tablas Resto de Ecuador'!D636)","v":22989},{"$f":"IF('INGRESO DE DATOS'!$W$13=1,'Tablas Guyanas y Santa Elena'!E636,'Tablas Resto de Ecuador'!E636)","v":21202},{"$f":"IF('INGRESO DE DATOS'!$W$13=1,'Tablas Guyanas y Santa Elena'!F636,'Tablas Resto de Ecuador'!F636)","v":15573},{"$f":"IF('INGRESO DE DATOS'!$W$13=1,'Tablas Guyanas y Santa Elena'!G636,'Tablas Resto de Ecuador'!G636)","v":12108},{"$f":"IF('INGRESO DE DATOS'!$W$13=1,'Tablas Guyanas y Santa Elena'!H636,'Tablas Resto de Ecuador'!H636)","v":9020},23090,22989,21202,15573,12108,9020]
[71,"71",25421,25296,23296,17511,13613,10139,null,{"$f":"IF('INGRESO DE DATOS'!$W$13=1,'Tablas Guyanas y Santa Elena'!C637,'Tablas Resto de Ecuador'!C637)","v":25421},{"$f":"IF('INGRESO DE DATOS'!$W$13=1,'Tablas Guyanas y Santa Elena'!D637,'Tablas Resto de Ecuador'!D637)","v":25296},{"$f":"IF('INGRESO DE DATOS'!$W$13=1,'Tablas Guyanas y Santa Elena'!E637,'Tablas Resto de Ecuador'!E637)","v":23296},{"$f":"IF('INGRESO DE DATOS'!$W$13=1,'Tablas Guyanas y Santa Elena'!F637,'Tablas Resto de Ecuador'!F637)","v":17511},{"$f":"IF('INGRESO DE DATOS'!$W$13=1,'Tablas Guyanas y Santa Elena'!G637,'Tablas Resto de Ecuador'!G637)","v":13613},{"$f":"IF('INGRESO DE DATOS'!$W$13=1,'Tablas Guyanas y Santa Elena'!H637,'Tablas Resto de Ecuador'!H637)","v":10139},25421,25296,23296,17511,13613,10139]
[72,"72",27773,27648,25428,19453,15118,11267,null,{"$f":"IF('INGRESO DE DATOS'!$W$13=1,'Tablas Guyanas y Santa Elena'!C638,'Tablas Resto de Ecuador'!C638)","v":27773},{"$f":"IF('INGRESO DE DATOS'!$W$13=1,'Tablas Guyanas y Santa Elena'!D638,'Tablas Resto de Ecuador'!D638)","v":27648},{"$f":"IF('INGRESO DE DATOS'!$W$13=1,'Tablas Guyanas y Santa Elena'!E638,'Tablas Resto de Ecuador'!E638)","v":25428},{"$f":"IF('INGRESO DE DATOS'!$W$13=1,'Tablas Guyanas y Santa Elena'!F638,'Tablas Resto de Ecuador'!F638)","v":19453},{"$f":"IF('INGRESO DE DATOS'!$W$13=1,'Tablas Guyanas y Santa Elena'!G638,'Tablas Resto de Ecuador'!G638)","v":15118},{"$f":"IF('INGRESO DE DATOS'!$W$13=1,'Tablas Guyanas y Santa Elena'!H638,'Tablas Resto de Ecuador'!H638)","v":11267},27773,27648,25428,19453,15118,11267]
[73,"73",30036,29911,27485,21397,16631,12386,null,{"$f":"IF('INGRESO DE DATOS'!$W$13=1,'Tablas Guyanas y Santa Elena'!C639,'Tablas Resto de Ecuador'!C639)","v":30036},{"$f":"IF('INGRESO DE DATOS'!$W$13=1,'Tablas Guyanas y Santa Elena'!D639,'Tablas Resto de Ecuador'!D639)","v":29911},{"$f":"IF('INGRESO DE DATOS'!$W$13=1,'Tablas Guyanas y Santa Elena'!E639,'Tablas Resto de Ecuador'!E639)","v":27485},{"$f":"IF('INGRESO DE DATOS'!$W$13=1,'Tablas Guyanas y Santa Elena'!F639,'Tablas Resto de Ecuador'!F639)","v":21397},{"$f":"IF('INGRESO DE DATOS'!$W$13=1,'Tablas Guyanas y Santa Elena'!G639,'Tablas Resto de Ecuador'!G639)","v":16631},{"$f":"IF('INGRESO DE DATOS'!$W$13=1,'Tablas Guyanas y Santa Elena'!H639,'Tablas Resto de Ecuador'!H639)","v":12386},30036,29911,27485,21397,16631,12386]
[74,"74",32210,32085,29465,23338,18140,13513,null,{"$f":"IF('INGRESO DE DATOS'!$W$13=1,'Tablas Guyanas y Santa Elena'!C640,'Tablas Resto de Ecuador'!C640)","v":32210},{"$f":"IF('INGRESO DE DATOS'!$W$13=1,'Tablas Guyanas y Santa Elena'!D640,'Tablas Resto de Ecuador'!D640)","v":32085},{"$f":"IF('INGRESO DE DATOS'!$W$13=1,'Tablas Guyanas y Santa Elena'!E640,'Tablas Resto de Ecuador'!E640)","v":29465},{"$f":"IF('INGRESO DE DATOS'!$W$13=1,'Tablas Guyanas y Santa Elena'!F640,'Tablas Resto de Ecuador'!F640)","v":23338},{"$f":"IF('INGRESO DE DATOS'!$W$13=1,'Tablas Guyanas y Santa Elena'!G640,'Tablas Resto de Ecuador'!G640)","v":18140},{"$f":"IF('INGRESO DE DATOS'!$W$13=1,'Tablas Guyanas y Santa Elena'!H640,'Tablas Resto de Ecuador'!H640)","v":13513},32210,32085,29465,23338,18140,13513]
[75,"75+",34385,34260,31445,25524,19839,14760,null,{"$f":"IF('INGRESO DE DATOS'!$W$13=1,'Tablas Guyanas y Santa Elena'!C641,'Tablas Resto de Ecuador'!C641)","v":34385},{"$f":"IF('INGRESO DE DATOS'!$W$13=1,'Tablas Guyanas y Santa Elena'!D641,'Tablas Resto de Ecuador'!D641)","v":34260},{"$f":"IF('INGRESO DE DATOS'!$W$13=1,'Tablas Guyanas y Santa Elena'!E641,'Tablas Resto de Ecuador'!E641)","v":31445},{"$f":"IF('INGRESO DE DATOS'!$W$13=1,'Tablas Guyanas y Santa Elena'!F641,'Tablas Resto de Ecuador'!F641)","v":25524},{"$f":"IF('INGRESO DE DATOS'!$W$13=1,'Tablas Guyanas y Santa Elena'!G641,'Tablas Resto de Ecuador'!G641)","v":19839},{"$f":"IF('INGRESO DE DATOS'!$W$13=1,'Tablas Guyanas y Santa Elena'!H641,'Tablas Resto de Ecuador'!H641)","v":14760},34385,34260,31445,25524,19839,14760]
[1,"1 Child",1524,1524,1517,1226,952,704,null,{"$f":"IF('INGRESO DE DATOS'!$W$13=1,'Tablas Guyanas y Santa Elena'!C642,'Tablas Resto de Ecuador'!C642)","v":1524},{"$f":"IF('INGRESO DE DATOS'!$W$13=1,'Tablas Guyanas y Santa Elena'!D642,'Tablas Resto de Ecuador'!D642)","v":1524},{"$f":"IF('INGRESO DE DATOS'!$W$13=1,'Tablas Guyanas y Santa Elena'!E642,'Tablas Resto de Ecuador'!E642)","v":1517},{"$f":"IF('INGRESO DE DATOS'!$W$13=1,'Tablas Guyanas y Santa Elena'!F642,'Tablas Resto de Ecuador'!F642)","v":1226},{"$f":"IF('INGRESO DE DATOS'!$W$13=1,'Tablas Guyanas y Santa Elena'!G642,'Tablas Resto de Ecuador'!G642)","v":952},{"$f":"IF('INGRESO DE DATOS'!$W$13=1,'Tablas Guyanas y Santa Elena'!H642,'Tablas Resto de Ecuador'!H642)","v":704},{"$f":"(J749)*$P$2","v":1524},{"$f":"(K749)*$P$2","v":1524},1517,1226,952,704]
[2,"2 Children",2778,2778,2253,1920,1491,1265,null,{"$f":"IF('INGRESO DE DATOS'!$W$13=1,'Tablas Guyanas y Santa Elena'!C643,'Tablas Resto de Ecuador'!C643)","v":2778},{"$f":"IF('INGRESO DE DATOS'!$W$13=1,'Tablas Guyanas y Santa Elena'!D643,'Tablas Resto de Ecuador'!D643)","v":2778},{"$f":"IF('INGRESO DE DATOS'!$W$13=1,'Tablas Guyanas y Santa Elena'!E643,'Tablas Resto de Ecuador'!E643)","v":2253},{"$f":"IF('INGRESO DE DATOS'!$W$13=1,'Tablas Guyanas y Santa Elena'!F643,'Tablas Resto de Ecuador'!F643)","v":1920},{"$f":"IF('INGRESO DE DATOS'!$W$13=1,'Tablas Guyanas y Santa Elena'!G643,'Tablas Resto de Ecuador'!G643)","v":1491},{"$f":"IF('INGRESO DE DATOS'!$W$13=1,'Tablas Guyanas y Santa Elena'!H643,'Tablas Resto de Ecuador'!H643)","v":1265},{"$f":"(J750)*$P$2","v":2778},{"$f":"(K750)*$P$2","v":2778},{"$f":"(L750)*$P$2","v":2253},{"$f":"(M750)*$P$2","v":1920},{"$f":"(N750)*$P$2","v":1491},{"$f":"(O750)*$P$2","v":1265}]
[3,"3+ Children",3975,3975,3235,2787,2164,1896,null,{"$f":"IF('INGRESO DE DATOS'!$W$13=1,'Tablas Guyanas y Santa Elena'!C644,'Tablas Resto de Ecuador'!C644)","v":3975},{"$f":"IF('INGRESO DE DATOS'!$W$13=1,'Tablas Guyanas y Santa Elena'!D644,'Tablas Resto de Ecuador'!D644)","v":3975},{"$f":"IF('INGRESO DE DATOS'!$W$13=1,'Tablas Guyanas y Santa Elena'!E644,'Tablas Resto de Ecuador'!E644)","v":3235},{"$f":"IF('INGRESO DE DATOS'!$W$13=1,'Tablas Guyanas y Santa Elena'!F644,'Tablas Resto de Ecuador'!F644)","v":2787},{"$f":"IF('INGRESO DE DATOS'!$W$13=1,'Tablas Guyanas y Santa Elena'!G644,'Tablas Resto de Ecuador'!G644)","v":2164},{"$f":"IF('INGRESO DE DATOS'!$W$13=1,'Tablas Guyanas y Santa Elena'!H644,'Tablas Resto de Ecuador'!H644)","v":1896},3975,3975,3235,2787,2164,1896]
[1,"Rider Comp. Maternidad",{"$f":"J752*$V$2","v":225},{"$f":"K752*$V$2","v":225},{"$f":"L752*$V$2","v":225},225,225,225,null,{"$f":"IF('INGRESO DE DATOS'!$W$13=1,'Tablas Guyanas y Santa Elena'!C645,'Tablas Resto de Ecuador'!C645)","v":225},225,225,225,225,225]
[1,"Transplante de organos",{"$f":"J753*$V$2","v":300},{"$f":"K753*$V$2","v":300},{"$f":"L753*$V$2","v":300},{"$f":"M753*$V$2","v":300},{"$f":"N753*$V$2","v":300},{"$f":"O753*$V$2","v":300},null,{"$f":"IF('INGRESO DE DATOS'!$W$13=1,'Tablas Guyanas y Santa Elena'!C646,'Tablas Resto de Ecuador'!C646)","v":300},300,300,300,300,300]
[]
[]
[]
["TARIFAS SEMESTRALES "]
["EDAD"]
[" "," ","ET1","ET2","ET3","ET4","ET5","ET6"]
[18,"18-24",{"$f":"+C725*$G$2","v":2618.73},2552.48,2246.67,1645.65,1292.1400000000001,991.1]
[25,"25-29",{"$f":"+C726*$G$2","v":2906.52},2973.83,2530.75,1828.5,1440.54,1097.6300000000001]
[30,"30-34",{"$f":"+C727*$G$2","v":3331.05},3386.17,2967.4700000000003,2113.6400000000003,1655.19,1262.46]
[35,"35-39",{"$f":"+C728*$G$2","v":3667.07},3792.15,3309.8500000000004,2347.9,1834.8600000000001,1397.0800000000002]
[40,"40-44",{"$f":"+C729*$G$2","v":4113.33},4196.54,3770.42,2646.29,2073.36,1569.8600000000001]
[45,"45-49",{"$f":"+C730*$G$2","v":4667.71},4601.46,4401.6500000000005,3077.1800000000003,2401.4300000000003,1816.3100000000002]
[50,"50-54",{"$f":"+C731*$G$2","v":5077.4000000000005},5011.1500000000005,4720.18,3365.5,2629.33,1982.2]
[55,"55-59",{"$f":"+C732*$G$2","v":5495.5700000000006},5429.3200000000006,5050.37,3823.42,3113.2200000000003,2335.71]
[60,"60",{"$f":"+C733*$G$2","v":5924.87},5858.62,5397.52,4096.9000000000005,3287.06,2469.27]
[61,"61",{"$f":"+C734*$G$2","v":6369.54},6303.29,5766.4000000000005,4396.88,3698.8700000000003,2779.8500000000004]
[62,"62",{"$f":"+C735*$G$2","v":6832.76},{"$f":"+D735*$G$2","v":6766.51},6161.7800000000007,4730.25,4107.5,3089.3700000000003]
[63,"63",{"$f":"+C736*$G$2","v":7318.2400000000007},7251.9900000000007,6588.96,5102.3100000000004,4515.6000000000004,3392]
[64,"64",{"$f":"+C737*$G$2","v":7794.18},7727.93,7029.92,5512.5300000000007,4925.29,3698.8700000000003]
[65,"65",{"$f":"+C738*$G$2","v":8262.17},8195.92,7487.31,5964.09,4952.8500000000004,3713.1800000000003]
[66,"66",{"$f":"+C739*$G$2","v":8776.8000000000011},8710.5500000000011,7997.7000000000007,6397.1,4975.6400000000003,3719.01]
[67,"67",{"$f":"+C740*$G$2","v":9390.01},9323.76,8596.07,7042.64,5531.08,4134.5300000000007]
[68,"68",{"$f":"+C741*$G$2","v":10155.86},10089.61,9319.52,7696.13,6080.6900000000005,4547.93]
[69,"69",{"$f":"+C742*$G$2","v":11121.52},11055.27,10207.800000000001,8166.77,6348.34,4756.75]
[70,"70",{"$f":"+C743*$G$2","v":12237.7},12184.17,11237.060000000001,8253.69,6417.2400000000007,4780.6000000000004]
[71,"71",{"$f":"+C744*$G$2","v":13473.130000000001},13406.880000000001,12346.880000000001,9280.83,7214.89,5373.67]
[72,"72",{"$f":"+C745*$G$2","v":14719.69},{"$f":"+D745*$G$2","v":14653.44},13476.84,10310.09,8012.54,5971.51]
[73,"73",{"$f":"+C746*$G$2","v":15919.08},15852.83,14567.050000000001,11340.41,8814.43,6564.58]
[74,"74",{"$f":"+C747*$G$2","v":17071.3},17005.05,15616.45,12369.140000000001,9614.2000000000007,7161.89]
[75,"75+",{"$f":"+C748*$G$2","v":18224.05},18157.8,16665.850000000002,13527.720000000001,10514.67,7822.8]
[1,"1 Child",{"$f":"+C749*$G$2","v":807.72},807.72,804.01,649.78000000000009,504.56,373.12]
[2,"2 Children",{"$f":"+C750*$G$2","v":1472.3400000000001},1472.3400000000001,1194.0900000000001,1017.6,790.23,670.45]
[3,"3+ Children",{"$f":"+C751*$G$2","v":2106.75},{"$f":"+D751*$G$2","v":2106.75},1714.5500000000002,1477.1100000000001,1146.92,1004.88]
[1,"Rider Comp. Maternidad",{"$f":"+C752*$G$2","v":119.25},119.25,119.25,119.25,119.25,119.25]
[1,"Transplante de organos",{"$f":"+C753*$G$2","v":159},159,159,159,159,159]
[]
[]
[]
[]
[]
["CRITICAL"]
["TARIFAS ANUALES",null,null,null,null,null,null,null,null,null,null,null,null,null,null,null,null,null,null,null,null,"ORIGINAL RATES",null,null,null,null,null,null,null,null,null,null,null,null,null,null,null,null,null,null,null,null,"DISCOUNTS APPLIED"]
["EDAD"]
[" "," ","CR1",null,null,"CR2",null,null,"CR3",null,null,"CR4",null,null,"CR5",null,null,"CR6",null,null,null," "," ","CR1",null,null,"CR2",null,null,"CR3",null,null,"CR4",null,null,"CR5",null,null,"CR6",null,null,null," "," ","CR1",null,null,"CR2",null,null,"CR3",null,null,"CR4",null,null,"CR5",null,null,"CR6"]
[null,null,"INDIVIDUAL","2 PERSONAS","FAMILIAR","INDIVIDUAL","2 PERSONAS","FAMILIAR","INDIVIDUAL","2 PERSONAS","FAMILIAR","INDIVIDUAL","2 PERSONAS","FAMILIAR","INDIVIDUAL","2 PERSONAS","FAMILIAR","INDIVIDUAL","2 PERSONAS","FAMILIAR",null,null,null,"INDIVIDUAL","2 PERSONAS","FAMILIAR","INDIVIDUAL","2 PERSONAS","FAMILIAR","INDIVIDUAL","2 PERSONAS","FAMILIAR","INDIVIDUAL","2 PERSONAS","FAMILIAR","INDIVIDUAL","2 PERSONAS","FAMILIAR","INDIVIDUAL","2 PERSONAS","FAMILIAR",null,null,null,"INDIVIDUAL","2 PERSONAS","FAMILIAR","INDIVIDUAL","2 PERSONAS","FAMILIAR","INDIVIDUAL","2 PERSONAS","FAMILIAR","INDIVIDUAL","2 PERSONAS","FAMILIAR","INDIVIDUAL","2 PERSONAS","FAMILIAR","INDIVIDUAL","2 PERSONAS","FAMILIAR"]
[18,"-  49",{"$f":"(AS799*$V$2)+75","v":6171},{"$f":"(AT799*$V$2)+75","v":9620},13003,5178,8773,11825,4385,7100,9629,2985,5208,7177,2155,3679,5200,1268,2027,2789,null,18,"-  49",{"$f":"IF('INGRESO DE DATOS'!$W$13=1,'Tablas Guyanas y Santa Elena'!C692,'Tablas Resto de Ecuador'!C692)","v":6096},{"$f":"IF('INGRESO DE DATOS'!$W$13=1,'Tablas Guyanas y Santa Elena'!D692,'Tablas Resto de Ecuador'!D692)","v":9545},{"$f":"IF('INGRESO DE DATOS'!$W$13=1,'Tablas Guyanas y Santa Elena'!E692,'Tablas Resto de Ecuador'!E692)","v":12928},{"$f":"IF('INGRESO DE DATOS'!$W$13=1,'Tablas Guyanas y Santa Elena'!F692,'Tablas Resto de Ecuador'!F692)","v":5103},{"$f":"IF('INGRESO DE DATOS'!$W$13=1,'Tablas Guyanas y Santa Elena'!G692,'Tablas Resto de Ecuador'!G692)","v":8698},{"$f":"IF('INGRESO DE DATOS'!$W$13=1,'Tablas Guyanas y Santa Elena'!H692,'Tablas Resto de Ecuador'!H692)","v":11750},{"$f":"IF('INGRESO DE DATOS'!$W$13=1,'Tablas Guyanas y Santa Elena'!I692,'Tablas Resto de Ecuador'!I692)","v":4310},{"$f":"IF('INGRESO DE DATOS'!$W$13=1,'Tablas Guyanas y Santa Elena'!J692,'Tablas Resto de Ecuador'!J692)","v":7025},{"$f":"IF('INGRESO DE DATOS'!$W$13=1,'Tablas Guyanas y Santa Elena'!K692,'Tablas Resto de Ecuador'!K692)","v":9554},{"$f":"IF('INGRESO DE DATOS'!$W$13=1,'Tablas Guyanas y Santa Elena'!L692,'Tablas Resto de Ecuador'!L692)","v":2910},{"$f":"IF('INGRESO DE DATOS'!$W$13=1,'Tablas Guyanas y Santa Elena'!M692,'Tablas Resto de Ecuador'!M692)","v":5133},{"$f":"IF('INGRESO DE DATOS'!$W$13=1,'Tablas Guyanas y Santa Elena'!N692,'Tablas Resto de Ecuador'!N692)","v":7102},{"$f":"IF('INGRESO DE DATOS'!$W$13=1,'Tablas Guyanas y Santa Elena'!O692,'Tablas Resto de Ecuador'!O692)","v":2080},{"$f":"IF('INGRESO DE DATOS'!$W$13=1,'Tablas Guyanas y Santa Elena'!P692,'Tablas Resto de Ecuador'!P692)","v":3604},{"$f":"IF('INGRESO DE DATOS'!$W$13=1,'Tablas Guyanas y Santa Elena'!Q692,'Tablas Resto de Ecuador'!Q692)","v":5125},{"$f":"IF('INGRESO DE DATOS'!$W$13=1,'Tablas Guyanas y Santa Elena'!R692,'Tablas Resto de Ecuador'!R692)","v":1193},{"$f":"IF('INGRESO DE DATOS'!$W$13=1,'Tablas Guyanas y Santa Elena'!S692,'Tablas Resto de Ecuador'!S692)","v":1952},{"$f":"IF('INGRESO DE DATOS'!$W$13=1,'Tablas Guyanas y Santa Elena'!T692,'Tablas Resto de Ecuador'!T692)","v":2714},null,18,"-  49",{"$f":"X799*$K$2","v":6096},{"$f":"Y799*$K$2","v":9545},12928,5103,8698,11750,4310,7025,9554,2910,5133,7102,2080,3604,5125,1193,1952,2714]
[50,"o más",{"$f":"(AS800*$V$2)+75","v":7891},{"$f":"(AT800*$V$2)+75","v":10646},{"$f":"(AU800*$V$2)+75","v":14535},{"$f":"(AV800*$V$2)+75","v":6613},{"$f":"(AW800*$V$2)+75","v":9535},{"$f":"(AX800*$V$2)+75","v":13027},{"$f":"(AY800*$V$2)+75","v":5590},{"$f":"(AZ800*$V$2)+75","v":8149},{"$f":"(BA800*$V$2)+75","v":11212},{"$f":"(BB800*$V$2)+75","v":3766},{"$f":"(BC800*$V$2)+75","v":6007},{"$f":"(BD800*$V$2)+75","v":8252},{"$f":"(BE800*$V$2)+75","v":2674},{"$f":"(BF800*$V$2)+75","v":4216},{"$f":"(BG800*$V$2)+75","v":5725},{"$f":"(BH800*$V$2)+75","v":1534},{"$f":"(BI800*$V$2)+75","v":2299},{"$f":"(BJ800*$V$2)+75","v":3055},null,50,"o más",{"$f":"IF('INGRESO DE DATOS'!$W$13=1,'Tablas Guyanas y Santa Elena'!C693,'Tablas Resto de Ecuador'!C693)","v":7816},{"$f":"IF('INGRESO DE DATOS'!$W$13=1,'Tablas Guyanas y Santa Elena'!D693,'Tablas Resto de Ecuador'!D693)","v":10571},{"$f":"IF('INGRESO DE DATOS'!$W$13=1,'Tablas Guyanas y Santa Elena'!E693,'Tablas Resto de Ecuador'!E693)","v":14460},{"$f":"IF('INGRESO DE DATOS'!$W$13=1,'Tablas Guyanas y Santa Elena'!F693,'Tablas Resto de Ecuador'!F693)","v":6538},{"$f":"IF('INGRESO DE DATOS'!$W$13=1,'Tablas Guyanas y Santa Elena'!G693,'Tablas Resto de Ecuador'!G693)","v":9460},{"$f":"IF('INGRESO DE DATOS'!$W$13=1,'Tablas Guyanas y Santa Elena'!H693,'Tablas Resto de Ecuador'!H693)","v":12952},{"$f":"IF('INGRESO DE DATOS'!$W$13=1,'Tablas Guyanas y Santa Elena'!I693,'Tablas Resto de Ecuador'!I693)","v":5515},{"$f":"IF('INGRESO DE DATOS'!$W$13=1,'Tablas Guyanas y Santa Elena'!J693,'Tablas Resto de Ecuador'!J693)","v":8074},{"$f":"IF('INGRESO DE DATOS'!$W$13=1,'Tablas Guyanas y Santa Elena'!K693,'Tablas Resto de Ecuador'!K693)","v":11137},{"$f":"IF('INGRESO DE DATOS'!$W$13=1,'Tablas Guyanas y Santa Elena'!L693,'Tablas Resto de Ecuador'!L693)","v":3691},{"$f":"IF('INGRESO DE DATOS'!$W$13=1,'Tablas Guyanas y Santa Elena'!M693,'Tablas Resto de Ecuador'!M693)","v":5932},{"$f":"IF('INGRESO DE DATOS'!$W$13=1,'Tablas Guyanas y Santa Elena'!N693,'Tablas Resto de Ecuador'!N693)","v":8177},{"$f":"IF('INGRESO DE DATOS'!$W$13=1,'Tablas Guyanas y Santa Elena'!O693,'Tablas Resto de Ecuador'!O693)","v":2599},{"$f":"IF('INGRESO DE DATOS'!$W$13=1,'Tablas Guyanas y Santa Elena'!P693,'Tablas Resto de Ecuador'!P693)","v":4141},{"$f":"IF('INGRESO DE DATOS'!$W$13=1,'Tablas Guyanas y Santa Elena'!Q693,'Tablas Resto de Ecuador'!Q693)","v":5650},{"$f":"IF('INGRESO DE DATOS'!$W$13=1,'Tablas Guyanas y Santa Elena'!R693,'Tablas Resto de Ecuador'!R693)","v":1459},{"$f":"IF('INGRESO DE DATOS'!$W$13=1,'Tablas Guyanas y Santa Elena'!S693,'Tablas Resto de Ecuador'!S693)","v":2224},{"$f":"IF('INGRESO DE DATOS'!$W$13=1,'Tablas Guyanas y Santa Elena'!T693,'Tablas Resto de Ecuador'!T693)","v":2980},null,50,"o más",{"$f":"X800*$K$2","v":7816},{"$f":"Y800*$K$2","v":10571},{"$f":"Z800*$K$2","v":14460},{"$f":"AA800*$K$2","v":6538},{"$f":"AB800*$K$2","v":9460},{"$f":"AC800*$K$2","v":12952},{"$f":"AD800*$K$2","v":5515},{"$f":"AE800*$K$2","v":8074},{"$f":"AF800*$K$2","v":11137},{"$f":"AG800*$K$2","v":3691},{"$f":"AH800*$K$2","v":5932},{"$f":"AI800*$K$2","v":8177},{"$f":"AJ800*$K$2","v":2599},{"$f":"AK800*$K$2","v":4141},{"$f":"AL800*$K$2","v":5650},{"$f":"AM800*$K$2","v":1459},{"$f":"AN800*$K$2","v":2224},{"$f":"AO800*$K$2","v":2980}]
[]
["TARIFAS SEMESTRALES ",null,null,null,null,null,null,null,null,null,null,null,null,null,null,null,null,null,null,null,null,"TARIFAS SEMESTRALES ",null,null,null,null,null,null,null,null,null,null,null,null,null,null,null,null,null,null,null,null,"TARIFAS SEMESTRALES "]
["EDAD",null,null,null,null,null,null,null,null,null,null,null,null,null,null,null,null,null,null,null,null,"EDAD",null,null,null,null,null,null,null,null,null,null,null,null,null,null,null,null,null,null,null,null,"EDAD"]
[" "," ","CR1",null,null,"CR2",null,null,"CR3",null,null,"CR4",null,null,"CR5",null,null,"CR6",null,null,null," "," ","CR1",null,null,"CR2",null,null,"CR3",null,null,"CR4",null,null,"CR5",null,null,"CR6",null,null,null," "," ","CR1",null,null,"CR2",null,null,"CR3",null,null,"CR4",null,null,"CR5",null,null,"CR6"]
[null,null,"INDIVIDUAL","2 PERSONAS","FAMILIAR","INDIVIDUAL","2 PERSONAS","FAMILIAR","INDIVIDUAL","2 PERSONAS","FAMILIAR","INDIVIDUAL","2 PERSONAS","FAMILIAR","INDIVIDUAL","2 PERSONAS","FAMILIAR","INDIVIDUAL","2 PERSONAS","FAMILIAR",null,null,null,"INDIVIDUAL","2 PERSONAS","FAMILIAR","INDIVIDUAL","2 PERSONAS","FAMILIAR","INDIVIDUAL","2 PERSONAS","FAMILIAR","INDIVIDUAL","2 PERSONAS","FAMILIAR","INDIVIDUAL","2 PERSONAS","FAMILIAR","INDIVIDUAL","2 PERSONAS","FAMILIAR",null,null,null,"INDIVIDUAL","2 PERSONAS","FAMILIAR","INDIVIDUAL","2 PERSONAS","FAMILIAR","INDIVIDUAL","2 PERSONAS","FAMILIAR","INDIVIDUAL","2 PERSONAS","FAMILIAR","INDIVIDUAL","2 PERSONAS","FAMILIAR","INDIVIDUAL","2 PERSONAS","FAMILIAR"]
[18,"-  49",{"$f":"AS806+75","v":3305.88},{"$f":"AT806+75","v":5133.8500000000004},6926.84,2779.59,4684.9400000000005,6302.5,2359.3000000000002,3798.25,5138.62,1617.3000000000002,2795.4900000000002,3839.0600000000004,1177.4000000000001,1985.1200000000001,2791.25,707.29000000000008,1109.56,1513.42,null,18,"-  49",{"$f":"+X799*$G$2","v":3230.88},{"$f":"+Y799*$G$2","v":5058.8500000000004},6851.84,2704.59,4609.9400000000005,6227.5,2284.3000000000002,3723.25,5063.62,1542.3000000000002,2720.4900000000002,3764.0600000000004,1102.4000000000001,1910.1200000000001,2716.25,632.29000000000008,1034.56,1438.42,null,18,"-  25",{"$f":"+AS799*$G$2","v":3230.88},5058.8500000000004,6851.84,2704.59,4609.9400000000005,6227.5,2284.3000000000002,3723.25,5063.62,1542.3000000000002,2720.4900000000002,3764.0600000000004,1102.4000000000001,1910.1200000000001,2716.25,632.29000000000008,1034.56,1438.42]
[50,"o más",{"$f":"AS807+75","v":4217.4800000000005},{"$f":"AT807+75","v":5677.63},{"$f":"AU807+75","v":7738.8},{"$f":"AV807+75","v":3540.1400000000003},{"$f":"AW807+75","v":5088.8},{"$f":"AX807+75","v":6939.56},{"$f":"AY807+75","v":2997.9500000000003},{"$f":"AZ807+75","v":4354.22},{"$f":"BA807+75","v":5977.6100000000006},{"$f":"BB807+75","v":2031.23},{"$f":"BC807+75","v":3218.96},{"$f":"BD807+75","v":4408.8100000000004},{"$f":"BE807+75","v":1452.47},{"$f":"BF807+75","v":2269.73},{"$f":"BG807+75","v":3069.5},{"$f":"BH807+75","v":848.2700000000001},{"$f":"BI807+75","v":1253.72},{"$f":"BJ807+75","v":1654.4},null,50,"o más",{"$f":"+X800*$G$2","v":4142.4800000000005},5602.63,7663.8,3465.1400000000003,5013.8,6864.56,2922.9500000000003,4279.22,5902.6100000000006,1956.23,3143.96,4333.8100000000004,1377.47,2194.73,2994.5,773.2700000000001,1178.72,1579.4,null,75,"o más",{"$f":"+AS800*$G$2","v":4142.4800000000005},5602.63,7663.8,3465.1400000000003,5013.8,6864.56,2922.9500000000003,4279.22,5902.6100000000006,1956.23,3143.96,4333.8100000000004,1377.47,2194.73,2994.5,773.2700000000001,1178.72,1579.4]

{"sheet":"Tablas Guyanas y Santa Elena","index":14,"n_rows":701,"n_cols":20,"rows_kept":701,"cut":false,"hidden":true,"merged":[[697,46,697,48],[697,49,697,51],[697,52,697,54],[697,24,697,26],[697,27,697,29],[697,30,697,32],[697,33,697,35],[697,40,697,42],[697,43,697,45],[696,38,696,39],[696,40,696,44],[689,46,689,48],[689,49,689,51],[689,52,689,54],[695,0,695,16],[695,19,695,35],[695,38,695,54],[689,24,689,26],[689,27,689,29],[689,30,689,32],[689,33,689,35],[689,40,689,42],[689,43,689,45],[689,2,689,4],[689,5,689,7],[689,8,689,10],[689,11,689,13],[689,14,689,16],[689,21,689,23],[689,17,689,19],[696,0,696,1],[649,0,649,7],[650,0,650,1],[650,2,650,6],[688,0,688,1],[688,2,688,6],[577,0,577,7],[578,0,578,1],[578,2,578,6],[613,0,613,7],[614,0,614,7],[615,0,615,1],[615,2,615,6],[687,0,687,19],[686,0,686,19],[504,0,504,7],[505,0,505,1],[505,2,505,6],[540,0,540,7],[541,0,541,7],[542,0,542,1],[542,2,542,6],[400,0,400,7],[401,0,401,1],[401,2,401,6],[470,0,470,7],[471,0,471,7],[472,0,472,1],[472,2,472,6],[432,0,432,7],[433,0,433,7],[434,0,434,1],[434,2,434,6],[325,0,325,7],[326,0,326,1],[326,2,326,6],[364,0,364,7],[365,0,365,7],[366,0,366,1],[366,2,366,6],[219,0,219,7],[220,0,220,1],[220,2,220,6],[291,0,291,7],[292,0,292,7],[293,0,293,1],[293,2,293,6],[252,0,252,7],[253,0,253,7],[254,0,254,1],[254,2,254,6],[183,0,183,7],[184,0,184,7],[185,0,185,1],[185,2,185,6],[40,0,40,7],[41,0,41,1],[41,2,41,6],[113,0,113,7],[114,0,114,7],[115,0,115,1],[115,2,115,6],[74,0,74,7],[75,0,75,7],[76,0,76,1],[76,2,76,6],[1,8,1,9],[4,0,4,7],[4,10,4,11],[5,0,5,7],[5,16,5,17],[6,0,6,1],[6,2,6,6],[147,0,147,7],[148,0,148,1],[148,2,148,6],[74,10,74,11],[75,16,75,17],[697,21,697,23],[697,14,697,16],[697,11,697,13],[697,8,697,10],[697,5,697,7],[697,2,697,4],[696,21,696,25],[696,19,696,20],[696,2,696,6]]}
[null,null,null,null,null,null,null,null,null,null,"D1","D2","D3","D4","D5","D6"]
[null,"REGIÓN",{"$f":"'INGRESO DE DATOS'!W14","v":"Resto de Ecuador"},null,"FACTOR SEMESTRAL :",null,0.53,null,"NEW BUSINESS DISCUOUNTS",null,{"$f":"'INGRESO DE DATOS'!O42","v":1},{"$f":"'INGRESO DE DATOS'!P42","v":1},{"$f":"'INGRESO DE DATOS'!Q42","v":1},{"$f":"'INGRESO DE DATOS'!R42","v":1},{"$f":"'INGRESO DE DATOS'!S42","v":1},{"$f":"'INGRESO DE DATOS'!T42","v":1}]
[]
[]
["BUPA DIAMOND CARE  (MUNDIAL)"]
["TARIFAS ANUALES"]
["EDAD"]
[" "," ","DW1","DW2","DW3","DW4","DW5","DW6"]
[18,"18-24",31872,21147,12204,9598,6177,4885]
[25,"25-29",35835,22172,15110,10622,6828,5395]
[30,"30-34",37106,23064,16587,11874,8154,6452]
[35,"35-39",41470,25811,18553,13293,9124,7221]
[40,"40-44",47986,29895,20279,14737,10013,7917]
[45,"45-49",53561,33409,22669,16448,11181,8831]
[50,"50-54",63729,42730,29690,21438,15734,12439]
[55,"55-59",69390,45443,31593,22796,16746,13233]
[60,"60",71322,49491,34455,26211,20140,16409]
[61,"61",77401,53168,37015,28132,21635,17612]
[62,"62",85147,58197,40513,30806,23668,19275]
[63,"63",93920,61868,43068,32735,25165,20487]
[64,"64",103076,66911,46603,35411,27211,22157]
[65,"65",111321,82616,60730,44734,36242,31197]
[66,"66",116363,89246,66856,51967,42106,36224]
[67,"67",127056,95996,71543,56743,45972,39550]
[68,"68",137763,102909,76319,60959,50897,43794]
[69,"69",146981,110024,81222,65159,55984,48170]
[70,"70",156864,117383,86292,69492,62686,53209]
[71,"71",167620,125073,91584,74014,67244,56776]
[72,"72",179108,133066,97073,78737,69688,60516]
[73,"73",191015,141233,102674,83574,72253,62735]
[74,"74",203026,149442,108303,88440,73519,63846]
[75,"75+",214828,157566,113876,93248,76722,66623]
[1,"1 Child",6954,4549,3111,2376,2304,2005]
[2,"2 Children",11533,7606,5355,4104,3978,3436]
[3,"3+ Children",15658,10421,7437,5726,5533,4763]
[1,"Rider Comp. Maternidad",0,0,0,225,225,225]
[1,"Transplante de organos",0,0,0,0,0,0]
[]
[]
[]
["TARIFAS SEMESTRALES "]
["EDAD"]
[" "," ",null,"DW2","DW3","DW4","DW5","DW6"]
[18,"18-24",null,{"$f":"$G$2*D9","v":11207.91},6468.12,5086.9400000000005,3273.81,2589.0500000000002]
[25,"25-29",null,11751.16,8008.3,5629.66,3618.84,2859.3500000000004]
[30,"30-34",null,12223.92,8791.11,6293.22,4321.62,3419.56]
[35,"35-39",null,13679.83,9833.09,7045.29,4835.72,3827.13]
[40,"40-44",null,15844.35,10747.87,7810.6100000000006,5306.89,4196.01]
[45,"45-49",null,17706.77,12014.57,8717.44,5925.93,4680.43]
[50,"50-54",null,22646.9,15735.7,11362.140000000001,8339.02,6592.67]
[55,"55-59",null,24084.79,16744.29,12081.880000000001,8875.380000000001,7013.4900000000007]
[60,"60",null,26230.23,18261.150000000001,13891.83,10674.2,8696.77]
[61,"61",null,28179.040000000001,19617.95,14909.960000000001,11466.550000000001,9334.36]
[62,"62",null,{"$f":"$G$2*D19","v":30844.41},21471.89,16327.18,12544.04,10215.75]
[63,"63",null,32790.04,22826.04,17349.55,13337.45,10858.11]
[64,"64",null,35462.83,24699.59,18767.830000000002,14421.83,11743.210000000001]
[65,"65",null,43786.48,32186.9,23709.02,19208.260000000002,16534.41]
[66,"66",null,47300.380000000005,35433.68,27542.510000000002,22316.18,19198.72]
[67,"67",null,50877.880000000005,37917.79,30073.79,24365.16,20961.5]
[68,"68",null,54541.770000000004,40449.07,32308.27,26975.41,23210.82]
[69,"69",null,58312.72,43047.66,34534.270000000004,29671.52,25530.100000000002]
[70,"70",null,62212.990000000005,45734.76,36830.76,33223.58,28200.77]
[71,"71",null,66288.69,48539.520000000004,39227.420000000006,35639.32,30091.280000000002]
[72,"72",null,{"$f":"$G$2*D29","v":70524.98000000001},51448.69,41730.61,36934.639999999999,32073.480000000003]
[73,"73",null,74853.490000000005,54417.22,44294.22,38294.090000000004,33249.550000000003]
[74,"74",null,79204.260000000009,57400.590000000004,46873.200000000004,38965.07,33838.380000000005]
[75,"75+",null,83509.98000000001,60354.280000000006,49421.440000000002,40662.660000000003,35310.19]
[1,"1 Child",null,2410.9700000000003,1648.8300000000002,1259.28,1221.1200000000001,1062.6500000000001]
[2,"2 Children",null,4031.1800000000003,2838.15,2175.12,2108.34,1821.0800000000002]
[3,"3+ Children",null,5523.13,3941.61,3034.78,2932.4900000000002,2524.3900000000003]
[1,"Rider Comp. Maternidad",null,{"$f":"+D36*$G$2","v":0},0,119.25,119.25,119.25]
[1,"Transplante de organos",null,0,0,0,0,0]
[]
[]
["BUPA DIAMOND CARE  (LATIN AMERICA)"]
["TARIFAS ANUALES"]
["EDAD"]
[" "," ","DW1","DW2","DW3","DW4","DW5","DW6"]
[18,"18-24",26963,16608,10967,7471,4764,3739]
[25,"25-29",28282,17419,12134,8284,5287,4160]
[30,"30-34",29250,18138,13007,9298,6340,4990]
[35,"35-39",32709,20303,14574,10400,7104,5594]
[40,"40-44",37872,23542,15925,11558,7811,6159]
[45,"45-49",42285,26327,17820,12931,8737,6883]
[50,"50-54",54963,33703,23387,16873,12352,9740]
[55,"55-59",58464,35845,24895,17937,13145,10368]
[60,"60",62187,39059,27157,20640,15846,12879]
[61,"61",66796,41978,29179,22166,17031,13826]
[62,"62",73073,45963,31967,24294,18648,15144]
[63,"63",77677,48860,33985,25821,19828,16108]
[64,"64",84009,52845,36782,27944,21436,17438]
[65,"65",88022,69112,47981,35333,28613,24615]
[66,"66",92027,80288,55744,41059,33255,28586]
[67,"67",100488,87712,60892,44854,36315,31236]
[68,"68",111245,97121,67414,49673,40226,34585]
[69,"69",122369,106855,74191,54651,44256,38054]
[70,"70",144805,131517,90333,64333,51576,44761]
[71,"71",150496,136682,93871,66865,53594,46539]
[72,"72",154732,140547,96533,68753,55117,47835]
[73,"73",160422,145725,100073,71284,57143,49609]
[74,"74",163238,148290,101857,72527,58160,50479]
[75,"75+",170338,154745,106284,75707,60683,52696]
[1,"1 Child",9350,5785,4269,3351,2526,1985]
[2,"2 Children",14673,9196,6780,5334,4034,3146]
[3,"3+ Children",21365,13471,9940,7816,5915,4608]
[1,"Rider Comp. Maternidad",0,0,0,225,225,225]
[1,"Transplante de organos",0,0,0,0,0,0]
[]
[]
[]
[]
[]
[]
["DIAMOND (LATINAMERICA ONLY)"]
["TARIFAS ANUALES"]
["EDAD"]
[" "," ","DL1","DL2","DL3","DL4","DL5","DL6"]
[18,"-  24"]
[25,"-  29"]
[30,"-  34"]
[35,"-  39"]
[40,"-  44"]
[45,"-  49"]
[50,"-  54"]
[55,"-  59"]
[60]
[61]
[62]
[63]
[64]
[65]
[66]
[67]
[68]
[69]
[70]
[71]
[72]
[73]
[74]
[75,"o más"]
[1,"Hijo"]
[2,"Hijos"]
[3,"Hijos o más"]
[1,"Rider Comp. Maternidad"]
[1,"Transplante de organos",0,0,0,0,0,0]
[]
["TARIFAS SEMESTRALES "]
["EDAD"]
[" "," ","DL1","DL2","DL3","DL4","DL5","DL6"]
[18,"-  24",{"$f":"+C118*$G$2","v":0},0,0,0,0,0]
[25,"-  29",0,0,0,0,0,0]
[30,"-  34",0,0,0,0,0,0]
[35,"-  39",0,0,0,0,0,0]
[40,"-  44",0,0,0,0,0,0]
[45,"-  49",0,0,0,0,0,0]
[50,"-  54",0,0,0,0,0,0]
[55,"-  59",0,0,0,0,0,0]
[60,null,0,0,0,0,0,0]
[61,null,0,0,0,0,0,0]
[62,null,{"$f":"+C128*$G$2","v":0},0,0,0,0,0]
[63,null,0,0,0,0,0,0]
[64,null,0,0,0,0,0,0]
[65,null,0,0,0,0,0,0]
[66,null,0,0,0,0,0,0]
[67,null,0,0,0,0,0,0]
[68,null,0,0,0,0,0,0]
[69,null,0,0,0,0,0,0]
[70,null,0,0,0,0,0,0]
[71,null,0,0,0,0,0,0]
[72,null,{"$f":"+C138*$G$2","v":0},0,0,0,0,0]
[73,null,0,0,0,0,0,0]
[74,null,0,0,0,0,0,0]
[75,"o más",0,0,0,0,0,0]
[1,"Hijo",0,0,0,0,0,0]
[2,"Hijos",0,0,0,0,0,0]
[3,"Hijos o más",0,0,0,0,0,0]
[1,"Rider Comp. Maternidad",0,0,0,0,0,0]
[1,"Transplante de organos",0,0,0,0,0,0]
[]
[]
[]
[]
["BUPA COMPLETE  CARE (MUNDIAL)"]
["TARIFAS ANUALES"]
["EDAD"]
[" "," ","CW1","CW2","CW3","CW4","CW5","CW6"]
[18,"18-24",27050,14057,8171,4544,3906,4104]
[25,"25-29",29422,16092,10410,6345,5236,4542]
[30,"30-34",31794,18127,12650,8146,6567,5436]
[35,"35-39",34165,20099,14889,9947,7897,5938]
[40,"40-44",34710,22374,16955,10237,8016,6695]
[45,"45-49",36759,25728,19858,14337,9820,7534]
[50,"50-54",45153,32016,26159,18825,13977,10706]
[55,"55-59",54031,38486,27823,20026,14858,11390]
[60,"60",67246,42633,30216,22772,17664,14196]
[61,"61",72215,45802,32436,24453,18963,15249]
[62,"62",79003,50126,35516,26776,20751,16688]
[63,"63",82569,53294,37748,28449,22058,17727]
[64,"64",84815,57629,40828,30769,23847,19183]
[65,"65",89126,65223,53220,38873,31761,24360]
[66,"66",95116,68914,58158,44664,36899,25902]
[67,"67",101536,72663,61463,47406,38886,27497]
[68,"68",108965,76955,65104,50399,40486,29321]
[69,"69",117982,82272,69347,53817,42529,31553]
[70,"70",129166,89096,74454,57830,45376,34370]
[71,"71",143229,97902,80702,62633,49253,37958]
[72,"72",159786,108368,87914,68109,53920,42199]
[73,"73",173157,119782,95678,73971,59038,46813]
[74,"74",176215,131433,103579,79643,64268,51520]
[75,"75+",183865,142610,111205,83114,67228,56041]
[1,"1 Child",9870,6141,4491,2926,2436,1877]
[2,"2 Children",15468,9142,6153,3928,3128,2829]
[3,"3+ Children",22487,11105,7504,4825,3762,3376]
[1,"Rider Comp. Maternidad",0,0,0,225,225,225]
[1,"Transplante de organos",0,0,0,0,0,0]
[]
[]
[]
["TARIFAS SEMESTRALES "]
["EDAD"]
[" "," ",null,"CW2","CW3","CW4","CW5","CW6"]
[18,"18-24",null,{"$f":"$G$2*D188","v":7450.21},4330.63,2408.3200000000002,2070.1800000000003,2175.12]
[25,"25-29",null,8528.76,5517.3,3362.8500000000004,2775.08,2407.2600000000002]
[30,"30-34",null,9607.3100000000013,6704.5,4317.38,3480.51,2881.08]
[35,"35-39",null,10652.470000000001,7891.17,5271.91,4185.41,3147.1400000000003]
[40,"40-44",null,11858.220000000001,8986.15,5425.6100000000006,4248.4800000000005,3548.3500000000004]
[45,"45-49",null,13635.84,10524.74,7598.6100000000006,5204.6000000000004,3993.02]
[50,"50-54",null,16968.48,13864.27,9977.25,7407.81,5674.18]
[55,"55-59",null,20397.580000000002,14746.19,10613.78,7874.7400000000007,6036.7000000000007]
[60,"60",null,22595.49,16014.480000000001,12069.16,9361.92,7523.88]
[61,"61",null,24275.06,17191.080000000002,12960.09,10050.390000000001,8081.97]
[62,"62",null,{"$f":"$G$2*D198","v":26566.780000000002},18823.48,14191.28,10998.03,8844.6400000000012]
[63,"63",null,28245.82,20006.440000000002,15077.970000000001,11690.74,9395.3100000000013]
[64,"64",null,30543.370000000003,21638.84,16307.570000000002,12638.91,10166.99]
[65,"65",null,34568.19,28206.600000000002,20602.690000000002,16833.330000000002,12910.800000000001]
[66,"66",null,36524.42,30823.74,23671.920000000002,19556.47,13728.060000000001]
[67,"67",null,38511.39,32575.390000000003,25125.18,20609.580000000002,14573.41]
[68,"68",null,40786.15,34505.120000000003,26711.47,21457.58,15540.130000000001]
[69,"69",null,43604.160000000003,36753.910000000003,28523.010000000002,22540.370000000003,16723.09]
[70,"70",null,47220.880000000005,39460.620000000003,30649.9,24049.280000000002,18216.100000000002]
[71,"71",null,51888.060000000005,42772.060000000005,33195.490000000005,26104.09,20117.740000000002]
[72,"72",null,{"$f":"$G$2*D208","v":57435.040000000001},46594.420000000006,36097.770000000004,28577.600000000002,22365.47]
[73,"73",null,63484.460000000006,50709.340000000004,39204.630000000005,31290.140000000003,24810.890000000003]
[74,"74",null,69659.490000000005,54896.87,42210.79,34062.04,27305.600000000002]
[75,"75+",null,75583.3,58938.65,44050.420000000006,35630.840000000004,29701.730000000003]
[1,"1 Child",null,3254.73,2380.23,1550.78,1291.0800000000002,994.81000000000006]
[2,"2 Children",null,4845.26,3261.09,2081.84,1657.8400000000001,1499.3700000000001]
[3,"3+ Children",null,5885.6500000000005,3977.1200000000003,2557.25,1993.8600000000001,1789.2800000000002]
[1,"Rider Comp. Maternidad",null,{"$f":"+D215*$G$2","v":0},0,119.25,119.25,119.25]
[1,"Transplante de organos",null,0,0,0,0,0]
[]
["BUPA COMPLETE CARE (LATIN AMERICA)"]
["TARIFAS ANUALES"]
["EDAD"]
[" "," ","CW1","CW2","CW3","CW4","CW5","CW6"]
[18,"18-24",23011,13965,9592,6490,4126,3136]
[25,"25-29",24154,14666,10601,7202,4570,3479]
[30,"30-34",25188,15313,11367,8075,5551,4220]
[35,"35-39",28171,17132,12724,9051,6223,4733]
[40,"40-44",31920,19851,13954,10072,6861,5226]
[45,"45-49",35629,22190,15600,11264,7665,5852]
[50,"50-54",47042,29019,20586,14800,10964,8360]
[55,"55-59",50030,30884,21899,15737,11663,8899]
[60,"60",53110,33627,23784,17929,13874,11133]
[61,"61",57035,36130,25556,19254,14907,11965]
[62,"62",62410,39550,27990,21083,16324,13095]
[63,"63",66327,42054,29764,22416,17359,13929]
[64,"64",71725,45492,32199,24260,18778,15080]
[65,"65",75163,59470,42008,30690,25051,21264]
[66,"66",78587,69108,48810,35656,29113,24721]
[67,"67",85798,75483,53316,38943,31804,27002]
[68,"68",94972,83587,59041,43129,35225,29909]
[69,"69",104464,91969,64959,47445,38759,32907]
[70,"70",123638,113196,79096,55864,45163,38705]
[71,"71",128471,117641,82209,58059,46946,40230]
[72,"72",132105,120965,84539,59699,48274,41375]
[73,"73",136948,125415,87642,61894,50038,42899]
[74,"74",139375,127644,89190,62982,50930,43662]
[75,"75+",145421,133199,93073,65721,53157,45553]
[1,"1 Child",7817,4865,3537,2654,2015,1497]
[2,"2 Children",12256,7727,5653,4225,3194,2383]
[3,"3+ Children",17811,11335,8289,6194,4694,3479]
[1,"Rider Comp. Maternidad",0,0,0,225,225,225]
[1,"Transplante de organos",0,0,0,0,0,0]
[]
[]
[]
[]
[]
[]
["COMPLETE (LATINAMERICA ONLY)"]
["TARIFAS ANUALES"]
["EDAD"]
[" "," ","CL1","CL2","CL3","CL4","CL5","CL6"]
[18,"-  24"]
[25,"-  29"]
[30,"-  34"]
[35,"-  39"]
[40,"-  44"]
[45,"-  49"]
[50,"-  54"]
[55,"-  59"]
[60]
[61]
[62]
[63]
[64]
[65]
[66]
[67]
[68]
[69]
[70]
[71]
[72]
[73]
[74]
[75,"o más"]
[1,"Hijo"]
[2,"Hijos"]
[3,"Hijos o más"]
[1,"Rider Comp. Maternidad"]
[1,"Transplante de organos",0,0,0,0,0,0]
[]
["TARIFAS SEMESTRALES "]
["EDAD"]
[" "," ","CL1","CL2","CL3","CL4","CL5","CL6"]
[18,"-  24",{"$f":"+C296*$G$2","v":0},0,0,0,0,0]
[25,"-  29",0,0,0,0,0,0]
[30,"-  34",0,0,0,0,0,0]
[35,"-  39",0,0,0,0,0,0]
[40,"-  44",0,0,0,0,0,0]
[45,"-  49",0,0,0,0,0,0]
[50,"-  54",0,0,0,0,0,0]
[55,"-  59",0,0,0,0,0,0]
[60,null,0,0,0,0,0,0]
[61,null,0,0,0,0,0,0]
[62,null,{"$f":"+C306*$G$2","v":0},0,0,0,0,0]
[63,null,0,0,0,0,0,0]
[64,null,0,0,0,0,0,0]
[65,null,0,0,0,0,0,0]
[66,null,0,0,0,0,0,0]
[67,null,0,0,0,0,0,0]
[68,null,0,0,0,0,0,0]
[69,null,0,0,0,0,0,0]
[70,null,0,0,0,0,0,0]
[71,null,0,0,0,0,0,0]
[72,null,{"$f":"+C316*$G$2","v":0},0,0,0,0,0]
[73,null,0,0,0,0,0,0]
[74,null,0,0,0,0,0,0]
[75,"o más",0,0,0,0,0,0]
[1,"Hijo",0,0,0,0,0,0]
[2,"Hijos",0,0,0,0,0,0]
[3,"Hijos o más",0,0,0,0,0,0]
[1,"Rider Comp. Maternidad",0,0,0,0,0,0]
[1,"Transplante de organos",0,0,0,0,0,0]
[]
[]
[]
[]
[]
[]
[]
["BUPA ADVANTAGE CARE (MUNDIAL)"]
["TARIFAS ANUALES"]
["EDAD"]
[" "," ","AW1","AW2","AW3","AW4","AW5","AW6"]
[18,"18-24",16141,11550,8709,4070,3759,3086]
[25,"25-29",18033,12840,9711,4687,4048,3252]
[30,"30-34",21051,14850,11390,6011,5692,4491]
[35,"35-39",23751,16452,12669,7938,6593,4981]
[40,"40-44",26878,18543,14351,9023,7355,5615]
[45,"45-49",27788,21532,16500,10281,8354,6460]
[50,"50-54",28277,23584,18538,12126,9373,7136]
[55,"55-59",33289,26774,21382,15240,10830,8413]
[60,"60",41326,30749,23662,16749,11935,9294]
[61,"61",45481,34582,26615,18826,13425,10457]
[62,"62",47929,38438,29565,20911,14911,11603]
[63,"63",49600,41193,32522,23006,16399,12779]
[64,"64",51424,42314,35472,25108,17881,13925]
[65,"65",54330,44572,38592,27339,19468,15835]
[66,"66",57991,47877,40874,28953,20615,16768]
[67,"67",61787,51564,45405,31679,22899,18629]
[68,"68",66210,55770,49943,33878,25184,20296]
[69,"69",71751,60629,52203,36259,26322,21412]
[70,"70",78903,66280,53041,37549,26831,21692]
[71,"71",88177,73000,59660,41695,30167,24390]
[72,"72",99247,80699,66297,44814,33513,27098]
[73,"73",111343,88959,72913,48082,36865,29794]
[74,"74",123695,97358,79541,51388,40214,32168]
[75,"75+",135535,105477,88700,54619,44006,34468]
[1,"1 Child",6608,5100,3628,1751,1606,1431]
[2,"2 Children",10174,8019,5729,2373,2174,1857]
[3,"3+ Children",14545,9522,8350,2942,2691,2251]
[1,"Rider Comp. Maternidad",225,225,225,225,225,225]
[1,"Transplante de organos",300,300,300,300,300,300]
[]
[]
[]
["TARIFAS SEMESTRALES "]
["EDAD"]
[" "," ",null,"AW2","AW3","AW4","AW5","AW6"]
[18,"18-24",null,{"$f":"+D369*$G$2","v":6121.5},4615.7700000000004,2157.1,1992.2700000000002,1635.5800000000002]
[25,"25-29",null,6805.2000000000007,5146.83,2484.11,2145.44,1723.5600000000002]
[30,"30-34",null,7870.5,6036.7000000000007,3185.8300000000004,3016.76,2380.23]
[35,"35-39",null,8719.5600000000013,6714.5700000000006,4207.1400000000003,3494.29,2639.9300000000003]
[40,"40-44",null,9827.7900000000009,7606.0300000000007,4782.1900000000005,3898.15,2975.9500000000003]
[45,"45-49",null,11411.960000000001,8745,5448.93,4427.62,3423.8]
[50,"50-54",null,12499.52,9825.1400000000012,6426.7800000000007,4967.6900000000005,3782.0800000000004]
[55,"55-59",null,14190.220000000001,11332.460000000001,8077.2000000000007,5739.9000000000005,4458.8900000000003]
[60,"60",null,16296.970000000001,12540.86,8876.9700000000012,6325.55,4925.8200000000006]
[61,"61",null,18328.46,14105.95,9977.7800000000007,7115.25,5542.21]
[62,"62",null,{"$f":"+D379*$G$2","v":20372.14},15669.45,11082.83,7902.8300000000008,6149.59]
[63,"63",null,21832.29,17236.66,12193.18,8691.4700000000012,6772.87]
[64,"64",null,22426.420000000002,18800.16,13307.24,9476.93,7380.25]
[65,"65",null,23623.16,20453.760000000002,14489.67,10318.040000000001,8392.5500000000011]
[66,"66",null,25374.81,21663.22,15345.09,10925.95,8887.0400000000009]
[67,"67",null,27328.920000000002,24064.65,16789.870000000003,12136.470000000001,9873.3700000000008]
[68,"68",null,29558.100000000002,26469.79,17955.34,13347.52,10756.880000000001]
[69,"69",null,32133.370000000003,27667.59,19217.27,13950.66,11348.36]
[70,"70",null,35128.400000000001,28111.730000000003,19900.97,14220.43,11496.76]
[71,"71",null,38690,31619.800000000003,22098.350000000002,15988.51,12926.7]
[72,"72",null,{"$f":"+D389*$G$2","v":42770.47},35137.410000000003,23751.420000000002,17761.89,14361.94]
[73,"73",null,47148.270000000004,38643.89,25483.460000000003,19538.45,15790.820000000002]
[74,"74",null,51599.740000000005,42156.73,27235.640000000003,21313.420000000002,17049.04]
[75,"75+",null,55902.810000000005,47011,28948.07,23323.18,18268.04]
[1,"1 Child",null,2703,1922.8400000000001,928.03000000000009,851.18000000000006,758.43000000000006]
[2,"2 Children",null,4250.0700000000006,3036.3700000000003,1257.69,1152.22,984.21]
[3,"3+ Children",null,5046.66,4425.5,1559.26,1426.23,1193.03]
[1,"Rider Comp. Maternidad",null,119.25,119.25,119.25,119.25,119.25]
[1,"Transplante de organos",null,159,159,159,159,159]
["BUPA ADVANTAGE CARE (LATINAMERICA)"]
["TARIFAS ANUALES"]
["EDAD"]
[" "," ","AW1","AW2","AW3","AW4","AW5","AW6"]
[18,"18-24",12775,9106,6825,4954,3408,2692]
[25,"25-29",14265,10126,7624,5520,3808,2993]
[30,"30-34",16680,11733,8969,6561,4516,3481]
[35,"35-39",18830,13007,9988,7300,5155,3871]
[40,"40-44",21316,14689,11325,8289,5758,4365]
[45,"45-49",24645,17050,13042,9337,6553,5079]
[50,"50-54",27885,18692,14677,10902,7377,5585]
[55,"55-59",32319,22096,16940,12058,8544,6593]
[60,"60",34382,24413,18763,13274,9424,7319]
[61,"61",38702,27480,21126,14920,10607,8235]
[62,"62",43020,30559,23483,16594,11795,9159]
[63,"63",47333,33617,25841,18269,12992,10086]
[64,"64",51646,36688,28188,19942,14178,11009]
[65,"65",56721,39662,30692,21727,15437,12543]
[66,"66",60075,42003,32500,23016,16351,13277]
[67,"67",66758,46677,36124,25590,18180,14770]
[68,"68",73453,51354,39748,28149,20014,16252]
[69,"69",76780,53700,41559,29431,20921,16994]
[70,"70",78428,54400,42208,29886,21323,17215]
[71,"71",88243,61218,47504,33634,23987,19377]
[72,"72",98048,68014,52805,37370,26666,21535]
[73,"73",107869,74845,58084,41128,29339,23696]
[74,"74",117679,81666,63379,44880,32026,25872]
[75,"75+",128506,89319,70690,51487,35057,29680]
[1,"1 Child",5283,4061,2900,2177,1741,1258]
[2,"2 Children",8127,6618,4578,3442,2746,1839]
[3,"3+ Children",11853,9698,6662,5015,3966,2793]
[1,"Rider Comp. Maternidad",225,225,225,225,225,225]
[1,"Transplante de organos",300,300,300,300,300,300]
[]
[]
[]
[]
[]
["ADVANTAGE (LATINAMERICA ONLY)"]
["TARIFAS ANUALES"]
["EDAD"]
[" "," ",null,"AL2","AL3","AL4","AL5","AL6"]
[18,"18-24",null,11240,8450,6003,4521,3578]
[25,"25-29",null,12522,9432,6676,5046,3960]
[30,"30-34",null,14491,11087,7953,5984,4611]
[35,"35-39",null,16068,12342,8853,6822,5116]
[40,"40-44",null,18135,13999,10040,7628,5791]
[45,"45-49",null,21074,16127,11319,8682,6734]
[50,"50-54",null,23095,18131,13196,9747,7397]
[55,"55-59",null,27290,20932,14596,11305,8747]
[60,"60",null,30152,23179,16056,12465,9685]
[61,"61",null,33942,26076,18072,14038,10913]
[62,"62",null,37722,29010,20091,15611,12132]
[63,"63",null,41505,31913,22117,17178,13360]
[64,"64",null,45292,34829,24140,18760,14569]
[65,"65",null,48973,37903,26303,20431,16582]
[66,"66",null,51857,40135,27861,21635,17581]
[67,"67",null,57634,44613,30968,24062,19536]
[68,"68",null,63406,49074,34077,26482,21499]
[69,"69",null,66294,51314,35619,27680,22488]
[70,"70",null,67143,52135,36169,28205,22786]
[71,"71",null,75557,58666,40705,31745,25636]
[72,"72",null,83973,65215,45242,35276,28498]
[73,"73",null,92378,71746,49775,38821,31358]
[74,"74",null,100789,78269,54304,42358,34218]
[75,"75+",null,110253,87280,62287,46373,39262]
[1,"1 Child",null,5009,3572,2624,2281,1656]
[2,"2 Children",null,8181,5634,4146,3620,2438]
[3,"3+ Children",null,11967,8220,6057,5241,3690]
[1,"Rider Comp. Maternidad"]
[1,"Transplante de organos"]
[]
["TARIFAS SEMESTRALES "]
["EDAD"]
[" "," ",null,"AL2","AL3","AL4","AL5","AL6"]
[18,"18-24",null,{"$f":"+D475*$G$2","v":5957.2000000000007},4478.5,3181.59,2396.13,1896.3400000000001]
[25,"25-29",null,6636.6600000000008,4998.96,3538.28,2674.38,2098.8000000000002]
[30,"30-34",null,7680.2300000000005,5876.1100000000006,4215.09,3171.52,2443.83]
[35,"35-39",null,8516.0400000000009,6541.26,4692.09,3615.6600000000003,2711.48]
[40,"40-44",null,9611.5500000000011,7419.47,5321.2,4042.84,3069.23]
[45,"45-49",null,11169.220000000001,8547.3100000000013,5999.0700000000006,4601.46,3569.02]
[50,"50-54",null,12240.35,9609.43,6993.88,5165.91,3920.4100000000003]
[55,"55-59",null,14463.7,11093.960000000001,7735.88,5991.6500000000005,4635.91]
[60,"60",null,15980.560000000001,12284.87,8509.68,6606.4500000000007,5133.05]
[61,"61",null,17989.260000000002,13820.28,9578.16,7440.14,5783.89]
[62,"62",null,{"$f":"+D485*$G$2","v":19992.66},15375.300000000001,10648.230000000001,8273.83,6429.96]
[63,"63",null,21997.65,16913.89,11722.01,9104.34,7080.8]
[64,"64",null,24004.760000000002,18459.370000000003,12794.2,9942.8000000000011,7721.5700000000006]
[65,"65",null,25955.690000000002,20088.59,13940.59,10828.43,8788.4600000000009]
[66,"66",null,27484.210000000003,21271.55,14766.33,11466.550000000001,9317.93]
[67,"67",null,30546.02,23644.89,16413.04,12752.86,10354.08]
[68,"68",null,33605.18,26009.22,18060.810000000001,14035.460000000001,11394.470000000001]
[69,"69",null,35135.82,27196.420000000002,18878.07,14670.400000000001,11918.640000000001]
[70,"70",null,35585.79,27631.550000000003,19169.57,14948.650000000001,12076.58]
[71,"71",null,40045.21,31092.980000000003,21573.65,16824.850000000002,13587.08]
[72,"72",null,{"$f":"+D495*$G$2","v":44505.69},34563.950000000004,23978.260000000002,18696.280000000002,15103.94]
[73,"73",null,48960.340000000004,38025.380000000005,26380.75,20575.13,16619.740000000002]
[74,"74",null,53418.170000000006,41482.57,28781.120000000003,22449.74,18135.54]
[75,"75+",null,58434.090000000004,46258.400000000001,33012.11,24577.690000000002,20808.86]
[1,"1 Child",null,2654.77,1893.16,1390.72,1208.93,877.68000000000006]
[2,"2 Children",null,4335.93,2986.02,2197.38,1918.6000000000001,1292.1400000000001]
[3,"3+ Children",null,6342.51,4356.6000000000004,3210.21,2777.73,1955.7]
[1,"Rider Comp. Maternidad",null,0,0,0,0,0]
[1,"Transplante de organos",null,0,0,0,0,0]
[]
[]
[]
[]
["BUPA SECURE CARE"]
["TARIFAS ANUALES"]
["EDAD"]
[" "," ","SE1","SE2","SE3","SE4","SE5","SE6"]
[18,"18-24",9024,7314,6416,3780,3385,3037]
[25,"25-29",9968,7798,7761,3997,3799,3355]
[30,"30-34",12902,9527,9106,4645,5091,3877]
[35,"35-39",14593,10129,9638,5330,5296,4282]
[40,"40-44",16517,10441,10767,5488,5315,4335]
[45,"45-49",18685,11892,11881,5687,5345,4512]
[50,"50-54",19655,12046,12234,6964,6093,5774]
[55,"55-59",20442,15951,14662,8968,8626,7192]
[60,"60",21533,16330,15086,10305,8872,7590]
[61,"61",22643,17161,16186,11620,9375,8539]
[62,"62",23827,18570,17543,12915,10222,9491]
[63,"63",25137,20354,19086,14217,11295,9905]
[64,"64",26629,22310,20747,15552,12477,10304]
[65,"65",28354,24237,22455,16946,13649,10923]
[66,"66",30261,26056,24126,18345,14785,11471]
[67,"67",32321,27904,25806,19731,15962,12636]
[68,"68",34630,29895,27623,21186,17223,13627]
[69,"69",37282,32143,29700,22790,18607,14653]
[70,"70",40372,34762,32165,24624,19767,14716]
[71,"71",44050,37870,35138,26758,21926,16556]
[72,"72",48251,41390,38536,29139,23888,18393]
[73,"73",52753,45147,42177,31660,25959,20238]
[74,"74",57329,48962,45878,34217,28059,21934]
[75,"75+",61756,52660,49457,36703,30103,23489]
[1,"1 Child",2078,1778,1277,946,713,728]
[2,"2 Children",3878,3262,2429,1765,1370,1357]
[3,"3+ Children",5530,4606,3502,2520,1991,1932]
[1,"Rider Comp. Maternidad",225,225,225,225,225,225]
[1,"Transplante de organos",300,300,300,300,300,300]
[]
[]
[]
[]
["TARIFAS SEMESTRALES "]
["EDAD"]
[" "," ",null,"SE2","SE3","SE4","SE5","SE6"]
[18,"18-24",null,{"$f":"+D545*$G$2","v":3876.42},3400.48,2003.4,1794.0500000000002,1609.6100000000001]
[25,"25-29",null,4132.9400000000005,4113.33,2118.4100000000003,2013.47,1778.15]
[30,"30-34",null,5049.3100000000004,4826.18,2461.85,2698.23,2054.81]
[35,"35-39",null,5368.37,5108.1400000000003,2824.9,2806.88,2269.46]
[40,"40-44",null,5533.7300000000005,5706.51,2908.6400000000003,2816.9500000000003,2297.5500000000002]
[45,"45-49",null,6302.76,6296.93,3014.11,2832.8500000000004,2391.36]
[50,"50-54",null,6384.38,6484.02,3690.92,3229.29,3060.2200000000003]
[55,"55-59",null,8454.0300000000007,7770.8600000000006,4753.04,4571.7800000000007,3811.76]
[60,"60",null,8654.9,7995.5800000000008,5461.6500000000005,4702.16,4022.7000000000003]
[61,"61",null,9095.33,8578.58,6158.6,4968.75,4525.67]
[62,"62",null,{"$f":"+D555*$G$2","v":9842.1},9297.7900000000009,6844.9500000000007,5417.66,5030.2300000000005]
[63,"63",null,10787.62,10115.58,7535.01,5986.35,5249.6500000000005]
[64,"64",null,11824.300000000001,10995.91,8242.5600000000013,6612.81,5461.12]
[65,"65",null,12845.61,11901.150000000001,8981.380000000001,7233.97,5789.1900000000005]
[66,"66",null,13809.68,12786.78,9722.85,7836.05,6079.63]
[67,"67",null,14789.12,13677.18,10457.43,8459.86,6697.08]
[68,"68",null,15844.35,14640.19,11228.58,9128.19,7222.31]
[69,"69",null,17035.79,15741,12078.7,9861.7100000000009,7766.09]
[70,"70",null,18423.86,17047.45,13050.720000000001,10476.51,7799.4800000000005]
[71,"71",null,20071.100000000002,18623.14,14181.740000000002,11620.78,8774.68]
[72,"72",null,{"$f":"+D565*$G$2","v":21936.7},20424.080000000002,15443.67,12660.640000000001,9748.2900000000009]
[73,"73",null,23927.91,22353.81,16779.8,13758.27,10726.140000000001]
[74,"74",null,25949.86,24315.34,18135.010000000002,14871.27,11625.02]
[75,"75+",null,27909.800000000003,26212.210000000003,19452.59,15954.59,12449.17]
[1,"1 Child",null,942.34,676.81000000000006,501.38000000000005,377.89000000000004,385.84000000000003]
[2,"2 Children",null,1728.8600000000001,1287.3700000000001,935.45,726.1,719.21]
[3,"3+ Children",null,2441.1800000000003,1856.0600000000002,1335.6000000000001,1055.23,1023.96]
[1,"Rider Comp. Maternidad",null,119.25,119.25,119.25,119.25,119.25]
[1,"Transplante de organos",null,159,159,159,159,159]
[]
[]
[]
[]
["ESSENTIAL"]
["TARIFAS ANUALES"]
["EDAD"]
[" "," ","ET1","ET2","ET3","ET4","ET5","ET6"]
[18,"18-24",5287,4816,4563,3353,2638,2019]
[25,"25-29",6138,5611,5143,3724,2941,2240]
[30,"30-34",6970,6389,6031,4307,3381,2577]
[35,"35-39",7790,7155,6730,4784,3750,2852]
[40,"40-44",8607,7918,7665,5394,4237,3204]
[45,"45-49",9424,8682,8305,6274,4908,3710]
[50,"50-54",10251,9455,8906,6737,5374,4049]
[55,"55-59",11095,10244,9529,7214,6365,4776]
[60,"60",11962,11054,10184,7730,6723,5049]
[61,"61",12860,11893,10880,8296,7566,5685]
[62,"62",13795,12767,11626,8925,8403,6318]
[63,"63",14775,13683,12432,9627,9239,6938]
[64,"64",15736,14581,13264,10401,9979,7566]
[65,"65",16681,15464,14127,11253,10136,7595]
[66,"66",17720,16435,15090,12207,10182,7609]
[67,"67",18958,17592,16219,13288,11202,8456]
[68,"68",20504,19037,17584,14521,12040,9306]
[69,"69",22453,20859,19260,15961,12993,9733]
[70,"70",24732,22989,21202,16842,13135,9781]
[71,"71",27201,25296,23296,18938,14765,10997]
[72,"72",29718,27648,25428,21040,16401,12221]
[73,"73",32139,29911,27485,22804,18045,13435]
[74,"74",34465,32085,29465,24460,19681,14658]
[75,"75+",36792,34260,31445,26117,21525,16012]
[1,"1 Child",1631,1524,1517,1326,1032,763]
[2,"2 Children",2973,2778,2433,2076,1617,1265]
[3,"3+ Children",4254,3975,3489,3016,2348,1896]
[1,"Rider Comp. Maternidad",225,225,225,225,225,225]
[1,"Transplante de organos",300,300,300,300,300,300]
[]
[]
[]
["TARIFAS SEMESTRALES "]
["EDAD"]
[" "," ",null,"ET2","ET3","ET4","ET5","ET6"]
[18,"18-24",null,{"$f":"+D618*$G$2","v":2552.48},2418.3900000000003,1777.0900000000001,1398.14,1070.0700000000002]
[25,"25-29",null,2973.83,2725.79,1973.72,1558.73,1187.2]
[30,"30-34",null,3386.17,3196.4300000000003,2282.71,1791.93,1365.8100000000002]
[35,"35-39",null,3792.15,3566.9,2535.52,1987.5,1511.5600000000002]
[40,"40-44",null,4196.54,4062.4500000000003,2858.82,2245.61,1698.1200000000001]
[45,"45-49",null,4601.46,4401.6500000000005,3325.2200000000003,2601.2400000000002,1966.3000000000002]
[50,"50-54",null,5011.1500000000005,4720.18,3570.61,2848.2200000000003,2145.9700000000003]
[55,"55-59",null,5429.3200000000006,5050.37,3823.42,3373.4500000000003,2531.2800000000002]
[60,"60",null,5858.62,5397.52,4096.9000000000005,3563.19,2675.9700000000003]
[61,"61",null,6303.29,5766.4000000000005,4396.88,4009.98,3013.05]
[62,"62",null,{"$f":"+D628*$G$2","v":6766.51},6161.7800000000007,4730.25,4453.59,3348.54]
[63,"63",null,7251.9900000000007,6588.96,5102.3100000000004,4896.67,3677.1400000000003]
[64,"64",null,7727.93,7029.92,5512.5300000000007,5288.87,4009.98]
[65,"65",null,8195.92,7487.31,5964.09,5372.08,4025.3500000000004]
[66,"66",null,8710.5500000000011,7997.7000000000007,6469.71,5396.46,4032.77]
[67,"67",null,9323.76,8596.07,7042.64,5937.06,4481.68]
[68,"68",null,10089.61,9319.52,7696.13,6381.2000000000007,4932.18]
[69,"69",null,11055.27,10207.800000000001,8459.33,6886.29,5158.4900000000007]
[70,"70",null,12184.17,11237.060000000001,8926.26,6961.55,5183.93]
[71,"71",null,13406.880000000001,12346.880000000001,10037.140000000001,7825.4500000000007,5828.41]
[72,"72",null,{"$f":"+D638*$G$2","v":14653.44},13476.84,11151.2,8692.5300000000007,6477.13]
[73,"73",null,15852.83,14567.050000000001,12086.12,9563.85,7120.55]
[74,"74",null,17005.05,15616.45,12963.800000000001,10430.93,7768.7400000000007]
[75,"75+",null,18157.8,16665.850000000002,13842.01,11408.25,8486.36]
[1,"1 Child",null,807.72,804.01,702.78000000000009,546.96,404.39000000000004]
[2,"2 Children",null,1472.3400000000001,1289.49,1100.28,857.01,670.45]
[3,"3+ Children",null,2106.75,1849.17,1598.48,1244.44,1004.88]
[1,"Rider Comp. Maternidad",null,119.25,119.25,119.25,119.25,119.25]
[1,"Transplante de organos",null,159,159,159,159,159]
[]
[]
[]
[]
[]
["CRITICAL"]
["TARIFAS ANUALES"]
["EDAD"]
[" "," ","CR1",null,null,"CR2",null,null,"CR3",null,null,"CR4",null,null,"CR5",null,null,"CR6"]
[null,null,"INDIVIDUAL","2 PERSONAS","FAMILIAR","INDIVIDUAL","2 PERSONAS","FAMILIAR","INDIVIDUAL","2 PERSONAS","FAMILIAR","INDIVIDUAL","2 PERSONAS","FAMILIAR","INDIVIDUAL","2 PERSONAS","FAMILIAR","INDIVIDUAL","2 PERSONAS","FAMILIAR"]
[18,"-  49",6803,9879,13382,5709,9003,12163,4822,7272,9889,3266,5318,7358,2335,4047,5759,1336,2191,3046]
[50,"o más",8630,10941,14968,7318,9792,13406,6171,8357,11528,4146,6436,9013,2919,4653,6348,1636,2496,3346]
[]
[]
["TARIFAS SEMESTRALES "]
["EDAD"]
[" "," ","CR1",null,null,"CR2",null,null,"CR3",null,null,"CR4",null,null,"CR5"]
[null,null,"INDIVIDUAL","2 PERSONAS","FAMILIAR","INDIVIDUAL","2 PERSONAS","FAMILIAR","INDIVIDUAL","2 PERSONAS","FAMILIAR","INDIVIDUAL","2 PERSONAS","FAMILIAR","INDIVIDUAL","2 PERSONAS","FAMILIAR"]
[18,"-  25",{"$f":"AO700","v":0},{"$f":"AP700","v":0},0,0,0,0,0,0,0,0,0,0,0,0,0]
[75,"o más",{"$f":"AO701","v":0},0,0,0,0,0,0,0,0,0,0,0,0,0,0]

{"sheet":"Tablas Resto de Ecuador","index":15,"n_rows":701,"n_cols":20,"rows_kept":701,"cut":false,"hidden":true,"merged":[[1,8,1,9],[4,0,4,7],[4,10,4,11],[5,0,5,7],[5,16,5,17],[6,0,6,1],[6,2,6,6],[75,16,75,17],[76,0,76,1],[76,2,76,6],[113,0,113,7],[114,0,114,7],[115,0,115,1],[115,2,115,6],[40,0,40,7],[41,0,41,1],[41,2,41,6],[74,0,74,7],[74,10,74,11],[75,0,75,7],[219,0,219,7],[220,0,220,1],[220,2,220,6],[252,0,252,7],[253,0,253,7],[254,0,254,1],[254,2,254,6],[147,0,147,7],[148,0,148,1],[148,2,148,6],[183,0,183,7],[184,0,184,7],[185,0,185,1],[185,2,185,6],[364,0,364,7],[365,0,365,7],[366,0,366,1],[366,2,366,6],[400,0,400,7],[401,0,401,1],[401,2,401,6],[291,0,291,7],[292,0,292,7],[293,0,293,1],[293,2,293,6],[325,0,325,7],[326,0,326,1],[326,2,326,6],[472,0,472,1],[472,2,472,6],[504,0,504,7],[505,0,505,1],[505,2,505,6],[540,0,540,7],[432,0,432,7],[433,0,433,7],[434,0,434,1],[434,2,434,6],[470,0,470,7],[471,0,471,7],[613,0,613,7],[614,0,614,7],[615,0,615,1],[615,2,615,6],[649,0,649,7],[650,0,650,1],[650,2,650,6],[541,0,541,7],[542,0,542,1],[542,2,542,6],[577,0,577,7],[578,0,578,1],[578,2,578,6],[686,0,686,19],[687,0,687,19],[688,0,688,1],[688,2,688,6],[689,2,689,4],[689,5,689,7],[689,8,689,10],[689,11,689,13],[689,14,689,16],[689,17,689,19],[696,38,696,39],[696,40,696,44],[689,43,689,45],[689,46,689,48],[689,49,689,51],[689,52,689,54],[695,0,695,16],[695,19,695,35],[695,38,695,54],[689,21,689,23],[689,24,689,26],[689,27,689,29],[689,30,689,32],[689,33,689,35],[689,40,689,42],[697,2,697,4],[697,5,697,7],[697,8,697,10],[697,11,697,13],[697,14,697,16],[697,21,697,23],[696,0,696,1],[696,2,696,6],[696,19,696,20],[696,21,696,25],[697,46,697,48],[697,49,697,51],[697,52,697,54],[697,24,697,26],[697,27,697,29],[697,30,697,32],[697,33,697,35],[697,40,697,42],[697,43,697,45]]}
[null,null,null,null,null,null,null,null,null,null,"D1","D2","D3","D4","D5","D6"]
[null,"REGIÓN",{"$f":"'INGRESO DE DATOS'!W14","v":"Resto de Ecuador"},null,"FACTOR SEMESTRAL :",null,0.53,null,"NEW BUSINESS DISCUOUNTS",null,{"$f":"'INGRESO DE DATOS'!O42","v":1},{"$f":"'INGRESO DE DATOS'!P42","v":1},{"$f":"'INGRESO DE DATOS'!Q42","v":1},{"$f":"'INGRESO DE DATOS'!R42","v":1},{"$f":"'INGRESO DE DATOS'!S42","v":1},{"$f":"'INGRESO DE DATOS'!T42","v":1}]
[]
[]
["BUPA DIAMOND CARE  (MUNDIAL)"]
["TARIFAS ANUALES"]
["EDAD"]
[" "," ","DW1","DW2","DW3","DW4","DW5","DW6"]
[18,"18-24",31719,19610,12204,8880,5699,4509]
[25,"25-29",33285,20562,14355,9825,6297,4979]
[30,"30-34",34404,21387,15387,10984,7520,5954]
[35,"35-39",38452,23936,17206,12295,8414,6661]
[40,"40-44",44490,27720,18808,13630,9233,7304]
[45,"45-49",49659,30978,21023,15210,10308,8144]
[50,"50-54",63729,39619,27529,19822,14503,11467]
[55,"55-59",68594,42134,29295,21077,15435,12200]
[60,"60",71322,45886,31947,24234,18563,15126]
[61,"61",77401,49294,34321,26010,19939,16234]
[62,"62",85147,53956,37564,28480,21812,17767]
[63,"63",91087,57360,39933,30262,23190,18883]
[64,"64",98495,62036,43210,32736,25077,20420]
[65,"65",103205,81045,56306,41354,33397,28750]
[66,"66",107877,89246,65401,48038,38800,33380]
[67,"67",117790,95996,71420,52454,42362,36443]
[68,"68",130368,102909,76319,58065,46898,40354]
[69,"69",143383,110024,81222,63872,51585,44385]
[70,"70",156864,117383,86292,69492,60093,52182]
[71,"71",167620,125073,91584,74014,62448,54224]
[72,"72",179108,133066,97073,78737,64209,55760]
[73,"73",187936,141233,102674,83272,66571,57803]
[74,"74",191245,149442,108303,84744,67738,58829]
[75,"75+",199547,157566,113876,88427,70691,61385]
[1,"1 Child",6954,4549,3111,2376,2304,2005]
[2,"2 Children",11533,7606,5355,4104,3978,3436]
[3,"3+ Children",15658,10421,7437,5726,5533,4763]
[1,"Rider Comp. Maternidad",0,0,0,225,225,225]
[1,"Transplante de organos",0,0,0,0,0,0]
[]
[]
[]
["TARIFAS SEMESTRALES "]
["EDAD"]
[" "," ",null,"DW2","DW3","DW4","DW5","DW6"]
[18,"18-24",null,{"$f":"$G$2*D9","v":10393.300000000001},6468.12,4706.4000000000005,3020.4700000000003,2389.77]
[25,"25-29",null,10897.86,7608.1500000000005,5207.25,3337.4100000000003,2638.8700000000003]
[30,"30-34",null,11335.11,8155.1100000000006,5821.52,3985.6000000000004,3155.6200000000003]
[35,"35-39",null,12686.08,9119.18,6516.35,4459.42,3530.3300000000004]
[40,"40-44",null,14691.6,9968.24,7223.9000000000005,4893.4900000000007,3871.1200000000003]
[45,"45-49",null,16418.34,11142.19,8061.3,5463.2400000000007,4316.3200000000006]
[50,"50-54",null,20998.07,14590.37,10505.66,7686.59,6077.51]
[55,"55-59",null,22331.02,15526.35,11170.810000000001,8180.55,6466]
[60,"60",null,24319.58,16931.91,12844.02,9838.3900000000012,8016.7800000000007]
[61,"61",null,26125.82,18190.13,13785.300000000001,10567.67,8604.02]
[62,"62",null,28596.68,19908.920000000002,15094.400000000001,11560.36,9416.51]
[63,"63",null,30400.800000000003,21164.49,16038.86,12290.7,10007.99]
[64,"64",null,32879.08,22901.300000000003,17350.080000000002,13290.810000000001,10822.6]
[65,"65",null,42953.85,29842.18,21917.620000000003,17700.41,15237.5]
[66,"66",null,47300.380000000005,34662.53,25460.140000000003,20564,17691.400000000001]
[67,"67",null,50877.880000000005,37852.6,27800.620000000003,22451.86,19314.79]
[68,"68",null,{"$f":"$G$2*D25","v":54541.770000000004},40449.07,30774.45,24855.940000000002,21387.620000000003]
[69,"69",null,58312.72,43047.66,33852.160000000003,27340.050000000003,23524.050000000003]
[70,"70",null,62212.990000000005,45734.76,36830.76,31849.29,27656.460000000003]
[71,"71",null,66288.69,48539.520000000004,39227.420000000006,33097.440000000002,28738.720000000001]
[72,"72",null,70524.98000000001,51448.69,41730.61,34030.770000000004,29552.800000000003]
[73,"73",null,74853.490000000005,54417.22,44134.16,35282.630000000005,30635.59]
[74,"74",null,79204.260000000009,57400.590000000004,44914.32,35901.14,31179.370000000003]
[75,"75+",null,83509.98000000001,60354.280000000006,46866.310000000005,37466.230000000003,32534.050000000003]
[1,"1 Child",null,2410.9700000000003,1648.8300000000002,1259.28,1221.1200000000001,1062.6500000000001]
[2,"2 Children",null,4031.1800000000003,2838.15,2175.12,2108.34,1821.0800000000002]
[3,"3+ Children",null,5523.13,3941.61,3034.78,2932.4900000000002,2524.3900000000003]
[1,"Rider Comp. Maternidad",null,{"$f":"+D36*$G$2","v":0},0,119.25,119.25,119.25]
[1,"Transplante de organos",null,0,0,0,0,0]
[]
[]
["BUPA DIAMOND CARE  (LATIN AMERICA)"]
["TARIFAS ANUALES"]
["EDAD"]
[" "," ","DW1","DW2","DW3","DW4","DW5","DW6"]
[18,"18-24",24996,15396,10167,6905,4389,3445]
[25,"25-29",26219,16147,11248,7657,4872,3833]
[30,"30-34",27114,16816,12058,8593,5843,4597]
[35,"35-39",30321,18821,13510,9612,6545,5154]
[40,"40-44",35108,21822,14763,10682,7195,5674]
[45,"45-49",39199,24405,16520,11952,8049,6340]
[50,"50-54",50951,31243,21680,15595,11380,8974]
[55,"55-59",54196,33229,23079,16579,12111,9551]
[60,"60",57649,36207,25175,19075,14600,11866]
[61,"61",61922,38912,27048,20487,15690,12738]
[62,"62",67740,42608,29635,22453,17179,13951]
[63,"63",72008,45294,31503,23865,18266,14840]
[64,"64",77878,48988,34098,25826,19748,16065]
[65,"65",81599,64067,44479,32656,26361,22677]
[66,"66",85312,74428,51674,37949,30638,26334]
[67,"67",93155,81308,56449,41456,33455,28776]
[68,"68",103126,90031,62492,45911,37059,31862]
[69,"69",113437,99057,68777,50510,40772,35058]
[70,"70",134235,121916,83740,59461,47513,41236]
[71,"71",139510,126706,87018,61799,49374,42874]
[72,"72",143438,130289,89486,63545,50778,44067]
[73,"73",148713,135087,92769,65884,52642,45703]
[74,"74",151323,137464,94423,67034,53581,46504]
[75,"75+",157905,143449,98525,69971,55906,48547]
[1,"1 Child",8667,5361,3957,3097,2327,1829]
[2,"2 Children",13601,8526,6286,4930,3717,2898]
[3,"3+ Children",19806,12487,9214,7224,5451,4245]
[1,"Rider Comp. Maternidad",0,0,0,225,225,225]
[1,"Transplante de organos",0,0,0,0,0,0]
[]
[]
[]
[]
[]
[]
["DIAMOND (LATINAMERICA ONLY)"]
["TARIFAS ANUALES"]
["EDAD"]
[" "," ","DL1","DL2","DL3","DL4","DL5","DL6"]
[18,"-  24"]
[25,"-  29"]
[30,"-  34"]
[35,"-  39"]
[40,"-  44"]
[45,"-  49"]
[50,"-  54"]
[55,"-  59"]
[60]
[61]
[62]
[63]
[64]
[65]
[66]
[67]
[68]
[69]
[70]
[71]
[72]
[73]
[74]
[75,"o más"]
[1,"Hijo"]
[2,"Hijos"]
[3,"Hijos o más"]
[1,"Rider Comp. Maternidad"]
[1,"Transplante de organos",0,0,0,0,0,0]
[]
["TARIFAS SEMESTRALES "]
["EDAD"]
[" "," ","DL1","DL2","DL3","DL4","DL5","DL6"]
[18,"-  24",{"$f":"+C118*$G$2","v":0},0,0,0,0,0]
[25,"-  29",0,0,0,0,0,0]
[30,"-  34",0,0,0,0,0,0]
[35,"-  39",0,0,0,0,0,0]
[40,"-  44",0,0,0,0,0,0]
[45,"-  49",0,0,0,0,0,0]
[50,"-  54",0,0,0,0,0,0]
[55,"-  59",0,0,0,0,0,0]
[60,null,0,0,0,0,0,0]
[61,null,0,0,0,0,0,0]
[62,null,0,0,0,0,0,0]
[63,null,0,0,0,0,0,0]
[64,null,0,0,0,0,0,0]
[65,null,0,0,0,0,0,0]
[66,null,0,0,0,0,0,0]
[67,null,0,0,0,0,0,0]
[68,null,{"$f":"+C134*$G$2","v":0},0,0,0,0,0]
[69,null,0,0,0,0,0,0]
[70,null,0,0,0,0,0,0]
[71,null,0,0,0,0,0,0]
[72,null,0,0,0,0,0,0]
[73,null,0,0,0,0,0,0]
[74,null,0,0,0,0,0,0]
[75,"o más",0,0,0,0,0,0]
[1,"Hijo",0,0,0,0,0,0]
[2,"Hijos",0,0,0,0,0,0]
[3,"Hijos o más",0,0,0,0,0,0]
[1,"Rider Comp. Maternidad",0,0,0,0,0,0]
[1,"Transplante de organos",0,0,0,0,0,0]
[]
[]
[]
[]
["BUPA COMPLETE  CARE (MUNDIAL)"]
["TARIFAS ANUALES"]
["EDAD"]
[" "," ","CW1","CW2","CW3","CW4","CW5","CW6"]
[18,"18-24",27050,14057,8171,4544,3906,3788]
[25,"25-29",28437,16092,10410,6345,5236,4194]
[30,"30-34",29659,18091,12650,8146,6567,5051]
[35,"35-39",33144,20099,14889,9947,7376,5651]
[40,"40-44",34710,22374,16493,10237,8016,6222]
[45,"45-49",36759,25728,18415,13293,9056,6948]
[50,"50-54",45153,32016,24257,17406,12884,9872]
[55,"55-59",54031,36315,25800,18518,13696,10501]
[60,"60",62344,39530,28017,21055,16281,13084]
[61,"61",66951,42466,30077,22607,17478,14056]
[62,"62",73243,46475,32930,24755,19125,15382]
[63,"63",77835,49411,35000,26302,20330,16340]
[64,"64",84163,53432,37856,28445,21978,17681]
[65,"65",88173,65223,49342,35937,29268,24360]
[66,"66",92185,68914,57316,41731,34001,25902]
[67,"67",100634,72663,61463,45572,37126,27497]
[68,"68",108965,76955,65104,50399,40486,29321]
[69,"69",117982,82272,69347,53817,42529,31553]
[70,"70",129166,89096,74454,57830,45376,34370]
[71,"71",143229,97902,80702,62633,49253,37958]
[72,"72",154846,108368,87914,68109,53920,42199]
[73,"73",160527,119782,95678,72347,58332,46813]
[74,"74",163361,131433,103579,73617,59361,50898]
[75,"75+",170452,142610,109138,76824,61942,53108]
[1,"1 Child",9151,5694,4163,2926,2341,1730]
[2,"2 Children",14341,9051,6153,3928,3128,2756]
[3,"3+ Children",20845,11105,7504,4825,3762,3376]
[1,"Rider Comp. Maternidad",0,0,0,225,225,225]
[1,"Transplante de organos",0,0,0,0,0,0]
[]
[]
[]
["TARIFAS SEMESTRALES "]
["EDAD"]
[" "," ",null,"CW2","CW3","CW4","CW5","CW6"]
[18,"18-24",null,{"$f":"$G$2*D188","v":7450.21},4330.63,2408.3200000000002,2070.1800000000003,2007.64]
[25,"25-29",null,8528.76,5517.3,3362.8500000000004,2775.08,2222.8200000000002]
[30,"30-34",null,9588.2300000000014,6704.5,4317.38,3480.51,2677.03]
[35,"35-39",null,10652.470000000001,7891.17,5271.91,3909.28,2995.03]
[40,"40-44",null,11858.220000000001,8741.2900000000009,5425.6100000000006,4248.4800000000005,3297.6600000000003]
[45,"45-49",null,13635.84,9759.9500000000007,7045.29,4799.68,3682.44]
[50,"50-54",null,16968.48,12856.210000000001,9225.18,6828.52,5232.16]
[55,"55-59",null,19246.95,13674,9814.5400000000009,7258.88,5565.5300000000007]
[60,"60",null,20950.900000000001,14849.01,11159.150000000001,8628.93,6934.52]
[61,"61",null,22506.98,15940.810000000001,11981.710000000001,9263.34,7449.68]
[62,"62",null,24631.75,17452.900000000001,13120.150000000001,10136.25,8152.46]
[63,"63",null,26187.83,18550,13940.060000000001,10774.9,8660.2000000000007]
[64,"64",null,28318.960000000003,20063.68,15075.85,11648.34,9370.93]
[65,"65",null,34568.19,26151.260000000002,19046.61,15512.04,12910.800000000001]
[66,"66",null,36524.42,30377.480000000003,22117.43,18020.530000000002,13728.060000000001]
[67,"67",null,38511.39,32575.390000000003,24153.16,19676.780000000002,14573.41]
[68,"68",null,{"$f":"$G$2*D204","v":40786.15},34505.120000000003,26711.47,21457.58,15540.130000000001]
[69,"69",null,43604.160000000003,36753.910000000003,28523.010000000002,22540.370000000003,16723.09]
[70,"70",null,47220.880000000005,39460.620000000003,30649.9,24049.280000000002,18216.100000000002]
[71,"71",null,51888.060000000005,42772.060000000005,33195.490000000005,26104.09,20117.740000000002]
[72,"72",null,57435.040000000001,46594.420000000006,36097.770000000004,28577.600000000002,22365.47]
[73,"73",null,63484.460000000006,50709.340000000004,38343.910000000003,30915.960000000003,24810.890000000003]
[74,"74",null,69659.490000000005,54896.87,39017.01,31461.33,26975.940000000002]
[75,"75+",null,75583.3,57843.14,40716.720000000001,32829.26,28147.24]
[1,"1 Child",null,3017.82,2206.3900000000003,1550.78,1240.73,916.90000000000009]
[2,"2 Children",null,4797.0300000000007,3261.09,2081.84,1657.8400000000001,1460.68]
[3,"3+ Children",null,5885.6500000000005,3977.1200000000003,2557.25,1993.8600000000001,1789.2800000000002]
[1,"Rider Comp. Maternidad",null,{"$f":"+D215*$G$2","v":0},0,119.25,119.25,119.25]
[1,"Transplante de organos",null,0,0,0,0,0]
[]
["BUPA COMPLETE CARE (LATIN AMERICA)"]
["TARIFAS ANUALES"]
["EDAD"]
[" "," ","CW1","CW2","CW3","CW4","CW5","CW6"]
[18,"18-24",21331,12945,8891,5998,3802,2889]
[25,"25-29",22390,13594,9828,6656,4211,3205]
[30,"30-34",23349,14196,10537,7464,5114,3888]
[35,"35-39",26116,15883,11795,8365,5734,4362]
[40,"40-44",29589,18401,12936,9311,6322,4815]
[45,"45-49",33030,20571,14462,10411,7061,5392]
[50,"50-54",43608,26900,19083,13679,10101,7702]
[55,"55-59",46379,28630,20301,14546,10744,8196]
[60,"60",49233,31173,22048,16572,12783,10255]
[61,"61",52871,33494,23690,17796,13732,11023]
[62,"62",57856,36663,25948,19487,15039,12063]
[63,"63",61487,38983,27592,20719,15992,12832]
[64,"64",66489,42171,29849,22421,17300,13892]
[65,"65",69678,55128,38941,28366,23078,19589]
[66,"66",72849,64064,45248,32954,26820,22775]
[67,"67",79536,69974,49425,35993,29301,24876]
[68,"68",88040,77486,54733,39861,32451,27553]
[69,"69",96840,85257,60219,43851,35706,30315]
[70,"70",114612,104933,73323,51632,41606,35657]
[71,"71",119095,109054,76209,53661,43249,37063]
[72,"72",122462,112136,78368,55176,44472,38117]
[73,"73",126952,116261,81245,57205,46098,39522]
[74,"74",129201,118325,82680,58210,46921,40225]
[75,"75+",134806,123477,86280,60742,48971,41966]
[1,"1 Child",7245,4509,3279,2452,1858,1380]
[2,"2 Children",11362,7162,5241,3905,2944,2196]
[3,"3+ Children",16510,10507,7684,5725,4325,3205]
[1,"Rider Comp. Maternidad",0,0,0,225,225,225]
[1,"Transplante de organos",0,0,0,0,0,0]
[]
[]
[]
[]
[]
[]
["COMPLETE (LATINAMERICA ONLY)"]
["TARIFAS ANUALES"]
["EDAD"]
[" "," ","CL1","CL2","CL3","CL4","CL5","CL6"]
[18,"-  24"]
[25,"-  29"]
[30,"-  34"]
[35,"-  39"]
[40,"-  44"]
[45,"-  49"]
[50,"-  54"]
[55,"-  59"]
[60]
[61]
[62]
[63]
[64]
[65]
[66]
[67]
[68]
[69]
[70]
[71]
[72]
[73]
[74]
[75,"o más"]
[1,"Hijo"]
[2,"Hijos"]
[3,"Hijos o más"]
[1,"Rider Comp. Maternidad"]
[1,"Transplante de organos",0,0,0,0,0,0]
[]
["TARIFAS SEMESTRALES "]
["EDAD"]
[" "," ","CL1","CL2","CL3","CL4","CL5","CL6"]
[18,"-  24",{"$f":"+C296*$G$2","v":0},0,0,0,0,0]
[25,"-  29",0,0,0,0,0,0]
[30,"-  34",0,0,0,0,0,0]
[35,"-  39",0,0,0,0,0,0]
[40,"-  44",0,0,0,0,0,0]
[45,"-  49",0,0,0,0,0,0]
[50,"-  54",0,0,0,0,0,0]
[55,"-  59",0,0,0,0,0,0]
[60,null,0,0,0,0,0,0]
[61,null,0,0,0,0,0,0]
[62,null,0,0,0,0,0,0]
[63,null,0,0,0,0,0,0]
[64,null,0,0,0,0,0,0]
[65,null,0,0,0,0,0,0]
[66,null,0,0,0,0,0,0]
[67,null,0,0,0,0,0,0]
[68,null,{"$f":"+C312*$G$2","v":0},0,0,0,0,0]
[69,null,0,0,0,0,0,0]
[70,null,0,0,0,0,0,0]
[71,null,0,0,0,0,0,0]
[72,null,0,0,0,0,0,0]
[73,null,0,0,0,0,0,0]
[74,null,0,0,0,0,0,0]
[75,"o más",0,0,0,0,0,0]
[1,"Hijo",0,0,0,0,0,0]
[2,"Hijos",0,0,0,0,0,0]
[3,"Hijos o más",0,0,0,0,0,0]
[1,"Rider Comp. Maternidad",0,0,0,0,0,0]
[1,"Transplante de organos",0,0,0,0,0,0]
[]
[]
[]
[]
[]
[]
[]
["BUPA ADVANTAGE CARE (MUNDIAL)"]
["TARIFAS ANUALES"]
["EDAD"]
[" "," ","AW1","AW2","AW3","AW4","AW5","AW6"]
[18,"18-24",14971,10713,8082,4070,3759,3086]
[25,"25-29",16725,11912,9010,4687,4048,3252]
[30,"30-34",19521,13772,10567,6011,5351,4151]
[35,"35-39",22024,15258,11751,7938,6082,4598]
[40,"40-44",24924,17197,13311,9023,6784,5181]
[45,"45-49",28763,19970,15302,10281,7705,6008]
[50,"50-54",28277,21871,17193,12126,8644,6582]
[55,"55-59",33289,25820,19827,14093,9986,7758]
[60,"60",40085,28512,21943,15489,11005,8571]
[61,"61",45093,32065,24680,17408,12376,9642]
[62,"62",47929,35640,27414,19335,13744,10697]
[63,"63",49600,39200,30156,21272,15115,11782]
[64,"64",51424,42314,32889,23214,16480,12837]
[65,"65",54330,44572,35784,25277,17943,14597]
[66,"66",57991,47877,37899,26768,18999,15456]
[67,"67",61787,51564,42097,29740,21105,17170]
[68,"68",66210,55770,46305,32704,23209,18869]
[69,"69",71751,60629,48401,34189,24258,19734]
[70,"70",78903,63326,49177,34712,24727,19992]
[71,"71",88177,71245,55313,39044,27799,22477]
[72,"72",99247,79144,61464,43378,30883,24972]
[73,"73",111343,87060,67599,47708,33970,27465]
[74,"74",123695,94973,73743,51388,37057,29957]
[75,"75+",135535,103875,82234,54619,40550,34360]
[1,"1 Child",6124,4728,3365,1751,1606,1431]
[2,"2 Children",9433,7696,5312,2373,2174,1857]
[3,"3+ Children",13767,9522,7741,2942,2691,2251]
[1,"Rider Comp. Maternidad",225,225,225,225,225,225]
[1,"Transplante de organos",300,300,300,300,300,300]
[]
[]
[]
["TARIFAS SEMESTRALES "]
["EDAD"]
[" "," ",null,"AW2","AW3","AW4","AW5","AW6"]
[18,"18-24",null,{"$f":"+D369*$G$2","v":5677.89},4283.46,2157.1,1992.2700000000002,1635.5800000000002]
[25,"25-29",null,6313.3600000000006,4775.3,2484.11,2145.44,1723.5600000000002]
[30,"30-34",null,7299.1600000000008,5600.51,3185.8300000000004,2836.03,2200.0300000000002]
[35,"35-39",null,8086.7400000000007,6228.0300000000007,4207.1400000000003,3223.46,2436.94]
[40,"40-44",null,9114.41,7054.83,4782.1900000000005,3595.52,2745.9300000000003]
[45,"45-49",null,10584.1,8110.06,5448.93,4083.65,3184.2400000000002]
[50,"50-54",null,11591.630000000001,9112.2900000000009,6426.7800000000007,4581.3200000000006,3488.46]
[55,"55-59",null,13684.6,10508.310000000001,7469.29,5292.58,4111.74]
[60,"60",null,15111.36,11629.79,8209.17,5832.6500000000005,4542.63]
[61,"61",null,16994.45,13080.400000000001,9226.24,6559.2800000000007,5110.26]
[62,"62",null,18889.2,14529.42,10247.550000000001,7284.3200000000006,5669.41]
[63,"63",null,20776,15982.68,11274.16,8010.9500000000007,6244.46]
[64,"64",null,22426.420000000002,17431.170000000002,12303.42,8734.4,6803.6100000000006]
[65,"65",null,23623.16,18965.52,13396.810000000001,9509.7900000000009,7736.4100000000008]
[66,"66",null,25374.81,20086.47,14187.04,10069.470000000001,8191.68]
[67,"67",null,27328.920000000002,22311.41,15762.2,11185.650000000001,9100.1]
[68,"68",null,{"$f":"+D385*$G$2","v":29558.100000000002},24541.65,17333.120000000003,12300.77,10000.57]
[69,"69",null,32133.370000000003,25652.530000000002,18120.170000000002,12856.74,10459.02]
[70,"70",null,33562.78,26063.81,18397.36,13105.310000000001,10595.76]
[71,"71",null,37759.85,29315.890000000003,20693.32,14733.470000000001,11912.810000000001]
[72,"72",null,41946.32,32575.920000000002,22990.34,16367.990000000002,13235.16]
[73,"73",null,46141.8,35827.47,25285.24,18004.100000000002,14556.45]
[74,"74",null,50335.69,39083.79,27235.640000000003,19640.210000000003,15877.210000000001]
[75,"75+",null,55053.75,43584.020000000004,28948.07,21491.5,18210.8]
[1,"1 Child",null,2505.84,1783.45,928.03000000000009,851.18000000000006,758.43000000000006]
[2,"2 Children",null,4078.88,2815.36,1257.69,1152.22,984.21]
[3,"3+ Children",null,5046.66,4102.7300000000005,1559.26,1426.23,1193.03]
[1,"Rider Comp. Maternidad",null,119.25,119.25,119.25,119.25,119.25]
[1,"Transplante de organos",null,159,159,159,159,159]
["BUPA ADVANTAGE CARE (LATINAMERICA)"]
["TARIFAS ANUALES"]
["EDAD"]
[" "," ","AW1","AW2","AW3","AW4","AW5","AW6"]
[18,"18-24",11843,8442,6327,4578,3140,2479]
[25,"25-29",13224,9387,7068,5102,3508,2758]
[30,"30-34",15462,10875,8317,6064,4160,3207]
[35,"35-39",17456,12058,9257,6748,4749,3565]
[40,"40-44",19760,13616,10498,7662,5306,4024]
[45,"45-49",22846,15805,12090,8630,6036,4679]
[50,"50-54",25848,17327,13607,10075,6796,5144]
[55,"55-59",29960,20484,15703,11146,7871,6073]
[60,"60",31874,22632,17393,12268,8681,6743]
[61,"61",35878,25475,19584,13790,9772,7585]
[62,"62",39879,28328,21771,15337,10865,8439]
[63,"63",43878,31163,23956,16885,11970,9291]
[64,"64",47874,34012,26131,18431,13061,10143]
[65,"65",52580,36768,28452,20080,14222,11554]
[66,"66",55690,38938,30125,21272,15063,12232]
[67,"67",61886,43270,33487,23652,16749,13608]
[68,"68",68091,47606,36845,26015,18439,14973]
[69,"69",71176,49780,38526,27202,19275,15656]
[70,"70",72705,50430,39127,27621,19645,15860]
[71,"71",81803,56751,44036,31086,22097,17850]
[72,"72",90891,63049,48950,34540,24567,19838]
[73,"73",99995,69381,53844,38011,27030,21830]
[74,"74",109089,75706,58754,41479,29504,23834]
[75,"75+",119126,82799,65531,47586,32297,27343]
[1,"1 Child",4897,3767,2688,2013,1604,1159]
[2,"2 Children",7533,6137,4245,3181,2530,1695]
[3,"3+ Children",10987,8991,6177,4635,3655,2574]
[1,"Rider Comp. Maternidad",225,225,225,225,225,225]
[1,"Transplante de organos",300,300,300,300,300,300]
[]
[]
[]
[]
[]
["ADVANTAGE (LATINAMERICA ONLY)"]
["TARIFAS ANUALES"]
["EDAD"]
[" "," ",null,"AL2","AL3","AL4","AL5","AL6"]
[18,"18-24",null,11240,8450,6003,4521,3578]
[25,"25-29",null,12522,9432,6676,5046,3960]
[30,"30-34",null,14491,11087,7953,5984,4611]
[35,"35-39",null,16068,12342,8853,6822,5116]
[40,"40-44",null,18135,13999,10040,7628,5791]
[45,"45-49",null,21074,16127,11319,8682,6734]
[50,"50-54",null,23095,18131,13196,9747,7397]
[55,"55-59",null,27290,20932,14596,11305,8747]
[60,"60",null,30152,23179,16056,12465,9685]
[61,"61",null,33942,26076,18072,14038,10913]
[62,"62",null,37722,29010,20091,15611,12132]
[63,"63",null,41505,31913,22117,17178,13360]
[64,"64",null,45292,34829,24140,18760,14569]
[65,"65",null,48973,37903,26303,20431,16582]
[66,"66",null,51857,40135,27861,21635,17581]
[67,"67",null,57634,44613,30968,24062,19536]
[68,"68",null,63406,49074,34077,26482,21499]
[69,"69",null,66294,51314,35619,27680,22488]
[70,"70",null,67143,52135,36169,28205,22786]
[71,"71",null,75557,58666,40705,31745,25636]
[72,"72",null,83973,65215,45242,35276,28498]
[73,"73",null,92378,71746,49775,38821,31358]
[74,"74",null,100789,78269,54304,42358,34218]
[75,"75+",null,110253,87280,62287,46373,39262]
[1,"1 Child",null,5009,3572,2624,2281,1656]
[2,"2 Children",null,8181,5634,4146,3620,2438]
[3,"3+ Children",null,11967,8220,6057,5241,3690]
[1,"Rider Comp. Maternidad"]
[1,"Transplante de organos"]
[]
["TARIFAS SEMESTRALES "]
["EDAD"]
[" "," ",null,"AL2","AL3","AL4","AL5","AL6"]
[18,"18-24",null,{"$f":"+D475*$G$2","v":5957.2000000000007},4478.5,3181.59,2396.13,1896.3400000000001]
[25,"25-29",null,6636.6600000000008,4998.96,3538.28,2674.38,2098.8000000000002]
[30,"30-34",null,7680.2300000000005,5876.1100000000006,4215.09,3171.52,2443.83]
[35,"35-39",null,8516.0400000000009,6541.26,4692.09,3615.6600000000003,2711.48]
[40,"40-44",null,9611.5500000000011,7419.47,5321.2,4042.84,3069.23]
[45,"45-49",null,11169.220000000001,8547.3100000000013,5999.0700000000006,4601.46,3569.02]
[50,"50-54",null,12240.35,9609.43,6993.88,5165.91,3920.4100000000003]
[55,"55-59",null,14463.7,11093.960000000001,7735.88,5991.6500000000005,4635.91]
[60,"60",null,15980.560000000001,12284.87,8509.68,6606.4500000000007,5133.05]
[61,"61",null,17989.260000000002,13820.28,9578.16,7440.14,5783.89]
[62,"62",null,19992.66,15375.300000000001,10648.230000000001,8273.83,6429.96]
[63,"63",null,21997.65,16913.89,11722.01,9104.34,7080.8]
[64,"64",null,24004.760000000002,18459.370000000003,12794.2,9942.8000000000011,7721.5700000000006]
[65,"65",null,25955.690000000002,20088.59,13940.59,10828.43,8788.4600000000009]
[66,"66",null,27484.210000000003,21271.55,14766.33,11466.550000000001,9317.93]
[67,"67",null,30546.02,23644.89,16413.04,12752.86,10354.08]
[68,"68",null,{"$f":"+D491*$G$2","v":33605.18},26009.22,18060.810000000001,14035.460000000001,11394.470000000001]
[69,"69",null,35135.82,27196.420000000002,18878.07,14670.400000000001,11918.640000000001]
[70,"70",null,35585.79,27631.550000000003,19169.57,14948.650000000001,12076.58]
[71,"71",null,40045.21,31092.980000000003,21573.65,16824.850000000002,13587.08]
[72,"72",null,44505.69,34563.950000000004,23978.260000000002,18696.280000000002,15103.94]
[73,"73",null,48960.340000000004,38025.380000000005,26380.75,20575.13,16619.740000000002]
[74,"74",null,53418.170000000006,41482.57,28781.120000000003,22449.74,18135.54]
[75,"75+",null,58434.090000000004,46258.400000000001,33012.11,24577.690000000002,20808.86]
[1,"1 Child",null,2654.77,1893.16,1390.72,1208.93,877.68000000000006]
[2,"2 Children",null,4335.93,2986.02,2197.38,1918.6000000000001,1292.1400000000001]
[3,"3+ Children",null,6342.51,4356.6000000000004,3210.21,2777.73,1955.7]
[1,"Rider Comp. Maternidad",null,0,0,0,0,0]
[1,"Transplante de organos",null,0,0,0,0,0]
[]
[]
[]
[]
["BUPA SECURE CARE"]
["TARIFAS ANUALES"]
["EDAD"]
[" "," ","SE1","SE2","SE3","SE4","SE5","SE6"]
[18,"18-24",9024,7314,6411,3780,3385,2807]
[25,"25-29",9968,7798,7202,3997,3799,3098]
[30,"30-34",12287,9527,8449,4645,4699,3578]
[35,"35-39",13592,10129,9443,5330,5206,3954]
[40,"40-44",15319,10441,10767,5488,5315,4335]
[45,"45-49",17717,11892,11881,5687,5345,4512]
[50,"50-54",19374,12046,12234,6964,6093,5615]
[55,"55-59",20442,15951,14662,8968,8626,6634]
[60,"60",21533,16330,15086,10305,8872,7000]
[61,"61",22643,17161,16186,11620,9375,7873]
[62,"62",23827,18570,17543,12915,10222,8751]
[63,"63",25137,20354,19086,14217,11295,9624]
[64,"64",26629,22310,20747,15552,12477,10304]
[65,"65",28354,24237,22455,16946,13649,10541]
[66,"66",30261,26056,24126,18247,14133,10577]
[67,"67",32321,27904,25806,19731,15690,11737]
[68,"68",34630,29895,27623,21186,17223,12919]
[69,"69",37282,32143,29700,22790,18037,13508]
[70,"70",40372,34762,32165,23552,18220,13566]
[71,"71",44050,37870,35138,26502,20495,15261]
[72,"72",48251,41390,38536,29139,22777,16953]
[73,"73",52753,45147,42177,31660,25041,18653]
[74,"74",57329,48962,45878,34217,27312,20346]
[75,"75+",61756,52660,49457,36703,29869,22216]
[1,"1 Child",2078,1778,1277,946,713,728]
[2,"2 Children",3878,3262,2429,1765,1370,1357]
[3,"3+ Children",5530,4606,3502,2520,1991,1932]
[1,"Rider Comp. Maternidad",225,225,225,225,225,225]
[1,"Transplante de organos",300,300,300,300,300,300]
[]
[]
[]
[]
["TARIFAS SEMESTRALES "]
["EDAD"]
[" "," ",null,"SE2","SE3","SE4","SE5","SE6"]
[18,"18-24",null,{"$f":"+D545*$G$2","v":3876.42},3397.8300000000004,2003.4,1794.0500000000002,1487.71]
[25,"25-29",null,4132.9400000000005,3817.0600000000004,2118.4100000000003,2013.47,1641.94]
[30,"30-34",null,5049.3100000000004,4477.97,2461.85,2490.4700000000003,1896.3400000000001]
[35,"35-39",null,5368.37,5004.79,2824.9,2759.1800000000003,2095.62]
[40,"40-44",null,5533.7300000000005,5706.51,2908.6400000000003,2816.9500000000003,2297.5500000000002]
[45,"45-49",null,6302.76,6296.93,3014.11,2832.8500000000004,2391.36]
[50,"50-54",null,6384.38,6484.02,3690.92,3229.29,2975.9500000000003]
[55,"55-59",null,8454.0300000000007,7770.8600000000006,4753.04,4571.7800000000007,3516.02]
[60,"60",null,8654.9,7995.5800000000008,5461.6500000000005,4702.16,3710]
[61,"61",null,9095.33,8578.58,6158.6,4968.75,4172.6900000000005]
[62,"62",null,9842.1,9297.7900000000009,6844.9500000000007,5417.66,4638.0300000000007]
[63,"63",null,10787.62,10115.58,7535.01,5986.35,5100.72]
[64,"64",null,11824.300000000001,10995.91,8242.5600000000013,6612.81,5461.12]
[65,"65",null,12845.61,11901.150000000001,8981.380000000001,7233.97,5586.7300000000005]
[66,"66",null,13809.68,12786.78,9670.91,7490.4900000000007,5605.81]
[67,"67",null,14789.12,13677.18,10457.43,8315.7000000000007,6220.6100000000006]
[68,"68",null,{"$f":"+D561*$G$2","v":15844.35},14640.19,11228.58,9128.19,6847.0700000000006]
[69,"69",null,17035.79,15741,12078.7,9559.61,7159.2400000000007]
[70,"70",null,18423.86,17047.45,12482.560000000001,9656.6,7189.9800000000005]
[71,"71",null,20071.100000000002,18623.14,14046.060000000001,10862.35,8088.3300000000008]
[72,"72",null,21936.7,20424.080000000002,15443.67,12071.810000000001,8985.09]
[73,"73",null,23927.91,22353.81,16779.8,13271.730000000001,9886.09]
[74,"74",null,25949.86,24315.34,18135.010000000002,14475.36,10783.380000000001]
[75,"75+",null,27909.800000000003,26212.210000000003,19452.59,15830.570000000002,11774.480000000001]
[1,"1 Child",null,942.34,676.81000000000006,501.38000000000005,377.89000000000004,385.84000000000003]
[2,"2 Children",null,1728.8600000000001,1287.3700000000001,935.45,726.1,719.21]
[3,"3+ Children",null,2441.1800000000003,1856.0600000000002,1335.6000000000001,1055.23,1023.96]
[1,"Rider Comp. Maternidad",null,119.25,119.25,119.25,119.25,119.25]
[1,"Transplante de organos",null,159,159,159,159,159]
[]
[]
[]
[]
["ESSENTIAL"]
["TARIFAS ANUALES"]
["EDAD"]
[" "," ","ET1","ET2","ET3","ET4","ET5","ET6"]
[18,"18-24",4941,4816,4239,3105,2438,1870]
[25,"25-29",5484,5611,4775,3450,2718,2071]
[30,"30-34",6285,6389,5599,3988,3123,2382]
[35,"35-39",6919,7155,6245,4430,3462,2636]
[40,"40-44",7761,7918,7114,4993,3912,2962]
[45,"45-49",8807,8682,8305,5806,4531,3427]
[50,"50-54",9580,9455,8906,6350,4961,3740]
[55,"55-59",10369,10244,9529,7214,5874,4407]
[60,"60",11179,11054,10184,7730,6202,4659]
[61,"61",12018,11893,10880,8296,6979,5245]
[62,"62",12892,12767,11626,8925,7750,5829]
[63,"63",13808,13683,12432,9627,8520,6400]
[64,"64",14706,14581,13264,10401,9293,6979]
[65,"65",15589,15464,14127,11253,9345,7006]
[66,"66",16560,16435,15090,12070,9388,7017]
[67,"67",17717,17592,16219,13288,10436,7801]
[68,"68",19162,19037,17584,14521,11473,8581]
[69,"69",20984,20859,19260,15409,11978,8975]
[70,"70",23090,22989,21202,15573,12108,9020]
[71,"71",25421,25296,23296,17511,13613,10139]
[72,"72",27773,27648,25428,19453,15118,11267]
[73,"73",30036,29911,27485,21397,16631,12386]
[74,"74",32210,32085,29465,23338,18140,13513]
[75,"75+",34385,34260,31445,25524,19839,14760]
[1,"1 Child",1524,1524,1517,1226,952,704]
[2,"2 Children",2778,2778,2253,1920,1491,1265]
[3,"3+ Children",3975,3975,3235,2787,2164,1896]
[1,"Rider Comp. Maternidad",225,225,225,225,225,225]
[1,"Transplante de organos",300,300,300,300,300,300]
[]
[]
[]
["TARIFAS SEMESTRALES "]
["EDAD"]
[" "," ",null,"ET2","ET3","ET4","ET5","ET6"]
[18,"18-24",null,{"$f":"+D618*$G$2","v":2552.48},2246.67,1645.65,1292.1400000000001,991.1]
[25,"25-29",null,2973.83,2530.75,1828.5,1440.54,1097.6300000000001]
[30,"30-34",null,3386.17,2967.4700000000003,2113.6400000000003,1655.19,1262.46]
[35,"35-39",null,3792.15,3309.8500000000004,2347.9,1834.8600000000001,1397.0800000000002]
[40,"40-44",null,4196.54,3770.42,2646.29,2073.36,1569.8600000000001]
[45,"45-49",null,4601.46,4401.6500000000005,3077.1800000000003,2401.4300000000003,1816.3100000000002]
[50,"50-54",null,5011.1500000000005,4720.18,3365.5,2629.33,1982.2]
[55,"55-59",null,5429.3200000000006,5050.37,3823.42,3113.2200000000003,2335.71]
[60,"60",null,5858.62,5397.52,4096.9000000000005,3287.06,2469.27]
[61,"61",null,6303.29,5766.4000000000005,4396.88,3698.8700000000003,2779.8500000000004]
[62,"62",null,6766.51,6161.7800000000007,4730.25,4107.5,3089.3700000000003]
[63,"63",null,7251.9900000000007,6588.96,5102.3100000000004,4515.6000000000004,3392]
[64,"64",null,7727.93,7029.92,5512.5300000000007,4925.29,3698.8700000000003]
[65,"65",null,8195.92,7487.31,5964.09,4952.8500000000004,3713.1800000000003]
[66,"66",null,8710.5500000000011,7997.7000000000007,6397.1,4975.6400000000003,3719.01]
[67,"67",null,9323.76,8596.07,7042.64,5531.08,4134.5300000000007]
[68,"68",null,{"$f":"+D634*$G$2","v":10089.61},9319.52,7696.13,6080.6900000000005,4547.93]
[69,"69",null,11055.27,10207.800000000001,8166.77,6348.34,4756.75]
[70,"70",null,12184.17,11237.060000000001,8253.69,6417.2400000000007,4780.6000000000004]
[71,"71",null,13406.880000000001,12346.880000000001,9280.83,7214.89,5373.67]
[72,"72",null,14653.44,13476.84,10310.09,8012.54,5971.51]
[73,"73",null,15852.83,14567.050000000001,11340.41,8814.43,6564.58]
[74,"74",null,17005.05,15616.45,12369.140000000001,9614.2000000000007,7161.89]
[75,"75+",null,18157.8,16665.850000000002,13527.720000000001,10514.67,7822.8]
[1,"1 Child",null,807.72,804.01,649.78000000000009,504.56,373.12]
[2,"2 Children",null,1472.3400000000001,1194.0900000000001,1017.6,790.23,670.45]
[3,"3+ Children",null,2106.75,1714.5500000000002,1477.1100000000001,1146.92,1004.88]
[1,"Rider Comp. Maternidad",null,119.25,119.25,119.25,119.25,119.25]
[1,"Transplante de organos",null,159,159,159,159,159]
[]
[]
[]
[]
[]
["CRITICAL"]
["TARIFAS ANUALES"]
["EDAD"]
[" "," ","CR1",null,null,"CR2",null,null,"CR3",null,null,"CR4",null,null,"CR5",null,null,"CR6"]
[null,null,"INDIVIDUAL","2 PERSONAS","FAMILIAR","INDIVIDUAL","2 PERSONAS","FAMILIAR","INDIVIDUAL","2 PERSONAS","FAMILIAR","INDIVIDUAL","2 PERSONAS","FAMILIAR","INDIVIDUAL","2 PERSONAS","FAMILIAR","INDIVIDUAL","2 PERSONAS","FAMILIAR"]
[18,"-  49",6096,9545,12928,5103,8698,11750,4310,7025,9554,2910,5133,7102,2080,3604,5125,1193,1952,2714]
[50,"o más",7816,10571,14460,6538,9460,12952,5515,8074,11137,3691,5932,8177,2599,4141,5650,1459,2224,2980]
[]
[]
["TARIFAS SEMESTRALES "]
["EDAD"]
[" "," ","CR1",null,null,"CR2",null,null,"CR3",null,null,"CR4",null,null,"CR5"]
[null,null,"INDIVIDUAL","2 PERSONAS","FAMILIAR","INDIVIDUAL","2 PERSONAS","FAMILIAR","INDIVIDUAL","2 PERSONAS","FAMILIAR","INDIVIDUAL","2 PERSONAS","FAMILIAR","INDIVIDUAL","2 PERSONAS","FAMILIAR"]
[18,"-  25",{"$f":"AO700","v":0},{"$f":"AP700","v":0},0,0,0,0,0,0,0,0,0,0,0,0,0]
[75,"o más",{"$f":"AO701","v":0},0,0,0,0,0,0,0,0,0,0,0,0,0,0]