{"text_format":"1","workbook":"xlsx","n_sheets":9,"sheets":["INGRESO DE DATOS","Global Ultimate","Global Elite","Global Premier","Global Select","Resumen Tarifas","Tablas","Tablas Guyanas y Santa Elena","Tablas Resto de Ecuador"],"not_rendered":{"charts":0,"images":15,"macros":1,"external_links":0,"defined_names":5,"comments":1,"pivot_tables":0},"unopened":[],"bounds":{"document_bytes":16777216,"sheet_cells":100000,"rows_first":2000,"rows_last":500,"rows_between":2000,"halvings":0,"cell_chars":16384,"cell_head_chars":4096},"cells_cut":0,"cells_raw":0,"read":"whole","date_system":"1900"}

{"sheet":"INGRESO DE DATOS","index":0,"n_rows":52,"n_cols":25,"rows_kept":52,"cut":false,"hidden":false,"merged":[[49,20,49,24],[29,20,29,24],[33,20,33,24],[37,20,37,24],[25,20,25,24],[21,20,21,24],[43,11,46,12],[10,14,10,16],[36,2,36,12],[21,14,21,18],[36,14,36,18],[44,14,44,18],[10,18,17,18],[41,14,41,16],[10,21,17,21],[41,20,41,24],[45,20,45,24],[55,3,55,4],[55,6,55,7],[10,0,10,12],[44,0,44,1],[36,0,36,1],[38,0,38,1],[40,0,40,1],[42,0,42,1],[14,10,14,12],[38,4,40,5],[41,4,41,5],[38,7,40,9],[41,7,41,9],[48,0,48,2]]}
[]
[null,null,null,null,null,null,null," "," ",null,null,null,null,null,"24 years",false]
[null,null,null,null,null,null,null,null,null,null,null,null,null,null,"Coaseguro (Panamá)",false]
[]
[]
[null,null,null,null,null,null,null," "," "]
[]
[]
[]
[]
[null,null,null,null,null,null,null,null,null,null,null,null,null,null,"Descuento 24 años (por edad)",null,null,null,"Type","Nuevo Negocio",null,"Zonas","Guayas/Santa Elena"]
[null,null,null,null,null,null,null,null,null,null,null,null,null,null,"age","Discount (%)","Parameter",null,null,"Pólizas 2020",null,null,"El Resto de Ecuador"]
[null,null,null,null,null,null,null,null,null,null,null,null,null,null,24,35,{"$f":"1-P13/100","v":0.65},null,null,"Pólizas 2021"]
[null,null,null,null,null,null,null,null,null,null,null,null,null,null,25,30,{"$f":"1-P14/100","v":0.7},null,null,"Pólizas 2022"]
[null,null,null,null,null,null,null,null,null,null,null,null,null,null,26,25,0.75,null,null,"Pólizas 2023"]
[null,null,null,null,null,null,null,null,null,null,null,null,null,null,27,20,0.8,null,null,"Pólizas Mayo - Agosto 2023"]
[null,null,null,null,null,null,null,null,null,null,null,null,null,null,28,15,0.85,null,null,"Renovaciones"]
[null,null,null,null,null,null,null,null,null,null,null,null,null,null,29,6,0.94,null,null,"Renovación: Pólizas mayo - diciembre de 2024"]
[null,null,null,null,null,null,null,null,null,null,null,null,null,null,"All ages",0,1,null,"Type selected",4,null,"Zona seleccionada",1]
[null,null,null,null,null,null,null,null,null,null,null,null,null,null,null,null,null,null,null,null,null,"Nombre de la Zona",{"$f":"IF(W19=1,\"Guayas/Santa Elena\",\"Resto de Ecuador\")","v":"Guayas/Santa Elena"}]
[null,null,null,null,null,null,null,false]
[null,null,null,null,null,null,null,null,null,null,null,null,null,null,"1. NEW BUSINESS DISCOUNT",null,null,null,null,null,"2. PÓLIZAS 2020"]
[null,null,null,null,null,null,null,null,null,null,null,null,null,null,"Ultimate","Elite","Premier","Select",null,null,"Ultimate","Elite","Premier","Select"]
[null,null,null,null,null,null,null,null,null,null,null,null,null,null,0,15,15,15,null,null,0,15,15,20]
[]
[null,null,null,null,null,null,null,null,null,null,null,null,null,null,null,null,null,null,null,null,"3. PÓLIZAS 2021"]
[null,null,null,null,null,null,null,null,null,null,null,null,null,null,null,null,null,null,null,null,"Ultimate","Elite","Premier","Select"]
[null,null,null,null,null,null,null,null,null,null,null,null,null,null,null,null,null,null,null,null,0,0,15,15]
[]
[null,null,null,null,null,null,null,null,null,null,null,null,null,null,"Des 24 años:",{"$f":"IF(P2,IF(C43=O13,Q13,IF(C43=O14,Q14,IF(C43=O15,Q15,IF(C43=O16,Q16,IF(C43=O17,Q17,IF(C43=O18,Q18,Q19)))))),Q19)","v":1},null,null,null,null,"4. PÓLIZAS 2022"]
[null,null,null,null,null,null,null,null,null,null,null,null,null,null,null,null,null,null,null,null,"Ultimate","Elite","Premier","Select"]
[null,null,null,null,null,null,null,null,null,null,null,null,null,null,"Des var coaseguro:",{"$f":"IF(P3=TRUE,0.25,1)","v":1},null,null,null,null,0,15,15,15]
[]
[null,null,null,null,null,null,null,null,null,null,null,null,null,null,null,null,null,null,null,null,"5. PÓLIZAS 2023"]
[null,null,null,null,null,null,null,null,null,null,null,null,null,null,"Descuento si es nuevo negocio:",null,null,null,null,null,"Ultimate","Elite","Premier","Select"]
[null,null,null,null,null,null,null,null,null,null,null,null,null,null,null,null,null,null,null,null,0,0,15,15]
["Nombre del Asegurado Titular:",null,"John Doe",null,null,null,null,null,null,null,null,null,null,null,"NEW BUSINESS DISCOUNT (MULTIPLICATION FACTOR)"]
[null,null,null,null,null,null,null,null,null,null,null,null,null,null,"Ultimate","Elite","Premier","Select",null,null,"6. PÓLIZAS MAYO - AGOSTO 2023"]
["Número de adultos en la póliza:",null,1,null,"Número de dependientes\nmenores de 16 años\n(incluyendo los menores de 10 años):",null,null,"Número de dependientes\nmenores de 10 años:",null,null,null,null,null,null,{"$f":"IF($T$19=1,(O24/100),IF($T$19=2,(U24/100),IF($T$19=3,(U28/100),IF($T$19=4,(U32/100),IF($T$19=5,(U36/100),IF($T$19=6,(U40/100),IF($T$19=7,(U44/100),0)))))))","v":0},{"$f":"IF($T$19=1,(P24/100),IF($T$19=2,(V24/100),IF($T$19=3,(V28/100),IF($T$19=4,(V32/100),IF($T$19=5,(V36/100),IF($T$19=6,(V40/100),IF($T$19=7,(V44/100),0)))))))","v":0.15},{"$f":"IF($T$19=1,(Q24/100),IF($T$19=2,(W24/100),IF($T$19=3,(W28/100),IF($T$19=4,(W32/100),IF($T$19=5,(W36/100),IF($T$19=6,(W40/100),IF($T$19=7,(W44/100),0)))))))","v":0.15},{"$f":"IF($T$19=1,(R24/100),IF($T$19=2,(X24/100),IF($T$19=3,(X28/100),IF($T$19=4,(X32/100),IF($T$19=5,(X36/100),IF($T$19=6,(X40/100),IF($T$19=7,(X44/100),0)))))))","v":0.15},null,null,"Ultimate","Elite","Premier","Select"]
[null,null,null,null,null,null,null,null,null,null,null,null,null,null,null,null,null,null,null,null,0,0,41,28]
["Número total de dependientes:",null,0]
[null,null,null,null,1,null,null,0,null,null,null,null,null,null,"Descuento combinado 24 años y Nuevo Negocio",null,null,null,null,null,"7. RENOVACIONES"]
["Edad del Asegurado Titular:",null,37,null,null,null,null,null,null,null,null,null,null,null,null,null,null,null,null,null,"Ultimate","Elite","Premier","Select"]
[null,null,null,null,null,null,null,null,null,null,null,{"$f":"IF($T$19=1,\"Para nuevos negocios emitidos a partir del 1 de enero de  2025\",IF($T$19=2,\"Para renovaciones de pólizas vendidas entre el 1ro de enero y el 31 de diciembre de 2020\",IF($T$19=3,\"Para renovaciones de pólizas vendidas entre el 1ro de enero y el 31 de diciembre de 2020\",IF($T$19=4,\"Para renovaciones de pólizas vendidas entre el 1ro de enero y el 31 de diciembre de 2021\",IF($T$19=5,\"Para renovaciones de pólizas vendidas entre el 1ro de enero y el 31 de diciembre de 2022\",IF($T$19=6,\"Para renovaciones de pólizas vendidas entre el 1ro de enero al 30 de abril y entre el 1ro de septiembre al 31 de diciembre, de 2023\",\"Para renovaciones de pólizas vendidas entre el 1ro de mayo y el 31 de agosto de 2023\"))))))","v":"Para renovaciones de pólizas vendidas entre el 1ro de enero y el 31 de diciembre de 2021"},null,null,null,null,null,null,null,null,0,0,0,0]
["Edad del/la cónyuge:",null,32,null,null,null,null,null,null,null,null,null,null,null,"NEW BUSINESS DISCOUNT"]
[null,null,null,null,null,null,null,null,null,null,null,null,null,null,"Ultimate","Elite","Premier","Select",null,null,"8. RENOCACIONES MAYO - DICIEMBRE 2024 PREMIER"]
[null,null,null,null,null,null,null,null,null,null,null,null,null,null,{"$f":"(1-O39)*$P$30","v":1},{"$f":"(1-P39)*$P$30","v":0.85},{"$f":"(1-Q39)*$P$30","v":0.85},{"$f":"(1-R39)*$P$30","v":0.85},null,null,250,2000,5000,10000,20000]
[null,null,null,null,null,null,null,null,null,null,null," ",null,null,null,null,null,null,null,null,0.15,0.15,0.06,0,0]
["Tarifas en US$ | Validas: 1 de enero de 2025"]
[null,null,null,null,null,null,null,null,null,null,null,null,null,null,null,null,null,null,null,null,"9. RENOCACIONES MAYO - DICIEMBRE 2024 SELECT"]
[null,null,null,null,null,null,null,null,null,null,null,null,null,null,null,null,null,null,null,null,250,2000,5000,10000,20000]
[null,null,null,null,null,null,null,null,null,null,null,null,null,null,null,null,null,null,null,null,7.0000000000000007E-2,7.0000000000000007E-2,7.0000000000000007E-2,0,0]

{"sheet":"Global Ultimate","index":1,"n_rows":80,"n_cols":43,"rows_kept":80,"cut":false,"hidden":false,"merged":[[79,0,82,3],[77,0,77,1],[71,0,71,1],[72,0,72,1],[73,0,73,1],[74,0,74,1],[75,0,75,1],[76,0,76,1],[70,0,70,1],[57,0,57,1],[58,0,58,1],[59,0,59,1],[60,0,60,1],[61,0,61,1],[62,0,62,1],[63,0,63,1],[67,0,67,1],[68,0,68,1],[69,0,69,1],[66,0,66,3],[56,0,56,1],[44,0,44,1],[45,0,45,1],[46,0,46,1],[47,0,47,1],[48,0,48,1],[49,0,49,1],[50,0,50,1],[51,0,51,1],[54,0,54,1],[55,0,55,1],[53,0,53,3],[43,0,43,1],[31,0,31,1],[32,0,32,1],[33,0,33,1],[34,0,34,1],[35,0,35,1],[36,0,36,1],[37,0,37,1],[38,0,38,1],[41,0,41,1],[42,0,42,1],[40,0,40,3],[0,7,0,20],[0,22,0,35],[0,37,0,50],[30,0,30,1],[22,1,22,2],[26,0,26,1],[27,0,27,1],[29,0,29,3],[12,1,12,3],[22,3,22,4],[4,3,5,3],[6,3,10,3],[16,2,16,3],[4,0,10,2]]}
[null,null,false,null,null,null,null,"RESUMEN DE BENEFICIOS",null,null,null,null,null,null,null,null,null,null,null,null,null,null,"RESUMEN DE BENEFICIOS",null,null,null,null,null,null,null,null,null,null,null,null,null,null,"RESUMEN DE BENEFICIOS"]
[]
[null,null,null,null,null,null,null,null,null,null," "," "," ",null,null,null,null,null,null,null,null,null,null,null,null," "," "," ",null,null,null,null,null,null,null,null,null,null,null,null," "," "," "]
[]
["Cotización de Seguro Médico Internacional\nGlobal Ultimate\nHealth Plan\nTarifas en US$ | Validas: 1 de enero de 2025",null,null,"REGIÓN"]
[]
[null,null,null,{"$f":"'INGRESO DE DATOS'!W20","v":"Guayas/Santa Elena"},null,null,null,null,null,null," "," "," ",null,null,null,null,null,null,null,null,null,null,null,null," "," "," ",null,null,null,null,null,null,null,null,null,null,null,null," "," "," "]
[]
[]
[]
[]
[]
["Nombre del Asegurado Titular",{"$f":"+'INGRESO DE DATOS'!$C$37","v":"John Doe"}]
[]
["Número de adultos en la póliza",{"$f":"+'INGRESO DE DATOS'!$C$41","v":0}]
[]
["Número de Dependientes en la póliza",{"$f":"+'INGRESO DE DATOS'!$C$39","v":1},{"$f":"IF('INGRESO DE DATOS'!$P$2=TRUE, \"Cotización para dependiente de 24 años\",\"\")","v":""}]
[]
["Número de Dependientes menores de 16 años",{"$f":"+'INGRESO DE DATOS'!$E$42","v":1},null,null,null,null,null,null," "," ",null,null,null,null,null,null,null,null,null,null,null,null,null," "," ",null,null,null,null,null,null,null,null,null,null,null,null,null," "," "]
[]
["Edad del Asegurado Titular",{"$f":"+'INGRESO DE DATOS'!$C$43","v":37},"Edad del/la conyuge",{"$f":"+'INGRESO DE DATOS'!$C$45","v":32},null,null,null," ",false,null," ",null,null,null,null,null,null,null,null,null,null,null," ",null,null," ",null,null,null,null,null,null,null,null,null,null,null," ",null,null," "]
[]
["Fecha de la cotización",{"$f":"NOW()","v":"2025-02-12T15:27:50.450"}]
[]
[]
["DEDUCIBLES",null,"PLAN 1","PLAN 2","PLAN 3"]
["En el país de residencia",null,"$0",1000,2000]
["Fuera del país de residencia",null,"$0",1000,2000]
[]
["TARIFAS ANUALES"]
["Prima para Asegurado Titular",null,{"$f":"VLOOKUP($B$21,Tablas!$A$231:$G$297,3,TRUE)+75","v":41194},{"$f":"VLOOKUP($B$21,Tablas!$A$231:$G$297,4,TRUE)+75","v":29235},{"$f":"VLOOKUP($B$21,Tablas!$A$231:$G$297,3,TRUE)+75","v":41194}]
["Prima para conyuge",null,{"$f":"IF($B$17=1,0,(VLOOKUP($D$21,Tablas!$A$231:$G$297,3,TRUE)))","v":0},{"$f":"IF($B$17=1,0,(VLOOKUP($D$21,Tablas!$A$231:$G$297,4,TRUE)))","v":0},{"$f":"IF($B$17=1,0,(VLOOKUP($D$21,Tablas!$A$231:$G$297,5,TRUE)))","v":0}]
["Prima para hijo (s)",null,{"$f":"IF($B$17=1,\n(IF($B$15=0, 0,\n (IF($B$19>$B$15, (VLOOKUP($B$15,Tablas!$A$298:$G$300,3,TRUE)),\n(IF($B$15>4,(IF($B$19=0, (VLOOKUP(3,Tablas!$A$298:$G$300,3,TRUE)),\n(IF($B$19=1, (VLOOKUP(3,Tablas!$A$298:$G$300,3,TRUE)),\n(IF($B$19=2, (VLOOKUP(3,Tablas!$A$298:$G$300,3,TRUE)),\n(VLOOKUP(3,Tablas!$A$298:$G$300,3,TRUE)))))))),\n(IF($B$15=4,(IF(4-$B$19=0,(VLOOKUP(2,Tablas!$A$298:$G$300,3,TRUE)),\n(IF(4-$B$19=1,(VLOOKUP(2,Tablas!$A$298:$G$300,3,TRUE)),\n(IF(4-$B$19=2, (VLOOKUP(2,Tablas!$A$298:$G$300,3,TRUE)),\n(VLOOKUP(3,Tablas!$A$298:$G$300,3,TRUE)))))))),\n(IF($B$15=3,(IF(3-$B$19=0,(VLOOKUP(1,Tablas!$A$298:$G$300,3,TRUE)),\n(IF(3-$B$19=1,(VLOOKUP(1,Tablas!$A$298:$G$300,3,TRUE)),\n(IF(3-$B$19=2, (VLOOKUP(2,Tablas!$A$298:$G$300,3,TRUE)),\n(VLOOKUP(3,Tablas!$A$298:$G$300,3,TRUE)))))))),\n\n(IF($B$15=2,(IF(2-$B$19=0, 0,\n(IF(2-$B$19=1,(VLOOKUP(1,Tablas!$A$298:$G$300,3,TRUE)),\n(IF(2-$B$19=2, (VLOOKUP(2,Tablas!$A$298:$G$300,3,TRUE)),\n         0)))))),\n(IF($B$15=1,(IF(1-$B$19=0, 0,\n(IF(1-$B$19=1,(VLOOKUP(1,Tablas!$A$298:$G$300,3,TRUE)),0)))),0)))))))))))))),\n(IF($B$15=0, 0,\n (IF($B$19>$B$15, (VLOOKUP($B$15,Tablas!$A$298:$G$300,3,TRUE)),\n(IF($B$15=4,(IF(4-$B$19=0, 0,\n(IF(4-$B$19=1, (VLOOKUP(1,Tablas!$A$298:$G$300,3,TRUE)),\n(IF(4-$B$19=2, (VLOOKUP(2,Tablas!$A$298:$G$300,3,TRUE)),\n(IF(4-$B$19=3, (VLOOKUP(3,Tablas!$A$298:$G$300,3,TRUE)),\n(IF(4-$B$19=4, (VLOOKUP(3,Tablas!$A$298:$G$300,3,TRUE)),\n0)))))))))),\n(IF($B$15=5,(IF(5-$B$19=0, (VLOOKUP(1,Tablas!$A$298:$G$300,3,TRUE)),\n(IF(5-$B$19=1, (VLOOKUP(1,Tablas!$A$298:$G$300,3,TRUE)),\n(IF(5-$B$19=2, (VLOOKUP(2,Tablas!$A$298:$G$300,3,TRUE)),\n(IF(5-$B$19=3, (VLOOKUP(3,Tablas!$A$298:$G$300,3,TRUE)),\n(IF(5-$B$19=4, (VLOOKUP(3,Tablas!$A$298:$G$300,3,TRUE)),\n(VLOOKUP(3,Tablas!$A$298:$G$300,3,TRUE)))))))))))),\n(IF($B$15=6,(IF(6-$B$19=0, (VLOOKUP(2,Tablas!$A$298:$G$300,3,TRUE)),\n(IF(6-$B$19=1, (VLOOKUP(2,Tablas!$A$298:$G$300,3,TRUE)),\n(IF(6-$B$19=2, (VLOOKUP(2,Tablas!$A$298:$G$300,3,TRUE)),\n(IF(6-$B$19=3, (VLOOKUP(3,Tablas!$A$298:$G$300,3,TRUE)),\n(IF(6-$B$19=4, (VLOOKUP(3,Tablas!$A$298:$G$300,3,TRUE)),\n(VLOOKUP(3,Tablas!$A$298:$G$300,3,TRUE)))))))))))),\n(IF($B$15>6,(IF(7-$B$19=0, (VLOOKUP(3,Tablas!$A$298:$G$300,3,TRUE)),\n(IF(7-$B$19=1, (VLOOKUP(3,Tablas!$A$298:$G$300,3,TRUE)),\n(IF(7-$B$19=2, (VLOOKUP(3,Tablas!$A$298:$G$300,3,TRUE)),\n(IF(7-$B$19=3, (VLOOKUP(3,Tablas!$A$298:$G$300,3,TRUE)),\n(IF(7-$B$19=4, (VLOOKUP(3,Tablas!$A$298:$G$300,3,TRUE)),\n(VLOOKUP(3,Tablas!$A$298:$G$300,3,TRUE)))))))))))),\n\n(IF($B$15=3,(IF(3-$B$19=0,0,\n(IF(3-$B$19=1,(VLOOKUP(1,Tablas!$A$298:$G$300,3,TRUE)),\n(IF(3-$B$19=2, (VLOOKUP(2,Tablas!$A$298:$G$300,3,TRUE)),\n(VLOOKUP(3,Tablas!$A$298:$G$300,3,TRUE)))))))),\n\n(IF($B$15=2,(IF(2-$B$19=0, 0,\n(IF(2-$B$19=1,(VLOOKUP(1,Tablas!$A$298:$G$300,3,TRUE)),\n(IF(2-$B$19=2, (VLOOKUP(2,Tablas!$A$298:$G$300,3,TRUE)),\n         0)))))),\n(IF($B$15=1,(IF(1-$B$19=0, 0,\n(IF(1-$B$19=1,(VLOOKUP(1,Tablas!$A$298:$G$300,3,TRUE)),0)))),0)))))))))))))))))))","v":0},{"$f":"IF($B$17=1,\n(IF($B$15=0, 0,\n (IF($B$19>$B$15, (VLOOKUP($B$15,Tablas!$A$298:$G$300,4,TRUE)),\n(IF($B$15>4,(IF($B$19=0, (VLOOKUP(3,Tablas!$A$298:$G$300,4,TRUE)),\n(IF($B$19=1, (VLOOKUP(3,Tablas!$A$298:$G$300,4,TRUE)),\n(IF($B$19=2, (VLOOKUP(3,Tablas!$A$298:$G$300,4,TRUE)),\n(VLOOKUP(3,Tablas!$A$298:$G$300,4,TRUE)))))))),\n(IF($B$15=4,(IF(4-$B$19=0,(VLOOKUP(2,Tablas!$A$298:$G$300,4,TRUE)),\n(IF(4-$B$19=1,(VLOOKUP(2,Tablas!$A$298:$G$300,4,TRUE)),\n(IF(4-$B$19=2, (VLOOKUP(2,Tablas!$A$298:$G$300,4,TRUE)),\n(VLOOKUP(3,Tablas!$A$298:$G$300,4,TRUE)))))))),\n(IF($B$15=3,(IF(3-$B$19=0,(VLOOKUP(1,Tablas!$A$298:$G$300,4,TRUE)),\n(IF(3-$B$19=1,(VLOOKUP(1,Tablas!$A$298:$G$300,4,TRUE)),\n(IF(3-$B$19=2, (VLOOKUP(2,Tablas!$A$298:$G$300,4,TRUE)),\n(VLOOKUP(3,Tablas!$A$298:$G$300,4,TRUE)))))))),\n\n(IF($B$15=2,(IF(2-$B$19=0, 0,\n(IF(2-$B$19=1,(VLOOKUP(1,Tablas!$A$298:$G$300,4,TRUE)),\n(IF(2-$B$19=2, (VLOOKUP(2,Tablas!$A$298:$G$300,4,TRUE)),\n         0)))))),\n(IF($B$15=1,(IF(1-$B$19=0, 0,\n(IF(1-$B$19=1,(VLOOKUP(1,Tablas!$A$298:$G$300,4,TRUE)),0)))),0)))))))))))))),\n(IF($B$15=0, 0,\n (IF($B$19>$B$15, (VLOOKUP($B$15,Tablas!$A$298:$G$300,4,TRUE)),\n(IF($B$15=4,(IF(4-$B$19=0, 0,\n(IF(4-$B$19=1, (VLOOKUP(1,Tablas!$A$298:$G$300,4,TRUE)),\n(IF(4-$B$19=2, (VLOOKUP(2,Tablas!$A$298:$G$300,4,TRUE)),\n(IF(4-$B$19=3, (VLOOKUP(3,Tablas!$A$298:$G$300,4,TRUE)),\n(IF(4-$B$19=4, (VLOOKUP(3,Tablas!$A$298:$G$300,4,TRUE)),\n0)))))))))),\n(IF($B$15=5,(IF(5-$B$19=0, (VLOOKUP(1,Tablas!$A$298:$G$300,4,TRUE)),\n(IF(5-$B$19=1, (VLOOKUP(1,Tablas!$A$298:$G$300,4,TRUE)),\n(IF(5-$B$19=2, (VLOOKUP(2,Tablas!$A$298:$G$300,4,TRUE)),\n(IF(5-$B$19=3, (VLOOKUP(3,Tablas!$A$298:$G$300,4,TRUE)),\n(IF(5-$B$19=4, (VLOOKUP(3,Tablas!$A$298:$G$300,4,TRUE)),\n(VLOOKUP(3,Tablas!$A$298:$G$300,4,TRUE)))))))))))),\n(IF($B$15=6,(IF(6-$B$19=0, (VLOOKUP(2,Tablas!$A$298:$G$300,4,TRUE)),\n(IF(6-$B$19=1, (VLOOKUP(2,Tablas!$A$298:$G$300,4,TRUE)),\n(IF(6-$B$19=2, (VLOOKUP(2,Tablas!$A$298:$G$300,4,TRUE)),\n(IF(6-$B$19=3, (VLOOKUP(3,Tablas!$A$298:$G$300,4,TRUE)),\n(IF(6-$B$19=4, (VLOOKUP(3,Tablas!$A$298:$G$300,4,TRUE)),\n(VLOOKUP(3,Tablas!$A$298:$G$300,4,TRUE)))))))))))),\n(IF($B$15>6,(IF(7-$B$19=0, (VLOOKUP(3,Tablas!$A$298:$G$300,4,TRUE)),\n(IF(7-$B$19=1, (VLOOKUP(3,Tablas!$A$298:$G$300,4,TRUE)),\n(IF(7-$B$19=2, (VLOOKUP(3,Tablas!$A$298:$G$300,4,TRUE)),\n(IF(7-$B$19=3, (VLOOKUP(3,Tablas!$A$298:$G$300,4,TRUE)),\n(IF(7-$B$19=4, (VLOOKUP(3,Tablas!$A$298:$G$300,4,TRUE)),\n(VLOOKUP(3,Tablas!$A$298:$G$300,4,TRUE)))))))))))),\n\n(IF($B$15=3,(IF(3-$B$19=0,0,\n(IF(3-$B$19=1,(VLOOKUP(1,Tablas!$A$298:$G$300,4,TRUE)),\n(IF(3-$B$19=2, (VLOOKUP(2,Tablas!$A$298:$G$300,4,TRUE)),\n(VLOOKUP(3,Tablas!$A$298:$G$300,4,TRUE)))))))),\n\n(IF($B$15=2,(IF(2-$B$19=0, 0,\n(IF(2-$B$19=1,(VLOOKUP(1,Tablas!$A$298:$G$300,4,TRUE)),\n(IF(2-$B$19=2, (VLOOKUP(2,Tablas!$A$298:$G$300,4,TRUE)),\n         0)))))),\n(IF($B$15=1,(IF(1-$B$19=0, 0,\n(IF(1-$B$19=1,(VLOOKUP(1,Tablas!$A$298:$G$300,4,TRUE)),0)))),0)))))))))))))))))))","v":0},{"$f":"IF($B$17=1,\n(IF($B$15=0, 0,\n (IF($B$19>$B$15, (VLOOKUP($B$15,Tablas!$A$298:$G$300,5,TRUE)),\n(IF($B$15>4,(IF($B$19=0, (VLOOKUP(3,Tablas!$A$298:$G$300,5,TRUE)),\n(IF($B$19=1, (VLOOKUP(3,Tablas!$A$298:$G$300,5,TRUE)),\n(IF($B$19=2, (VLOOKUP(3,Tablas!$A$298:$G$300,5,TRUE)),\n(VLOOKUP(3,Tablas!$A$298:$G$300,5,TRUE)))))))),\n(IF($B$15=4,(IF(4-$B$19=0,(VLOOKUP(2,Tablas!$A$298:$G$300,5,TRUE)),\n(IF(4-$B$19=1,(VLOOKUP(2,Tablas!$A$298:$G$300,5,TRUE)),\n(IF(4-$B$19=2, (VLOOKUP(2,Tablas!$A$298:$G$300,5,TRUE)),\n(VLOOKUP(3,Tablas!$A$298:$G$300,5,TRUE)))))))),\n(IF($B$15=3,(IF(3-$B$19=0,(VLOOKUP(1,Tablas!$A$298:$G$300,5,TRUE)),\n(IF(3-$B$19=1,(VLOOKUP(1,Tablas!$A$298:$G$300,5,TRUE)),\n(IF(3-$B$19=2, (VLOOKUP(2,Tablas!$A$298:$G$300,5,TRUE)),\n(VLOOKUP(3,Tablas!$A$298:$G$300,5,TRUE)))))))),\n(IF($B$15=2,(IF(2-$B$19=0, 0,\n(IF(2-$B$19=1,(VLOOKUP(1,Tablas!$A$298:$G$300,5,TRUE)),\n(IF(2-$B$19=2, (VLOOKUP(2,Tablas!$A$298:$G$300,5,TRUE)),\n         0)))))),\n(IF($B$15=1,(IF(1-$B$19=0, 0,\n(IF(1-$B$19=1,(VLOOKUP(1,Tablas!$A$298:$G$300,5,TRUE)),0)))),0)))))))))))))),\n(IF($B$15=0, 0,\n (IF($B$19>$B$15, (VLOOKUP($B$15,Tablas!$A$298:$G$300,5,TRUE)),\n(IF($B$15=4,(IF(4-$B$19=0, 0,\n(IF(4-$B$19=1, (VLOOKUP(1,Tablas!$A$298:$G$300,5,TRUE)),\n(IF(4-$B$19=2, (VLOOKUP(2,Tablas!$A$298:$G$300,5,TRUE)),\n(IF(4-$B$19=3, (VLOOKUP(3,Tablas!$A$298:$G$300,5,TRUE)),\n(IF(4-$B$19=4, (VLOOKUP(3,Tablas!$A$298:$G$300,5,TRUE)),\n0)))))))))),\n(IF($B$15=5,(IF(5-$B$19=0, (VLOOKUP(1,Tablas!$A$298:$G$300,5,TRUE)),\n(IF(5-$B$19=1, (VLOOKUP(1,Tablas!$A$298:$G$300,5,TRUE)),\n(IF(5-$B$19=2, (VLOOKUP(2,Tablas!$A$298:$G$300,5,TRUE)),\n(IF(5-$B$19=3, (VLOOKUP(3,Tablas!$A$298:$G$300,5,TRUE)),\n(IF(5-$B$19=4, (VLOOKUP(3,Tablas!$A$298:$G$300,5,TRUE)),\n(VLOOKUP(3,Tablas!$A$298:$G$300,5,TRUE)))))))))))),\n(IF($B$15=6,(IF(6-$B$19=0, (VLOOKUP(2,Tablas!$A$298:$G$300,5,TRUE)),\n(IF(6-$B$19=1, (VLOOKUP(2,Tablas!$A$298:$G$300,5,TRUE)),\n(IF(6-$B$19=2, (VLOOKUP(2,Tablas!$A$298:$G$300,5,TRUE)),\n(IF(6-$B$19=3, (VLOOKUP(3,Tablas!$A$298:$G$300,5,TRUE)),\n(IF(6-$B$19=4, (VLOOKUP(3,Tablas!$A$298:$G$300,5,TRUE)),\n(VLOOKUP(3,Tablas!$A$298:$G$300,5,TRUE)))))))))))),\n(IF($B$15>6,(IF(7-$B$19=0, (VLOOKUP(3,Tablas!$A$298:$G$300,5,TRUE)),\n(IF(7-$B$19=1, (VLOOKUP(3,Tablas!$A$298:$G$300,5,TRUE)),\n(IF(7-$B$19=2, (VLOOKUP(3,Tablas!$A$298:$G$300,5,TRUE)),\n(IF(7-$B$19=3, (VLOOKUP(3,Tablas!$A$298:$G$300,5,TRUE)),\n(IF(7-$B$19=4, (VLOOKUP(3,Tablas!$A$298:$G$300,5,TRUE)),\n(VLOOKUP(3,Tablas!$A$298:$G$300,5,TRUE)))))))))))),\n\n(IF($B$15=3,(IF(3-$B$19=0,0,\n(IF(3-$B$19=1,(VLOOKUP(1,Tablas!$A$298:$G$300,5,TRUE)),\n(IF(3-$B$19=2, (VLOOKUP(2,Tablas!$A$298:$G$300,5,TRUE)),\n(VLOOKUP(3,Tablas!$A$298:$G$300,5,TRUE)))))))),\n\n(IF($B$15=2,(IF(2-$B$19=0, 0,\n(IF(2-$B$19=1,(VLOOKUP(1,Tablas!$A$298:$G$300,5,TRUE)),\n(IF(2-$B$19=2, (VLOOKUP(2,Tablas!$A$298:$G$300,5,TRUE)),\n         0)))))),\n(IF($B$15=1,(IF(1-$B$19=0, 0,\n(IF(1-$B$19=1,(VLOOKUP(1,Tablas!$A$298:$G$300,5,TRUE)),0)))),0)))))))))))))))))))","v":0}]
["Total de Prima neta",null,{"$f":"SUM(C31:C33)","v":41194},{"$f":"SUM(D31:D33)","v":29235},{"$f":"SUM(E31:E33)","v":41194}]
["Contribución 3.5% Superintendencia de Bancos\n Contribución 0.5% Seguro Social Campesino",null,{"$f":"C34*Tablas!$X$3","v":1647.76},{"$f":"D34*Tablas!$X$3","v":1169.4000000000001},{"$f":"75*Tablas!$X$2","v":75}]
["VAT (5%)"]
["ITBMS (7%)"]
["TOTAL ANUAL",null,{"$f":"C34+C35","v":42841.760000000002},{"$f":"D34+D35","v":30404.400000000001},{"$f":"SUM(E34:E37)","v":41269}]
["Ahorros en tarifas de prima para Dependientes",null,{"$f":"IF($B$17=1,IF($B$15=0,0,IF($B$19=0,0,IF($B$19=1,(VLOOKUP(1,Tablas!$A$298:$G$300,3,TRUE)),(VLOOKUP(2,Tablas!$A$298:$G$300,3,TRUE))))),\nIF($B$15=0,0,IF($B$19=0,0,IF($B$19=1,(VLOOKUP(1,Tablas!$A$298:$G$300,3,TRUE)),IF($B$19=2,(VLOOKUP(2,Tablas!$A$298:$G$300,3,TRUE)), (VLOOKUP(3,Tablas!$A$298:$G$300,3,TRUE)))))))","v":0},{"$f":"IF($B$17=1,IF($B$15=0,0,IF($B$19=0,0,IF($B$19=1,(VLOOKUP(1,Tablas!$A$298:$G$300,4,TRUE)),(VLOOKUP(2,Tablas!$A$298:$G$300,4,TRUE))))),\nIF($B$15=0,0,IF($B$19=0,0,IF($B$19=1,(VLOOKUP(1,Tablas!$A$298:$G$300,4,TRUE)),IF($B$19=2,(VLOOKUP(2,Tablas!$A$298:$G$300,4,TRUE)), (VLOOKUP(3,Tablas!$A$298:$G$300,4,TRUE)))))))","v":0},{"$f":"IF($B$17=1,IF($B$15=0,0,IF($B$19=0,0,IF($B$19=1,(VLOOKUP(1,Tablas!$A$298:$G$300,5,TRUE)),(VLOOKUP(2,Tablas!$A$298:$G$300,5,TRUE))))),\nIF($B$15=0,0,IF($B$19=0,0,IF($B$19=1,(VLOOKUP(1,Tablas!$A$298:$G$300,5,TRUE)),IF($B$19=2,(VLOOKUP(2,Tablas!$A$298:$G$300,5,TRUE)), (VLOOKUP(3,Tablas!$A$298:$G$300,5,TRUE)))))))","v":0}]
[]
["TARIFAS SEMIANUALES"]
["Prima para Asegurado Titular",null,{"$f":"(C31-75)*Tablas!$K$4+75","v":21868.07},{"$f":"(D31-75)*Tablas!$K$4+75","v":15529.800000000001},{"$f":"VLOOKUP($B$21,Tablas!#REF!,5,TRUE)","v":{"$error":"#REF!"}}]
["Prima para conyuge",null,{"$f":"C32*Tablas!$K$4","v":0},{"$f":"D32*Tablas!$K$4","v":0},{"$f":"IF($B$17=1,0,(VLOOKUP($D$21,Tablas!#REF!,5,TRUE)))","v":0}]
["Prima para hijo (s)",null,{"$f":"C33*Tablas!$K$4","v":0},{"$f":"D33*Tablas!$K$4","v":0},{"$f":"IF($B$17=1,\n(IF($B$15=0, 0,\n (IF($B$19>$B$15, (VLOOKUP($B$15,Tablas!#REF!,5,TRUE)),\n(IF($B$15>4,(IF($B$19=0, (VLOOKUP(3,Tablas!#REF!,5,TRUE)),\n(IF($B$19=1, (VLOOKUP(3,Tablas!#REF!,5,TRUE)),\n(IF($B$19=2, (VLOOKUP(3,Tablas!#REF!,5,TRUE)),\n(VLOOKUP(3,Tablas!#REF!,5,TRUE)))))))),\n(IF($B$15=4,(IF(4-$B$19=0,(VLOOKUP(2,Tablas!#REF!,5,TRUE)),\n(IF(4-$B$19=1,(VLOOKUP(2,Tablas!#REF!,5,TRUE)),\n(IF(4-$B$19=2, (VLOOKUP(2,Tablas!#REF!,5,TRUE)),\n(VLOOKUP(3,Tablas!#REF!,5,TRUE)))))))),\n(IF($B$15=3,(IF(3-$B$19=0,(VLOOKUP(1,Tablas!#REF!,5,TRUE)),\n(IF(3-$B$19=1,(VLOOKUP(1,Tablas!#REF!,5,TRUE)),\n(IF(3-$B$19=2, (VLOOKUP(2,Tablas!#REF!,5,TRUE)),\n(VLOOKUP(3,Tablas!#REF!,5,TRUE)))))))),\n\n(IF($B$15=2,(IF(2-$B$19=0, 0,\n(IF(2-$B$19=1,(VLOOKUP(1,Tablas!#REF!,5,TRUE)),\n(IF(2-$B$19=2, (VLOOKUP(2,Tablas!#REF!,5,TRUE)),\n         0)))))),\n(IF($B$15=1,(IF(1-$B$19=0, 0,\n(IF(1-$B$19=1,(VLOOKUP(1,Tablas!#REF!,5,TRUE)),0)))),0)))))))))))))),\n(IF($B$15=0, 0,\n (IF($B$19>$B$15, (VLOOKUP($B$15,Tablas!#REF!,5,TRUE)),\n(IF($B$15=4,(IF(4-$B$19=0, 0,\n(IF(4-$B$19=1, (VLOOKUP(1,Tablas!#REF!,5,TRUE)),\n(IF(4-$B$19=2, (VLOOKUP(2,Tablas!#REF!,5,TRUE)),\n(IF(4-$B$19=3, (VLOOKUP(3,Tablas!#REF!,5,TRUE)),\n(IF(4-$B$19=4, (VLOOKUP(3,Tablas!#REF!,5,TRUE)),\n0)))))))))),\n(IF($B$15=5,(IF(5-$B$19=0, (VLOOKUP(1,Tablas!#REF!,5,TRUE)),\n(IF(5-$B$19=1, (VLOOKUP(1,Tablas!#REF!,5,TRUE)),\n(IF(5-$B$19=2, (VLOOKUP(2,Tablas!#REF!,5,TRUE)),\n(IF(5-$B$19=3, (VLOOKUP(3,Tablas!#REF!,5,TRUE)),\n(IF(5-$B$19=4, (VLOOKUP(3,Tablas!#REF!,5,TRUE)),\n(VLOOKUP(3,Tablas!#REF!,5,TRUE)))))))))))),\n(IF($B$15=6,(IF(6-$B$19=0, (VLOOKUP(2,Tablas!#REF!,5,TRUE)),\n(IF(6-$B$19=1, (VLOOKUP(2,Tablas!#REF!,5,TRUE)),\n(IF(6-$B$19=2, (VLOOKUP(2,Tablas!#REF!,5,TRUE)),\n(IF(6-$B$19=3, (VLOOKUP(3,Tablas!#REF!,5,TRUE)),\n(IF(6-$B$19=4, (VLOOKUP(3,Tablas!#REF!,5,TRUE)),\n(VLOOKUP(3,Tablas!#REF!,5,TRUE)))))))))))),\n(IF($B$15>6,(IF(7-$B$19=0, (VLOOKUP(3,Tablas!#REF!,5,TRUE)),\n(IF(7-$B$19=1, (VLOOKUP(3,Tablas!#REF!,5,TRUE)),\n(IF(7-$B$19=2, (VLOOKUP(3,Tablas!#REF!,5,TRUE)),\n(IF(7-$B$19=3, (VLOOKUP(3,Tablas!#REF!,5,TRUE)),\n(IF(7-$B$19=4, (VLOOKUP(3,Tablas!#REF!,5,TRUE)),\n(VLOOKUP(3,Tablas!#REF!,5,TRUE)))))))))))),\n\n(IF($B$15=3,(IF(3-$B$19=0,0,\n(IF(3-$B$19=1,(VLOOKUP(1,Tablas!#REF!,5,TRUE)),\n(IF(3-$B$19=2, (VLOOKUP(2,Tablas!#REF!,5,TRUE)),\n(VLOOKUP(3,Tablas!#REF!,5,TRUE)))))))),\n\n(IF($B$15=2,(IF(2-$B$19=0, 0,\n(IF(2-$B$19=1,(VLOOKUP(1,Tablas!#REF!,5,TRUE)),\n(IF(2-$B$19=2, (VLOOKUP(2,Tablas!#REF!,5,TRUE)),\n         0)))))),\n(IF($B$15=1,(IF(1-$B$19=0, 0,\n(IF(1-$B$19=1,(VLOOKUP(1,Tablas!#REF!,5,TRUE)),0)))),0)))))))))))))))))))","v":0}]
["Total de Prima neta",null,{"$f":"SUM(C42:C44)","v":21868.07},{"$f":"SUM(D42:D44)","v":15529.800000000001},{"$f":"SUM(E42:E44)","v":{"$error":"#REF!"}}]
[{"$f":"A35","v":"Contribución 3.5% Superintendencia de Bancos\n Contribución 0.5% Seguro Social Campesino"},null,{"$f":"C45*Tablas!$X$3","v":874.72280000000001},{"$f":"D45*Tablas!$X$3","v":621.19200000000001},{"$f":"75*Tablas!$X$2","v":75}]
["VAT (5%)"]
["ITBMS (7%)"]
["TOTAL de primera cuota",null,{"$f":"SUM(C45:C48)","v":22742.792799999999},{"$f":"SUM(D45:D48)","v":16150.992000000002},{"$f":"SUM(E45:E48)","v":{"$error":"#REF!"}}]
["Costo de segunda cuota",null,{"$f":"C45+C46-78","v":22664.792799999999},{"$f":"D45+D46-78","v":16072.992000000002},{"$f":"(E45 + E47)+((E31+E32+E33)*0.06*0.07)/2","v":{"$error":"#REF!"}}]
["TOTAL ANUAL",null,{"$f":"C49+C50","v":45407.585599999999},{"$f":"D49+D50","v":32223.984000000004},{"$f":"E49+E50","v":{"$error":"#REF!"}}]
["Ahorros en tarifas de prima para Dependientes",null,{"$f":"C39*Tablas!$K$4","v":0},{"$f":"D39*Tablas!$K$4","v":0},{"$f":"IF($B$17=1,IF($B$15=0,0,IF($B$19=0,0,IF($B$19=1,(VLOOKUP(1,Tablas!#REF!,5,TRUE)),(VLOOKUP(2,Tablas!#REF!,5,TRUE))))),\nIF($B$15=0,0,IF($B$19=0,0,IF($B$19=1,(VLOOKUP(1,Tablas!#REF!,5,TRUE)),IF($B$19=2,(VLOOKUP(2,Tablas!#REF!,5,TRUE)), (VLOOKUP(3,Tablas!#REF!,5,TRUE)))))))","v":0}]
[]
["TARIFAS TRIMESTRALES"]
["Prima para Asegurado Titular",null,{"$f":"(C31-75)*Tablas!K3+75","v":11382.725},{"$f":"(D31-75)*Tablas!K3+75","v":8094.0000000000009},{"$f":"VLOOKUP($B$21,Tablas!#REF!,5,TRUE)","v":{"$error":"#REF!"}}]
["Prima para conyuge",null,{"$f":"C32*Tablas!K3","v":0},{"$f":"D32*Tablas!K3","v":0},{"$f":"IF($B$17=1,0,(VLOOKUP($D$21,Tablas!#REF!,5,TRUE)))","v":0}]
["Prima para hijo (s)",null,{"$f":"C33*Tablas!K3","v":0},{"$f":"D33*Tablas!K3","v":0},{"$f":"IF($B$17=1,\n(IF($B$15=0, 0,\n (IF($B$19>$B$15, (VLOOKUP($B$15,Tablas!#REF!,5,TRUE)),\n(IF($B$15>4,(IF($B$19=0, (VLOOKUP(3,Tablas!#REF!,5,TRUE)),\n(IF($B$19=1, (VLOOKUP(3,Tablas!#REF!,5,TRUE)),\n(IF($B$19=2, (VLOOKUP(3,Tablas!#REF!,5,TRUE)),\n(VLOOKUP(3,Tablas!#REF!,5,TRUE)))))))),\n(IF($B$15=4,(IF(4-$B$19=0,(VLOOKUP(2,Tablas!#REF!,5,TRUE)),\n(IF(4-$B$19=1,(VLOOKUP(2,Tablas!#REF!,5,TRUE)),\n(IF(4-$B$19=2, (VLOOKUP(2,Tablas!#REF!,5,TRUE)),\n(VLOOKUP(3,Tablas!#REF!,5,TRUE)))))))),\n(IF($B$15=3,(IF(3-$B$19=0,(VLOOKUP(1,Tablas!#REF!,5,TRUE)),\n(IF(3-$B$19=1,(VLOOKUP(1,Tablas!#REF!,5,TRUE)),\n(IF(3-$B$19=2, (VLOOKUP(2,Tablas!#REF!,5,TRUE)),\n(VLOOKUP(3,Tablas!#REF!,5,TRUE)))))))),\n\n(IF($B$15=2,(IF(2-$B$19=0, 0,\n(IF(2-$B$19=1,(VLOOKUP(1,Tablas!#REF!,5,TRUE)),\n(IF(2-$B$19=2, (VLOOKUP(2,Tablas!#REF!,5,TRUE)),\n         0)))))),\n(IF($B$15=1,(IF(1-$B$19=0, 0,\n(IF(1-$B$19=1,(VLOOKUP(1,Tablas!#REF!,5,TRUE)),0)))),0)))))))))))))),\n(IF($B$15=0, 0,\n (IF($B$19>$B$15, (VLOOKUP($B$15,Tablas!#REF!,5,TRUE)),\n(IF($B$15=4,(IF(4-$B$19=0, 0,\n(IF(4-$B$19=1, (VLOOKUP(1,Tablas!#REF!,5,TRUE)),\n(IF(4-$B$19=2, (VLOOKUP(2,Tablas!#REF!,5,TRUE)),\n(IF(4-$B$19=3, (VLOOKUP(3,Tablas!#REF!,5,TRUE)),\n(IF(4-$B$19=4, (VLOOKUP(3,Tablas!#REF!,5,TRUE)),\n0)))))))))),\n(IF($B$15=5,(IF(5-$B$19=0, (VLOOKUP(1,Tablas!#REF!,5,TRUE)),\n(IF(5-$B$19=1, (VLOOKUP(1,Tablas!#REF!,5,TRUE)),\n(IF(5-$B$19=2, (VLOOKUP(2,Tablas!#REF!,5,TRUE)),\n(IF(5-$B$19=3, (VLOOKUP(3,Tablas!#REF!,5,TRUE)),\n(IF(5-$B$19=4, (VLOOKUP(3,Tablas!#REF!,5,TRUE)),\n(VLOOKUP(3,Tablas!#REF!,5,TRUE)))))))))))),\n(IF($B$15=6,(IF(6-$B$19=0, (VLOOKUP(2,Tablas!#REF!,5,TRUE)),\n(IF(6-$B$19=1, (VLOOKUP(2,Tablas!#REF!,5,TRUE)),\n(IF(6-$B$19=2, (VLOOKUP(2,Tablas!#REF!,5,TRUE)),\n(IF(6-$B$19=3, (VLOOKUP(3,Tablas!#REF!,5,TRUE)),\n(IF(6-$B$19=4, (VLOOKUP(3,Tablas!#REF!,5,TRUE)),\n(VLOOKUP(3,Tablas!#REF!,5,TRUE)))))))))))),\n(IF($B$15>6,(IF(7-$B$19=0, (VLOOKUP(3,Tablas!#REF!,5,TRUE)),\n(IF(7-$B$19=1, (VLOOKUP(3,Tablas!#REF!,5,TRUE)),\n(IF(7-$B$19=2, (VLOOKUP(3,Tablas!#REF!,5,TRUE)),\n(IF(7-$B$19=3, (VLOOKUP(3,Tablas!#REF!,5,TRUE)),\n(IF(7-$B$19=4, (VLOOKUP(3,Tablas!#REF!,5,TRUE)),\n(VLOOKUP(3,Tablas!#REF!,5,TRUE)))))))))))),\n\n(IF($B$15=3,(IF(3-$B$19=0,0,\n(IF(3-$B$19=1,(VLOOKUP(1,Tablas!#REF!,5,TRUE)),\n(IF(3-$B$19=2, (VLOOKUP(2,Tablas!#REF!,5,TRUE)),\n(VLOOKUP(3,Tablas!#REF!,5,TRUE)))))))),\n\n(IF($B$15=2,(IF(2-$B$19=0, 0,\n(IF(2-$B$19=1,(VLOOKUP(1,Tablas!#REF!,5,TRUE)),\n(IF(2-$B$19=2, (VLOOKUP(2,Tablas!#REF!,5,TRUE)),\n         0)))))),\n(IF($B$15=1,(IF(1-$B$19=0, 0,\n(IF(1-$B$19=1,(VLOOKUP(1,Tablas!#REF!,5,TRUE)),0)))),0)))))))))))))))))))","v":0}]
["Total de Prima neta",null,{"$f":"SUM(C55:C57)","v":11382.725},{"$f":"SUM(D55:D57)","v":8094.0000000000009},{"$f":"SUM(E55:E57)","v":{"$error":"#REF!"}}]
[{"$f":"A46","v":"Contribución 3.5% Superintendencia de Bancos\n Contribución 0.5% Seguro Social Campesino"},null,{"$f":"C58*Tablas!$X$3","v":455.30900000000003},{"$f":"D58*Tablas!$X$3","v":323.76000000000005},{"$f":"75*Tablas!$X$2","v":75}]
["VAT (5%)"]
["ITBMS (7%)"]
["TOTAL de primera cuota",null,{"$f":"SUM(C58:C61)","v":11838.034},{"$f":"SUM(D58:D61)","v":8417.76},{"$f":"SUM(E58:E61)","v":{"$error":"#REF!"}}]
["Costo de tarifa trimestral 2 a 4",null,{"$f":"C58+C59-78","v":11760.034},{"$f":"D58+D59-78","v":8339.76},{"$f":"(E58 + E60)+((E31+E32+E33)*0.1*0.07)/4","v":{"$error":"#REF!"}}]
["TOTAL ANUAL",null,{"$f":"C62+(C63*3)","v":47118.135999999999},{"$f":"D62+(D63*3)","v":33437.040000000001},{"$f":"E62+(E63*3)","v":{"$error":"#REF!"}}]
["Ahorros en tarifas de prima para Dependientes",null,{"$f":"C39*Tablas!K3","v":0},{"$f":"D39*Tablas!K3","v":0},{"$f":"IF($B$17=1,IF($B$15=0,0,IF($B$19=0,0,IF($B$19=1,(VLOOKUP(1,Tablas!#REF!,5,TRUE)),(VLOOKUP(2,Tablas!#REF!,5,TRUE))))),\nIF($B$15=0,0,IF($B$19=0,0,IF($B$19=1,(VLOOKUP(1,Tablas!#REF!,5,TRUE)),IF($B$19=2,(VLOOKUP(2,Tablas!#REF!,5,TRUE)), (VLOOKUP(3,Tablas!#REF!,5,TRUE)))))))","v":0}]
[]
["TARIFAS MENSUALES"]
["Prima para Asegurado Titular",null,{"$f":"(C31-75)*Tablas!$K$2+75","v":3912.7733333333317},{"$f":"(D31-75)*Tablas!$K$2+75","v":2796.599999999999},{"$f":"VLOOKUP($B$21,Tablas!#REF!,5,TRUE)","v":{"$error":"#REF!"}}]
["Prima para conyuge",null,{"$f":"C32*Tablas!$K$2","v":0},{"$f":"D32*Tablas!$K$2","v":0},{"$f":"IF($B$17=1,0,(VLOOKUP($D$21,Tablas!#REF!,5,TRUE)))","v":0}]
["Prima para hijo (s)",null,{"$f":"C33*Tablas!$K$2","v":0},{"$f":"D33*Tablas!$K$2","v":0},{"$f":"IF($B$17=1,\n(IF($B$15=0, 0,\n (IF($B$19>$B$15, (VLOOKUP($B$15,Tablas!#REF!,5,TRUE)),\n(IF($B$15>4,(IF($B$19=0, (VLOOKUP(3,Tablas!#REF!,5,TRUE)),\n(IF($B$19=1, (VLOOKUP(3,Tablas!#REF!,5,TRUE)),\n(IF($B$19=2, (VLOOKUP(3,Tablas!#REF!,5,TRUE)),\n(VLOOKUP(3,Tablas!#REF!,5,TRUE)))))))),\n(IF($B$15=4,(IF(4-$B$19=0,(VLOOKUP(2,Tablas!#REF!,5,TRUE)),\n(IF(4-$B$19=1,(VLOOKUP(2,Tablas!#REF!,5,TRUE)),\n(IF(4-$B$19=2, (VLOOKUP(2,Tablas!#REF!,5,TRUE)),\n(VLOOKUP(3,Tablas!#REF!,5,TRUE)))))))),\n(IF($B$15=3,(IF(3-$B$19=0,(VLOOKUP(1,Tablas!#REF!,5,TRUE)),\n(IF(3-$B$19=1,(VLOOKUP(1,Tablas!#REF!,5,TRUE)),\n(IF(3-$B$19=2, (VLOOKUP(2,Tablas!#REF!,5,TRUE)),\n(VLOOKUP(3,Tablas!#REF!,5,TRUE)))))))),\n\n(IF($B$15=2,(IF(2-$B$19=0, 0,\n(IF(2-$B$19=1,(VLOOKUP(1,Tablas!#REF!,5,TRUE)),\n(IF(2-$B$19=2, (VLOOKUP(2,Tablas!#REF!,5,TRUE)),\n         0)))))),\n(IF($B$15=1,(IF(1-$B$19=0, 0,\n(IF(1-$B$19=1,(VLOOKUP(1,Tablas!#REF!,5,TRUE)),0)))),0)))))))))))))),\n(IF($B$15=0, 0,\n (IF($B$19>$B$15, (VLOOKUP($B$15,Tablas!#REF!,5,TRUE)),\n(IF($B$15=4,(IF(4-$B$19=0, 0,\n(IF(4-$B$19=1, (VLOOKUP(1,Tablas!#REF!,5,TRUE)),\n(IF(4-$B$19=2, (VLOOKUP(2,Tablas!#REF!,5,TRUE)),\n(IF(4-$B$19=3, (VLOOKUP(3,Tablas!#REF!,5,TRUE)),\n(IF(4-$B$19=4, (VLOOKUP(3,Tablas!#REF!,5,TRUE)),\n0)))))))))),\n(IF($B$15=5,(IF(5-$B$19=0, (VLOOKUP(1,Tablas!#REF!,5,TRUE)),\n(IF(5-$B$19=1, (VLOOKUP(1,Tablas!#REF!,5,TRUE)),\n(IF(5-$B$19=2, (VLOOKUP(2,Tablas!#REF!,5,TRUE)),\n(IF(5-$B$19=3, (VLOOKUP(3,Tablas!#REF!,5,TRUE)),\n(IF(5-$B$19=4, (VLOOKUP(3,Tablas!#REF!,5,TRUE)),\n(VLOOKUP(3,Tablas!#REF!,5,TRUE)))))))))))),\n(IF($B$15=6,(IF(6-$B$19=0, (VLOOKUP(2,Tablas!#REF!,5,TRUE)),\n(IF(6-$B$19=1, (VLOOKUP(2,Tablas!#REF!,5,TRUE)),\n(IF(6-$B$19=2, (VLOOKUP(2,Tablas!#REF!,5,TRUE)),\n(IF(6-$B$19=3, (VLOOKUP(3,Tablas!#REF!,5,TRUE)),\n(IF(6-$B$19=4, (VLOOKUP(3,Tablas!#REF!,5,TRUE)),\n(VLOOKUP(3,Tablas!#REF!,5,TRUE)))))))))))),\n(IF($B$15>6,(IF(7-$B$19=0, (VLOOKUP(3,Tablas!#REF!,5,TRUE)),\n(IF(7-$B$19=1, (VLOOKUP(3,Tablas!#REF!,5,TRUE)),\n(IF(7-$B$19=2, (VLOOKUP(3,Tablas!#REF!,5,TRUE)),\n(IF(7-$B$19=3, (VLOOKUP(3,Tablas!#REF!,5,TRUE)),\n(IF(7-$B$19=4, (VLOOKUP(3,Tablas!#REF!,5,TRUE)),\n(VLOOKUP(3,Tablas!#REF!,5,TRUE)))))))))))),\n\n(IF($B$15=3,(IF(3-$B$19=0,0,\n(IF(3-$B$19=1,(VLOOKUP(1,Tablas!#REF!,5,TRUE)),\n(IF(3-$B$19=2, (VLOOKUP(2,Tablas!#REF!,5,TRUE)),\n(VLOOKUP(3,Tablas!#REF!,5,TRUE)))))))),\n\n(IF($B$15=2,(IF(2-$B$19=0, 0,\n(IF(2-$B$19=1,(VLOOKUP(1,Tablas!#REF!,5,TRUE)),\n(IF(2-$B$19=2, (VLOOKUP(2,Tablas!#REF!,5,TRUE)),\n         0)))))),\n(IF($B$15=1,(IF(1-$B$19=0, 0,\n(IF(1-$B$19=1,(VLOOKUP(1,Tablas!#REF!,5,TRUE)),0)))),0)))))))))))))))))))","v":0}]
["Total de Prima neta",null,{"$f":"SUM(C68:C70)","v":3912.7733333333317},{"$f":"SUM(D68:D70)","v":2796.599999999999},{"$f":"SUM(E68:E70)","v":{"$error":"#REF!"}}]
[{"$f":"A59","v":"Contribución 3.5% Superintendencia de Bancos\n Contribución 0.5% Seguro Social Campesino"},null,{"$f":"C71*Tablas!$X$3","v":156.51093333333327},{"$f":"D71*Tablas!$X$3","v":111.86399999999996},{"$f":"75*Tablas!$X$2","v":75}]
["VAT (5%)"]
["ITBMS (7%)"]
["TOTAL de primera cuota",null,{"$f":"SUM(C71:C74)","v":4069.2842666666652},{"$f":"SUM(D71:D74)","v":2908.463999999999},{"$f":"SUM(E71:E74)","v":{"$error":"#REF!"}}]
["Costo de Tarifa mensual de 2 a 12",null,{"$f":"C71+C72-78","v":3991.2842666666652},{"$f":"D71+D72-78","v":2830.463999999999},{"$f":"(E71 + E73)+((E31+E32+E33)*0.12*0.07)/12","v":{"$error":"#REF!"}}]
["TOTAL ANUAL",null,{"$f":"C75+(C76*11)","v":47973.41119999998},{"$f":"D75+(D76*11)","v":34043.567999999985},{"$f":"E75+(E76*11)","v":{"$error":"#REF!"}}]
["Ahorros en tarifas de prima para Dependientes",null,{"$f":"C39*Tablas!K2","v":0},{"$f":"D39*Tablas!K2","v":0},{"$f":"IF($B$17=1,IF($B$15=0,0,IF($B$19=0,0,IF($B$19=1,(VLOOKUP(1,Tablas!#REF!,5,TRUE)),(VLOOKUP(2,Tablas!#REF!,5,TRUE))))),\nIF($B$15=0,0,IF($B$19=0,0,IF($B$19=1,(VLOOKUP(1,Tablas!#REF!,5,TRUE)),IF($B$19=2,(VLOOKUP(2,Tablas!#REF!,5,TRUE)), (VLOOKUP(3,Tablas!#REF!,5,TRUE)))))))","v":0}]
[]
["Este presupuesto solamente tiene carácter informativo y en ningún momento expresa compromiso legal para suministrarle cobertura de seguro. La emisión de una póliza de seguro Bupa está sujeta a todas las evaluaciones de riesgo por parte de Bupa y a la recepción de todos los pagos de prima requeridos."]

{"sheet":"Global Elite","index":2,"n_rows":85,"n_cols":46,"rows_kept":85,"cut":false,"hidden":false,"merged":[[4,6,5,6],[6,6,10,6],[4,0,10,5],[34,0,34,1],[12,1,12,6],[20,4,20,5],[22,1,22,3],[27,0,27,1],[28,0,28,1],[30,0,30,6],[31,0,31,1],[32,0,32,1],[33,0,33,1],[16,2,16,3],[39,0,39,1],[45,0,45,1],[57,0,57,1],[35,0,35,1],[36,0,36,1],[42,0,42,6],[43,0,43,1],[44,0,44,1],[37,0,37,1],[38,0,38,1],[58,0,58,1],[50,0,50,1],[40,0,40,1],[54,0,54,1],[53,0,53,1],[52,0,52,1],[51,0,51,1],[46,0,46,1],[47,0,47,1],[48,0,48,1],[49,0,49,1],[66,0,66,1],[65,0,65,1],[70,0,70,6],[62,0,62,1],[61,0,61,1],[80,0,80,1],[81,0,81,1],[82,0,82,1],[84,0,88,6],[74,0,74,1],[75,0,75,1],[76,0,76,1],[77,0,77,1],[0,10,0,23],[0,40,0,53],[0,25,0,38],[78,0,78,1],[79,0,79,1],[60,0,60,1],[24,0,24,1],[59,0,59,1],[63,0,63,1],[64,0,64,1],[71,0,71,1],[72,0,72,1],[73,0,73,1],[56,0,56,6],[68,0,68,1],[67,0,67,1]]}
[null,null,null,null,null,null,null,null,null,null,"RESUMEN DE BENEFICIOS",null,null,null,null,null,null,null,null,null,null,null,null,null,null,"RESUMEN DE BENEFICIOS",null,null,null,null,null,null,null,null,null,null,null,null,null,null,"RESUMEN DE BENEFICIOS"]
[]
[null,null,null,null,null,null,null,null,null,null,null,null,null," "," "," ",null,null,null,null,null,null,null,null,null,null,null,null," "," "," ",null,null,null,null,null,null,null,null,null,null,null,null," "," "," "]
[]
["Cotización de Seguro Médico Internacional\nGlobal Elite Health Plan\nTarifas en US$ | Validas: 1 de enero de 2025",null,null,null,null,null,"REGIÓN"]
[]
[null,null,null,null,null,null,{"$f":"'INGRESO DE DATOS'!W20","v":"Guayas/Santa Elena"},null,null,null,null,null,null," "," "," ",null,null,null,null,null,null,null,null,null,null,null,null," "," "," ",null,null,null,null,null,null,null,null,null,null,null,null," "," "," "]
[]
[]
[]
[]
[]
["Nombre del Asegurado Titular",{"$f":"+'INGRESO DE DATOS'!$C$37","v":"John Doe"}]
[]
["Número de adultos en la póliza",{"$f":"+'INGRESO DE DATOS'!$C$39","v":1}]
[]
["Número de Dependientes en la póliza",{"$f":"+'INGRESO DE DATOS'!$C$41","v":0},{"$f":"IF('INGRESO DE DATOS'!$P$2=TRUE, \"Cotización para dependiente de 24 años\",\"\")","v":""}]
[]
["Número de Dependientes menores de 10 años",{"$f":"+'INGRESO DE DATOS'!$H$42","v":0},null,null,null,null,null,null,null,null,null," "," ",null,null,null,null,null,null,null,null,null,null,null,null,null," "," ",null,null,null,null,null,null,null,null,null,null,null,null,null," "," "]
[]
["Edad del Asegurado Titular",{"$f":"+'INGRESO DE DATOS'!$C$43","v":37},null,null,"Edad del/la conyuge",null,{"$f":"+'INGRESO DE DATOS'!$C$45","v":32},null,null,null," ",false,null," ",null,null,null,null,null,null,null,null,null,null,null," ",false,null," ",null,null,null,null,null,null,null,null,null,null,null," ",false,null," "]
[]
["Fecha de la cotización",{"$f":"NOW()","v":"2025-02-12T15:27:50.450"}]
[]
[{"$f":"IF('INGRESO DE DATOS'!P3=TRUE,\"Variante con coaseguro fuera del país de residencia: SI\",\"Variante con coaseguro fuera del país de residencia: NO\")","v":"Variante con coaseguro fuera del país de residencia: NO"}]
[]
["DEDUCIBlES",null,"PLAN 1","PLAN 2","PLAN 3","PLAN 4","PLAN 5"]
["En el país de residencia",null,250,2000,3500,5000,10000]
["Fuera del país de residencia",null,5000,2000,3500,5000,10000]
[]
["TARIFAS ANUALES"]
["Prima para Asegurado Titular",null,{"$f":"VLOOKUP($B$21,Tablas!$A$6:$G$72,3,TRUE)+75","v":16096.65},{"$f":"VLOOKUP($B$21,Tablas!$A$6:$G$72,4,TRUE)+75","v":13502.449999999999},{"$f":"VLOOKUP($B$21,Tablas!$A$6:$G$72,5,TRUE)+75","v":11223.6},{"$f":"VLOOKUP($B$21,Tablas!$A$6:$G$72,6,TRUE)+75","v":9742.0499999999993},{"$f":"VLOOKUP($B$21,Tablas!$A$6:$G$72,7,TRUE)+75","v":7096.8499999999995}]
["Prima para conyuge",null,{"$f":"IF($B$15=1,0,(VLOOKUP($G$21,Tablas!$A$6:$G$72,3,TRUE)))","v":0},{"$f":"IF($B$15=1,0,(VLOOKUP($G$21,Tablas!$A$6:$G$72,4,TRUE)))","v":0},{"$f":"IF($B$15=1,0,(VLOOKUP($G$21,Tablas!$A$6:$G$72,5,TRUE)))","v":0},{"$f":"IF($B$15=1,0,(VLOOKUP($G$21,Tablas!$A$6:$G$72,6,TRUE)))","v":0},{"$f":"IF($B$15=1,0,(VLOOKUP($G$21,Tablas!$A$6:$G$72,7,TRUE)))","v":0}]
["Prima para hijo (s)",null,{"$f":"IF($B$15=1,\n(IF($B$17=0, 0,\n (IF($B$19>$B$17, (VLOOKUP($B$17,Tablas!$A$73:$G$75,3,TRUE)),\n(IF($B$17>4,(IF($B$19=0, (VLOOKUP(3,Tablas!$A$73:$G$75,3,TRUE)),\n(IF($B$19=1, (VLOOKUP(3,Tablas!$A$73:$G$75,3,TRUE)),\n(IF($B$19=2, (VLOOKUP(3,Tablas!$A$73:$G$75,3,TRUE)),\n(VLOOKUP(3,Tablas!$A$73:$G$75,3,TRUE)))))))),\n(IF($B$17=4,(IF(4-$B$19=0,(VLOOKUP(2,Tablas!$A$73:$G$75,3,TRUE)),\n(IF(4-$B$19=1,(VLOOKUP(2,Tablas!$A$73:$G$75,3,TRUE)),\n(IF(4-$B$19=2, (VLOOKUP(2,Tablas!$A$73:$G$75,3,TRUE)),\n(VLOOKUP(3,Tablas!$A$73:$G$75,3,TRUE)))))))),\n(IF($B$17=3,(IF(3-$B$19=0,(VLOOKUP(1,Tablas!$A$73:$G$75,3,TRUE)),\n(IF(3-$B$19=1,(VLOOKUP(1,Tablas!$A$73:$G$75,3,TRUE)),\n(IF(3-$B$19=2, (VLOOKUP(2,Tablas!$A$73:$G$75,3,TRUE)),\n(VLOOKUP(3,Tablas!$A$73:$G$75,3,TRUE)))))))),\n\n(IF($B$17=2,(IF(2-$B$19=0, 0,\n(IF(2-$B$19=1,(VLOOKUP(1,Tablas!$A$73:$G$75,3,TRUE)),\n(IF(2-$B$19=2, (VLOOKUP(2,Tablas!$A$73:$G$75,3,TRUE)),\n         0)))))),\n(IF($B$17=1,(IF(1-$B$19=0, 0,\n(IF(1-$B$19=1,(VLOOKUP(1,Tablas!$A$73:$G$75,3,TRUE)),0)))),0)))))))))))))),\n(IF($B$17=0, 0,\n (IF($B$19>$B$17, (VLOOKUP($B$17,Tablas!$A$73:$G$75,3,TRUE)),\n(IF($B$17=4,(IF(4-$B$19=0, 0,\n(IF(4-$B$19=1, (VLOOKUP(1,Tablas!$A$73:$G$75,3,TRUE)),\n(IF(4-$B$19=2, (VLOOKUP(2,Tablas!$A$73:$G$75,3,TRUE)),\n(IF(4-$B$19=3, (VLOOKUP(3,Tablas!$A$73:$G$75,3,TRUE)),\n(IF(4-$B$19=4, (VLOOKUP(3,Tablas!$A$73:$G$75,3,TRUE)),\n0)))))))))),\n(IF($B$17=5,(IF(5-$B$19=0, (VLOOKUP(1,Tablas!$A$73:$G$75,3,TRUE)),\n(IF(5-$B$19=1, (VLOOKUP(1,Tablas!$A$73:$G$75,3,TRUE)),\n(IF(5-$B$19=2, (VLOOKUP(2,Tablas!$A$73:$G$75,3,TRUE)),\n(IF(5-$B$19=3, (VLOOKUP(3,Tablas!$A$73:$G$75,3,TRUE)),\n(IF(5-$B$19=4, (VLOOKUP(3,Tablas!$A$73:$G$75,3,TRUE)),\n(VLOOKUP(3,Tablas!$A$73:$G$75,3,TRUE)))))))))))),\n(IF($B$17=6,(IF(6-$B$19=0, (VLOOKUP(2,Tablas!$A$73:$G$75,3,TRUE)),\n(IF(6-$B$19=1, (VLOOKUP(2,Tablas!$A$73:$G$75,3,TRUE)),\n(IF(6-$B$19=2, (VLOOKUP(2,Tablas!$A$73:$G$75,3,TRUE)),\n(IF(6-$B$19=3, (VLOOKUP(3,Tablas!$A$73:$G$75,3,TRUE)),\n(IF(6-$B$19=4, (VLOOKUP(3,Tablas!$A$73:$G$75,3,TRUE)),\n(VLOOKUP(3,Tablas!$A$73:$G$75,3,TRUE)))))))))))),\n(IF($B$17>6,(IF(7-$B$19=0, (VLOOKUP(3,Tablas!$A$73:$G$75,3,TRUE)),\n(IF(7-$B$19=1, (VLOOKUP(3,Tablas!$A$73:$G$75,3,TRUE)),\n(IF(7-$B$19=2, (VLOOKUP(3,Tablas!$A$73:$G$75,3,TRUE)),\n(IF(7-$B$19=3, (VLOOKUP(3,Tablas!$A$73:$G$75,3,TRUE)),\n(IF(7-$B$19=4, (VLOOKUP(3,Tablas!$A$73:$G$75,3,TRUE)),\n(VLOOKUP(3,Tablas!$A$73:$G$75,3,TRUE)))))))))))),\n\n(IF($B$17=3,(IF(3-$B$19=0,0,\n(IF(3-$B$19=1,(VLOOKUP(1,Tablas!$A$73:$G$75,3,TRUE)),\n(IF(3-$B$19=2, (VLOOKUP(2,Tablas!$A$73:$G$75,3,TRUE)),\n(VLOOKUP(3,Tablas!$A$73:$G$75,3,TRUE)))))))),\n\n(IF($B$17=2,(IF(2-$B$19=0, 0,\n(IF(2-$B$19=1,(VLOOKUP(1,Tablas!$A$73:$G$75,3,TRUE)),\n(IF(2-$B$19=2, (VLOOKUP(2,Tablas!$A$73:$G$75,3,TRUE)),\n         0)))))),\n(IF($B$17=1,(IF(1-$B$19=0, 0,\n(IF(1-$B$19=1,(VLOOKUP(1,Tablas!$A$73:$G$75,3,TRUE)),0)))),0)))))))))))))))))))","v":0},{"$f":"IF($B$15=1,\n(IF($B$17=0, 0,\n (IF($B$19>$B$17, (VLOOKUP($B$17,Tablas!$A$73:$G$75,4,TRUE)),\n(IF($B$17>4,(IF($B$19=0, (VLOOKUP(3,Tablas!$A$73:$G$75,4,TRUE)),\n(IF($B$19=1, (VLOOKUP(3,Tablas!$A$73:$G$75,4,TRUE)),\n(IF($B$19=2, (VLOOKUP(3,Tablas!$A$73:$G$75,4,TRUE)),\n(VLOOKUP(3,Tablas!$A$73:$G$75,4,TRUE)))))))),\n(IF($B$17=4,(IF(4-$B$19=0,(VLOOKUP(2,Tablas!$A$73:$G$75,4,TRUE)),\n(IF(4-$B$19=1,(VLOOKUP(2,Tablas!$A$73:$G$75,4,TRUE)),\n(IF(4-$B$19=2, (VLOOKUP(2,Tablas!$A$73:$G$75,4,TRUE)),\n(VLOOKUP(3,Tablas!$A$73:$G$75,4,TRUE)))))))),\n(IF($B$17=3,(IF(3-$B$19=0,(VLOOKUP(1,Tablas!$A$73:$G$75,4,TRUE)),\n(IF(3-$B$19=1,(VLOOKUP(1,Tablas!$A$73:$G$75,4,TRUE)),\n(IF(3-$B$19=2, (VLOOKUP(2,Tablas!$A$73:$G$75,4,TRUE)),\n(VLOOKUP(3,Tablas!$A$73:$G$75,4,TRUE)))))))),\n\n(IF($B$17=2,(IF(2-$B$19=0, 0,\n(IF(2-$B$19=1,(VLOOKUP(1,Tablas!$A$73:$G$75,4,TRUE)),\n(IF(2-$B$19=2, (VLOOKUP(2,Tablas!$A$73:$G$75,4,TRUE)),\n         0)))))),\n(IF($B$17=1,(IF(1-$B$19=0, 0,\n(IF(1-$B$19=1,(VLOOKUP(1,Tablas!$A$73:$G$75,4,TRUE)),0)))),0)))))))))))))),\n(IF($B$17=0, 0,\n (IF($B$19>$B$17, (VLOOKUP($B$17,Tablas!$A$73:$G$75,4,TRUE)),\n(IF($B$17=4,(IF(4-$B$19=0, 0,\n(IF(4-$B$19=1, (VLOOKUP(1,Tablas!$A$73:$G$75,4,TRUE)),\n(IF(4-$B$19=2, (VLOOKUP(2,Tablas!$A$73:$G$75,4,TRUE)),\n(IF(4-$B$19=3, (VLOOKUP(3,Tablas!$A$73:$G$75,4,TRUE)),\n(IF(4-$B$19=4, (VLOOKUP(3,Tablas!$A$73:$G$75,4,TRUE)),\n0)))))))))),\n(IF($B$17=5,(IF(5-$B$19=0, (VLOOKUP(1,Tablas!$A$73:$G$75,4,TRUE)),\n(IF(5-$B$19=1, (VLOOKUP(1,Tablas!$A$73:$G$75,4,TRUE)),\n(IF(5-$B$19=2, (VLOOKUP(2,Tablas!$A$73:$G$75,4,TRUE)),\n(IF(5-$B$19=3, (VLOOKUP(3,Tablas!$A$73:$G$75,4,TRUE)),\n(IF(5-$B$19=4, (VLOOKUP(3,Tablas!$A$73:$G$75,4,TRUE)),\n(VLOOKUP(3,Tablas!$A$73:$G$75,4,TRUE)))))))))))),\n(IF($B$17=6,(IF(6-$B$19=0, (VLOOKUP(2,Tablas!$A$73:$G$75,4,TRUE)),\n(IF(6-$B$19=1, (VLOOKUP(2,Tablas!$A$73:$G$75,4,TRUE)),\n(IF(6-$B$19=2, (VLOOKUP(2,Tablas!$A$73:$G$75,4,TRUE)),\n(IF(6-$B$19=3, (VLOOKUP(3,Tablas!$A$73:$G$75,4,TRUE)),\n(IF(6-$B$19=4, (VLOOKUP(3,Tablas!$A$73:$G$75,4,TRUE)),\n(VLOOKUP(3,Tablas!$A$73:$G$75,4,TRUE)))))))))))),\n(IF($B$17>6,(IF(7-$B$19=0, (VLOOKUP(3,Tablas!$A$73:$G$75,4,TRUE)),\n(IF(7-$B$19=1, (VLOOKUP(3,Tablas!$A$73:$G$75,4,TRUE)),\n(IF(7-$B$19=2, (VLOOKUP(3,Tablas!$A$73:$G$75,4,TRUE)),\n(IF(7-$B$19=3, (VLOOKUP(3,Tablas!$A$73:$G$75,4,TRUE)),\n(IF(7-$B$19=4, (VLOOKUP(3,Tablas!$A$73:$G$75,4,TRUE)),\n(VLOOKUP(3,Tablas!$A$73:$G$75,4,TRUE)))))))))))),\n\n(IF($B$17=3,(IF(3-$B$19=0,0,\n(IF(3-$B$19=1,(VLOOKUP(1,Tablas!$A$73:$G$75,4,TRUE)),\n(IF(3-$B$19=2, (VLOOKUP(2,Tablas!$A$73:$G$75,4,TRUE)),\n(VLOOKUP(3,Tablas!$A$73:$G$75,4,TRUE)))))))),\n\n(IF($B$17=2,(IF(2-$B$19=0, 0,\n(IF(2-$B$19=1,(VLOOKUP(1,Tablas!$A$73:$G$75,4,TRUE)),\n(IF(2-$B$19=2, (VLOOKUP(2,Tablas!$A$73:$G$75,4,TRUE)),\n         0)))))),\n(IF($B$17=1,(IF(1-$B$19=0, 0,\n(IF(1-$B$19=1,(VLOOKUP(1,Tablas!$A$73:$G$75,4,TRUE)),0)))),0)))))))))))))))))))","v":0},{"$f":"IF($B$15=1,\n(IF($B$17=0, 0,\n (IF($B$19>$B$17, (VLOOKUP($B$17,Tablas!$A$73:$G$75,5,TRUE)),\n(IF($B$17>4,(IF($B$19=0, (VLOOKUP(3,Tablas!$A$73:$G$75,5,TRUE)),\n(IF($B$19=1, (VLOOKUP(3,Tablas!$A$73:$G$75,5,TRUE)),\n(IF($B$19=2, (VLOOKUP(3,Tablas!$A$73:$G$75,5,TRUE)),\n(VLOOKUP(3,Tablas!$A$73:$G$75,5,TRUE)))))))),\n(IF($B$17=4,(IF(4-$B$19=0,(VLOOKUP(2,Tablas!$A$73:$G$75,5,TRUE)),\n(IF(4-$B$19=1,(VLOOKUP(2,Tablas!$A$73:$G$75,5,TRUE)),\n(IF(4-$B$19=2, (VLOOKUP(2,Tablas!$A$73:$G$75,5,TRUE)),\n(VLOOKUP(3,Tablas!$A$73:$G$75,5,TRUE)))))))),\n(IF($B$17=3,(IF(3-$B$19=0,(VLOOKUP(1,Tablas!$A$73:$G$75,5,TRUE)),\n(IF(3-$B$19=1,(VLOOKUP(1,Tablas!$A$73:$G$75,5,TRUE)),\n(IF(3-$B$19=2, (VLOOKUP(2,Tablas!$A$73:$G$75,5,TRUE)),\n(VLOOKUP(3,Tablas!$A$73:$G$75,5,TRUE)))))))),\n(IF($B$17=2,(IF(2-$B$19=0, 0,\n(IF(2-$B$19=1,(VLOOKUP(1,Tablas!$A$73:$G$75,5,TRUE)),\n(IF(2-$B$19=2, (VLOOKUP(2,Tablas!$A$73:$G$75,5,TRUE)),\n         0)))))),\n(IF($B$17=1,(IF(1-$B$19=0, 0,\n(IF(1-$B$19=1,(VLOOKUP(1,Tablas!$A$73:$G$75,5,TRUE)),0)))),0)))))))))))))),\n(IF($B$17=0, 0,\n (IF($B$19>$B$17, (VLOOKUP($B$17,Tablas!$A$73:$G$75,5,TRUE)),\n(IF($B$17=4,(IF(4-$B$19=0, 0,\n(IF(4-$B$19=1, (VLOOKUP(1,Tablas!$A$73:$G$75,5,TRUE)),\n(IF(4-$B$19=2, (VLOOKUP(2,Tablas!$A$73:$G$75,5,TRUE)),\n(IF(4-$B$19=3, (VLOOKUP(3,Tablas!$A$73:$G$75,5,TRUE)),\n(IF(4-$B$19=4, (VLOOKUP(3,Tablas!$A$73:$G$75,5,TRUE)),\n0)))))))))),\n(IF($B$17=5,(IF(5-$B$19=0, (VLOOKUP(1,Tablas!$A$73:$G$75,5,TRUE)),\n(IF(5-$B$19=1, (VLOOKUP(1,Tablas!$A$73:$G$75,5,TRUE)),\n(IF(5-$B$19=2, (VLOOKUP(2,Tablas!$A$73:$G$75,5,TRUE)),\n(IF(5-$B$19=3, (VLOOKUP(3,Tablas!$A$73:$G$75,5,TRUE)),\n(IF(5-$B$19=4, (VLOOKUP(3,Tablas!$A$73:$G$75,5,TRUE)),\n(VLOOKUP(3,Tablas!$A$73:$G$75,5,TRUE)))))))))))),\n(IF($B$17=6,(IF(6-$B$19=0, (VLOOKUP(2,Tablas!$A$73:$G$75,5,TRUE)),\n(IF(6-$B$19=1, (VLOOKUP(2,Tablas!$A$73:$G$75,5,TRUE)),\n(IF(6-$B$19=2, (VLOOKUP(2,Tablas!$A$73:$G$75,5,TRUE)),\n(IF(6-$B$19=3, (VLOOKUP(3,Tablas!$A$73:$G$75,5,TRUE)),\n(IF(6-$B$19=4, (VLOOKUP(3,Tablas!$A$73:$G$75,5,TRUE)),\n(VLOOKUP(3,Tablas!$A$73:$G$75,5,TRUE)))))))))))),\n(IF($B$17>6,(IF(7-$B$19=0, (VLOOKUP(3,Tablas!$A$73:$G$75,5,TRUE)),\n(IF(7-$B$19=1, (VLOOKUP(3,Tablas!$A$73:$G$75,5,TRUE)),\n(IF(7-$B$19=2, (VLOOKUP(3,Tablas!$A$73:$G$75,5,TRUE)),\n(IF(7-$B$19=3, (VLOOKUP(3,Tablas!$A$73:$G$75,5,TRUE)),\n(IF(7-$B$19=4, (VLOOKUP(3,Tablas!$A$73:$G$75,5,TRUE)),\n(VLOOKUP(3,Tablas!$A$73:$G$75,5,TRUE)))))))))))),\n\n(IF($B$17=3,(IF(3-$B$19=0,0,\n(IF(3-$B$19=1,(VLOOKUP(1,Tablas!$A$73:$G$75,5,TRUE)),\n(IF(3-$B$19=2, (VLOOKUP(2,Tablas!$A$73:$G$75,5,TRUE)),\n(VLOOKUP(3,Tablas!$A$73:$G$75,5,TRUE)))))))),\n\n(IF($B$17=2,(IF(2-$B$19=0, 0,\n(IF(2-$B$19=1,(VLOOKUP(1,Tablas!$A$73:$G$75,5,TRUE)),\n(IF(2-$B$19=2, (VLOOKUP(2,Tablas!$A$73:$G$75,5,TRUE)),\n         0)))))),\n(IF($B$17=1,(IF(1-$B$19=0, 0,\n(IF(1-$B$19=1,(VLOOKUP(1,Tablas!$A$73:$G$75,5,TRUE)),0)))),0)))))))))))))))))))","v":0},{"$f":"IF($B$15=1,\n(IF($B$17=0, 0,\n (IF($B$19>$B$17, (VLOOKUP($B$17,Tablas!$A$73:$G$75,6,TRUE)),\n(IF($B$17>4,(IF($B$19=0, (VLOOKUP(3,Tablas!$A$73:$G$75,6,TRUE)),\n(IF($B$19=1, (VLOOKUP(3,Tablas!$A$73:$G$75,6,TRUE)),\n(IF($B$19=2, (VLOOKUP(3,Tablas!$A$73:$G$75,6,TRUE)),\n(VLOOKUP(3,Tablas!$A$73:$G$75,6,TRUE)))))))),\n(IF($B$17=4,(IF(4-$B$19=0,(VLOOKUP(2,Tablas!$A$73:$G$75,6,TRUE)),\n(IF(4-$B$19=1,(VLOOKUP(2,Tablas!$A$73:$G$75,6,TRUE)),\n(IF(4-$B$19=2, (VLOOKUP(2,Tablas!$A$73:$G$75,6,TRUE)),\n(VLOOKUP(3,Tablas!$A$73:$G$75,6,TRUE)))))))),\n(IF($B$17=3,(IF(3-$B$19=0,(VLOOKUP(1,Tablas!$A$73:$G$75,6,TRUE)),\n(IF(3-$B$19=1,(VLOOKUP(1,Tablas!$A$73:$G$75,6,TRUE)),\n(IF(3-$B$19=2, (VLOOKUP(2,Tablas!$A$73:$G$75,6,TRUE)),\n(VLOOKUP(3,Tablas!$A$73:$G$75,6,TRUE)))))))),\n(IF($B$17=2,(IF(2-$B$19=0, 0,\n(IF(2-$B$19=1,(VLOOKUP(1,Tablas!$A$73:$G$75,6,TRUE)),\n(IF(2-$B$19=2, (VLOOKUP(2,Tablas!$A$73:$G$75,6,TRUE)),\n         0)))))),\n(IF($B$17=1,(IF(1-$B$19=0, 0,\n(IF(1-$B$19=1,(VLOOKUP(1,Tablas!$A$73:$G$75,6,TRUE)),0)))),0)))))))))))))),\n(IF($B$17=0, 0,\n (IF($B$19>$B$17, (VLOOKUP($B$17,Tablas!$A$73:$G$75,6,TRUE)),\n(IF($B$17=4,(IF(4-$B$19=0, 0,\n(IF(4-$B$19=1, (VLOOKUP(1,Tablas!$A$73:$G$75,6,TRUE)),\n(IF(4-$B$19=2, (VLOOKUP(2,Tablas!$A$73:$G$75,6,TRUE)),\n(IF(4-$B$19=3, (VLOOKUP(3,Tablas!$A$73:$G$75,6,TRUE)),\n(IF(4-$B$19=4, (VLOOKUP(3,Tablas!$A$73:$G$75,6,TRUE)),\n0)))))))))),\n(IF($B$17=5,(IF(5-$B$19=0, (VLOOKUP(1,Tablas!$A$73:$G$75,6,TRUE)),\n(IF(5-$B$19=1, (VLOOKUP(1,Tablas!$A$73:$G$75,6,TRUE)),\n(IF(5-$B$19=2, (VLOOKUP(2,Tablas!$A$73:$G$75,6,TRUE)),\n(IF(5-$B$19=3, (VLOOKUP(3,Tablas!$A$73:$G$75,6,TRUE)),\n(IF(5-$B$19=4, (VLOOKUP(3,Tablas!$A$73:$G$75,6,TRUE)),\n(VLOOKUP(3,Tablas!$A$73:$G$75,6,TRUE)))))))))))),\n(IF($B$17=6,(IF(6-$B$19=0, (VLOOKUP(2,Tablas!$A$73:$G$75,6,TRUE)),\n(IF(6-$B$19=1, (VLOOKUP(2,Tablas!$A$73:$G$75,6,TRUE)),\n(IF(6-$B$19=2, (VLOOKUP(2,Tablas!$A$73:$G$75,6,TRUE)),\n(IF(6-$B$19=3, (VLOOKUP(3,Tablas!$A$73:$G$75,6,TRUE)),\n(IF(6-$B$19=4, (VLOOKUP(3,Tablas!$A$73:$G$75,6,TRUE)),\n(VLOOKUP(3,Tablas!$A$73:$G$75,6,TRUE)))))))))))),\n(IF($B$17>6,(IF(7-$B$19=0, (VLOOKUP(3,Tablas!$A$73:$G$75,6,TRUE)),\n(IF(7-$B$19=1, (VLOOKUP(3,Tablas!$A$73:$G$75,6,TRUE)),\n(IF(7-$B$19=2, (VLOOKUP(3,Tablas!$A$73:$G$75,6,TRUE)),\n(IF(7-$B$19=3, (VLOOKUP(3,Tablas!$A$73:$G$75,6,TRUE)),\n(IF(7-$B$19=4, (VLOOKUP(3,Tablas!$A$73:$G$75,6,TRUE)),\n(VLOOKUP(3,Tablas!$A$73:$G$75,6,TRUE)))))))))))),\n\n(IF($B$17=3,(IF(3-$B$19=0,0,\n(IF(3-$B$19=1,(VLOOKUP(1,Tablas!$A$73:$G$75,6,TRUE)),\n(IF(3-$B$19=2, (VLOOKUP(2,Tablas!$A$73:$G$75,6,TRUE)),\n(VLOOKUP(3,Tablas!$A$73:$G$75,6,TRUE)))))))),\n\n(IF($B$17=2,(IF(2-$B$19=0, 0,\n(IF(2-$B$19=1,(VLOOKUP(1,Tablas!$A$73:$G$75,6,TRUE)),\n(IF(2-$B$19=2, (VLOOKUP(2,Tablas!$A$73:$G$75,6,TRUE)),\n         0)))))),\n(IF($B$17=1,(IF(1-$B$19=0, 0,\n(IF(1-$B$19=1,(VLOOKUP(1,Tablas!$A$73:$G$75,6,TRUE)),0)))),0)))))))))))))))))))","v":0},{"$f":"IF($B$15=1,\n(IF($B$17=0, 0,\n (IF($B$19>$B$17, (VLOOKUP($B$17,Tablas!$A$73:$G$75,7,TRUE)),\n(IF($B$17>4,(IF($B$19=0, (VLOOKUP(3,Tablas!$A$73:$G$75,7,TRUE)),\n(IF($B$19=1, (VLOOKUP(3,Tablas!$A$73:$G$75,7,TRUE)),\n(IF($B$19=2, (VLOOKUP(3,Tablas!$A$73:$G$75,7,TRUE)),\n(VLOOKUP(3,Tablas!$A$73:$G$75,7,TRUE)))))))),\n(IF($B$17=4,(IF(4-$B$19=0,(VLOOKUP(2,Tablas!$A$73:$G$75,7,TRUE)),\n(IF(4-$B$19=1,(VLOOKUP(2,Tablas!$A$73:$G$75,7,TRUE)),\n(IF(4-$B$19=2, (VLOOKUP(2,Tablas!$A$73:$G$75,7,TRUE)),\n(VLOOKUP(3,Tablas!$A$73:$G$75,7,TRUE)))))))),\n(IF($B$17=3,(IF(3-$B$19=0,(VLOOKUP(1,Tablas!$A$73:$G$75,7,TRUE)),\n(IF(3-$B$19=1,(VLOOKUP(1,Tablas!$A$73:$G$75,7,TRUE)),\n(IF(3-$B$19=2, (VLOOKUP(2,Tablas!$A$73:$G$75,7,TRUE)),\n(VLOOKUP(3,Tablas!$A$73:$G$75,7,TRUE)))))))),\n(IF($B$17=2,(IF(2-$B$19=0, 0,\n(IF(2-$B$19=1,(VLOOKUP(1,Tablas!$A$73:$G$75,7,TRUE)),\n(IF(2-$B$19=2, (VLOOKUP(2,Tablas!$A$73:$G$75,7,TRUE)),\n         0)))))),\n(IF($B$17=1,(IF(1-$B$19=0, 0,\n(IF(1-$B$19=1,(VLOOKUP(1,Tablas!$A$73:$G$75,7,TRUE)),0)))),0)))))))))))))),\n(IF($B$17=0, 0,\n (IF($B$19>$B$17, (VLOOKUP($B$17,Tablas!$A$73:$G$75,7,TRUE)),\n(IF($B$17=4,(IF(4-$B$19=0, 0,\n(IF(4-$B$19=1, (VLOOKUP(1,Tablas!$A$73:$G$75,7,TRUE)),\n(IF(4-$B$19=2, (VLOOKUP(2,Tablas!$A$73:$G$75,7,TRUE)),\n(IF(4-$B$19=3, (VLOOKUP(3,Tablas!$A$73:$G$75,7,TRUE)),\n(IF(4-$B$19=4, (VLOOKUP(3,Tablas!$A$73:$G$75,7,TRUE)),\n0)))))))))),\n(IF($B$17=5,(IF(5-$B$19=0, (VLOOKUP(1,Tablas!$A$73:$G$75,7,TRUE)),\n(IF(5-$B$19=1, (VLOOKUP(1,Tablas!$A$73:$G$75,7,TRUE)),\n(IF(5-$B$19=2, (VLOOKUP(2,Tablas!$A$73:$G$75,7,TRUE)),\n(IF(5-$B$19=3, (VLOOKUP(3,Tablas!$A$73:$G$75,7,TRUE)),\n(IF(5-$B$19=4, (VLOOKUP(3,Tablas!$A$73:$G$75,7,TRUE)),\n(VLOOKUP(3,Tablas!$A$73:$G$75,7,TRUE)))))))))))),\n(IF($B$17=6,(IF(6-$B$19=0, (VLOOKUP(2,Tablas!$A$73:$G$75,7,TRUE)),\n(IF(6-$B$19=1, (VLOOKUP(2,Tablas!$A$73:$G$75,7,TRUE)),\n(IF(6-$B$19=2, (VLOOKUP(2,Tablas!$A$73:$G$75,7,TRUE)),\n(IF(6-$B$19=3, (VLOOKUP(3,Tablas!$A$73:$G$75,7,TRUE)),\n(IF(6-$B$19=4, (VLOOKUP(3,Tablas!$A$73:$G$75,7,TRUE)),\n(VLOOKUP(3,Tablas!$A$73:$G$75,7,TRUE)))))))))))),\n(IF($B$17>6,(IF(7-$B$19=0, (VLOOKUP(3,Tablas!$A$73:$G$75,7,TRUE)),\n(IF(7-$B$19=1, (VLOOKUP(3,Tablas!$A$73:$G$75,7,TRUE)),\n(IF(7-$B$19=2, (VLOOKUP(3,Tablas!$A$73:$G$75,7,TRUE)),\n(IF(7-$B$19=3, (VLOOKUP(3,Tablas!$A$73:$G$75,7,TRUE)),\n(IF(7-$B$19=4, (VLOOKUP(3,Tablas!$A$73:$G$75,7,TRUE)),\n(VLOOKUP(3,Tablas!$A$73:$G$75,7,TRUE)))))))))))),\n\n(IF($B$17=3,(IF(3-$B$19=0,0,\n(IF(3-$B$19=1,(VLOOKUP(1,Tablas!$A$73:$G$75,7,TRUE)),\n(IF(3-$B$19=2, (VLOOKUP(2,Tablas!$A$73:$G$75,7,TRUE)),\n(VLOOKUP(3,Tablas!$A$73:$G$75,7,TRUE)))))))),\n\n(IF($B$17=2,(IF(2-$B$19=0, 0,\n(IF(2-$B$19=1,(VLOOKUP(1,Tablas!$A$73:$G$75,7,TRUE)),\n(IF(2-$B$19=2, (VLOOKUP(2,Tablas!$A$73:$G$75,7,TRUE)),\n         0)))))),\n(IF($B$17=1,(IF(1-$B$19=0, 0,\n(IF(1-$B$19=1,(VLOOKUP(1,Tablas!$A$73:$G$75,7,TRUE)),0)))),0)))))))))))))))))))","v":0}]
["Total de Prima neta",null,{"$f":"SUM(C32:C34)","v":16096.65},{"$f":"SUM(D32:D34)","v":13502.449999999999},{"$f":"SUM(E32:E34)","v":11223.6},{"$f":"SUM(F32:F34)","v":9742.0499999999993},{"$f":"SUM(G32:G34)","v":7096.8499999999995}]
["Ajuste por la variante con coaseguro fuera\n del país de residencia",null,{"$f":"IF('INGRESO DE DATOS'!$P$3,C35*-15%,0)","v":0},{"$f":"IF('INGRESO DE DATOS'!$P$3,D35*-15%,0)","v":0},{"$f":"IF('INGRESO DE DATOS'!$P$3,E35*-15%,0)","v":0},{"$f":"IF('INGRESO DE DATOS'!$P$3,F35*-15%,0)","v":0},{"$f":"IF('INGRESO DE DATOS'!$P$3,G35*-15%,0)","v":0}]
["Contribución 3.5% Superintendencia de Bancos\n Contribución 0.5% Seguro Social Campesino",null,{"$f":"C35*Tablas!$X$3","v":643.86599999999999},{"$f":"D35*Tablas!$X$3","v":540.09799999999996},{"$f":"E35*Tablas!$X$3","v":448.94400000000002},{"$f":"F35*Tablas!$X$3","v":389.68199999999996},{"$f":"G35*Tablas!$X$3","v":283.87399999999997}]
["VAT (5%) :"]
["ITBMS (7%)"]
["TOTAL ANUAL",null,{"$f":"SUM(C35:C39)","v":16740.516},{"$f":"SUM(D35:D39)","v":14042.547999999999},{"$f":"SUM(E35:E39)","v":11672.544},{"$f":"SUM(F35:F39)","v":10131.732},{"$f":"SUM(G35:G39)","v":7380.7239999999993}]
["Ahorros en tarifas de prima para Dependientes",null,{"$f":"IF($B$15=1,IF($B$17=0,0,IF($B$19=0,0,IF($B$19=1,(VLOOKUP(1,Tablas!$A$73:$G$75,3,TRUE)),(VLOOKUP(2,Tablas!$A$73:$G$75,3,TRUE))))),\nIF($B$17=0,0,IF($B$19=0,0,IF($B$19=1,(VLOOKUP(1,Tablas!$A$73:$G$75,3,TRUE)),IF($B$19=2,(VLOOKUP(2,Tablas!$A$73:$G$75,3,TRUE)), (VLOOKUP(3,Tablas!$A$73:$G$75,3,TRUE)))))))","v":0},{"$f":"IF($B$15=1,IF($B$17=0,0,IF($B$19=0,0,IF($B$19=1,(VLOOKUP(1,Tablas!$A$73:$G$75,4,TRUE)),(VLOOKUP(2,Tablas!$A$73:$G$75,4,TRUE))))),\nIF($B$17=0,0,IF($B$19=0,0,IF($B$19=1,(VLOOKUP(1,Tablas!$A$73:$G$75,4,TRUE)),IF($B$19=2,(VLOOKUP(2,Tablas!$A$73:$G$75,4,TRUE)), (VLOOKUP(3,Tablas!$A$73:$G$75,4,TRUE)))))))","v":0},{"$f":"IF($B$15=1,IF($B$17=0,0,IF($B$19=0,0,IF($B$19=1,(VLOOKUP(1,Tablas!$A$73:$G$75,5,TRUE)),(VLOOKUP(2,Tablas!$A$73:$G$75,5,TRUE))))),\nIF($B$17=0,0,IF($B$19=0,0,IF($B$19=1,(VLOOKUP(1,Tablas!$A$73:$G$75,5,TRUE)),IF($B$19=2,(VLOOKUP(2,Tablas!$A$73:$G$75,5,TRUE)), (VLOOKUP(3,Tablas!$A$73:$G$75,5,TRUE)))))))","v":0},{"$f":"IF($B$15=1,IF($B$17=0,0,IF($B$19=0,0,IF($B$19=1,(VLOOKUP(1,Tablas!$A$73:$G$75,6,TRUE)),(VLOOKUP(2,Tablas!$A$73:$G$75,6,TRUE))))),\nIF($B$17=0,0,IF($B$19=0,0,IF($B$19=1,(VLOOKUP(1,Tablas!$A$73:$G$75,6,TRUE)),IF($B$19=2,(VLOOKUP(2,Tablas!$A$73:$G$75,6,TRUE)), (VLOOKUP(3,Tablas!$A$73:$G$75,6,TRUE)))))))","v":0},{"$f":"IF($B$15=1,IF($B$17=0,0,IF($B$19=0,0,IF($B$19=1,(VLOOKUP(1,Tablas!$A$73:$G$75,7,TRUE)),(VLOOKUP(2,Tablas!$A$73:$G$75,7,TRUE))))),\nIF($B$17=0,0,IF($B$19=0,0,IF($B$19=1,(VLOOKUP(1,Tablas!$A$73:$G$75,7,TRUE)),IF($B$19=2,(VLOOKUP(2,Tablas!$A$73:$G$75,7,TRUE)), (VLOOKUP(3,Tablas!$A$73:$G$75,7,TRUE)))))))","v":0}]
[]
["TARIFAS SEMIANUALES"]
["Prima para Asegurado Titular",null,{"$f":"(C32-75)*Tablas!$K$4+75","v":8566.4745000000003},{"$f":"(D32-75)*Tablas!$K$4+75","v":7191.5484999999999},{"$f":"(E32-75)*Tablas!$K$4+75","v":5983.7580000000007},{"$f":"(F32-75)*Tablas!$K$4+75","v":5198.5365000000002},{"$f":"(G32-75)*Tablas!$K$4+75","v":3796.5805}]
["Prima para conyuge",null,{"$f":"C33*Tablas!$K$4","v":0},{"$f":"D33*Tablas!$K$4","v":0},{"$f":"E33*Tablas!$K$4","v":0},{"$f":"F33*Tablas!$K$4","v":0},{"$f":"G33*Tablas!$K$4","v":0}]
["Prima para hijo (s)",null,{"$f":"C34*Tablas!$K$4","v":0},{"$f":"D34*Tablas!$K$4","v":0},{"$f":"E34*Tablas!$K$4","v":0},{"$f":"F34*Tablas!$K$4","v":0},{"$f":"G34*Tablas!$K$4","v":0}]
["Total de Prima neta",null,{"$f":"SUM(C44:C46)","v":8566.4745000000003},{"$f":"SUM(D44:D46)","v":7191.5484999999999},{"$f":"SUM(E44:E46)","v":5983.7580000000007},{"$f":"SUM(F44:F46)","v":5198.5365000000002},{"$f":"SUM(G44:G46)","v":3796.5805}]
["Ajuste por la variante con coaseguro fuera\n del país de residencia",null,{"$f":"IF('INGRESO DE DATOS'!$P$3,C47*-15%,0)","v":0},{"$f":"IF('INGRESO DE DATOS'!$P$3,D47*-15%,0)","v":0},{"$f":"IF('INGRESO DE DATOS'!$P$3,E47*-15%,0)","v":0},{"$f":"IF('INGRESO DE DATOS'!$P$3,F47*-15%,0)","v":0},{"$f":"IF('INGRESO DE DATOS'!$P$3,G47*-15%,0)","v":0}]
[{"$f":"A37","v":"Contribución 3.5% Superintendencia de Bancos\n Contribución 0.5% Seguro Social Campesino"},null,{"$f":"C47*Tablas!$X$3","v":342.65898000000004},{"$f":"D47*Tablas!$X$3","v":287.66194000000002},{"$f":"E47*Tablas!$X$3","v":239.35032000000004},{"$f":"F47*Tablas!$X$3","v":207.94146000000001},{"$f":"G47*Tablas!$X$3","v":151.86322000000001}]
["VAT (5%) :"]
["ITBMS (7%)"]
["TOTAL de primera cuota",null,{"$f":"SUM(C47:C51)","v":8909.1334800000004},{"$f":"SUM(D47:D51)","v":7479.2104399999998},{"$f":"SUM(E47:E51)","v":6223.1083200000012},{"$f":"SUM(F47:F51)","v":5406.4779600000002},{"$f":"SUM(G47:G51)","v":3948.4437200000002}]
["Costo de segunda cuota",null,{"$f":"C47+C49-78","v":8831.1334800000004},{"$f":"D47+D49-78","v":7401.2104399999998},6145.1083200000012,5328.4779600000002,3870.4437200000002]
["TOTAL ANUAL",null,{"$f":"C52+C53","v":17740.266960000001},{"$f":"D52+D53","v":14880.42088},{"$f":"E52+E53","v":12368.216640000002},{"$f":"F52+F53","v":10734.95592},{"$f":"G52+G53","v":7818.8874400000004}]
["Ahorros en tarifas de prima para Dependientes",null,{"$f":"C41*Tablas!$K$4","v":0},{"$f":"D41*Tablas!$K$4","v":0},{"$f":"E41*Tablas!$K$4","v":0},{"$f":"F41*Tablas!$K$4","v":0},{"$f":"G41*Tablas!$K$4","v":0}]
[]
["TARIFAS TRIMESTRALES"]
["Prima para Asegurado Titular",null,{"$f":"(C32-75)*Tablas!$K$3+75","v":4480.9537500000006},{"$f":"(D32-75)*Tablas!$K$3+75","v":3767.5487499999999},{"$f":"(E32-75)*Tablas!$K$3+75","v":3140.8650000000002},{"$f":"(F32-75)*Tablas!$K$3+75","v":2733.4387499999998},{"$f":"(G32-75)*Tablas!$K$3+75","v":2006.00875}]
["Prima para conyuge",null,{"$f":"C33*Tablas!$K$3","v":0},{"$f":"D33*Tablas!$K$3","v":0},{"$f":"E33*Tablas!$K$3","v":0},{"$f":"F33*Tablas!$K$3","v":0},{"$f":"G33*Tablas!$K$3","v":0}]
["Prima para hijo (s)",null,{"$f":"C34*Tablas!$K$3","v":0},{"$f":"D34*Tablas!$K$3","v":0},{"$f":"E34*Tablas!$K$3","v":0},{"$f":"F34*Tablas!$K$3","v":0},{"$f":"G34*Tablas!$K$3","v":0}]
["Total de Prima neta",null,{"$f":"SUM(C58:C60)","v":4480.9537500000006},{"$f":"SUM(D58:D60)","v":3767.5487499999999},{"$f":"SUM(E58:E60)","v":3140.8650000000002},{"$f":"SUM(F58:F60)","v":2733.4387499999998},{"$f":"SUM(G58:G60)","v":2006.00875}]
["Ajuste por la variante con coaseguro\n fuera del país de residencia",null,{"$f":"IF('INGRESO DE DATOS'!$P$3,C61*-15%,0)","v":0},{"$f":"IF('INGRESO DE DATOS'!$P$3,D61*-15%,0)","v":0},{"$f":"IF('INGRESO DE DATOS'!$P$3,E61*-15%,0)","v":0},{"$f":"IF('INGRESO DE DATOS'!$P$3,F61*-15%,0)","v":0},{"$f":"IF('INGRESO DE DATOS'!$P$3,G61*-15%,0)","v":0}]
[{"$f":"A37","v":"Contribución 3.5% Superintendencia de Bancos\n Contribución 0.5% Seguro Social Campesino"},null,{"$f":"C61*Tablas!$X$3","v":179.23815000000002},{"$f":"D61*Tablas!$X$3","v":150.70195000000001},{"$f":"E61*Tablas!$X$3","v":125.63460000000001},{"$f":"F61*Tablas!$X$3","v":109.33754999999999},{"$f":"G61*Tablas!$X$3","v":80.240350000000007}]
["VAT (5%) :"]
["ITBMS (7%)"]
["TOTAL de primera cuota",null,{"$f":"SUM(C61:C65)","v":4660.1919000000007},{"$f":"SUM(D61:D65)","v":3918.2507000000001},{"$f":"SUM(E61:E65)","v":3266.4996000000001},{"$f":"SUM(F61:F65)","v":2842.7763},{"$f":"SUM(G61:G65)","v":2086.2491}]
["Costo de tarifa trimestral 2 a 4",null,{"$f":"C61+C63-78","v":4582.1919000000007},{"$f":"D61+D63-78","v":3840.2507000000001},3188.4996000000001,2764.7763,2008.2491]
["TOTAL ANUAL",null,{"$f":"C66+(C67*3)","v":18406.767600000003},{"$f":"D66+(D67*3)","v":15439.0028},{"$f":"E66+(E67*3)","v":12831.9984},{"$f":"F66+(F67*3)","v":11137.1052},{"$f":"G66+(G67*3)","v":8110.9964}]
["Ahorros en tarifas de prima para Dependientes",null,{"$f":"C41*Tablas!$K$3","v":0},{"$f":"D41*Tablas!$K$3","v":0},{"$f":"E41*Tablas!$K$3","v":0},{"$f":"F41*Tablas!$K$3","v":0},{"$f":"G41*Tablas!$K$3","v":0}]
[]
["TARIFAS MENSUALES"]
["Prima para Asegurado Titular",null,{"$f":"(C32-75)*Tablas!$K$2+75","v":1570.3539999999994},{"$f":"(D32-75)*Tablas!$K$2+75","v":1328.228666666666},{"$f":"(E32-75)*Tablas!$K$2+75","v":1115.5359999999996},{"$f":"(F32-75)*Tablas!$K$2+75","v":977.25799999999958},{"$f":"(G32-75)*Tablas!$K$2+75","v":730.3726666666663}]
["Prima para conyuge",null,{"$f":"C33*Tablas!$K$2","v":0},{"$f":"D33*Tablas!$K$2","v":0},{"$f":"E33*Tablas!$K$2","v":0},{"$f":"F33*Tablas!$K$2","v":0},{"$f":"G33*Tablas!$K$2","v":0}]
["Prima para hijo (s)",null,{"$f":"C34*Tablas!$K$2","v":0},{"$f":"D34*Tablas!$K$2","v":0},{"$f":"E34*Tablas!$K$2","v":0},{"$f":"F34*Tablas!$K$2","v":0},{"$f":"G34*Tablas!$K$2","v":0}]
["Total de Prima neta",null,{"$f":"SUM(C72:C74)","v":1570.3539999999994},{"$f":"SUM(D72:D74)","v":1328.228666666666},{"$f":"SUM(E72:E74)","v":1115.5359999999996},{"$f":"SUM(F72:F74)","v":977.25799999999958},{"$f":"SUM(G72:G74)","v":730.3726666666663}]
["Ajuste por la variante con coaseguro fuera\n del país de residencia",null,{"$f":"IF('INGRESO DE DATOS'!$P$3,C75*-15%,0)","v":0},{"$f":"IF('INGRESO DE DATOS'!$P$3,D75*-15%,0)","v":0},{"$f":"IF('INGRESO DE DATOS'!$P$3,E75*-15%,0)","v":0},{"$f":"IF('INGRESO DE DATOS'!$P$3,F75*-15%,0)","v":0},{"$f":"IF('INGRESO DE DATOS'!$P$3,G75*-15%,0)","v":0}]
[{"$f":"A63","v":"Contribución 3.5% Superintendencia de Bancos\n Contribución 0.5% Seguro Social Campesino"},null,{"$f":"C75*Tablas!$X$3","v":62.814159999999973},{"$f":"D75*Tablas!$X$3","v":53.129146666666642},{"$f":"E75*Tablas!$X$3","v":44.621439999999986},{"$f":"F75*Tablas!$X$3","v":39.090319999999984},{"$f":"G75*Tablas!$X$3","v":29.214906666666653}]
["VAT (5%) :"]
["ITBMS (7%)"]
["TOTAL de primera cuota",null,{"$f":"SUM(C75:C79)","v":1633.1681599999993},{"$f":"SUM(D75:D79)","v":1381.3578133333326},{"$f":"SUM(E75:E79)","v":1160.1574399999995},{"$f":"SUM(F75:F79)","v":1016.3483199999996},{"$f":"SUM(G75:G79)","v":759.58757333333301}]
["Costo de Tarifa mensual de 2 a 12",null,{"$f":"C75+C77-78","v":1555.1681599999993},{"$f":"D75+D77-78","v":1303.3578133333326},1082.1574399999995,938.3483199999996,681.58757333333301]
["TOTAL ANUAL",null,{"$f":"C80+(C81*11)","v":18740.017919999991},{"$f":"D80+(D81*11)","v":15718.293759999991},{"$f":"E80+(E81*11)","v":13063.889279999994},{"$f":"F80+(F81*11)","v":11338.179839999995},{"$f":"G80+(G81*11)","v":8257.0508799999952}]
["Ahorros en tarifas de prima para Dependientes",null,{"$f":"C41*Tablas!$K$2","v":0},{"$f":"D41*Tablas!$K$2","v":0},{"$f":"E41*Tablas!$K$2","v":0},{"$f":"F41*Tablas!$K$2","v":0},{"$f":"G41*Tablas!$K$2","v":0}]
[]
["Este presupuesto solamente tiene carácter informativo y en ningún momento expresa compromiso legal para suministrarle cobertura de seguro.\nLa emisión de una póliza de seguro Bupa está sujeta a todas las evaluaciones de riesgo por parte de Bupa y a la recepción de todos los pagos \nde prima requeridos."]

{"sheet":"Global Premier","index":3,"n_rows":78,"n_cols":45,"rows_kept":78,"cut":false,"hidden":false,"merged":[[77,0,80,6],[29,0,29,1],[51,0,51,6],[38,0,38,6],[28,0,28,6],[72,0,72,1],[39,0,39,1],[40,0,40,1],[41,0,41,1],[44,0,44,1],[30,0,30,1],[67,0,67,1],[71,0,71,1],[64,0,64,6],[58,0,58,1],[66,0,66,1],[68,0,68,1],[70,0,70,1],[43,0,43,1],[56,0,56,1],[69,0,69,1],[55,0,55,1],[57,0,57,1],[45,0,45,1],[46,0,46,1],[52,0,52,1],[53,0,53,1],[54,0,54,1],[59,0,59,1],[65,0,65,1],[33,0,33,1],[34,0,34,1],[35,0,35,1],[18,3,18,5],[12,1,12,5],[20,1,20,2],[25,0,25,1],[26,0,26,1],[22,0,22,2],[16,2,16,3],[31,0,31,1],[0,24,0,37],[0,39,0,52],[0,0,3,5],[4,6,5,6],[4,0,10,5],[6,6,10,6],[0,9,0,22]]}
[" ",null,null,null,null,null,null,null,null,"RESUMEN DE BENEFICIOS",null,null,null,null,null,null,null,null,null,null,null,null,null,null,"RESUMEN DE BENEFICIOS",null,null,null,null,null,null,null,null,null,null,null,null,null,null,"RESUMEN DE BENEFICIOS"]
[]
[null,null,null,null,null,null,null,null,null,null,null,null," "," "," ",null,null,null,null,null,null,null,null,null,null,null,null," "," "," ",null,null,null,null,null,null,null,null,null,null,null,null," "," "," "]
[]
["Cotización de Seguro Médico Internacional\nGlobal Premier Health Plan\nTarifas en US$ | Validas: 1 de enero de 2025",null,null,null,null,null,"REGIÓN"]
[]
[null,null,null,null,null,null,{"$f":"'INGRESO DE DATOS'!W20","v":"Guayas/Santa Elena"},null,null,null,null,null," "," "," ",null,null,null,null,null,null,null,null,null,null,null,null," "," "," ",null,null,null,null,null,null,null,null,null,null,null,null," "," "," "]
[]
[]
[]
[]
[]
["Nombre del Asegurado Titular",{"$f":"+'INGRESO DE DATOS'!$C$37","v":"John Doe"}]
[]
["Número de adultos en la póliza",{"$f":"+'INGRESO DE DATOS'!$C$39","v":1}]
[]
["Número de Dependientes en la póliza",{"$f":"+'INGRESO DE DATOS'!$C$41","v":0},{"$f":"IF('INGRESO DE DATOS'!$P$2=TRUE, \"Cotización para dependiente de 24 años\",\"\")","v":""}]
[]
["Edad del Asegurado Titular",{"$f":"+'INGRESO DE DATOS'!$C$43","v":37},null,"Edad del/la conyuge",null,null,{"$f":"+'INGRESO DE DATOS'!$C$45","v":32},null,null,null," "," ",null,null,null,null,null,null,null,null,null,null,null,null,null," "," ",null,null,null,null,null,null,null,null,null,null,null,null,null," "," "]
[]
["Fecha de la cotización",{"$f":"NOW()","v":"2025-02-12T15:27:50.450"},null,null,null,null,null,null,null," ",false,null," ",null,null,null,null,null,null,null,null,null,null,null," ",false,null," ",null,null,null,null,null,null,null,null,null,null,null," ",false,null," "]
[]
[{"$f":"IF('INGRESO DE DATOS'!P3=TRUE,\"Variante con coaseguro fuera del país de residencia: SI\",\"Variante con coaseguro fuera del país de residencia: NO\")","v":"Variante con coaseguro fuera del país de residencia: NO"}]
[null,null,{"$f":"1-(IF('INGRESO DE DATOS'!$T$19=8,'INGRESO DE DATOS'!U48,0))","v":1},{"$f":"1-(IF('INGRESO DE DATOS'!$T$19=8,'INGRESO DE DATOS'!V48,0))","v":1},{"$f":"1-(IF('INGRESO DE DATOS'!$T$19=8,'INGRESO DE DATOS'!W48,0))","v":1},{"$f":"1-(IF('INGRESO DE DATOS'!$T$19=8,'INGRESO DE DATOS'!X48,0))","v":1},{"$f":"1-(IF('INGRESO DE DATOS'!$T$19=8,'INGRESO DE DATOS'!Y48,0))","v":1}]
["Deducibles",null,"PLAN 1","PLAN 2","PLAN 3","PLAN 4","PLAN 5"]
["En el país de residencia",null,250,2000,5000,10000,20000]
["Fuera del país de residencia",null,5000,2000,5000,10000,20000]
[]
["TARIFAS ANUALES"]
["Prima para Asegurado Titular",null,{"$f":"(VLOOKUP($B$19,Tablas!$A$81:$G$147,3,TRUE)*C24)+75","v":10232.5},{"$f":"(VLOOKUP($B$19,Tablas!$A$81:$G$147,4,TRUE)*D24)+75","v":8875.0499999999993},{"$f":"(VLOOKUP($B$19,Tablas!$A$81:$G$147,5,TRUE)*E24)+75","v":6582.5999999999995},{"$f":"(VLOOKUP($B$19,Tablas!$A$81:$G$147,6,TRUE)*F24)+75","v":4611.45},{"$f":"(VLOOKUP($B$19,Tablas!$A$81:$G$147,7,TRUE)*G24)+75","v":3632.25}]
["Prima para conyuge",null,{"$f":"(IF($B$15=1,0,(VLOOKUP($G$19,Tablas!$A$81:$G$147,3,TRUE)))*C24)","v":0},{"$f":"(IF($B$15=1,0,(VLOOKUP($G$19,Tablas!$A$81:$G$147,4,TRUE)))*D24)","v":0},{"$f":"(IF($B$15=1,0,(VLOOKUP($G$19,Tablas!$A$81:$G$147,5,TRUE)))*E24)","v":0},{"$f":"(IF($B$15=1,0,(VLOOKUP($G$19,Tablas!$A$81:$G$147,6,TRUE)))*F24)","v":0},{"$f":"(IF($B$15=1,0,(VLOOKUP($G$19,Tablas!$A$81:$G$147,7,TRUE)))*G24)","v":0}]
["Prima para hijo (s)",null,{"$f":"(IF($B$17=0,0,(VLOOKUP($B$17,Tablas!$A$148:$G$150,3,TRUE)))*C24)","v":0},{"$f":"(IF($B$17=0,0,(VLOOKUP($B$17,Tablas!$A$148:$G$150,4,TRUE)))*D24)","v":0},{"$f":"(IF($B$17=0,0,(VLOOKUP($B$17,Tablas!$A$148:$G$150,5,TRUE)))*E24)","v":0},{"$f":"(IF($B$17=0,0,(VLOOKUP($B$17,Tablas!$A$148:$G$150,6,TRUE)))*F24)","v":0},{"$f":"(IF($B$17=0,0,(VLOOKUP($B$17,Tablas!$A$148:$G$150,7,TRUE)))*G24)","v":0}]
["Total de Prima neta",null,{"$f":"SUM(C30:C32)","v":10232.5},{"$f":"SUM(D30:D32)","v":8875.0499999999993},{"$f":"SUM(E30:E32)","v":6582.5999999999995},{"$f":"SUM(F30:F32)","v":4611.45},{"$f":"SUM(G30:G32)","v":3632.25}]
["Contribución 3.5% Superintendencia de Bancos\n Contribución 0.5% Seguro Social Campesino",null,{"$f":"C33*Tablas!$X$3","v":409.3},{"$f":"D33*Tablas!$X$3","v":355.00199999999995},{"$f":"E33*Tablas!$X$3","v":263.30399999999997},{"$f":"F33*Tablas!$X$3","v":184.458},{"$f":"G33*Tablas!$X$3","v":145.29}]
["VAT (5%) :"]
["ITBMS (7%)"]
["TOTAL ANUAL",null,{"$f":"SUM(C33:C36)","v":10641.8},{"$f":"SUM(D33:D36)","v":9230.0519999999997},{"$f":"SUM(E33:E36)","v":6845.9039999999995},{"$f":"SUM(F33:F36)","v":4795.9079999999994},{"$f":"SUM(G33:G36)","v":3777.54}]
[]
["TARIFAS SEMESTRALES"]
["Prima para Asegurado Titular",null,{"$f":"(C30-75)*Tablas!$K$4+75","v":5458.4750000000004},{"$f":"(D30-75)*Tablas!$K$4+75","v":4739.0264999999999},{"$f":"(E30-75)*Tablas!$K$4+75","v":3524.0279999999998},{"$f":"(F30-75)*Tablas!$K$4+75","v":2479.3184999999999},{"$f":"(G30-75)*Tablas!$K$4+75","v":1960.3425000000002}]
["Prima para conyuge",null,{"$f":"C31*Tablas!$K$4","v":0},{"$f":"D31*Tablas!$K$4","v":0},{"$f":"E31*Tablas!$K$4","v":0},{"$f":"F31*Tablas!$K$4","v":0},{"$f":"G31*Tablas!$K$4","v":0}]
["Prima para hijo (s)",null,{"$f":"C32*Tablas!$K$4","v":0},{"$f":"D32*Tablas!$K$4","v":0},{"$f":"E32*Tablas!$K$4","v":0},{"$f":"F32*Tablas!$K$4","v":0},{"$f":"G32*Tablas!$K$4","v":0}]
["Total de Prima neta",null,{"$f":"SUM(C40:C42)","v":5458.4750000000004},{"$f":"SUM(D40:D42)","v":4739.0264999999999},{"$f":"SUM(E40:E42)","v":3524.0279999999998},{"$f":"SUM(F40:F42)","v":2479.3184999999999},{"$f":"SUM(G40:G42)","v":1960.3425000000002}]
["Ajuste por la variante con coaseguro fuera\n del país de residencia",null,{"$f":"IF('INGRESO DE DATOS'!$P$3,C43*-15%,0)","v":0},{"$f":"IF('INGRESO DE DATOS'!$P$3,D43*-15%,0)","v":0},{"$f":"IF('INGRESO DE DATOS'!$P$3,E43*-15%,0)","v":0},{"$f":"IF('INGRESO DE DATOS'!$P$3,F43*-15%,0)","v":0}]
[{"$f":"A34","v":"Contribución 3.5% Superintendencia de Bancos\n Contribución 0.5% Seguro Social Campesino"},null,{"$f":"C43*Tablas!$X$3","v":218.33900000000003},{"$f":"D43*Tablas!$X$3","v":189.56106},{"$f":"E43*Tablas!$X$3","v":140.96111999999999},{"$f":"F43*Tablas!$X$3","v":99.17273999999999},{"$f":"G43*Tablas!$X$3","v":78.413700000000006}]
["VAT (5%) :"]
["ITBMS (7%)"]
["TOTAL de primera cuota",null,{"$f":"SUM(C43:C47)","v":5676.8140000000003},{"$f":"SUM(D43:D47)","v":4928.5875599999999},{"$f":"SUM(E43:E47)","v":3664.9891199999997},{"$f":"SUM(F43:F47)","v":2578.4912399999998},{"$f":"SUM(G43:G47)","v":2038.7562000000003}]
["Costo de segunda cuota",null,{"$f":"C43+C45-78","v":5598.8140000000003},{"$f":"D43+D45-78","v":4850.5875599999999},3586.9891199999997,2500.4912399999998,{"$f":"G43+G45-78","v":1960.7562000000003}]
["TOTAL ANUAL",null,{"$f":"C48+C49","v":11275.628000000001},{"$f":"D48+D49","v":9779.1751199999999},{"$f":"E48+E49","v":7251.9782399999995},{"$f":"F48+F49","v":5078.9824799999997},{"$f":"G48+G49","v":3999.5124000000005}]
[]
["TARIFAS TRIMESTRALES"]
["Prima para Asegurado Titular",null,{"$f":"(C30-75)*Tablas!$K$3+75","v":2868.3125},{"$f":"(D30-75)*Tablas!$K$3+75","v":2495.0137500000001},{"$f":"(E30-75)*Tablas!$K$3+75","v":1864.59},{"$f":"(F30-75)*Tablas!$K$3+75","v":1322.5237500000001},{"$f":"(G30-75)*Tablas!$K$3+75","v":1053.2437500000001}]
["Prima para conyuge",null,{"$f":"C31*Tablas!$K$3","v":0},{"$f":"D31*Tablas!$K$3","v":0},{"$f":"E31*Tablas!$K$3","v":0},{"$f":"F31*Tablas!$K$3","v":0},{"$f":"G31*Tablas!$K$3","v":0}]
["Prima para hijo (s)",null,{"$f":"C32*Tablas!$K$3","v":0},{"$f":"D32*Tablas!$K$3","v":0},{"$f":"E32*Tablas!$K$3","v":0},{"$f":"F32*Tablas!$K$3","v":0},{"$f":"G32*Tablas!$K$3","v":0}]
["Total de Prima neta",null,{"$f":"SUM(C53:C55)","v":2868.3125},{"$f":"SUM(D53:D55)","v":2495.0137500000001},{"$f":"SUM(E53:E55)","v":1864.59},{"$f":"SUM(F53:F55)","v":1322.5237500000001},{"$f":"SUM(G53:G55)","v":1053.2437500000001}]
["Ajuste por la variante con coaseguro fuera\n del país de residencia",null,{"$f":"IF('INGRESO DE DATOS'!$P$3,C56*-15%,0)","v":0},{"$f":"IF('INGRESO DE DATOS'!$P$3,D56*-15%,0)","v":0},{"$f":"IF('INGRESO DE DATOS'!$P$3,E56*-15%,0)","v":0},{"$f":"IF('INGRESO DE DATOS'!$P$3,F56*-15%,0)","v":0}]
[{"$f":"A34","v":"Contribución 3.5% Superintendencia de Bancos\n Contribución 0.5% Seguro Social Campesino"},null,{"$f":"C56*Tablas!$X$3","v":114.7325},{"$f":"D56*Tablas!$X$3","v":99.800550000000001},{"$f":"E56*Tablas!$X$3","v":74.583600000000004},{"$f":"F56*Tablas!$X$3","v":52.900950000000002},{"$f":"G56*Tablas!$X$3","v":42.129750000000001}]
["VAT (5%) :"]
["ITBMS (7%)"]
["TOTAL de primera cuota",null,{"$f":"SUM(C56:C60)","v":2983.0450000000001},{"$f":"SUM(D56:D60)","v":2594.8143},{"$f":"SUM(E56:E60)","v":1939.1735999999999},{"$f":"SUM(F56:F60)","v":1375.4247},{"$f":"SUM(G56:G60)","v":1095.3735000000001}]
["Costo de tarifa trimestral 2 a 4",null,{"$f":"C56+C58-78","v":2905.0450000000001},{"$f":"D56+D58-78","v":2516.8143},1861.1735999999999,1297.4247,{"$f":"G56+G58-78","v":1017.3735000000001}]
["TOTAL ANUAL",null,{"$f":"C61+(C62*3)","v":11698.18},{"$f":"D61+(D62*3)","v":10145.2572},{"$f":"E61+(E62*3)","v":7522.6943999999994},{"$f":"F61+(F62*3)","v":5267.6988000000001},{"$f":"G61+(G62*3)","v":4147.4940000000006}]
[]
["TARIFAS MENSUALES"]
["Prima para Asegurado Titular",null,{"$f":"(C30-75)*Tablas!$K$2+75","v":1023.033333333333},{"$f":"(D30-75)*Tablas!$K$2+75","v":896.33799999999962},{"$f":"(E30-75)*Tablas!$K$2+75","v":682.37599999999975},{"$f":"(F30-75)*Tablas!$K$2+75","v":498.40199999999982},{"$f":"(G30-75)*Tablas!$K$2+75","v":407.00999999999988}]
["Prima para conyuge",null,{"$f":"C31*Tablas!$K$2","v":0},{"$f":"D31*Tablas!$K$2","v":0},{"$f":"E31*Tablas!$K$2","v":0},{"$f":"F31*Tablas!$K$2","v":0},{"$f":"G31*Tablas!$K$2","v":0}]
["Prima para hijo (s)",null,{"$f":"C32*Tablas!$K$2","v":0},{"$f":"D32*Tablas!$K$2","v":0},{"$f":"E32*Tablas!$K$2","v":0},{"$f":"F32*Tablas!$K$2","v":0},{"$f":"G32*Tablas!$K$2","v":0}]
["Total de Prima neta",null,{"$f":"SUM(C66:C68)","v":1023.033333333333},{"$f":"SUM(D66:D68)","v":896.33799999999962},{"$f":"SUM(E66:E68)","v":682.37599999999975},{"$f":"SUM(F66:F68)","v":498.40199999999982},{"$f":"SUM(G66:G68)","v":407.00999999999988}]
["Ajuste por la variante con coaseguro fuera\n del país de residencia",null,{"$f":"IF('INGRESO DE DATOS'!$P$3,C69*-15%,0)","v":0},{"$f":"IF('INGRESO DE DATOS'!$P$3,D69*-15%,0)","v":0},{"$f":"IF('INGRESO DE DATOS'!$P$3,E69*-15%,0)","v":0},{"$f":"IF('INGRESO DE DATOS'!$P$3,F69*-15%,0)","v":0}]
[{"$f":"A58","v":"Contribución 3.5% Superintendencia de Bancos\n Contribución 0.5% Seguro Social Campesino"},null,{"$f":"C69*Tablas!$X$3","v":40.921333333333322},{"$f":"D69*Tablas!$X$3","v":35.853519999999989},{"$f":"E69*Tablas!$X$3","v":27.29503999999999},{"$f":"F69*Tablas!$X$3","v":19.936079999999993},{"$f":"G69*Tablas!$X$3","v":16.280399999999997}]
["VAT (5%) :"]
["ITBMS (7%)"]
["TOTAL de primera cuota",null,{"$f":"SUM(C69:C73)","v":1063.9546666666663},{"$f":"SUM(D69:D73)","v":932.19151999999963},{"$f":"SUM(E69:E73)","v":709.67103999999972},{"$f":"SUM(F69:F73)","v":518.33807999999976},{"$f":"SUM(G69:G73)","v":423.29039999999986}]
["Costo de Tarifa mensual de 2 a 12",null,{"$f":"C69+C71-78","v":985.9546666666663},{"$f":"D69+D71-78","v":854.19151999999963},631.67103999999972,440.33807999999976,{"$f":"G69+G71-78","v":345.29039999999986}]
["TOTAL ANUAL",null,{"$f":"C74+(C75*11)","v":11909.455999999996},{"$f":"D74+(D75*11)","v":10328.298239999996},{"$f":"E74+(E75*11)","v":7658.0524799999966},{"$f":"F74+(F75*11)","v":5362.0569599999972},{"$f":"G74+(G75*11)","v":4221.4847999999984}]
[]
["Este presupuesto solamente tiene carácter informativo y en ningún momento expresa compromiso legal para suministrarle cobertura de seguro. La emisión de una póliza de seguro Bupa está sujeta a todas las evaluaciones\nde riesgo por parte de Bupa y a la recepción de todos los pagos de prima requeridos."]

{"sheet":"Global Select","index":4,"n_rows":79,"n_cols":45,"rows_kept":79,"cut":false,"hidden":false,"merged":[[57,0,57,1],[47,0,47,1],[48,0,48,1],[49,0,49,1],[50,0,50,1],[56,0,56,1],[74,0,74,1],[75,0,75,1],[67,0,67,1],[68,0,68,1],[70,0,70,1],[73,0,73,1],[72,0,72,1],[58,0,58,1],[69,0,69,1],[71,0,71,1],[59,0,59,1],[60,0,60,1],[65,0,65,5],[61,0,61,1],[62,0,62,1],[63,0,63,1],[40,0,40,1],[41,0,41,1],[42,0,42,1],[45,0,45,1],[46,0,46,1],[44,0,44,1],[78,0,81,6],[0,9,0,22],[0,24,0,37],[0,39,0,52],[66,0,66,1],[76,0,76,1],[54,0,54,1],[55,0,55,1],[4,6,5,6],[6,6,10,6],[29,0,29,1],[52,0,52,5],[53,0,53,1],[33,0,33,1],[30,0,30,1],[31,0,31,1],[4,0,10,5],[12,1,12,6],[18,4,18,5],[39,0,39,6],[28,0,28,6],[20,1,20,2],[34,0,34,1],[35,0,35,1],[36,0,36,1],[37,0,37,1],[22,0,22,2],[25,0,25,1],[26,0,26,1],[16,2,16,3]]}
[" ",null,null,null,null,null,null,null,null,"RESUMEN DE BENEFICIOS",null,null,null,null,null,null,null,null,null,null,null,null,null,null,"RESUMEN DE BENEFICIOS",null,null,null,null,null,null,null,null,null,null,null,null,null,null,"RESUMEN DE BENEFICIOS"]
[]
[null,null,null,null,null,null,null,null,null,null,null,null," "," "," ",null,null,null,null,null,null,null,null,null,null,null,null," "," "," ",null,null,null,null,null,null,null,null,null,null,null,null," "," "," "]
[]
["Cotización de Seguro Médico Internacional\nGlobal Select Health Plan\nTarifas en US$ | Validas: 1 de enero de 2025",null,null,null,null,null,"REGIÓN"]
[]
[null,null,null,null,null,null,{"$f":"'INGRESO DE DATOS'!W20","v":"Guayas/Santa Elena"},null,null,null,null,null," "," "," ",null,null,null,null,null,null,null,null,null,null,null,null," "," "," ",null,null,null,null,null,null,null,null,null,null,null,null," "," "," "]
[]
[]
[]
[]
[]
["Nombre del Asegurado Titular",{"$f":"+'INGRESO DE DATOS'!$C$37","v":"John Doe"}]
[]
["Número de adultos en la póliza",{"$f":"+'INGRESO DE DATOS'!$C$39","v":1}]
[]
["Número de Dependientes en la póliza",{"$f":"+'INGRESO DE DATOS'!$C$41","v":0},{"$f":"IF('INGRESO DE DATOS'!$P$2=TRUE, \"Cotización para dependiente de 24 años\",\"\")","v":""}]
[]
["Edad del Asegurado Titular",{"$f":"+'INGRESO DE DATOS'!$C$43","v":37},null,null,"Edad del/la conyuge",null,{"$f":"+'INGRESO DE DATOS'!$C$45","v":32},null,null,null," "," ",null,null,null,null,null,null,null,null,null,null,null,null,null," "," ",null,null,null,null,null,null,null,null,null,null,null,null,null," "," "]
[]
["Fecha de la cotización",{"$f":"NOW()","v":"2025-02-12T15:27:50.450"},null,null,null,null,null,null,null," ",false,null," ",null,null,null,null,null,null,null,null,null,null,null," ",null,null," ",null,null,null,null,null,null,null,null,null,null,null," ",null,null," "]
[]
[{"$f":"IF('INGRESO DE DATOS'!P3=TRUE,\"Variante con coaseguro fuera del país de residencia: SI\",\"Variante con coaseguro fuera del país de residencia: NO\")","v":"Variante con coaseguro fuera del país de residencia: NO"}]
[null,null,{"$f":"1-(IF('INGRESO DE DATOS'!$T$19=8,'INGRESO DE DATOS'!U52,0))","v":1},{"$f":"1-(IF('INGRESO DE DATOS'!$T$19=8,'INGRESO DE DATOS'!V52,0))","v":1},{"$f":"1-(IF('INGRESO DE DATOS'!$T$19=8,'INGRESO DE DATOS'!W52,0))","v":1},{"$f":"1-(IF('INGRESO DE DATOS'!$T$19=8,'INGRESO DE DATOS'!X52,0))","v":1},{"$f":"1-(IF('INGRESO DE DATOS'!$T$19=8,'INGRESO DE DATOS'!Y52,0))","v":1}]
["DEDUCIBLES",null,"PLAN 1","PLAN 2","PLAN 3","PLAN 4","PLAN 5"]
["En el país de residencia",null,250,2000,5000,10000,20000]
["Fuera del país de residencia",null,5000,2000,5000,10000,20000]
[]
["TARIFAS ANUALES"]
["Prima para Asegurado Titular",null,{"$f":"(VLOOKUP($B$19,Tablas!$A$156:$G$222,3,TRUE)*C24)+75","v":6693.95},{"$f":"(VLOOKUP($B$19,Tablas!$A$156:$G$222,4,TRUE)*D24)+75","v":6351.4},{"$f":"(VLOOKUP($B$19,Tablas!$A$156:$G$222,5,TRUE)*E24)+75","v":4435.5},{"$f":"(VLOOKUP($B$19,Tablas!$A$156:$G$222,6,TRUE)*F24)+75","v":3197.9},{"$f":"(VLOOKUP($B$19,Tablas!$A$156:$G$222,7,TRUE)*G24)+75","v":2524.6999999999998}]
["Prima para conyuge",null,{"$f":"(IF($B$15=1,0,(VLOOKUP($G$19,Tablas!$A$156:$G$222,3,TRUE)))*C24)","v":0},{"$f":"(IF($B$15=1,0,(VLOOKUP($G$19,Tablas!$A$156:$G$222,4,TRUE)))*D24)","v":0},{"$f":"(IF($B$15=1,0,(VLOOKUP($G$19,Tablas!$A$156:$G$222,5,TRUE)))*E24)","v":0},{"$f":"(IF($B$15=1,0,(VLOOKUP($G$19,Tablas!$A$156:$G$222,6,TRUE)))*F24)","v":0},{"$f":"(IF($B$15=1,0,(VLOOKUP($G$19,Tablas!$A$156:$G$222,7,TRUE)))*G24)","v":0}]
["Prima para hijo (s)",null,{"$f":"(IF($B$17=0,0,(VLOOKUP($B$17,Tablas!$A$223:$G$225,3,TRUE)))*C24)","v":0},{"$f":"(IF($B$17=0,0,(VLOOKUP($B$17,Tablas!$A$223:$G$225,4,TRUE)))*D24)","v":0},{"$f":"(IF($B$17=0,0,(VLOOKUP($B$17,Tablas!$A$223:$G$225,5,TRUE)))*E24)","v":0},{"$f":"(IF($B$17=0,0,(VLOOKUP($B$17,Tablas!$A$223:$G$225,6,TRUE)))*F24)","v":0},{"$f":"(IF($B$17=0,0,(VLOOKUP($B$17,Tablas!$A$223:$G$225,7,TRUE)))*G24)","v":0}]
["Total de Prima neta",null,{"$f":"SUM(C30:C32)","v":6693.95},{"$f":"SUM(D30:D32)","v":6351.4},{"$f":"SUM(E30:E32)","v":4435.5},{"$f":"SUM(F30:F32)","v":3197.9},{"$f":"SUM(G30:G32)","v":2524.6999999999998}]
["Ajuste por la variante con coaseguro fuera\n del país de residencia",null,{"$f":"IF('INGRESO DE DATOS'!$P$3,C33*-15%,0)","v":0},{"$f":"IF('INGRESO DE DATOS'!$P$3,D33*-15%,0)","v":0},{"$f":"IF('INGRESO DE DATOS'!$P$3,E33*-15%,0)","v":0},{"$f":"IF('INGRESO DE DATOS'!$P$3,F33*-15%,0)","v":0}]
["Contribución 3.5% Superintendencia de Bancos\n Contribución 0.5% Seguro Social Campesino",null,{"$f":"C33*Tablas!$X$3","v":267.75799999999998},{"$f":"D33*Tablas!$X$3","v":254.05599999999998},{"$f":"E33*Tablas!$X$3","v":177.42000000000002},{"$f":"F33*Tablas!$X$3","v":127.91600000000001},{"$f":"G33*Tablas!$X$3","v":100.988}]
["VAT (5%) :"]
["ITBMS (7%)"]
["TOTAL ANUAL",null,{"$f":"SUM(C33:C37)","v":6961.7079999999996},{"$f":"SUM(D33:D37)","v":6605.4559999999992},{"$f":"SUM(E33:E37)","v":4612.92},{"$f":"SUM(F33:F37)","v":3325.8160000000003},{"$f":"SUM(G33:G37)","v":2625.6879999999996}]
[]
["TARIFAS SEMESTRALES"]
["Prima para Asegurado Titular",null,{"$f":"(C30-75)*Tablas!$K$4+75","v":3583.0435000000002},{"$f":"(D30-75)*Tablas!$K$4+75","v":3401.4920000000002},{"$f":"(E30-75)*Tablas!$K$4+75","v":2386.0650000000001},{"$f":"(F30-75)*Tablas!$K$4+75","v":1730.1370000000002},{"$f":"(G30-75)*Tablas!$K$4+75","v":1373.3409999999999}]
["Prima para conyuge",null,{"$f":"C31*Tablas!$K$4","v":0},{"$f":"D31*Tablas!$K$4","v":0},{"$f":"E31*Tablas!$K$4","v":0},{"$f":"F31*Tablas!$K$4","v":0},{"$f":"G31*Tablas!$K$4","v":0}]
["Prima para hijo (s)",null,{"$f":"C32*Tablas!$K$4","v":0},{"$f":"D32*Tablas!$K$4","v":0},{"$f":"E32*Tablas!$K$4","v":0},{"$f":"F32*Tablas!$K$4","v":0},{"$f":"G32*Tablas!$K$4","v":0}]
["Total de Prima neta",null,{"$f":"SUM(C41:C43)","v":3583.0435000000002},{"$f":"SUM(D41:D43)","v":3401.4920000000002},{"$f":"SUM(E41:E43)","v":2386.0650000000001},{"$f":"SUM(F41:F43)","v":1730.1370000000002},{"$f":"SUM(G41:G43)","v":1373.3409999999999}]
["Ajuste por la variante con coaseguro fuera\n del país de residencia",null,{"$f":"IF('INGRESO DE DATOS'!$P$3,C44*-15%,0)","v":0},{"$f":"IF('INGRESO DE DATOS'!$P$3,D44*-15%,0)","v":0},{"$f":"IF('INGRESO DE DATOS'!$P$3,E44*-15%,0)","v":0},{"$f":"IF('INGRESO DE DATOS'!$P$3,F44*-15%,0)","v":0}]
[{"$f":"A35","v":"Contribución 3.5% Superintendencia de Bancos\n Contribución 0.5% Seguro Social Campesino"},null,{"$f":"C44*Tablas!$X$3","v":143.32174000000001},{"$f":"D44*Tablas!$X$3","v":136.05968000000001},{"$f":"E44*Tablas!$X$3","v":95.442599999999999},{"$f":"F44*Tablas!$X$3","v":69.205480000000009},{"$f":"G44*Tablas!$X$3","v":54.933639999999997}]
["VAT (5%) :"]
["ITBMS (7%)"]
["TOTAL de primera cuota",null,{"$f":"SUM(C44:C48)","v":3726.3652400000001},{"$f":"SUM(D44:D48)","v":3537.55168},{"$f":"SUM(E44:E48)","v":2481.5075999999999},{"$f":"SUM(F44:F48)","v":1799.3424800000003},{"$f":"SUM(G44:G48)","v":1428.2746399999999}]
["Costo de segunda cuota",null,{"$f":"C44+C46-78","v":3648.3652400000001},{"$f":"D44+D46-78","v":3459.55168},2403.5075999999999,1721.3424800000003,1350.2746399999999]
["TOTAL ANUAL",null,{"$f":"C49+C50","v":7374.7304800000002},{"$f":"D49+D50","v":6997.1033600000001},{"$f":"E49+E50","v":4885.0151999999998},{"$f":"F49+F50","v":3520.6849600000005},{"$f":"G49+G50","v":2778.5492799999997}]
[]
["TARIFAS TRIMESTRALES"]
["Prima para Asegurado Titular",null,{"$f":"(C30-75)*Tablas!$K$3+75","v":1895.2112500000001},{"$f":"(D30-75)*Tablas!$K$3+75","v":1801.01},{"$f":"(E30-75)*Tablas!$K$3+75","v":1274.1375},{"$f":"(F30-75)*Tablas!$K$3+75","v":933.79750000000013},{"$f":"(G30-75)*Tablas!$K$3+75","v":748.66750000000002}]
["Prima para conyuge",null,{"$f":"C31*Tablas!$K$3","v":0},{"$f":"D31*Tablas!$K$3","v":0},{"$f":"E31*Tablas!$K$3","v":0},{"$f":"F31*Tablas!$K$3","v":0},{"$f":"G31*Tablas!$K$3","v":0}]
["Prima para hijo (s)",null,{"$f":"C32*Tablas!$K$3","v":0},{"$f":"D32*Tablas!$K$3","v":0},{"$f":"E32*Tablas!$K$3","v":0},{"$f":"F32*Tablas!$K$3","v":0},{"$f":"G32*Tablas!$K$3","v":0}]
["Total de Prima neta",null,{"$f":"SUM(C54:C56)","v":1895.2112500000001},{"$f":"SUM(D54:D56)","v":1801.01},{"$f":"SUM(E54:E56)","v":1274.1375},{"$f":"SUM(F54:F56)","v":933.79750000000013},{"$f":"SUM(G54:G56)","v":748.66750000000002}]
["Ajuste por la variante con coaseguro fuera\n del país de residencia",null,{"$f":"IF('INGRESO DE DATOS'!$P$3,C57*-15%,0)","v":0},{"$f":"IF('INGRESO DE DATOS'!$P$3,D57*-15%,0)","v":0},{"$f":"IF('INGRESO DE DATOS'!$P$3,E57*-15%,0)","v":0},{"$f":"IF('INGRESO DE DATOS'!$P$3,F57*-15%,0)","v":0}]
[{"$f":"A35","v":"Contribución 3.5% Superintendencia de Bancos\n Contribución 0.5% Seguro Social Campesino"},null,{"$f":"C57*Tablas!$X$3","v":75.808450000000008},{"$f":"D57*Tablas!$X$3","v":72.040400000000005},{"$f":"E57*Tablas!$X$3","v":50.965500000000006},{"$f":"F57*Tablas!$X$3","v":37.351900000000008},{"$f":"G57*Tablas!$X$3","v":29.9467}]
["VAT (5%) :"]
["ITBMS (7%)"]
["TOTAL de primera cuota",null,{"$f":"SUM(C57:C61)","v":1971.0197000000001},{"$f":"SUM(D57:D61)","v":1873.0504000000001},{"$f":"SUM(E57:E61)","v":1325.1030000000001},{"$f":"SUM(F57:F61)","v":971.14940000000013},{"$f":"SUM(G57:G61)","v":778.61419999999998}]
["Costo de tarifa trimestral 2 a 4",null,{"$f":"C57+C59-78","v":1893.0197000000001},{"$f":"D57+D59-78","v":1795.0504000000001},1247.1030000000001,893.14940000000013,700.61419999999998]
["TOTAL ANUAL",null,{"$f":"C62+(C63*3)","v":7650.0788000000002},{"$f":"D62+(D63*3)","v":7258.2016000000003},{"$f":"E62+(E63*3)","v":5066.4120000000003},{"$f":"F62+(F63*3)","v":3650.5976000000005},{"$f":"G62+(G63*3)","v":2880.4567999999999}]
[]
["TARIFAS MENSUALES"]
["Prima para Asegurado Titular",null,{"$f":"(C30-75)*Tablas!$K$2+75","v":692.76866666666638},{"$f":"(D30-75)*Tablas!$K$2+75","v":660.79733333333309},{"$f":"(E30-75)*Tablas!$K$2+75","v":481.97999999999985},{"$f":"(F30-75)*Tablas!$K$2+75","v":366.47066666666655},{"$f":"(G30-75)*Tablas!$K$2+75","v":303.63866666666655}]
["Prima para conyuge",null,{"$f":"C31*Tablas!$K$2","v":0},{"$f":"D31*Tablas!$K$2","v":0},{"$f":"E31*Tablas!$K$2","v":0},{"$f":"F31*Tablas!$K$2","v":0},{"$f":"G31*Tablas!$K$2","v":0}]
["Prima para hijo (s)",null,{"$f":"C32*Tablas!$K$2","v":0},{"$f":"D32*Tablas!$K$2","v":0},{"$f":"E32*Tablas!$K$2","v":0},{"$f":"F32*Tablas!$K$2","v":0},{"$f":"G32*Tablas!$K$2","v":0}]
["Total de Prima neta",null,{"$f":"SUM(C67:C69)","v":692.76866666666638},{"$f":"SUM(D67:D69)","v":660.79733333333309},{"$f":"SUM(E67:E69)","v":481.97999999999985},{"$f":"SUM(F67:F69)","v":366.47066666666655},{"$f":"SUM(G67:G69)","v":303.63866666666655}]
["Ajuste por la variante con coaseguro fuera\n del país de residencia",null,{"$f":"IF('INGRESO DE DATOS'!$P$3,C70*-15%,0)","v":0},{"$f":"IF('INGRESO DE DATOS'!$P$3,D70*-15%,0)","v":0},{"$f":"IF('INGRESO DE DATOS'!$P$3,E70*-15%,0)","v":0},{"$f":"IF('INGRESO DE DATOS'!$P$3,F70*-15%,0)","v":0}]
[{"$f":"A59","v":"Contribución 3.5% Superintendencia de Bancos\n Contribución 0.5% Seguro Social Campesino"},null,{"$f":"C70*Tablas!$X$3","v":27.710746666666655},{"$f":"D70*Tablas!$X$3","v":26.431893333333324},{"$f":"E70*Tablas!$X$3","v":19.279199999999996},{"$f":"F70*Tablas!$X$3","v":14.658826666666663},{"$f":"G70*Tablas!$X$3","v":12.145546666666663}]
["VAT (5%) :"]
["ITBMS (7%)"]
["TOTAL de primera cuota",null,{"$f":"SUM(C70:C74)","v":720.47941333333301},{"$f":"SUM(D70:D74)","v":687.22922666666636},{"$f":"SUM(E70:E74)","v":501.25919999999985},{"$f":"SUM(F70:F74)","v":381.12949333333319},{"$f":"SUM(G70:G74)","v":315.78421333333324}]
["Costo de Tarifa mensual de 2 a 12",null,{"$f":"C70+C72-78","v":642.47941333333301},{"$f":"D70+D72-78","v":609.22922666666636},423.25919999999985,303.12949333333319,237.78421333333324]
["TOTAL ANUAL",null,{"$f":"C75+(C76*11)","v":7787.7529599999962},{"$f":"D75+(D76*11)","v":7388.7507199999964},{"$f":"E75+(E76*11)","v":5157.1103999999978},{"$f":"F75+(F76*11)","v":3715.5539199999985},{"$f":"G75+(G76*11)","v":2931.4105599999989}]
[]
["Este presupuesto solamente tiene carácter informativo y en ningún momento expresa compromiso legal para suministrarle cobertura de seguro. La emisión de una póliza de seguro Bupa está sujeta a todas las evaluaciones de riesgo por parte de Bupa y a la recepción de todos los pagos de prima requeridos."]

{"sheet":"Resumen Tarifas","index":5,"n_rows":77,"n_cols":6,"rows_kept":77,"cut":false,"hidden":false,"merged":[[56,1,56,5],[58,1,58,5],[60,1,60,5],[28,1,28,2],[32,1,32,2],[44,1,44,5],[42,1,42,5],[40,1,40,5],[0,0,3,5],[20,1,20,2],[12,1,12,5],[40,0,47,0],[4,5,5,5],[4,0,10,4],[26,1,26,2],[22,4,34,5],[26,0,33,0],[76,0,83,5],[67,0,74,0],[30,1,30,2],[6,5,10,5],[36,0,36,5],[73,1,73,5],[16,2,16,3],[63,0,63,5],[67,1,67,5],[69,1,69,5],[71,1,71,5],[50,0,50,5],[54,1,54,5],[22,0,22,2],[46,1,46,5],[54,0,61,0]]}
[" "]
[]
[]
[]
["Cotización de Seguro Médico Internacional\nGlobal Major Health Plans\nResumen de Tarifas\nTarifas en US$ | Validas: 1 de enero de 2025",null,null,null,null,"REGIÓN"]
[]
[null,null,null,null,null,{"$f":"'INGRESO DE DATOS'!W20","v":"Guayas/Santa Elena"}]
[]
[]
[]
[]
[]
["Nombre del Asegurado Titular",{"$f":"+'INGRESO DE DATOS'!$C$37","v":"John Doe"}]
[]
["Número de adultos en la póliza",{"$f":"+'INGRESO DE DATOS'!$C$39","v":1}]
[]
["Número de Dependientes en la póliza",{"$f":"+'INGRESO DE DATOS'!$C$41","v":0},{"$f":"IF('INGRESO DE DATOS'!$P$2=TRUE, \"Cotización para dependiente de 24 años\",\"\")","v":""}]
[]
["Edad del Asegurado Titular",{"$f":"+'INGRESO DE DATOS'!$C$43","v":37},null,null,"Edad del/la conyuge",{"$f":"+'INGRESO DE DATOS'!$C$45","v":32}]
[]
["Fecha de la cotización",{"$f":"NOW()","v":"2025-02-12T15:27:50.450"}]
[]
["GLOBAL ULTIMATE HEALTH PLAN"]
["DEDUCIBLES","PLAN 1","PLAN 2"]
["En el país de residencia","$0",1000]
["Fuera del país de residencia","$0",1000]
[null,"TARIFAS ANUALES"]
[null,{"$f":"'Global Ultimate'!C38","v":42841.760000000002},{"$f":"'Global Ultimate'!D38","v":30404.400000000001}]
[null,"TARIFAS SEMESTRALES"]
[null,{"$f":"'Global Ultimate'!C51","v":45407.585599999999},{"$f":"'Global Ultimate'!D51","v":32223.984000000004}]
[null,"TARIFAS TRIMESTRALES"]
[null,{"$f":"'Global Ultimate'!C64","v":47118.135999999999},{"$f":"'Global Ultimate'!D64","v":33437.040000000001}]
[null,"TARIFAS MENSUALES"]
[null,{"$f":"'Global Ultimate'!C77","v":47973.41119999998},{"$f":"'Global Ultimate'!D77","v":34043.567999999985}]
["Ahorros en tarifas de prima para Dependientes *",{"$f":"'Global Ultimate'!C39","v":0},{"$f":"'Global Ultimate'!D39","v":0}]
[]
["GLOBAL ELITE HEALTH PLAN"]
["DEDUCIBLES","PLAN 1","PLAN 2","PLAN 3","PLAN 4","PLAN 5"]
["En el país de residencia",250,2000,3500,5000,10000]
["Fuera del país de residencia",5000,2000,3500,5000,10000]
[null,"TARIFAS ANUALES"]
[null,{"$f":"+'Global Elite'!C40","v":16740.516},{"$f":"+'Global Elite'!D40","v":14042.547999999999},{"$f":"+'Global Elite'!E40","v":11672.544},{"$f":"+'Global Elite'!F40","v":10131.732},{"$f":"+'Global Elite'!G40","v":7380.7239999999993}]
[null,"TARIFAS SEMESTRALES"]
[null,{"$f":"+'Global Elite'!C54","v":17740.266960000001},{"$f":"+'Global Elite'!D54","v":14880.42088},{"$f":"+'Global Elite'!E54","v":12368.216640000002},{"$f":"+'Global Elite'!F54","v":10734.95592},{"$f":"+'Global Elite'!G54","v":7818.8874400000004}]
[null,"TARIFAS TRIMESTRALES"]
[null,{"$f":"+'Global Elite'!C68","v":18406.767600000003},{"$f":"+'Global Elite'!D68","v":15439.0028},{"$f":"+'Global Elite'!E68","v":12831.9984},{"$f":"+'Global Elite'!F68","v":11137.1052},{"$f":"+'Global Elite'!G68","v":8110.9964}]
[null,"TARIFAS MENSUALES"]
[null,{"$f":"+'Global Elite'!C82","v":18740.017919999991},{"$f":"+'Global Elite'!D82","v":15718.293759999991},{"$f":"+'Global Elite'!E82","v":13063.889279999994},{"$f":"+'Global Elite'!F82","v":11338.179839999995},{"$f":"+'Global Elite'!G82","v":8257.0508799999952}]
["Ahorros en tarifas de prima para Dependientes*",{"$f":"+'Global Elite'!C41","v":0},{"$f":"+'Global Elite'!D41","v":0},{"$f":"+'Global Elite'!E41","v":0},{"$f":"+'Global Elite'!F41","v":0},{"$f":"+'Global Elite'!G41","v":0}]
[]
["GLOBAL PREMIER HEALTH PLAN"]
["DEDUCIBLES","PLAN 1","PLAN 2","PLAN 3","PLAN 4","PLAN 4"]
["En el país de residencia",250,2000,5000,10000,10000]
["Fuera del país de residencia",5000,2000,5000,10000,10000]
[null,"TARIFAS ANUALES"]
[null,{"$f":"+'Global Premier'!C37","v":10641.8},{"$f":"+'Global Premier'!D37","v":9230.0519999999997},{"$f":"+'Global Premier'!E37","v":6845.9039999999995},{"$f":"+'Global Premier'!F37","v":4795.9079999999994},{"$f":"'Global Premier'!G37","v":3777.54}]
[null,"TARIFAS SEMESTRALES"]
[null,{"$f":"+'Global Premier'!C50","v":11275.628000000001},{"$f":"+'Global Premier'!D50","v":9779.1751199999999},{"$f":"+'Global Premier'!E50","v":7251.9782399999995},{"$f":"+'Global Premier'!F50","v":5078.9824799999997},{"$f":"'Global Premier'!G50","v":3999.5124000000005}]
[null,"TARIFAS TRIMESTRALES"]
[null,{"$f":"+'Global Premier'!C63","v":11698.18},{"$f":"+'Global Premier'!D63","v":10145.2572},{"$f":"+'Global Premier'!E63","v":7522.6943999999994},{"$f":"+'Global Premier'!F63","v":5267.6988000000001},{"$f":"'Global Premier'!G63","v":4147.4940000000006}]
[null,"TARIFAS MENSUALES"]
[null,{"$f":"+'Global Premier'!C76","v":11909.455999999996},{"$f":"+'Global Premier'!D76","v":10328.298239999996},{"$f":"+'Global Premier'!E76","v":7658.0524799999966},{"$f":"+'Global Premier'!F76","v":5362.0569599999972},{"$f":"'Global Premier'!G76","v":4221.4847999999984}]
[]
["GLOBAL SELECT HEALTH PLAN"]
["DEDUCIBLES","PLAN 1","PLAN 2","PLAN 3","PLAN 4","PLAN 5"]
[" En el país de residencia ",250,2000,5000,10000,20000]
[" Fuera del país de residencia ",5000,2000,5000,10000,20000]
[null,"TARIFAS ANUALES"]
[null,{"$f":"+'Global Select'!C38","v":6961.7079999999996},{"$f":"+'Global Select'!D38","v":6605.4559999999992},{"$f":"+'Global Select'!E38","v":4612.92},{"$f":"+'Global Select'!F38","v":3325.8160000000003},{"$f":"+'Global Select'!G38","v":2625.6879999999996}]
[null,"TARIFAS SEMESTRALES"]
[null,{"$f":"+'Global Select'!C51","v":7374.7304800000002},{"$f":"+'Global Select'!D51","v":6997.1033600000001},{"$f":"+'Global Select'!E51","v":4885.0151999999998},{"$f":"+'Global Select'!F51","v":3520.6849600000005},{"$f":"+'Global Select'!G51","v":2778.5492799999997}]
[null,"TARIFAS TRIMESTRALES"]
[null,{"$f":"+'Global Select'!C64","v":7650.0788000000002},{"$f":"+'Global Select'!D64","v":7258.2016000000003},{"$f":"+'Global Select'!E64","v":5066.4120000000003},{"$f":"+'Global Select'!F64","v":3650.5976000000005},{"$f":"+'Global Select'!G64","v":2880.4567999999999}]
[null,"TARIFAS MENSUALES"]
[null,{"$f":"+'Global Select'!C77","v":7787.7529599999962},{"$f":"+'Global Select'!D77","v":7388.7507199999964},{"$f":"+'Global Select'!E77","v":5157.1103999999978},{"$f":"+'Global Select'!F77","v":3715.5539199999985},{"$f":"+'Global Select'!G77","v":2931.4105599999989}]
[]
["Este presupuesto solamente tiene carácter informativo y en ningún momento expresa compromiso legal para suministrarle cobertura de seguro. La emisión de una póliza de seguro Bupa está sujeta a todas las evaluaciones de riesgo por parte de Bupa y a la recepción de todos los pagos de prima requeridos.\n\nUna tarifa administrativa de US$75 se cargará automáticamente al primer pago.\n\n*Basado en un modo de pago anual"]

{"sheet":"Tablas","index":6,"n_rows":300,"n_cols":24,"rows_kept":300,"cut":false,"hidden":true,"merged":[[63,7,65,7],[76,0,76,6],[77,0,77,6],[79,0,79,1],[78,2,78,6],[1,0,1,6],[2,0,2,6],[4,0,4,1],[3,2,3,6],[1,20,1,22],[4,8,4,12],[4,14,4,18],[2,12,2,13],[3,12,3,13],[1,8,1,9],[2,20,2,22],[226,0,226,6],[227,0,227,6],[229,0,229,1],[228,2,228,6],[151,0,151,6],[152,0,152,6],[154,0,154,1],[153,2,153,6]]}
[]
["BUPA GLOBAL ELITE",null,null,null,null,null,null,null,"FACTOR MENSUAL:",null,9.3333333333333296E-2,null,"Descuento de 24 años",{"$f":"'INGRESO DE DATOS'!P30","v":1},"Ultimate","Elite","Premier","Select","Major Medical",null,"Impuesto (14.94%)",null,null,1]
["TARIFAS ANUALES",null,null,null,null,null,null,null,"FACTOR TRIMESTRAL:",null,0.27500000000000002,null,"Descuento de producto (%)",null,{"$f":"'INGRESO DE DATOS'!O39","v":0},{"$f":"'INGRESO DE DATOS'!P39","v":0.15},{"$f":"'INGRESO DE DATOS'!Q39","v":0.15},{"$f":"'INGRESO DE DATOS'!R39","v":0.15},{"$f":"'INGRESO DE DATOS'!S39","v":0},null,"Total impuestos Bolivia",null,null,0.04]
[null,null,null,null,null,null,null,null,"FACTOR SEMIANUAL:",null,0.53,null,"Factor para el descuento combinado",null,{"$f":"'INGRESO DE DATOS'!O47","v":1},{"$f":"'INGRESO DE DATOS'!P47","v":0.85},{"$f":"'INGRESO DE DATOS'!Q47","v":0.85},{"$f":"'INGRESO DE DATOS'!R47","v":0.85},{"$f":"'INGRESO DE DATOS'!S47","v":0}]
["EDAD",null,250,2000,3500,5000,10000,null,"TARIFAS BASE",null,null,null,null,null,"TARIFAS BASE CON DESCUENTO"]
[18,null,{"$f":"O6*$X$2","v":11024.5},{"$f":"P6*$X$2","v":10277.35},{"$f":"Q6*$X$2","v":6870.55},{"$f":"R6*$X$2","v":6696.3},{"$f":"S6*$X$2","v":5397.5},null,{"$f":"IF('INGRESO DE DATOS'!$W$19=1,'Tablas Guyanas y Santa Elena'!C6,'Tablas Resto de Ecuador'!C6)","v":12970},{"$f":"IF('INGRESO DE DATOS'!$W$19=1,'Tablas Guyanas y Santa Elena'!D6,'Tablas Resto de Ecuador'!D6)","v":12091},{"$f":"IF('INGRESO DE DATOS'!$W$19=1,'Tablas Guyanas y Santa Elena'!E6,'Tablas Resto de Ecuador'!E6)","v":8083},{"$f":"IF('INGRESO DE DATOS'!$W$19=1,'Tablas Guyanas y Santa Elena'!F6,'Tablas Resto de Ecuador'!F6)","v":7878},{"$f":"IF('INGRESO DE DATOS'!$W$19=1,'Tablas Guyanas y Santa Elena'!G6,'Tablas Resto de Ecuador'!G6)","v":6350},null,{"$f":"I6*$P$4","v":11024.5},{"$f":"J6*$P$4","v":10277.35},{"$f":"K6*$P$4","v":6870.55},{"$f":"L6*$P$4","v":6696.3},{"$f":"M6*$P$4","v":5397.5}]
[19,null,{"$f":"O7*$X$2","v":11024.5},{"$f":"P7*$X$2","v":10277.35},{"$f":"Q7*$X$2","v":6870.55},{"$f":"R7*$X$2","v":6696.3},{"$f":"S7*$X$2","v":5397.5},null,{"$f":"IF('INGRESO DE DATOS'!$W$19=1,'Tablas Guyanas y Santa Elena'!C7,'Tablas Resto de Ecuador'!C7)","v":12970},{"$f":"IF('INGRESO DE DATOS'!$W$19=1,'Tablas Guyanas y Santa Elena'!D7,'Tablas Resto de Ecuador'!D7)","v":12091},{"$f":"IF('INGRESO DE DATOS'!$W$19=1,'Tablas Guyanas y Santa Elena'!E7,'Tablas Resto de Ecuador'!E7)","v":8083},{"$f":"IF('INGRESO DE DATOS'!$W$19=1,'Tablas Guyanas y Santa Elena'!F7,'Tablas Resto de Ecuador'!F7)","v":7878},{"$f":"IF('INGRESO DE DATOS'!$W$19=1,'Tablas Guyanas y Santa Elena'!G7,'Tablas Resto de Ecuador'!G7)","v":6350},null,{"$f":"I7*$P$4","v":11024.5},{"$f":"J7*$P$4","v":10277.35},{"$f":"K7*$P$4","v":6870.55},{"$f":"L7*$P$4","v":6696.3},{"$f":"M7*$P$4","v":5397.5}]
[20,null,11024.5,10277.35,6870.55,6696.3,5397.5,null,{"$f":"IF('INGRESO DE DATOS'!$W$19=1,'Tablas Guyanas y Santa Elena'!C8,'Tablas Resto de Ecuador'!C8)","v":12970},{"$f":"IF('INGRESO DE DATOS'!$W$19=1,'Tablas Guyanas y Santa Elena'!D8,'Tablas Resto de Ecuador'!D8)","v":12091},{"$f":"IF('INGRESO DE DATOS'!$W$19=1,'Tablas Guyanas y Santa Elena'!E8,'Tablas Resto de Ecuador'!E8)","v":8083},{"$f":"IF('INGRESO DE DATOS'!$W$19=1,'Tablas Guyanas y Santa Elena'!F8,'Tablas Resto de Ecuador'!F8)","v":7878},{"$f":"IF('INGRESO DE DATOS'!$W$19=1,'Tablas Guyanas y Santa Elena'!G8,'Tablas Resto de Ecuador'!G8)","v":6350},null,11024.5,10277.35,6870.55,6696.3,5397.5]
[21,null,11024.5,10277.35,6870.55,6696.3,5397.5,null,{"$f":"IF('INGRESO DE DATOS'!$W$19=1,'Tablas Guyanas y Santa Elena'!C9,'Tablas Resto de Ecuador'!C9)","v":12970},{"$f":"IF('INGRESO DE DATOS'!$W$19=1,'Tablas Guyanas y Santa Elena'!D9,'Tablas Resto de Ecuador'!D9)","v":12091},{"$f":"IF('INGRESO DE DATOS'!$W$19=1,'Tablas Guyanas y Santa Elena'!E9,'Tablas Resto de Ecuador'!E9)","v":8083},{"$f":"IF('INGRESO DE DATOS'!$W$19=1,'Tablas Guyanas y Santa Elena'!F9,'Tablas Resto de Ecuador'!F9)","v":7878},{"$f":"IF('INGRESO DE DATOS'!$W$19=1,'Tablas Guyanas y Santa Elena'!G9,'Tablas Resto de Ecuador'!G9)","v":6350},null,11024.5,10277.35,6870.55,6696.3,5397.5]
[22,null,11024.5,10277.35,6870.55,6696.3,5397.5,null,{"$f":"IF('INGRESO DE DATOS'!$W$19=1,'Tablas Guyanas y Santa Elena'!C10,'Tablas Resto de Ecuador'!C10)","v":12970},{"$f":"IF('INGRESO DE DATOS'!$W$19=1,'Tablas Guyanas y Santa Elena'!D10,'Tablas Resto de Ecuador'!D10)","v":12091},{"$f":"IF('INGRESO DE DATOS'!$W$19=1,'Tablas Guyanas y Santa Elena'!E10,'Tablas Resto de Ecuador'!E10)","v":8083},{"$f":"IF('INGRESO DE DATOS'!$W$19=1,'Tablas Guyanas y Santa Elena'!F10,'Tablas Resto de Ecuador'!F10)","v":7878},{"$f":"IF('INGRESO DE DATOS'!$W$19=1,'Tablas Guyanas y Santa Elena'!G10,'Tablas Resto de Ecuador'!G10)","v":6350},null,11024.5,10277.35,6870.55,6696.3,5397.5]
[23,null,11024.5,10277.35,6870.55,6696.3,5397.5,null,{"$f":"IF('INGRESO DE DATOS'!$W$19=1,'Tablas Guyanas y Santa Elena'!C11,'Tablas Resto de Ecuador'!C11)","v":12970},{"$f":"IF('INGRESO DE DATOS'!$W$19=1,'Tablas Guyanas y Santa Elena'!D11,'Tablas Resto de Ecuador'!D11)","v":12091},{"$f":"IF('INGRESO DE DATOS'!$W$19=1,'Tablas Guyanas y Santa Elena'!E11,'Tablas Resto de Ecuador'!E11)","v":8083},{"$f":"IF('INGRESO DE DATOS'!$W$19=1,'Tablas Guyanas y Santa Elena'!F11,'Tablas Resto de Ecuador'!F11)","v":7878},{"$f":"IF('INGRESO DE DATOS'!$W$19=1,'Tablas Guyanas y Santa Elena'!G11,'Tablas Resto de Ecuador'!G11)","v":6350},null,11024.5,10277.35,6870.55,6696.3,5397.5]
[24,null,11024.5,10277.35,6870.55,6696.3,5397.5,null,{"$f":"IF('INGRESO DE DATOS'!$W$19=1,'Tablas Guyanas y Santa Elena'!C12,'Tablas Resto de Ecuador'!C12)","v":12970},{"$f":"IF('INGRESO DE DATOS'!$W$19=1,'Tablas Guyanas y Santa Elena'!D12,'Tablas Resto de Ecuador'!D12)","v":12091},{"$f":"IF('INGRESO DE DATOS'!$W$19=1,'Tablas Guyanas y Santa Elena'!E12,'Tablas Resto de Ecuador'!E12)","v":8083},{"$f":"IF('INGRESO DE DATOS'!$W$19=1,'Tablas Guyanas y Santa Elena'!F12,'Tablas Resto de Ecuador'!F12)","v":7878},{"$f":"IF('INGRESO DE DATOS'!$W$19=1,'Tablas Guyanas y Santa Elena'!G12,'Tablas Resto de Ecuador'!G12)","v":6350},null,11024.5,10277.35,6870.55,6696.3,5397.5]
[25,null,12903,10500.9,7547.15,7711.2,5730.7,null,{"$f":"IF('INGRESO DE DATOS'!$W$19=1,'Tablas Guyanas y Santa Elena'!C13,'Tablas Resto de Ecuador'!C13)","v":15180},{"$f":"IF('INGRESO DE DATOS'!$W$19=1,'Tablas Guyanas y Santa Elena'!D13,'Tablas Resto de Ecuador'!D13)","v":12354},{"$f":"IF('INGRESO DE DATOS'!$W$19=1,'Tablas Guyanas y Santa Elena'!E13,'Tablas Resto de Ecuador'!E13)","v":8879},{"$f":"IF('INGRESO DE DATOS'!$W$19=1,'Tablas Guyanas y Santa Elena'!F13,'Tablas Resto de Ecuador'!F13)","v":9072},{"$f":"IF('INGRESO DE DATOS'!$W$19=1,'Tablas Guyanas y Santa Elena'!G13,'Tablas Resto de Ecuador'!G13)","v":6742},null,12903,10500.9,7547.15,7711.2,5730.7]
[26,null,12903,10500.9,7547.15,7711.2,5730.7,null,{"$f":"IF('INGRESO DE DATOS'!$W$19=1,'Tablas Guyanas y Santa Elena'!C14,'Tablas Resto de Ecuador'!C14)","v":15180},{"$f":"IF('INGRESO DE DATOS'!$W$19=1,'Tablas Guyanas y Santa Elena'!D14,'Tablas Resto de Ecuador'!D14)","v":12354},{"$f":"IF('INGRESO DE DATOS'!$W$19=1,'Tablas Guyanas y Santa Elena'!E14,'Tablas Resto de Ecuador'!E14)","v":8879},{"$f":"IF('INGRESO DE DATOS'!$W$19=1,'Tablas Guyanas y Santa Elena'!F14,'Tablas Resto de Ecuador'!F14)","v":9072},{"$f":"IF('INGRESO DE DATOS'!$W$19=1,'Tablas Guyanas y Santa Elena'!G14,'Tablas Resto de Ecuador'!G14)","v":6742},null,12903,10500.9,7547.15,7711.2,5730.7]
[27,null,12903,10500.9,7547.15,7711.2,5730.7,null,{"$f":"IF('INGRESO DE DATOS'!$W$19=1,'Tablas Guyanas y Santa Elena'!C15,'Tablas Resto de Ecuador'!C15)","v":15180},{"$f":"IF('INGRESO DE DATOS'!$W$19=1,'Tablas Guyanas y Santa Elena'!D15,'Tablas Resto de Ecuador'!D15)","v":12354},{"$f":"IF('INGRESO DE DATOS'!$W$19=1,'Tablas Guyanas y Santa Elena'!E15,'Tablas Resto de Ecuador'!E15)","v":8879},{"$f":"IF('INGRESO DE DATOS'!$W$19=1,'Tablas Guyanas y Santa Elena'!F15,'Tablas Resto de Ecuador'!F15)","v":9072},{"$f":"IF('INGRESO DE DATOS'!$W$19=1,'Tablas Guyanas y Santa Elena'!G15,'Tablas Resto de Ecuador'!G15)","v":6742},null,12903,10500.9,7547.15,7711.2,5730.7]
[28,null,12903,10500.9,7547.15,7711.2,5730.7,null,{"$f":"IF('INGRESO DE DATOS'!$W$19=1,'Tablas Guyanas y Santa Elena'!C16,'Tablas Resto de Ecuador'!C16)","v":15180},{"$f":"IF('INGRESO DE DATOS'!$W$19=1,'Tablas Guyanas y Santa Elena'!D16,'Tablas Resto de Ecuador'!D16)","v":12354},{"$f":"IF('INGRESO DE DATOS'!$W$19=1,'Tablas Guyanas y Santa Elena'!E16,'Tablas Resto de Ecuador'!E16)","v":8879},{"$f":"IF('INGRESO DE DATOS'!$W$19=1,'Tablas Guyanas y Santa Elena'!F16,'Tablas Resto de Ecuador'!F16)","v":9072},{"$f":"IF('INGRESO DE DATOS'!$W$19=1,'Tablas Guyanas y Santa Elena'!G16,'Tablas Resto de Ecuador'!G16)","v":6742},null,12903,10500.9,7547.15,7711.2,5730.7]
[29,null,12903,10500.9,7547.15,7711.2,5730.7,null,{"$f":"IF('INGRESO DE DATOS'!$W$19=1,'Tablas Guyanas y Santa Elena'!C17,'Tablas Resto de Ecuador'!C17)","v":15180},{"$f":"IF('INGRESO DE DATOS'!$W$19=1,'Tablas Guyanas y Santa Elena'!D17,'Tablas Resto de Ecuador'!D17)","v":12354},{"$f":"IF('INGRESO DE DATOS'!$W$19=1,'Tablas Guyanas y Santa Elena'!E17,'Tablas Resto de Ecuador'!E17)","v":8879},{"$f":"IF('INGRESO DE DATOS'!$W$19=1,'Tablas Guyanas y Santa Elena'!F17,'Tablas Resto de Ecuador'!F17)","v":9072},{"$f":"IF('INGRESO DE DATOS'!$W$19=1,'Tablas Guyanas y Santa Elena'!G17,'Tablas Resto de Ecuador'!G17)","v":6742},null,12903,10500.9,7547.15,7711.2,5730.7]
[30,null,14346.3,11986.699999999999,8846.7999999999993,7520.8,6324.8499999999995,null,{"$f":"IF('INGRESO DE DATOS'!$W$19=1,'Tablas Guyanas y Santa Elena'!C18,'Tablas Resto de Ecuador'!C18)","v":16878},{"$f":"IF('INGRESO DE DATOS'!$W$19=1,'Tablas Guyanas y Santa Elena'!D18,'Tablas Resto de Ecuador'!D18)","v":14102},{"$f":"IF('INGRESO DE DATOS'!$W$19=1,'Tablas Guyanas y Santa Elena'!E18,'Tablas Resto de Ecuador'!E18)","v":10408},{"$f":"IF('INGRESO DE DATOS'!$W$19=1,'Tablas Guyanas y Santa Elena'!F18,'Tablas Resto de Ecuador'!F18)","v":8848},{"$f":"IF('INGRESO DE DATOS'!$W$19=1,'Tablas Guyanas y Santa Elena'!G18,'Tablas Resto de Ecuador'!G18)","v":7441},null,14346.3,11986.699999999999,8846.7999999999993,7520.8,6324.8499999999995]
[31,null,14346.3,11986.699999999999,8846.7999999999993,7520.8,6324.8499999999995,null,{"$f":"IF('INGRESO DE DATOS'!$W$19=1,'Tablas Guyanas y Santa Elena'!C19,'Tablas Resto de Ecuador'!C19)","v":16878},{"$f":"IF('INGRESO DE DATOS'!$W$19=1,'Tablas Guyanas y Santa Elena'!D19,'Tablas Resto de Ecuador'!D19)","v":14102},{"$f":"IF('INGRESO DE DATOS'!$W$19=1,'Tablas Guyanas y Santa Elena'!E19,'Tablas Resto de Ecuador'!E19)","v":10408},{"$f":"IF('INGRESO DE DATOS'!$W$19=1,'Tablas Guyanas y Santa Elena'!F19,'Tablas Resto de Ecuador'!F19)","v":8848},{"$f":"IF('INGRESO DE DATOS'!$W$19=1,'Tablas Guyanas y Santa Elena'!G19,'Tablas Resto de Ecuador'!G19)","v":7441},null,14346.3,11986.699999999999,8846.7999999999993,7520.8,6324.8499999999995]
[32,null,14346.3,11986.699999999999,8846.7999999999993,7520.8,6324.8499999999995,null,{"$f":"IF('INGRESO DE DATOS'!$W$19=1,'Tablas Guyanas y Santa Elena'!C20,'Tablas Resto de Ecuador'!C20)","v":16878},{"$f":"IF('INGRESO DE DATOS'!$W$19=1,'Tablas Guyanas y Santa Elena'!D20,'Tablas Resto de Ecuador'!D20)","v":14102},{"$f":"IF('INGRESO DE DATOS'!$W$19=1,'Tablas Guyanas y Santa Elena'!E20,'Tablas Resto de Ecuador'!E20)","v":10408},{"$f":"IF('INGRESO DE DATOS'!$W$19=1,'Tablas Guyanas y Santa Elena'!F20,'Tablas Resto de Ecuador'!F20)","v":8848},{"$f":"IF('INGRESO DE DATOS'!$W$19=1,'Tablas Guyanas y Santa Elena'!G20,'Tablas Resto de Ecuador'!G20)","v":7441},null,14346.3,11986.699999999999,8846.7999999999993,7520.8,6324.8499999999995]
[33,null,14346.3,11986.699999999999,8846.7999999999993,7520.8,6324.8499999999995,null,{"$f":"IF('INGRESO DE DATOS'!$W$19=1,'Tablas Guyanas y Santa Elena'!C21,'Tablas Resto de Ecuador'!C21)","v":16878},{"$f":"IF('INGRESO DE DATOS'!$W$19=1,'Tablas Guyanas y Santa Elena'!D21,'Tablas Resto de Ecuador'!D21)","v":14102},{"$f":"IF('INGRESO DE DATOS'!$W$19=1,'Tablas Guyanas y Santa Elena'!E21,'Tablas Resto de Ecuador'!E21)","v":10408},{"$f":"IF('INGRESO DE DATOS'!$W$19=1,'Tablas Guyanas y Santa Elena'!F21,'Tablas Resto de Ecuador'!F21)","v":8848},{"$f":"IF('INGRESO DE DATOS'!$W$19=1,'Tablas Guyanas y Santa Elena'!G21,'Tablas Resto de Ecuador'!G21)","v":7441},null,14346.3,11986.699999999999,8846.7999999999993,7520.8,6324.8499999999995]
[34,null,14346.3,11986.699999999999,8846.7999999999993,7520.8,6324.8499999999995,null,{"$f":"IF('INGRESO DE DATOS'!$W$19=1,'Tablas Guyanas y Santa Elena'!C22,'Tablas Resto de Ecuador'!C22)","v":16878},{"$f":"IF('INGRESO DE DATOS'!$W$19=1,'Tablas Guyanas y Santa Elena'!D22,'Tablas Resto de Ecuador'!D22)","v":14102},{"$f":"IF('INGRESO DE DATOS'!$W$19=1,'Tablas Guyanas y Santa Elena'!E22,'Tablas Resto de Ecuador'!E22)","v":10408},{"$f":"IF('INGRESO DE DATOS'!$W$19=1,'Tablas Guyanas y Santa Elena'!F22,'Tablas Resto de Ecuador'!F22)","v":8848},{"$f":"IF('INGRESO DE DATOS'!$W$19=1,'Tablas Guyanas y Santa Elena'!G22,'Tablas Resto de Ecuador'!G22)","v":7441},null,14346.3,11986.699999999999,8846.7999999999993,7520.8,6324.8499999999995]
[35,null,16021.65,13427.449999999999,11148.6,9667.0499999999993,7021.8499999999995,null,{"$f":"IF('INGRESO DE DATOS'!$W$19=1,'Tablas Guyanas y Santa Elena'!C23,'Tablas Resto de Ecuador'!C23)","v":18849},{"$f":"IF('INGRESO DE DATOS'!$W$19=1,'Tablas Guyanas y Santa Elena'!D23,'Tablas Resto de Ecuador'!D23)","v":15797},{"$f":"IF('INGRESO DE DATOS'!$W$19=1,'Tablas Guyanas y Santa Elena'!E23,'Tablas Resto de Ecuador'!E23)","v":13116},{"$f":"IF('INGRESO DE DATOS'!$W$19=1,'Tablas Guyanas y Santa Elena'!F23,'Tablas Resto de Ecuador'!F23)","v":11373},{"$f":"IF('INGRESO DE DATOS'!$W$19=1,'Tablas Guyanas y Santa Elena'!G23,'Tablas Resto de Ecuador'!G23)","v":8261},null,16021.65,13427.449999999999,11148.6,9667.0499999999993,7021.8499999999995]
[36,null,16021.65,13427.449999999999,11148.6,9667.0499999999993,7021.8499999999995,null,{"$f":"IF('INGRESO DE DATOS'!$W$19=1,'Tablas Guyanas y Santa Elena'!C24,'Tablas Resto de Ecuador'!C24)","v":18849},{"$f":"IF('INGRESO DE DATOS'!$W$19=1,'Tablas Guyanas y Santa Elena'!D24,'Tablas Resto de Ecuador'!D24)","v":15797},{"$f":"IF('INGRESO DE DATOS'!$W$19=1,'Tablas Guyanas y Santa Elena'!E24,'Tablas Resto de Ecuador'!E24)","v":13116},{"$f":"IF('INGRESO DE DATOS'!$W$19=1,'Tablas Guyanas y Santa Elena'!F24,'Tablas Resto de Ecuador'!F24)","v":11373},{"$f":"IF('INGRESO DE DATOS'!$W$19=1,'Tablas Guyanas y Santa Elena'!G24,'Tablas Resto de Ecuador'!G24)","v":8261},null,16021.65,13427.449999999999,11148.6,9667.0499999999993,7021.8499999999995]
[37,null,16021.65,13427.449999999999,11148.6,9667.0499999999993,7021.8499999999995,null,{"$f":"IF('INGRESO DE DATOS'!$W$19=1,'Tablas Guyanas y Santa Elena'!C25,'Tablas Resto de Ecuador'!C25)","v":18849},{"$f":"IF('INGRESO DE DATOS'!$W$19=1,'Tablas Guyanas y Santa Elena'!D25,'Tablas Resto de Ecuador'!D25)","v":15797},{"$f":"IF('INGRESO DE DATOS'!$W$19=1,'Tablas Guyanas y Santa Elena'!E25,'Tablas Resto de Ecuador'!E25)","v":13116},{"$f":"IF('INGRESO DE DATOS'!$W$19=1,'Tablas Guyanas y Santa Elena'!F25,'Tablas Resto de Ecuador'!F25)","v":11373},{"$f":"IF('INGRESO DE DATOS'!$W$19=1,'Tablas Guyanas y Santa Elena'!G25,'Tablas Resto de Ecuador'!G25)","v":8261},null,16021.65,13427.449999999999,11148.6,9667.0499999999993,7021.8499999999995]
[38,null,16021.65,13427.449999999999,11148.6,9667.0499999999993,7021.8499999999995,null,{"$f":"IF('INGRESO DE DATOS'!$W$19=1,'Tablas Guyanas y Santa Elena'!C26,'Tablas Resto de Ecuador'!C26)","v":18849},{"$f":"IF('INGRESO DE DATOS'!$W$19=1,'Tablas Guyanas y Santa Elena'!D26,'Tablas Resto de Ecuador'!D26)","v":15797},{"$f":"IF('INGRESO DE DATOS'!$W$19=1,'Tablas Guyanas y Santa Elena'!E26,'Tablas Resto de Ecuador'!E26)","v":13116},{"$f":"IF('INGRESO DE DATOS'!$W$19=1,'Tablas Guyanas y Santa Elena'!F26,'Tablas Resto de Ecuador'!F26)","v":11373},{"$f":"IF('INGRESO DE DATOS'!$W$19=1,'Tablas Guyanas y Santa Elena'!G26,'Tablas Resto de Ecuador'!G26)","v":8261},null,16021.65,13427.449999999999,11148.6,9667.0499999999993,7021.8499999999995]
[39,null,16021.65,13427.449999999999,11148.6,9667.0499999999993,7021.8499999999995,null,{"$f":"IF('INGRESO DE DATOS'!$W$19=1,'Tablas Guyanas y Santa Elena'!C27,'Tablas Resto de Ecuador'!C27)","v":18849},{"$f":"IF('INGRESO DE DATOS'!$W$19=1,'Tablas Guyanas y Santa Elena'!D27,'Tablas Resto de Ecuador'!D27)","v":15797},{"$f":"IF('INGRESO DE DATOS'!$W$19=1,'Tablas Guyanas y Santa Elena'!E27,'Tablas Resto de Ecuador'!E27)","v":13116},{"$f":"IF('INGRESO DE DATOS'!$W$19=1,'Tablas Guyanas y Santa Elena'!F27,'Tablas Resto de Ecuador'!F27)","v":11373},{"$f":"IF('INGRESO DE DATOS'!$W$19=1,'Tablas Guyanas y Santa Elena'!G27,'Tablas Resto de Ecuador'!G27)","v":8261},null,16021.65,13427.449999999999,11148.6,9667.0499999999993,7021.8499999999995]
[40,null,17943.5,15106.199999999999,12183.05,10781.4,7829.3499999999995,null,{"$f":"IF('INGRESO DE DATOS'!$W$19=1,'Tablas Guyanas y Santa Elena'!C28,'Tablas Resto de Ecuador'!C28)","v":21110},{"$f":"IF('INGRESO DE DATOS'!$W$19=1,'Tablas Guyanas y Santa Elena'!D28,'Tablas Resto de Ecuador'!D28)","v":17772},{"$f":"IF('INGRESO DE DATOS'!$W$19=1,'Tablas Guyanas y Santa Elena'!E28,'Tablas Resto de Ecuador'!E28)","v":14333},{"$f":"IF('INGRESO DE DATOS'!$W$19=1,'Tablas Guyanas y Santa Elena'!F28,'Tablas Resto de Ecuador'!F28)","v":12684},{"$f":"IF('INGRESO DE DATOS'!$W$19=1,'Tablas Guyanas y Santa Elena'!G28,'Tablas Resto de Ecuador'!G28)","v":9211},null,17943.5,15106.199999999999,12183.05,10781.4,7829.3499999999995]
[41,null,17943.5,15106.199999999999,12183.05,10781.4,7829.3499999999995,null,{"$f":"IF('INGRESO DE DATOS'!$W$19=1,'Tablas Guyanas y Santa Elena'!C29,'Tablas Resto de Ecuador'!C29)","v":21110},{"$f":"IF('INGRESO DE DATOS'!$W$19=1,'Tablas Guyanas y Santa Elena'!D29,'Tablas Resto de Ecuador'!D29)","v":17772},{"$f":"IF('INGRESO DE DATOS'!$W$19=1,'Tablas Guyanas y Santa Elena'!E29,'Tablas Resto de Ecuador'!E29)","v":14333},{"$f":"IF('INGRESO DE DATOS'!$W$19=1,'Tablas Guyanas y Santa Elena'!F29,'Tablas Resto de Ecuador'!F29)","v":12684},{"$f":"IF('INGRESO DE DATOS'!$W$19=1,'Tablas Guyanas y Santa Elena'!G29,'Tablas Resto de Ecuador'!G29)","v":9211},null,17943.5,15106.199999999999,12183.05,10781.4,7829.3499999999995]
[42,null,17943.5,15106.199999999999,12183.05,10781.4,7829.3499999999995,null,{"$f":"IF('INGRESO DE DATOS'!$W$19=1,'Tablas Guyanas y Santa Elena'!C30,'Tablas Resto de Ecuador'!C30)","v":21110},{"$f":"IF('INGRESO DE DATOS'!$W$19=1,'Tablas Guyanas y Santa Elena'!D30,'Tablas Resto de Ecuador'!D30)","v":17772},{"$f":"IF('INGRESO DE DATOS'!$W$19=1,'Tablas Guyanas y Santa Elena'!E30,'Tablas Resto de Ecuador'!E30)","v":14333},{"$f":"IF('INGRESO DE DATOS'!$W$19=1,'Tablas Guyanas y Santa Elena'!F30,'Tablas Resto de Ecuador'!F30)","v":12684},{"$f":"IF('INGRESO DE DATOS'!$W$19=1,'Tablas Guyanas y Santa Elena'!G30,'Tablas Resto de Ecuador'!G30)","v":9211},null,17943.5,15106.199999999999,12183.05,10781.4,7829.3499999999995]
[43,null,17943.5,15106.199999999999,12183.05,10781.4,7829.3499999999995,null,{"$f":"IF('INGRESO DE DATOS'!$W$19=1,'Tablas Guyanas y Santa Elena'!C31,'Tablas Resto de Ecuador'!C31)","v":21110},{"$f":"IF('INGRESO DE DATOS'!$W$19=1,'Tablas Guyanas y Santa Elena'!D31,'Tablas Resto de Ecuador'!D31)","v":17772},{"$f":"IF('INGRESO DE DATOS'!$W$19=1,'Tablas Guyanas y Santa Elena'!E31,'Tablas Resto de Ecuador'!E31)","v":14333},{"$f":"IF('INGRESO DE DATOS'!$W$19=1,'Tablas Guyanas y Santa Elena'!F31,'Tablas Resto de Ecuador'!F31)","v":12684},{"$f":"IF('INGRESO DE DATOS'!$W$19=1,'Tablas Guyanas y Santa Elena'!G31,'Tablas Resto de Ecuador'!G31)","v":9211},null,17943.5,15106.199999999999,12183.05,10781.4,7829.3499999999995]
[44,null,17943.5,15106.199999999999,12183.05,10781.4,7829.3499999999995,null,{"$f":"IF('INGRESO DE DATOS'!$W$19=1,'Tablas Guyanas y Santa Elena'!C32,'Tablas Resto de Ecuador'!C32)","v":21110},{"$f":"IF('INGRESO DE DATOS'!$W$19=1,'Tablas Guyanas y Santa Elena'!D32,'Tablas Resto de Ecuador'!D32)","v":17772},{"$f":"IF('INGRESO DE DATOS'!$W$19=1,'Tablas Guyanas y Santa Elena'!E32,'Tablas Resto de Ecuador'!E32)","v":14333},{"$f":"IF('INGRESO DE DATOS'!$W$19=1,'Tablas Guyanas y Santa Elena'!F32,'Tablas Resto de Ecuador'!F32)","v":12684},{"$f":"IF('INGRESO DE DATOS'!$W$19=1,'Tablas Guyanas y Santa Elena'!G32,'Tablas Resto de Ecuador'!G32)","v":9211},null,17943.5,15106.199999999999,12183.05,10781.4,7829.3499999999995]
[45,null,19989.45,16026.75,13680.75,11611,8734.6,null,{"$f":"IF('INGRESO DE DATOS'!$W$19=1,'Tablas Guyanas y Santa Elena'!C33,'Tablas Resto de Ecuador'!C33)","v":23517},{"$f":"IF('INGRESO DE DATOS'!$W$19=1,'Tablas Guyanas y Santa Elena'!D33,'Tablas Resto de Ecuador'!D33)","v":18855},{"$f":"IF('INGRESO DE DATOS'!$W$19=1,'Tablas Guyanas y Santa Elena'!E33,'Tablas Resto de Ecuador'!E33)","v":16095},{"$f":"IF('INGRESO DE DATOS'!$W$19=1,'Tablas Guyanas y Santa Elena'!F33,'Tablas Resto de Ecuador'!F33)","v":13660},{"$f":"IF('INGRESO DE DATOS'!$W$19=1,'Tablas Guyanas y Santa Elena'!G33,'Tablas Resto de Ecuador'!G33)","v":10276},null,19989.45,16026.75,13680.75,11611,8734.6]
[46,null,19989.45,16026.75,13680.75,11611,8734.6,null,{"$f":"IF('INGRESO DE DATOS'!$W$19=1,'Tablas Guyanas y Santa Elena'!C34,'Tablas Resto de Ecuador'!C34)","v":23517},{"$f":"IF('INGRESO DE DATOS'!$W$19=1,'Tablas Guyanas y Santa Elena'!D34,'Tablas Resto de Ecuador'!D34)","v":18855},{"$f":"IF('INGRESO DE DATOS'!$W$19=1,'Tablas Guyanas y Santa Elena'!E34,'Tablas Resto de Ecuador'!E34)","v":16095},{"$f":"IF('INGRESO DE DATOS'!$W$19=1,'Tablas Guyanas y Santa Elena'!F34,'Tablas Resto de Ecuador'!F34)","v":13660},{"$f":"IF('INGRESO DE DATOS'!$W$19=1,'Tablas Guyanas y Santa Elena'!G34,'Tablas Resto de Ecuador'!G34)","v":10276},null,19989.45,16026.75,13680.75,11611,8734.6]
[47,null,19989.45,16026.75,13680.75,11611,8734.6,null,{"$f":"IF('INGRESO DE DATOS'!$W$19=1,'Tablas Guyanas y Santa Elena'!C35,'Tablas Resto de Ecuador'!C35)","v":23517},{"$f":"IF('INGRESO DE DATOS'!$W$19=1,'Tablas Guyanas y Santa Elena'!D35,'Tablas Resto de Ecuador'!D35)","v":18855},{"$f":"IF('INGRESO DE DATOS'!$W$19=1,'Tablas Guyanas y Santa Elena'!E35,'Tablas Resto de Ecuador'!E35)","v":16095},{"$f":"IF('INGRESO DE DATOS'!$W$19=1,'Tablas Guyanas y Santa Elena'!F35,'Tablas Resto de Ecuador'!F35)","v":13660},{"$f":"IF('INGRESO DE DATOS'!$W$19=1,'Tablas Guyanas y Santa Elena'!G35,'Tablas Resto de Ecuador'!G35)","v":10276},null,19989.45,16026.75,13680.75,11611,8734.6]
[48,null,19989.45,16026.75,13680.75,11611,8734.6,null,{"$f":"IF('INGRESO DE DATOS'!$W$19=1,'Tablas Guyanas y Santa Elena'!C36,'Tablas Resto de Ecuador'!C36)","v":23517},{"$f":"IF('INGRESO DE DATOS'!$W$19=1,'Tablas Guyanas y Santa Elena'!D36,'Tablas Resto de Ecuador'!D36)","v":18855},{"$f":"IF('INGRESO DE DATOS'!$W$19=1,'Tablas Guyanas y Santa Elena'!E36,'Tablas Resto de Ecuador'!E36)","v":16095},{"$f":"IF('INGRESO DE DATOS'!$W$19=1,'Tablas Guyanas y Santa Elena'!F36,'Tablas Resto de Ecuador'!F36)","v":13660},{"$f":"IF('INGRESO DE DATOS'!$W$19=1,'Tablas Guyanas y Santa Elena'!G36,'Tablas Resto de Ecuador'!G36)","v":10276},null,19989.45,16026.75,13680.75,11611,8734.6]
[49,null,19989.45,16026.75,13680.75,11611,8734.6,null,{"$f":"IF('INGRESO DE DATOS'!$W$19=1,'Tablas Guyanas y Santa Elena'!C37,'Tablas Resto de Ecuador'!C37)","v":23517},{"$f":"IF('INGRESO DE DATOS'!$W$19=1,'Tablas Guyanas y Santa Elena'!D37,'Tablas Resto de Ecuador'!D37)","v":18855},{"$f":"IF('INGRESO DE DATOS'!$W$19=1,'Tablas Guyanas y Santa Elena'!E37,'Tablas Resto de Ecuador'!E37)","v":16095},{"$f":"IF('INGRESO DE DATOS'!$W$19=1,'Tablas Guyanas y Santa Elena'!F37,'Tablas Resto de Ecuador'!F37)","v":13660},{"$f":"IF('INGRESO DE DATOS'!$W$19=1,'Tablas Guyanas y Santa Elena'!G37,'Tablas Resto de Ecuador'!G37)","v":10276},null,19989.45,16026.75,13680.75,11611,8734.6]
[50,null,21584.899999999998,17457.3,14109.15,12831.6,9564.1999999999989,null,{"$f":"IF('INGRESO DE DATOS'!$W$19=1,'Tablas Guyanas y Santa Elena'!C38,'Tablas Resto de Ecuador'!C38)","v":25394},{"$f":"IF('INGRESO DE DATOS'!$W$19=1,'Tablas Guyanas y Santa Elena'!D38,'Tablas Resto de Ecuador'!D38)","v":20538},{"$f":"IF('INGRESO DE DATOS'!$W$19=1,'Tablas Guyanas y Santa Elena'!E38,'Tablas Resto de Ecuador'!E38)","v":16599},{"$f":"IF('INGRESO DE DATOS'!$W$19=1,'Tablas Guyanas y Santa Elena'!F38,'Tablas Resto de Ecuador'!F38)","v":15096},{"$f":"IF('INGRESO DE DATOS'!$W$19=1,'Tablas Guyanas y Santa Elena'!G38,'Tablas Resto de Ecuador'!G38)","v":11252},null,21584.899999999998,17457.3,14109.15,12831.6,9564.1999999999989]
[51,null,21584.899999999998,17457.3,14109.15,12831.6,9564.1999999999989,null,{"$f":"IF('INGRESO DE DATOS'!$W$19=1,'Tablas Guyanas y Santa Elena'!C39,'Tablas Resto de Ecuador'!C39)","v":25394},{"$f":"IF('INGRESO DE DATOS'!$W$19=1,'Tablas Guyanas y Santa Elena'!D39,'Tablas Resto de Ecuador'!D39)","v":20538},{"$f":"IF('INGRESO DE DATOS'!$W$19=1,'Tablas Guyanas y Santa Elena'!E39,'Tablas Resto de Ecuador'!E39)","v":16599},{"$f":"IF('INGRESO DE DATOS'!$W$19=1,'Tablas Guyanas y Santa Elena'!F39,'Tablas Resto de Ecuador'!F39)","v":15096},{"$f":"IF('INGRESO DE DATOS'!$W$19=1,'Tablas Guyanas y Santa Elena'!G39,'Tablas Resto de Ecuador'!G39)","v":11252},null,21584.899999999998,17457.3,14109.15,12831.6,9564.1999999999989]
[52,null,21584.899999999998,17457.3,14109.15,12831.6,9564.1999999999989,null,{"$f":"IF('INGRESO DE DATOS'!$W$19=1,'Tablas Guyanas y Santa Elena'!C40,'Tablas Resto de Ecuador'!C40)","v":25394},{"$f":"IF('INGRESO DE DATOS'!$W$19=1,'Tablas Guyanas y Santa Elena'!D40,'Tablas Resto de Ecuador'!D40)","v":20538},{"$f":"IF('INGRESO DE DATOS'!$W$19=1,'Tablas Guyanas y Santa Elena'!E40,'Tablas Resto de Ecuador'!E40)","v":16599},{"$f":"IF('INGRESO DE DATOS'!$W$19=1,'Tablas Guyanas y Santa Elena'!F40,'Tablas Resto de Ecuador'!F40)","v":15096},{"$f":"IF('INGRESO DE DATOS'!$W$19=1,'Tablas Guyanas y Santa Elena'!G40,'Tablas Resto de Ecuador'!G40)","v":11252},null,21584.899999999998,17457.3,14109.15,12831.6,9564.1999999999989]
[53,null,21584.899999999998,17457.3,14109.15,12831.6,9564.1999999999989,null,{"$f":"IF('INGRESO DE DATOS'!$W$19=1,'Tablas Guyanas y Santa Elena'!C41,'Tablas Resto de Ecuador'!C41)","v":25394},{"$f":"IF('INGRESO DE DATOS'!$W$19=1,'Tablas Guyanas y Santa Elena'!D41,'Tablas Resto de Ecuador'!D41)","v":20538},{"$f":"IF('INGRESO DE DATOS'!$W$19=1,'Tablas Guyanas y Santa Elena'!E41,'Tablas Resto de Ecuador'!E41)","v":16599},{"$f":"IF('INGRESO DE DATOS'!$W$19=1,'Tablas Guyanas y Santa Elena'!F41,'Tablas Resto de Ecuador'!F41)","v":15096},{"$f":"IF('INGRESO DE DATOS'!$W$19=1,'Tablas Guyanas y Santa Elena'!G41,'Tablas Resto de Ecuador'!G41)","v":11252},null,21584.899999999998,17457.3,14109.15,12831.6,9564.1999999999989]
[54,null,21584.899999999998,17457.3,14109.15,12831.6,9564.1999999999989,null,{"$f":"IF('INGRESO DE DATOS'!$W$19=1,'Tablas Guyanas y Santa Elena'!C42,'Tablas Resto de Ecuador'!C42)","v":25394},{"$f":"IF('INGRESO DE DATOS'!$W$19=1,'Tablas Guyanas y Santa Elena'!D42,'Tablas Resto de Ecuador'!D42)","v":20538},{"$f":"IF('INGRESO DE DATOS'!$W$19=1,'Tablas Guyanas y Santa Elena'!E42,'Tablas Resto de Ecuador'!E42)","v":16599},{"$f":"IF('INGRESO DE DATOS'!$W$19=1,'Tablas Guyanas y Santa Elena'!F42,'Tablas Resto de Ecuador'!F42)","v":15096},{"$f":"IF('INGRESO DE DATOS'!$W$19=1,'Tablas Guyanas y Santa Elena'!G42,'Tablas Resto de Ecuador'!G42)","v":11252},null,21584.899999999998,17457.3,14109.15,12831.6,9564.1999999999989]
[55,null,24472.35,21458.25,17203.149999999998,14852.05,10895.3,null,{"$f":"IF('INGRESO DE DATOS'!$W$19=1,'Tablas Guyanas y Santa Elena'!C43,'Tablas Resto de Ecuador'!C43)","v":28791},{"$f":"IF('INGRESO DE DATOS'!$W$19=1,'Tablas Guyanas y Santa Elena'!D43,'Tablas Resto de Ecuador'!D43)","v":25245},{"$f":"IF('INGRESO DE DATOS'!$W$19=1,'Tablas Guyanas y Santa Elena'!E43,'Tablas Resto de Ecuador'!E43)","v":20239},{"$f":"IF('INGRESO DE DATOS'!$W$19=1,'Tablas Guyanas y Santa Elena'!F43,'Tablas Resto de Ecuador'!F43)","v":17473},{"$f":"IF('INGRESO DE DATOS'!$W$19=1,'Tablas Guyanas y Santa Elena'!G43,'Tablas Resto de Ecuador'!G43)","v":12818},null,24472.35,21458.25,17203.149999999998,14852.05,10895.3]
[56,null,24472.35,21458.25,17203.149999999998,14852.05,10895.3,null,{"$f":"IF('INGRESO DE DATOS'!$W$19=1,'Tablas Guyanas y Santa Elena'!C44,'Tablas Resto de Ecuador'!C44)","v":28791},{"$f":"IF('INGRESO DE DATOS'!$W$19=1,'Tablas Guyanas y Santa Elena'!D44,'Tablas Resto de Ecuador'!D44)","v":25245},{"$f":"IF('INGRESO DE DATOS'!$W$19=1,'Tablas Guyanas y Santa Elena'!E44,'Tablas Resto de Ecuador'!E44)","v":20239},{"$f":"IF('INGRESO DE DATOS'!$W$19=1,'Tablas Guyanas y Santa Elena'!F44,'Tablas Resto de Ecuador'!F44)","v":17473},{"$f":"IF('INGRESO DE DATOS'!$W$19=1,'Tablas Guyanas y Santa Elena'!G44,'Tablas Resto de Ecuador'!G44)","v":12818},null,24472.35,21458.25,17203.149999999998,14852.05,10895.3]
[57,null,24472.35,21458.25,17203.149999999998,14852.05,10895.3,null,{"$f":"IF('INGRESO DE DATOS'!$W$19=1,'Tablas Guyanas y Santa Elena'!C45,'Tablas Resto de Ecuador'!C45)","v":28791},{"$f":"IF('INGRESO DE DATOS'!$W$19=1,'Tablas Guyanas y Santa Elena'!D45,'Tablas Resto de Ecuador'!D45)","v":25245},{"$f":"IF('INGRESO DE DATOS'!$W$19=1,'Tablas Guyanas y Santa Elena'!E45,'Tablas Resto de Ecuador'!E45)","v":20239},{"$f":"IF('INGRESO DE DATOS'!$W$19=1,'Tablas Guyanas y Santa Elena'!F45,'Tablas Resto de Ecuador'!F45)","v":17473},{"$f":"IF('INGRESO DE DATOS'!$W$19=1,'Tablas Guyanas y Santa Elena'!G45,'Tablas Resto de Ecuador'!G45)","v":12818},null,24472.35,21458.25,17203.149999999998,14852.05,10895.3]
[58,null,24472.35,21458.25,17203.149999999998,14852.05,10895.3,null,{"$f":"IF('INGRESO DE DATOS'!$W$19=1,'Tablas Guyanas y Santa Elena'!C46,'Tablas Resto de Ecuador'!C46)","v":28791},{"$f":"IF('INGRESO DE DATOS'!$W$19=1,'Tablas Guyanas y Santa Elena'!D46,'Tablas Resto de Ecuador'!D46)","v":25245},{"$f":"IF('INGRESO DE DATOS'!$W$19=1,'Tablas Guyanas y Santa Elena'!E46,'Tablas Resto de Ecuador'!E46)","v":20239},{"$f":"IF('INGRESO DE DATOS'!$W$19=1,'Tablas Guyanas y Santa Elena'!F46,'Tablas Resto de Ecuador'!F46)","v":17473},{"$f":"IF('INGRESO DE DATOS'!$W$19=1,'Tablas Guyanas y Santa Elena'!G46,'Tablas Resto de Ecuador'!G46)","v":12818},null,24472.35,21458.25,17203.149999999998,14852.05,10895.3]
[59,null,24472.35,21458.25,17203.149999999998,14852.05,10895.3,null,{"$f":"IF('INGRESO DE DATOS'!$W$19=1,'Tablas Guyanas y Santa Elena'!C47,'Tablas Resto de Ecuador'!C47)","v":28791},{"$f":"IF('INGRESO DE DATOS'!$W$19=1,'Tablas Guyanas y Santa Elena'!D47,'Tablas Resto de Ecuador'!D47)","v":25245},{"$f":"IF('INGRESO DE DATOS'!$W$19=1,'Tablas Guyanas y Santa Elena'!E47,'Tablas Resto de Ecuador'!E47)","v":20239},{"$f":"IF('INGRESO DE DATOS'!$W$19=1,'Tablas Guyanas y Santa Elena'!F47,'Tablas Resto de Ecuador'!F47)","v":17473},{"$f":"IF('INGRESO DE DATOS'!$W$19=1,'Tablas Guyanas y Santa Elena'!G47,'Tablas Resto de Ecuador'!G47)","v":12818},null,24472.35,21458.25,17203.149999999998,14852.05,10895.3]
[60,null,26909.3,23586.649999999998,18507.899999999998,16046.3,11653.5,null,{"$f":"IF('INGRESO DE DATOS'!$W$19=1,'Tablas Guyanas y Santa Elena'!C48,'Tablas Resto de Ecuador'!C48)","v":31658},{"$f":"IF('INGRESO DE DATOS'!$W$19=1,'Tablas Guyanas y Santa Elena'!D48,'Tablas Resto de Ecuador'!D48)","v":27749},{"$f":"IF('INGRESO DE DATOS'!$W$19=1,'Tablas Guyanas y Santa Elena'!E48,'Tablas Resto de Ecuador'!E48)","v":21774},{"$f":"IF('INGRESO DE DATOS'!$W$19=1,'Tablas Guyanas y Santa Elena'!F48,'Tablas Resto de Ecuador'!F48)","v":18878},{"$f":"IF('INGRESO DE DATOS'!$W$19=1,'Tablas Guyanas y Santa Elena'!G48,'Tablas Resto de Ecuador'!G48)","v":13710},null,26909.3,23586.649999999998,18507.899999999998,16046.3,11653.5]
[61,null,29988.85,25024,20608.25,17872.099999999999,12976.1,null,{"$f":"IF('INGRESO DE DATOS'!$W$19=1,'Tablas Guyanas y Santa Elena'!C49,'Tablas Resto de Ecuador'!C49)","v":35281},{"$f":"IF('INGRESO DE DATOS'!$W$19=1,'Tablas Guyanas y Santa Elena'!D49,'Tablas Resto de Ecuador'!D49)","v":29440},{"$f":"IF('INGRESO DE DATOS'!$W$19=1,'Tablas Guyanas y Santa Elena'!E49,'Tablas Resto de Ecuador'!E49)","v":24245},{"$f":"IF('INGRESO DE DATOS'!$W$19=1,'Tablas Guyanas y Santa Elena'!F49,'Tablas Resto de Ecuador'!F49)","v":21026},{"$f":"IF('INGRESO DE DATOS'!$W$19=1,'Tablas Guyanas y Santa Elena'!G49,'Tablas Resto de Ecuador'!G49)","v":15266},null,29988.85,25024,20608.25,17872.099999999999,12976.1]
[62,null,31145.7,25862.95,22207.95,19849.2,14411.75,null,{"$f":"IF('INGRESO DE DATOS'!$W$19=1,'Tablas Guyanas y Santa Elena'!C50,'Tablas Resto de Ecuador'!C50)","v":36642},{"$f":"IF('INGRESO DE DATOS'!$W$19=1,'Tablas Guyanas y Santa Elena'!D50,'Tablas Resto de Ecuador'!D50)","v":30427},{"$f":"IF('INGRESO DE DATOS'!$W$19=1,'Tablas Guyanas y Santa Elena'!E50,'Tablas Resto de Ecuador'!E50)","v":26127},{"$f":"IF('INGRESO DE DATOS'!$W$19=1,'Tablas Guyanas y Santa Elena'!F50,'Tablas Resto de Ecuador'!F50)","v":23352},{"$f":"IF('INGRESO DE DATOS'!$W$19=1,'Tablas Guyanas y Santa Elena'!G50,'Tablas Resto de Ecuador'!G50)","v":16955},null,31145.7,25862.95,22207.95,19849.2,14411.75]
[63,null,32426.649999999998,26929.7,23440.45,20830.95,15963,null,{"$f":"IF('INGRESO DE DATOS'!$W$19=1,'Tablas Guyanas y Santa Elena'!C51,'Tablas Resto de Ecuador'!C51)","v":38149},{"$f":"IF('INGRESO DE DATOS'!$W$19=1,'Tablas Guyanas y Santa Elena'!D51,'Tablas Resto de Ecuador'!D51)","v":31682},{"$f":"IF('INGRESO DE DATOS'!$W$19=1,'Tablas Guyanas y Santa Elena'!E51,'Tablas Resto de Ecuador'!E51)","v":27577},{"$f":"IF('INGRESO DE DATOS'!$W$19=1,'Tablas Guyanas y Santa Elena'!F51,'Tablas Resto de Ecuador'!F51)","v":24507},{"$f":"IF('INGRESO DE DATOS'!$W$19=1,'Tablas Guyanas y Santa Elena'!G51,'Tablas Resto de Ecuador'!G51)","v":18780},null,32426.649999999998,26929.7,23440.45,20830.95,15963]
[64,null,34109.65,28451.200000000001,25002.75,22163.75,17249.05,null,{"$f":"IF('INGRESO DE DATOS'!$W$19=1,'Tablas Guyanas y Santa Elena'!C52,'Tablas Resto de Ecuador'!C52)","v":40129},{"$f":"IF('INGRESO DE DATOS'!$W$19=1,'Tablas Guyanas y Santa Elena'!D52,'Tablas Resto de Ecuador'!D52)","v":33472},{"$f":"IF('INGRESO DE DATOS'!$W$19=1,'Tablas Guyanas y Santa Elena'!E52,'Tablas Resto de Ecuador'!E52)","v":29415},{"$f":"IF('INGRESO DE DATOS'!$W$19=1,'Tablas Guyanas y Santa Elena'!F52,'Tablas Resto de Ecuador'!F52)","v":26075},{"$f":"IF('INGRESO DE DATOS'!$W$19=1,'Tablas Guyanas y Santa Elena'!G52,'Tablas Resto de Ecuador'!G52)","v":20293},null,34109.65,28451.200000000001,25002.75,22163.75,17249.05]
[65,null,36403.799999999996,30651.85,27023.200000000001,24051.599999999999,18909.099999999999,null,{"$f":"IF('INGRESO DE DATOS'!$W$19=1,'Tablas Guyanas y Santa Elena'!C53,'Tablas Resto de Ecuador'!C53)","v":42828},{"$f":"IF('INGRESO DE DATOS'!$W$19=1,'Tablas Guyanas y Santa Elena'!D53,'Tablas Resto de Ecuador'!D53)","v":36061},{"$f":"IF('INGRESO DE DATOS'!$W$19=1,'Tablas Guyanas y Santa Elena'!E53,'Tablas Resto de Ecuador'!E53)","v":31792},{"$f":"IF('INGRESO DE DATOS'!$W$19=1,'Tablas Guyanas y Santa Elena'!F53,'Tablas Resto de Ecuador'!F53)","v":28296},{"$f":"IF('INGRESO DE DATOS'!$W$19=1,'Tablas Guyanas y Santa Elena'!G53,'Tablas Resto de Ecuador'!G53)","v":22246},null,36403.799999999996,30651.85,27023.200000000001,24051.599999999999,18909.099999999999]
[66,null,39498.65,33745,29653.1,26663.649999999998,21249.149999999998,null,{"$f":"IF('INGRESO DE DATOS'!$W$19=1,'Tablas Guyanas y Santa Elena'!C54,'Tablas Resto de Ecuador'!C54)","v":46469},{"$f":"IF('INGRESO DE DATOS'!$W$19=1,'Tablas Guyanas y Santa Elena'!D54,'Tablas Resto de Ecuador'!D54)","v":39700},{"$f":"IF('INGRESO DE DATOS'!$W$19=1,'Tablas Guyanas y Santa Elena'!E54,'Tablas Resto de Ecuador'!E54)","v":34886},{"$f":"IF('INGRESO DE DATOS'!$W$19=1,'Tablas Guyanas y Santa Elena'!F54,'Tablas Resto de Ecuador'!F54)","v":31369},{"$f":"IF('INGRESO DE DATOS'!$W$19=1,'Tablas Guyanas y Santa Elena'!G54,'Tablas Resto de Ecuador'!G54)","v":24999},null,39498.65,33745,29653.1,26663.649999999998,21249.149999999998]
[67,null,43253.95,37579.35,32804.9,29870.7,23276.399999999998,null,{"$f":"IF('INGRESO DE DATOS'!$W$19=1,'Tablas Guyanas y Santa Elena'!C55,'Tablas Resto de Ecuador'!C55)","v":50887},{"$f":"IF('INGRESO DE DATOS'!$W$19=1,'Tablas Guyanas y Santa Elena'!D55,'Tablas Resto de Ecuador'!D55)","v":44211},{"$f":"IF('INGRESO DE DATOS'!$W$19=1,'Tablas Guyanas y Santa Elena'!E55,'Tablas Resto de Ecuador'!E55)","v":38594},{"$f":"IF('INGRESO DE DATOS'!$W$19=1,'Tablas Guyanas y Santa Elena'!F55,'Tablas Resto de Ecuador'!F55)","v":35142},{"$f":"IF('INGRESO DE DATOS'!$W$19=1,'Tablas Guyanas y Santa Elena'!G55,'Tablas Resto de Ecuador'!G55)","v":27384},null,43253.95,37579.35,32804.9,29870.7,23276.399999999998]
[68,null,47386.65,41837,36253.35,33417.75,25388.649999999998,null,{"$f":"IF('INGRESO DE DATOS'!$W$19=1,'Tablas Guyanas y Santa Elena'!C56,'Tablas Resto de Ecuador'!C56)","v":55749},{"$f":"IF('INGRESO DE DATOS'!$W$19=1,'Tablas Guyanas y Santa Elena'!D56,'Tablas Resto de Ecuador'!D56)","v":49220},{"$f":"IF('INGRESO DE DATOS'!$W$19=1,'Tablas Guyanas y Santa Elena'!E56,'Tablas Resto de Ecuador'!E56)","v":42651},{"$f":"IF('INGRESO DE DATOS'!$W$19=1,'Tablas Guyanas y Santa Elena'!F56,'Tablas Resto de Ecuador'!F56)","v":39315},{"$f":"IF('INGRESO DE DATOS'!$W$19=1,'Tablas Guyanas y Santa Elena'!G56,'Tablas Resto de Ecuador'!G56)","v":29869},null,47386.65,41837,36253.35,33417.75,25388.649999999998]
[69,null,51613.7,46200.9,39777.449999999997,37049.799999999996,27611.399999999998,null,{"$f":"IF('INGRESO DE DATOS'!$W$19=1,'Tablas Guyanas y Santa Elena'!C57,'Tablas Resto de Ecuador'!C57)","v":60722},{"$f":"IF('INGRESO DE DATOS'!$W$19=1,'Tablas Guyanas y Santa Elena'!D57,'Tablas Resto de Ecuador'!D57)","v":54354},{"$f":"IF('INGRESO DE DATOS'!$W$19=1,'Tablas Guyanas y Santa Elena'!E57,'Tablas Resto de Ecuador'!E57)","v":46797},{"$f":"IF('INGRESO DE DATOS'!$W$19=1,'Tablas Guyanas y Santa Elena'!F57,'Tablas Resto de Ecuador'!F57)","v":43588},{"$f":"IF('INGRESO DE DATOS'!$W$19=1,'Tablas Guyanas y Santa Elena'!G57,'Tablas Resto de Ecuador'!G57)","v":32484},null,51613.7,46200.9,39777.449999999997,37049.799999999996,27611.399999999998]
[70,null,55652.049999999996,50353.15,43151.95,40511.85,29942.95,null,{"$f":"IF('INGRESO DE DATOS'!$W$19=1,'Tablas Guyanas y Santa Elena'!C58,'Tablas Resto de Ecuador'!C58)","v":65473},{"$f":"IF('INGRESO DE DATOS'!$W$19=1,'Tablas Guyanas y Santa Elena'!D58,'Tablas Resto de Ecuador'!D58)","v":59239},{"$f":"IF('INGRESO DE DATOS'!$W$19=1,'Tablas Guyanas y Santa Elena'!E58,'Tablas Resto de Ecuador'!E58)","v":50767},{"$f":"IF('INGRESO DE DATOS'!$W$19=1,'Tablas Guyanas y Santa Elena'!F58,'Tablas Resto de Ecuador'!F58)","v":47661},{"$f":"IF('INGRESO DE DATOS'!$W$19=1,'Tablas Guyanas y Santa Elena'!G58,'Tablas Resto de Ecuador'!G58)","v":35227},null,55652.049999999996,50353.15,43151.95,40511.85,29942.95]
[71,null,59501.7,54292.9,46377.7,43803.049999999996,32391.8,null,{"$f":"IF('INGRESO DE DATOS'!$W$19=1,'Tablas Guyanas y Santa Elena'!C59,'Tablas Resto de Ecuador'!C59)","v":70002},{"$f":"IF('INGRESO DE DATOS'!$W$19=1,'Tablas Guyanas y Santa Elena'!D59,'Tablas Resto de Ecuador'!D59)","v":63874},{"$f":"IF('INGRESO DE DATOS'!$W$19=1,'Tablas Guyanas y Santa Elena'!E59,'Tablas Resto de Ecuador'!E59)","v":54562},{"$f":"IF('INGRESO DE DATOS'!$W$19=1,'Tablas Guyanas y Santa Elena'!F59,'Tablas Resto de Ecuador'!F59)","v":51533},{"$f":"IF('INGRESO DE DATOS'!$W$19=1,'Tablas Guyanas y Santa Elena'!G59,'Tablas Resto de Ecuador'!G59)","v":38108},null,59501.7,54292.9,46377.7,43803.049999999996,32391.8]
[72,null,63350.5,58233.5,49603.45,47095.1,34947.75,null,{"$f":"IF('INGRESO DE DATOS'!$W$19=1,'Tablas Guyanas y Santa Elena'!C60,'Tablas Resto de Ecuador'!C60)","v":74530},{"$f":"IF('INGRESO DE DATOS'!$W$19=1,'Tablas Guyanas y Santa Elena'!D60,'Tablas Resto de Ecuador'!D60)","v":68510},{"$f":"IF('INGRESO DE DATOS'!$W$19=1,'Tablas Guyanas y Santa Elena'!E60,'Tablas Resto de Ecuador'!E60)","v":58357},{"$f":"IF('INGRESO DE DATOS'!$W$19=1,'Tablas Guyanas y Santa Elena'!F60,'Tablas Resto de Ecuador'!F60)","v":55406},{"$f":"IF('INGRESO DE DATOS'!$W$19=1,'Tablas Guyanas y Santa Elena'!G60,'Tablas Resto de Ecuador'!G60)","v":41115},null,63350.5,58233.5,49603.45,47095.1,34947.75]
[73,null,67200.149999999994,62173.25,52829.2,50387.15,37621.85,null,{"$f":"IF('INGRESO DE DATOS'!$W$19=1,'Tablas Guyanas y Santa Elena'!C61,'Tablas Resto de Ecuador'!C61)","v":79059},{"$f":"IF('INGRESO DE DATOS'!$W$19=1,'Tablas Guyanas y Santa Elena'!D61,'Tablas Resto de Ecuador'!D61)","v":73145},{"$f":"IF('INGRESO DE DATOS'!$W$19=1,'Tablas Guyanas y Santa Elena'!E61,'Tablas Resto de Ecuador'!E61)","v":62152},{"$f":"IF('INGRESO DE DATOS'!$W$19=1,'Tablas Guyanas y Santa Elena'!F61,'Tablas Resto de Ecuador'!F61)","v":59279},{"$f":"IF('INGRESO DE DATOS'!$W$19=1,'Tablas Guyanas y Santa Elena'!G61,'Tablas Resto de Ecuador'!G61)","v":44261},null,67200.149999999994,62173.25,52829.2,50387.15,37621.85]
[74,null,71049.8,66113.849999999991,56054.95,53679.199999999997,40404.75,null,{"$f":"IF('INGRESO DE DATOS'!$W$19=1,'Tablas Guyanas y Santa Elena'!C62,'Tablas Resto de Ecuador'!C62)","v":83588},{"$f":"IF('INGRESO DE DATOS'!$W$19=1,'Tablas Guyanas y Santa Elena'!D62,'Tablas Resto de Ecuador'!D62)","v":77781},{"$f":"IF('INGRESO DE DATOS'!$W$19=1,'Tablas Guyanas y Santa Elena'!E62,'Tablas Resto de Ecuador'!E62)","v":65947},{"$f":"IF('INGRESO DE DATOS'!$W$19=1,'Tablas Guyanas y Santa Elena'!F62,'Tablas Resto de Ecuador'!F62)","v":63152},{"$f":"IF('INGRESO DE DATOS'!$W$19=1,'Tablas Guyanas y Santa Elena'!G62,'Tablas Resto de Ecuador'!G62)","v":47535},null,71049.8,66113.849999999991,56054.95,53679.199999999997,40404.75]
[75,null,74835.7,69989.849999999991,59216.95,56907.5,43297.299999999996,null,{"$f":"IF('INGRESO DE DATOS'!$W$19=1,'Tablas Guyanas y Santa Elena'!C63,'Tablas Resto de Ecuador'!C63)","v":88042},{"$f":"IF('INGRESO DE DATOS'!$W$19=1,'Tablas Guyanas y Santa Elena'!D63,'Tablas Resto de Ecuador'!D63)","v":82341},{"$f":"IF('INGRESO DE DATOS'!$W$19=1,'Tablas Guyanas y Santa Elena'!E63,'Tablas Resto de Ecuador'!E63)","v":69667},{"$f":"IF('INGRESO DE DATOS'!$W$19=1,'Tablas Guyanas y Santa Elena'!F63,'Tablas Resto de Ecuador'!F63)","v":66950},{"$f":"IF('INGRESO DE DATOS'!$W$19=1,'Tablas Guyanas y Santa Elena'!G63,'Tablas Resto de Ecuador'!G63)","v":50938},null,74835.7,69989.849999999991,59216.95,56907.5,43297.299999999996]
[76,null,74835.7,69989.849999999991,59216.95,56907.5,43297.299999999996,null,{"$f":"IF('INGRESO DE DATOS'!$W$19=1,'Tablas Guyanas y Santa Elena'!C64,'Tablas Resto de Ecuador'!C64)","v":88042},{"$f":"IF('INGRESO DE DATOS'!$W$19=1,'Tablas Guyanas y Santa Elena'!D64,'Tablas Resto de Ecuador'!D64)","v":82341},{"$f":"IF('INGRESO DE DATOS'!$W$19=1,'Tablas Guyanas y Santa Elena'!E64,'Tablas Resto de Ecuador'!E64)","v":69667},{"$f":"IF('INGRESO DE DATOS'!$W$19=1,'Tablas Guyanas y Santa Elena'!F64,'Tablas Resto de Ecuador'!F64)","v":66950},{"$f":"IF('INGRESO DE DATOS'!$W$19=1,'Tablas Guyanas y Santa Elena'!G64,'Tablas Resto de Ecuador'!G64)","v":50938},null,74835.7,69989.849999999991,59216.95,56907.5,43297.299999999996]
[77,null,74835.7,69989.849999999991,59216.95,56907.5,43297.299999999996,null,{"$f":"IF('INGRESO DE DATOS'!$W$19=1,'Tablas Guyanas y Santa Elena'!C65,'Tablas Resto de Ecuador'!C65)","v":88042},{"$f":"IF('INGRESO DE DATOS'!$W$19=1,'Tablas Guyanas y Santa Elena'!D65,'Tablas Resto de Ecuador'!D65)","v":82341},{"$f":"IF('INGRESO DE DATOS'!$W$19=1,'Tablas Guyanas y Santa Elena'!E65,'Tablas Resto de Ecuador'!E65)","v":69667},{"$f":"IF('INGRESO DE DATOS'!$W$19=1,'Tablas Guyanas y Santa Elena'!F65,'Tablas Resto de Ecuador'!F65)","v":66950},{"$f":"IF('INGRESO DE DATOS'!$W$19=1,'Tablas Guyanas y Santa Elena'!G65,'Tablas Resto de Ecuador'!G65)","v":50938},null,74835.7,69989.849999999991,59216.95,56907.5,43297.299999999996]
[78,null,74835.7,69989.849999999991,59216.95,56907.5,43297.299999999996,null,{"$f":"IF('INGRESO DE DATOS'!$W$19=1,'Tablas Guyanas y Santa Elena'!C66,'Tablas Resto de Ecuador'!C66)","v":88042},{"$f":"IF('INGRESO DE DATOS'!$W$19=1,'Tablas Guyanas y Santa Elena'!D66,'Tablas Resto de Ecuador'!D66)","v":82341},{"$f":"IF('INGRESO DE DATOS'!$W$19=1,'Tablas Guyanas y Santa Elena'!E66,'Tablas Resto de Ecuador'!E66)","v":69667},{"$f":"IF('INGRESO DE DATOS'!$W$19=1,'Tablas Guyanas y Santa Elena'!F66,'Tablas Resto de Ecuador'!F66)","v":66950},{"$f":"IF('INGRESO DE DATOS'!$W$19=1,'Tablas Guyanas y Santa Elena'!G66,'Tablas Resto de Ecuador'!G66)","v":50938},null,74835.7,69989.849999999991,59216.95,56907.5,43297.299999999996]
[79,null,74835.7,69989.849999999991,59216.95,56907.5,43297.299999999996,null,{"$f":"IF('INGRESO DE DATOS'!$W$19=1,'Tablas Guyanas y Santa Elena'!C67,'Tablas Resto de Ecuador'!C67)","v":88042},{"$f":"IF('INGRESO DE DATOS'!$W$19=1,'Tablas Guyanas y Santa Elena'!D67,'Tablas Resto de Ecuador'!D67)","v":82341},{"$f":"IF('INGRESO DE DATOS'!$W$19=1,'Tablas Guyanas y Santa Elena'!E67,'Tablas Resto de Ecuador'!E67)","v":69667},{"$f":"IF('INGRESO DE DATOS'!$W$19=1,'Tablas Guyanas y Santa Elena'!F67,'Tablas Resto de Ecuador'!F67)","v":66950},{"$f":"IF('INGRESO DE DATOS'!$W$19=1,'Tablas Guyanas y Santa Elena'!G67,'Tablas Resto de Ecuador'!G67)","v":50938},null,74835.7,69989.849999999991,59216.95,56907.5,43297.299999999996]
[80,null,74835.7,69989.849999999991,59216.95,56907.5,43297.299999999996,null,{"$f":"IF('INGRESO DE DATOS'!$W$19=1,'Tablas Guyanas y Santa Elena'!C68,'Tablas Resto de Ecuador'!C68)","v":88042},{"$f":"IF('INGRESO DE DATOS'!$W$19=1,'Tablas Guyanas y Santa Elena'!D68,'Tablas Resto de Ecuador'!D68)","v":82341},{"$f":"IF('INGRESO DE DATOS'!$W$19=1,'Tablas Guyanas y Santa Elena'!E68,'Tablas Resto de Ecuador'!E68)","v":69667},{"$f":"IF('INGRESO DE DATOS'!$W$19=1,'Tablas Guyanas y Santa Elena'!F68,'Tablas Resto de Ecuador'!F68)","v":66950},{"$f":"IF('INGRESO DE DATOS'!$W$19=1,'Tablas Guyanas y Santa Elena'!G68,'Tablas Resto de Ecuador'!G68)","v":50938},null,74835.7,69989.849999999991,59216.95,56907.5,43297.299999999996]
[81,null,74835.7,69989.849999999991,59216.95,56907.5,43297.299999999996,null,{"$f":"IF('INGRESO DE DATOS'!$W$19=1,'Tablas Guyanas y Santa Elena'!C69,'Tablas Resto de Ecuador'!C69)","v":88042},{"$f":"IF('INGRESO DE DATOS'!$W$19=1,'Tablas Guyanas y Santa Elena'!D69,'Tablas Resto de Ecuador'!D69)","v":82341},{"$f":"IF('INGRESO DE DATOS'!$W$19=1,'Tablas Guyanas y Santa Elena'!E69,'Tablas Resto de Ecuador'!E69)","v":69667},{"$f":"IF('INGRESO DE DATOS'!$W$19=1,'Tablas Guyanas y Santa Elena'!F69,'Tablas Resto de Ecuador'!F69)","v":66950},{"$f":"IF('INGRESO DE DATOS'!$W$19=1,'Tablas Guyanas y Santa Elena'!G69,'Tablas Resto de Ecuador'!G69)","v":50938},null,74835.7,69989.849999999991,59216.95,56907.5,43297.299999999996]
[82,null,74835.7,69989.849999999991,59216.95,56907.5,43297.299999999996,null,{"$f":"IF('INGRESO DE DATOS'!$W$19=1,'Tablas Guyanas y Santa Elena'!C70,'Tablas Resto de Ecuador'!C70)","v":88042},{"$f":"IF('INGRESO DE DATOS'!$W$19=1,'Tablas Guyanas y Santa Elena'!D70,'Tablas Resto de Ecuador'!D70)","v":82341},{"$f":"IF('INGRESO DE DATOS'!$W$19=1,'Tablas Guyanas y Santa Elena'!E70,'Tablas Resto de Ecuador'!E70)","v":69667},{"$f":"IF('INGRESO DE DATOS'!$W$19=1,'Tablas Guyanas y Santa Elena'!F70,'Tablas Resto de Ecuador'!F70)","v":66950},{"$f":"IF('INGRESO DE DATOS'!$W$19=1,'Tablas Guyanas y Santa Elena'!G70,'Tablas Resto de Ecuador'!G70)","v":50938},null,74835.7,69989.849999999991,59216.95,56907.5,43297.299999999996]
[83,null,{"$f":"O71*$X$2","v":74835.7},69989.849999999991,59216.95,56907.5,43297.299999999996,null,{"$f":"IF('INGRESO DE DATOS'!$W$19=1,'Tablas Guyanas y Santa Elena'!C71,'Tablas Resto de Ecuador'!C71)","v":88042},{"$f":"IF('INGRESO DE DATOS'!$W$19=1,'Tablas Guyanas y Santa Elena'!D71,'Tablas Resto de Ecuador'!D71)","v":82341},{"$f":"IF('INGRESO DE DATOS'!$W$19=1,'Tablas Guyanas y Santa Elena'!E71,'Tablas Resto de Ecuador'!E71)","v":69667},{"$f":"IF('INGRESO DE DATOS'!$W$19=1,'Tablas Guyanas y Santa Elena'!F71,'Tablas Resto de Ecuador'!F71)","v":66950},{"$f":"IF('INGRESO DE DATOS'!$W$19=1,'Tablas Guyanas y Santa Elena'!G71,'Tablas Resto de Ecuador'!G71)","v":50938},null,{"$f":"I71*$P$4","v":74835.7},69989.849999999991,59216.95,56907.5,43297.299999999996]
[84,"o más",74835.7,69989.849999999991,59216.95,56907.5,43297.299999999996,null,{"$f":"IF('INGRESO DE DATOS'!$W$19=1,'Tablas Guyanas y Santa Elena'!C72,'Tablas Resto de Ecuador'!C72)","v":88042},{"$f":"IF('INGRESO DE DATOS'!$W$19=1,'Tablas Guyanas y Santa Elena'!D72,'Tablas Resto de Ecuador'!D72)","v":82341},{"$f":"IF('INGRESO DE DATOS'!$W$19=1,'Tablas Guyanas y Santa Elena'!E72,'Tablas Resto de Ecuador'!E72)","v":69667},{"$f":"IF('INGRESO DE DATOS'!$W$19=1,'Tablas Guyanas y Santa Elena'!F72,'Tablas Resto de Ecuador'!F72)","v":66950},{"$f":"IF('INGRESO DE DATOS'!$W$19=1,'Tablas Guyanas y Santa Elena'!G72,'Tablas Resto de Ecuador'!G72)","v":50938},null,74835.7,69989.849999999991,59216.95,56907.5,43297.299999999996]
[1,"Hijo",2731.9,1626.05,1178.95,1173.8499999999999,1373.6,null,{"$f":"IF('INGRESO DE DATOS'!$W$19=1,'Tablas Guyanas y Santa Elena'!C73,'Tablas Resto de Ecuador'!C73)","v":3214},{"$f":"IF('INGRESO DE DATOS'!$W$19=1,'Tablas Guyanas y Santa Elena'!D73,'Tablas Resto de Ecuador'!D73)","v":1913},{"$f":"IF('INGRESO DE DATOS'!$W$19=1,'Tablas Guyanas y Santa Elena'!E73,'Tablas Resto de Ecuador'!E73)","v":1387},{"$f":"IF('INGRESO DE DATOS'!$W$19=1,'Tablas Guyanas y Santa Elena'!F73,'Tablas Resto de Ecuador'!F73)","v":1381},{"$f":"IF('INGRESO DE DATOS'!$W$19=1,'Tablas Guyanas y Santa Elena'!G73,'Tablas Resto de Ecuador'!G73)","v":1616},null,2731.9,1626.05,1178.95,1173.8499999999999,1373.6]
[2,"Hijos",4946.1499999999996,2856,2097.7999999999997,1945.6499999999999,2391.9,null,{"$f":"IF('INGRESO DE DATOS'!$W$19=1,'Tablas Guyanas y Santa Elena'!C74,'Tablas Resto de Ecuador'!C74)","v":5819},{"$f":"IF('INGRESO DE DATOS'!$W$19=1,'Tablas Guyanas y Santa Elena'!D74,'Tablas Resto de Ecuador'!D74)","v":3360},{"$f":"IF('INGRESO DE DATOS'!$W$19=1,'Tablas Guyanas y Santa Elena'!E74,'Tablas Resto de Ecuador'!E74)","v":2468},{"$f":"IF('INGRESO DE DATOS'!$W$19=1,'Tablas Guyanas y Santa Elena'!F74,'Tablas Resto de Ecuador'!F74)","v":2289},{"$f":"IF('INGRESO DE DATOS'!$W$19=1,'Tablas Guyanas y Santa Elena'!G74,'Tablas Resto de Ecuador'!G74)","v":2814},null,4946.1499999999996,2856,2097.7999999999997,1945.6499999999999,2391.9]
[3,"Hijos o más",7040.55,4042.6,2983.5,2768.45,3328.6,null,{"$f":"IF('INGRESO DE DATOS'!$W$19=1,'Tablas Guyanas y Santa Elena'!C75,'Tablas Resto de Ecuador'!C75)","v":8283},{"$f":"IF('INGRESO DE DATOS'!$W$19=1,'Tablas Guyanas y Santa Elena'!D75,'Tablas Resto de Ecuador'!D75)","v":4756},{"$f":"IF('INGRESO DE DATOS'!$W$19=1,'Tablas Guyanas y Santa Elena'!E75,'Tablas Resto de Ecuador'!E75)","v":3510},{"$f":"IF('INGRESO DE DATOS'!$W$19=1,'Tablas Guyanas y Santa Elena'!F75,'Tablas Resto de Ecuador'!F75)","v":3257},{"$f":"IF('INGRESO DE DATOS'!$W$19=1,'Tablas Guyanas y Santa Elena'!G75,'Tablas Resto de Ecuador'!G75)","v":3916},null,7040.55,4042.6,2983.5,2768.45,3328.6]
[]
["BUPA GLOBAL PREMIER"]
["TARIFAS ANUALES"]
[]
["EDAD",null,250,2000,3500,5000,10000,null,"TARIFAS BASE",null,null,null,null,null,"TARIFAS BASE COND ESCUENTO"]
[18,null,{"$f":"O81*$X$2","v":7602.4},{"$f":"P81*$X$2","v":5683.95},{"$f":"Q81*$X$2","v":4064.7},{"$f":"R81*$X$2","v":3327.75},2775.25,null,{"$f":"IF('INGRESO DE DATOS'!$W$19=1,'Tablas Guyanas y Santa Elena'!C81,'Tablas Resto de Ecuador'!C81)","v":8944},{"$f":"IF('INGRESO DE DATOS'!$W$19=1,'Tablas Guyanas y Santa Elena'!D81,'Tablas Resto de Ecuador'!D81)","v":6687},{"$f":"IF('INGRESO DE DATOS'!$W$19=1,'Tablas Guyanas y Santa Elena'!E81,'Tablas Resto de Ecuador'!E81)","v":4782},{"$f":"IF('INGRESO DE DATOS'!$W$19=1,'Tablas Guyanas y Santa Elena'!F81,'Tablas Resto de Ecuador'!F81)","v":3915},{"$f":"IF('INGRESO DE DATOS'!$W$19=1,'Tablas Guyanas y Santa Elena'!G81,'Tablas Resto de Ecuador'!G81)","v":3265},null,{"$f":"I81*$Q$4","v":7602.4},{"$f":"J81*$Q$4","v":5683.95},{"$f":"K81*$Q$4","v":4064.7},{"$f":"L81*$Q$4","v":3327.75},{"$f":"M81*$Q$4","v":2775.25}]
[19,null,7602.4,5683.95,4064.7,{"$f":"R82*$X$2","v":3327.75},{"$f":"S82*$X$2","v":2775.25},null,{"$f":"IF('INGRESO DE DATOS'!$W$19=1,'Tablas Guyanas y Santa Elena'!C82,'Tablas Resto de Ecuador'!C82)","v":8944},{"$f":"IF('INGRESO DE DATOS'!$W$19=1,'Tablas Guyanas y Santa Elena'!D82,'Tablas Resto de Ecuador'!D82)","v":6687},{"$f":"IF('INGRESO DE DATOS'!$W$19=1,'Tablas Guyanas y Santa Elena'!E82,'Tablas Resto de Ecuador'!E82)","v":4782},{"$f":"IF('INGRESO DE DATOS'!$W$19=1,'Tablas Guyanas y Santa Elena'!F82,'Tablas Resto de Ecuador'!F82)","v":3915},{"$f":"IF('INGRESO DE DATOS'!$W$19=1,'Tablas Guyanas y Santa Elena'!G82,'Tablas Resto de Ecuador'!G82)","v":3265},null,{"$f":"I82*$Q$4","v":7602.4},{"$f":"J82*$Q$4","v":5683.95},{"$f":"K82*$Q$4","v":4064.7},{"$f":"L82*$Q$4","v":3327.75},{"$f":"M82*$Q$4","v":2775.25}]
[20,null,7602.4,5683.95,4064.7,3327.75,2775.25,null,{"$f":"IF('INGRESO DE DATOS'!$W$19=1,'Tablas Guyanas y Santa Elena'!C83,'Tablas Resto de Ecuador'!C83)","v":8944},{"$f":"IF('INGRESO DE DATOS'!$W$19=1,'Tablas Guyanas y Santa Elena'!D83,'Tablas Resto de Ecuador'!D83)","v":6687},{"$f":"IF('INGRESO DE DATOS'!$W$19=1,'Tablas Guyanas y Santa Elena'!E83,'Tablas Resto de Ecuador'!E83)","v":4782},{"$f":"IF('INGRESO DE DATOS'!$W$19=1,'Tablas Guyanas y Santa Elena'!F83,'Tablas Resto de Ecuador'!F83)","v":3915},{"$f":"IF('INGRESO DE DATOS'!$W$19=1,'Tablas Guyanas y Santa Elena'!G83,'Tablas Resto de Ecuador'!G83)","v":3265},null,7602.4,5683.95,4064.7,3327.75,2775.25]
[21,null,7602.4,5683.95,4064.7,3327.75,2775.25,null,{"$f":"IF('INGRESO DE DATOS'!$W$19=1,'Tablas Guyanas y Santa Elena'!C84,'Tablas Resto de Ecuador'!C84)","v":8944},{"$f":"IF('INGRESO DE DATOS'!$W$19=1,'Tablas Guyanas y Santa Elena'!D84,'Tablas Resto de Ecuador'!D84)","v":6687},{"$f":"IF('INGRESO DE DATOS'!$W$19=1,'Tablas Guyanas y Santa Elena'!E84,'Tablas Resto de Ecuador'!E84)","v":4782},{"$f":"IF('INGRESO DE DATOS'!$W$19=1,'Tablas Guyanas y Santa Elena'!F84,'Tablas Resto de Ecuador'!F84)","v":3915},{"$f":"IF('INGRESO DE DATOS'!$W$19=1,'Tablas Guyanas y Santa Elena'!G84,'Tablas Resto de Ecuador'!G84)","v":3265},null,7602.4,5683.95,4064.7,3327.75,2775.25]
[22,null,7602.4,5683.95,4064.7,3327.75,2775.25,null,{"$f":"IF('INGRESO DE DATOS'!$W$19=1,'Tablas Guyanas y Santa Elena'!C85,'Tablas Resto de Ecuador'!C85)","v":8944},{"$f":"IF('INGRESO DE DATOS'!$W$19=1,'Tablas Guyanas y Santa Elena'!D85,'Tablas Resto de Ecuador'!D85)","v":6687},{"$f":"IF('INGRESO DE DATOS'!$W$19=1,'Tablas Guyanas y Santa Elena'!E85,'Tablas Resto de Ecuador'!E85)","v":4782},{"$f":"IF('INGRESO DE DATOS'!$W$19=1,'Tablas Guyanas y Santa Elena'!F85,'Tablas Resto de Ecuador'!F85)","v":3915},{"$f":"IF('INGRESO DE DATOS'!$W$19=1,'Tablas Guyanas y Santa Elena'!G85,'Tablas Resto de Ecuador'!G85)","v":3265},null,7602.4,5683.95,4064.7,3327.75,2775.25]
[23,null,7602.4,5683.95,4064.7,3327.75,2775.25,null,{"$f":"IF('INGRESO DE DATOS'!$W$19=1,'Tablas Guyanas y Santa Elena'!C86,'Tablas Resto de Ecuador'!C86)","v":8944},{"$f":"IF('INGRESO DE DATOS'!$W$19=1,'Tablas Guyanas y Santa Elena'!D86,'Tablas Resto de Ecuador'!D86)","v":6687},{"$f":"IF('INGRESO DE DATOS'!$W$19=1,'Tablas Guyanas y Santa Elena'!E86,'Tablas Resto de Ecuador'!E86)","v":4782},{"$f":"IF('INGRESO DE DATOS'!$W$19=1,'Tablas Guyanas y Santa Elena'!F86,'Tablas Resto de Ecuador'!F86)","v":3915},{"$f":"IF('INGRESO DE DATOS'!$W$19=1,'Tablas Guyanas y Santa Elena'!G86,'Tablas Resto de Ecuador'!G86)","v":3265},null,7602.4,5683.95,4064.7,3327.75,2775.25]
[24,null,7602.4,5683.95,4064.7,3327.75,2775.25,null,{"$f":"IF('INGRESO DE DATOS'!$W$19=1,'Tablas Guyanas y Santa Elena'!C87,'Tablas Resto de Ecuador'!C87)","v":8944},{"$f":"IF('INGRESO DE DATOS'!$W$19=1,'Tablas Guyanas y Santa Elena'!D87,'Tablas Resto de Ecuador'!D87)","v":6687},{"$f":"IF('INGRESO DE DATOS'!$W$19=1,'Tablas Guyanas y Santa Elena'!E87,'Tablas Resto de Ecuador'!E87)","v":4782},{"$f":"IF('INGRESO DE DATOS'!$W$19=1,'Tablas Guyanas y Santa Elena'!F87,'Tablas Resto de Ecuador'!F87)","v":3915},{"$f":"IF('INGRESO DE DATOS'!$W$19=1,'Tablas Guyanas y Santa Elena'!G87,'Tablas Resto de Ecuador'!G87)","v":3265},null,7602.4,5683.95,4064.7,3327.75,2775.25]
[25,null,7643.2,6259.4,4139.5,3320.1,2933.35,null,{"$f":"IF('INGRESO DE DATOS'!$W$19=1,'Tablas Guyanas y Santa Elena'!C88,'Tablas Resto de Ecuador'!C88)","v":8992},{"$f":"IF('INGRESO DE DATOS'!$W$19=1,'Tablas Guyanas y Santa Elena'!D88,'Tablas Resto de Ecuador'!D88)","v":7364},{"$f":"IF('INGRESO DE DATOS'!$W$19=1,'Tablas Guyanas y Santa Elena'!E88,'Tablas Resto de Ecuador'!E88)","v":4870},{"$f":"IF('INGRESO DE DATOS'!$W$19=1,'Tablas Guyanas y Santa Elena'!F88,'Tablas Resto de Ecuador'!F88)","v":3906},{"$f":"IF('INGRESO DE DATOS'!$W$19=1,'Tablas Guyanas y Santa Elena'!G88,'Tablas Resto de Ecuador'!G88)","v":3451},null,7643.2,6259.4,4139.5,3320.1,2933.35]
[26,null,7643.2,6259.4,4139.5,3320.1,2933.35,null,{"$f":"IF('INGRESO DE DATOS'!$W$19=1,'Tablas Guyanas y Santa Elena'!C89,'Tablas Resto de Ecuador'!C89)","v":8992},{"$f":"IF('INGRESO DE DATOS'!$W$19=1,'Tablas Guyanas y Santa Elena'!D89,'Tablas Resto de Ecuador'!D89)","v":7364},{"$f":"IF('INGRESO DE DATOS'!$W$19=1,'Tablas Guyanas y Santa Elena'!E89,'Tablas Resto de Ecuador'!E89)","v":4870},{"$f":"IF('INGRESO DE DATOS'!$W$19=1,'Tablas Guyanas y Santa Elena'!F89,'Tablas Resto de Ecuador'!F89)","v":3906},{"$f":"IF('INGRESO DE DATOS'!$W$19=1,'Tablas Guyanas y Santa Elena'!G89,'Tablas Resto de Ecuador'!G89)","v":3451},null,7643.2,6259.4,4139.5,3320.1,2933.35]
[27,null,7643.2,6259.4,4139.5,3320.1,2933.35,null,{"$f":"IF('INGRESO DE DATOS'!$W$19=1,'Tablas Guyanas y Santa Elena'!C90,'Tablas Resto de Ecuador'!C90)","v":8992},{"$f":"IF('INGRESO DE DATOS'!$W$19=1,'Tablas Guyanas y Santa Elena'!D90,'Tablas Resto de Ecuador'!D90)","v":7364},{"$f":"IF('INGRESO DE DATOS'!$W$19=1,'Tablas Guyanas y Santa Elena'!E90,'Tablas Resto de Ecuador'!E90)","v":4870},{"$f":"IF('INGRESO DE DATOS'!$W$19=1,'Tablas Guyanas y Santa Elena'!F90,'Tablas Resto de Ecuador'!F90)","v":3906},{"$f":"IF('INGRESO DE DATOS'!$W$19=1,'Tablas Guyanas y Santa Elena'!G90,'Tablas Resto de Ecuador'!G90)","v":3451},null,7643.2,6259.4,4139.5,3320.1,2933.35]
[28,null,7643.2,6259.4,4139.5,3320.1,2933.35,null,{"$f":"IF('INGRESO DE DATOS'!$W$19=1,'Tablas Guyanas y Santa Elena'!C91,'Tablas Resto de Ecuador'!C91)","v":8992},{"$f":"IF('INGRESO DE DATOS'!$W$19=1,'Tablas Guyanas y Santa Elena'!D91,'Tablas Resto de Ecuador'!D91)","v":7364},{"$f":"IF('INGRESO DE DATOS'!$W$19=1,'Tablas Guyanas y Santa Elena'!E91,'Tablas Resto de Ecuador'!E91)","v":4870},{"$f":"IF('INGRESO DE DATOS'!$W$19=1,'Tablas Guyanas y Santa Elena'!F91,'Tablas Resto de Ecuador'!F91)","v":3906},{"$f":"IF('INGRESO DE DATOS'!$W$19=1,'Tablas Guyanas y Santa Elena'!G91,'Tablas Resto de Ecuador'!G91)","v":3451},null,7643.2,6259.4,4139.5,3320.1,2933.35]
[29,null,7643.2,6259.4,4139.5,3320.1,2933.35,null,{"$f":"IF('INGRESO DE DATOS'!$W$19=1,'Tablas Guyanas y Santa Elena'!C92,'Tablas Resto de Ecuador'!C92)","v":8992},{"$f":"IF('INGRESO DE DATOS'!$W$19=1,'Tablas Guyanas y Santa Elena'!D92,'Tablas Resto de Ecuador'!D92)","v":7364},{"$f":"IF('INGRESO DE DATOS'!$W$19=1,'Tablas Guyanas y Santa Elena'!E92,'Tablas Resto de Ecuador'!E92)","v":4870},{"$f":"IF('INGRESO DE DATOS'!$W$19=1,'Tablas Guyanas y Santa Elena'!F92,'Tablas Resto de Ecuador'!F92)","v":3906},{"$f":"IF('INGRESO DE DATOS'!$W$19=1,'Tablas Guyanas y Santa Elena'!G92,'Tablas Resto de Ecuador'!G92)","v":3451},null,7643.2,6259.4,4139.5,3320.1,2933.35]
[30,null,9101.7999999999993,7284.5,5411.95,4102.95,3217.25,null,{"$f":"IF('INGRESO DE DATOS'!$W$19=1,'Tablas Guyanas y Santa Elena'!C93,'Tablas Resto de Ecuador'!C93)","v":10708},{"$f":"IF('INGRESO DE DATOS'!$W$19=1,'Tablas Guyanas y Santa Elena'!D93,'Tablas Resto de Ecuador'!D93)","v":8570},{"$f":"IF('INGRESO DE DATOS'!$W$19=1,'Tablas Guyanas y Santa Elena'!E93,'Tablas Resto de Ecuador'!E93)","v":6367},{"$f":"IF('INGRESO DE DATOS'!$W$19=1,'Tablas Guyanas y Santa Elena'!F93,'Tablas Resto de Ecuador'!F93)","v":4827},{"$f":"IF('INGRESO DE DATOS'!$W$19=1,'Tablas Guyanas y Santa Elena'!G93,'Tablas Resto de Ecuador'!G93)","v":3785},null,9101.7999999999993,7284.5,5411.95,4102.95,3217.25]
[31,null,9101.7999999999993,7284.5,5411.95,4102.95,3217.25,null,{"$f":"IF('INGRESO DE DATOS'!$W$19=1,'Tablas Guyanas y Santa Elena'!C94,'Tablas Resto de Ecuador'!C94)","v":10708},{"$f":"IF('INGRESO DE DATOS'!$W$19=1,'Tablas Guyanas y Santa Elena'!D94,'Tablas Resto de Ecuador'!D94)","v":8570},{"$f":"IF('INGRESO DE DATOS'!$W$19=1,'Tablas Guyanas y Santa Elena'!E94,'Tablas Resto de Ecuador'!E94)","v":6367},{"$f":"IF('INGRESO DE DATOS'!$W$19=1,'Tablas Guyanas y Santa Elena'!F94,'Tablas Resto de Ecuador'!F94)","v":4827},{"$f":"IF('INGRESO DE DATOS'!$W$19=1,'Tablas Guyanas y Santa Elena'!G94,'Tablas Resto de Ecuador'!G94)","v":3785},null,9101.7999999999993,7284.5,5411.95,4102.95,3217.25]
[32,null,9101.7999999999993,7284.5,5411.95,4102.95,3217.25,null,{"$f":"IF('INGRESO DE DATOS'!$W$19=1,'Tablas Guyanas y Santa Elena'!C95,'Tablas Resto de Ecuador'!C95)","v":10708},{"$f":"IF('INGRESO DE DATOS'!$W$19=1,'Tablas Guyanas y Santa Elena'!D95,'Tablas Resto de Ecuador'!D95)","v":8570},{"$f":"IF('INGRESO DE DATOS'!$W$19=1,'Tablas Guyanas y Santa Elena'!E95,'Tablas Resto de Ecuador'!E95)","v":6367},{"$f":"IF('INGRESO DE DATOS'!$W$19=1,'Tablas Guyanas y Santa Elena'!F95,'Tablas Resto de Ecuador'!F95)","v":4827},{"$f":"IF('INGRESO DE DATOS'!$W$19=1,'Tablas Guyanas y Santa Elena'!G95,'Tablas Resto de Ecuador'!G95)","v":3785},null,9101.7999999999993,7284.5,5411.95,4102.95,3217.25]
[33,null,9101.7999999999993,7284.5,5411.95,4102.95,3217.25,null,{"$f":"IF('INGRESO DE DATOS'!$W$19=1,'Tablas Guyanas y Santa Elena'!C96,'Tablas Resto de Ecuador'!C96)","v":10708},{"$f":"IF('INGRESO DE DATOS'!$W$19=1,'Tablas Guyanas y Santa Elena'!D96,'Tablas Resto de Ecuador'!D96)","v":8570},{"$f":"IF('INGRESO DE DATOS'!$W$19=1,'Tablas Guyanas y Santa Elena'!E96,'Tablas Resto de Ecuador'!E96)","v":6367},{"$f":"IF('INGRESO DE DATOS'!$W$19=1,'Tablas Guyanas y Santa Elena'!F96,'Tablas Resto de Ecuador'!F96)","v":4827},{"$f":"IF('INGRESO DE DATOS'!$W$19=1,'Tablas Guyanas y Santa Elena'!G96,'Tablas Resto de Ecuador'!G96)","v":3785},null,9101.7999999999993,7284.5,5411.95,4102.95,3217.25]
[34,null,9101.7999999999993,7284.5,5411.95,4102.95,3217.25,null,{"$f":"IF('INGRESO DE DATOS'!$W$19=1,'Tablas Guyanas y Santa Elena'!C97,'Tablas Resto de Ecuador'!C97)","v":10708},{"$f":"IF('INGRESO DE DATOS'!$W$19=1,'Tablas Guyanas y Santa Elena'!D97,'Tablas Resto de Ecuador'!D97)","v":8570},{"$f":"IF('INGRESO DE DATOS'!$W$19=1,'Tablas Guyanas y Santa Elena'!E97,'Tablas Resto de Ecuador'!E97)","v":6367},{"$f":"IF('INGRESO DE DATOS'!$W$19=1,'Tablas Guyanas y Santa Elena'!F97,'Tablas Resto de Ecuador'!F97)","v":4827},{"$f":"IF('INGRESO DE DATOS'!$W$19=1,'Tablas Guyanas y Santa Elena'!G97,'Tablas Resto de Ecuador'!G97)","v":3785},null,9101.7999999999993,7284.5,5411.95,4102.95,3217.25]
[35,null,10157.5,8800.0499999999993,6507.5999999999995,4536.45,3557.25,null,{"$f":"IF('INGRESO DE DATOS'!$W$19=1,'Tablas Guyanas y Santa Elena'!C98,'Tablas Resto de Ecuador'!C98)","v":11950},{"$f":"IF('INGRESO DE DATOS'!$W$19=1,'Tablas Guyanas y Santa Elena'!D98,'Tablas Resto de Ecuador'!D98)","v":10353},{"$f":"IF('INGRESO DE DATOS'!$W$19=1,'Tablas Guyanas y Santa Elena'!E98,'Tablas Resto de Ecuador'!E98)","v":7656},{"$f":"IF('INGRESO DE DATOS'!$W$19=1,'Tablas Guyanas y Santa Elena'!F98,'Tablas Resto de Ecuador'!F98)","v":5337},{"$f":"IF('INGRESO DE DATOS'!$W$19=1,'Tablas Guyanas y Santa Elena'!G98,'Tablas Resto de Ecuador'!G98)","v":4185},null,10157.5,8800.0499999999993,6507.5999999999995,4536.45,3557.25]
[36,null,10157.5,8800.0499999999993,6507.5999999999995,4536.45,3557.25,null,{"$f":"IF('INGRESO DE DATOS'!$W$19=1,'Tablas Guyanas y Santa Elena'!C99,'Tablas Resto de Ecuador'!C99)","v":11950},{"$f":"IF('INGRESO DE DATOS'!$W$19=1,'Tablas Guyanas y Santa Elena'!D99,'Tablas Resto de Ecuador'!D99)","v":10353},{"$f":"IF('INGRESO DE DATOS'!$W$19=1,'Tablas Guyanas y Santa Elena'!E99,'Tablas Resto de Ecuador'!E99)","v":7656},{"$f":"IF('INGRESO DE DATOS'!$W$19=1,'Tablas Guyanas y Santa Elena'!F99,'Tablas Resto de Ecuador'!F99)","v":5337},{"$f":"IF('INGRESO DE DATOS'!$W$19=1,'Tablas Guyanas y Santa Elena'!G99,'Tablas Resto de Ecuador'!G99)","v":4185},null,10157.5,8800.0499999999993,6507.5999999999995,4536.45,3557.25]
[37,null,10157.5,8800.0499999999993,6507.5999999999995,4536.45,3557.25,null,{"$f":"IF('INGRESO DE DATOS'!$W$19=1,'Tablas Guyanas y Santa Elena'!C100,'Tablas Resto de Ecuador'!C100)","v":11950},{"$f":"IF('INGRESO DE DATOS'!$W$19=1,'Tablas Guyanas y Santa Elena'!D100,'Tablas Resto de Ecuador'!D100)","v":10353},{"$f":"IF('INGRESO DE DATOS'!$W$19=1,'Tablas Guyanas y Santa Elena'!E100,'Tablas Resto de Ecuador'!E100)","v":7656},{"$f":"IF('INGRESO DE DATOS'!$W$19=1,'Tablas Guyanas y Santa Elena'!F100,'Tablas Resto de Ecuador'!F100)","v":5337},{"$f":"IF('INGRESO DE DATOS'!$W$19=1,'Tablas Guyanas y Santa Elena'!G100,'Tablas Resto de Ecuador'!G100)","v":4185},null,10157.5,8800.0499999999993,6507.5999999999995,4536.45,3557.25]
[38,null,10157.5,8800.0499999999993,6507.5999999999995,4536.45,3557.25,null,{"$f":"IF('INGRESO DE DATOS'!$W$19=1,'Tablas Guyanas y Santa Elena'!C101,'Tablas Resto de Ecuador'!C101)","v":11950},{"$f":"IF('INGRESO DE DATOS'!$W$19=1,'Tablas Guyanas y Santa Elena'!D101,'Tablas Resto de Ecuador'!D101)","v":10353},{"$f":"IF('INGRESO DE DATOS'!$W$19=1,'Tablas Guyanas y Santa Elena'!E101,'Tablas Resto de Ecuador'!E101)","v":7656},{"$f":"IF('INGRESO DE DATOS'!$W$19=1,'Tablas Guyanas y Santa Elena'!F101,'Tablas Resto de Ecuador'!F101)","v":5337},{"$f":"IF('INGRESO DE DATOS'!$W$19=1,'Tablas Guyanas y Santa Elena'!G101,'Tablas Resto de Ecuador'!G101)","v":4185},null,10157.5,8800.0499999999993,6507.5999999999995,4536.45,3557.25]
[39,null,10157.5,8800.0499999999993,6507.5999999999995,4536.45,3557.25,null,{"$f":"IF('INGRESO DE DATOS'!$W$19=1,'Tablas Guyanas y Santa Elena'!C102,'Tablas Resto de Ecuador'!C102)","v":11950},{"$f":"IF('INGRESO DE DATOS'!$W$19=1,'Tablas Guyanas y Santa Elena'!D102,'Tablas Resto de Ecuador'!D102)","v":10353},{"$f":"IF('INGRESO DE DATOS'!$W$19=1,'Tablas Guyanas y Santa Elena'!E102,'Tablas Resto de Ecuador'!E102)","v":7656},{"$f":"IF('INGRESO DE DATOS'!$W$19=1,'Tablas Guyanas y Santa Elena'!F102,'Tablas Resto de Ecuador'!F102)","v":5337},{"$f":"IF('INGRESO DE DATOS'!$W$19=1,'Tablas Guyanas y Santa Elena'!G102,'Tablas Resto de Ecuador'!G102)","v":4185},null,10157.5,8800.0499999999993,6507.5999999999995,4536.45,3557.25]
[40,null,11379.8,10325.799999999999,7235.2,5039.6499999999996,3954.2,null,{"$f":"IF('INGRESO DE DATOS'!$W$19=1,'Tablas Guyanas y Santa Elena'!C103,'Tablas Resto de Ecuador'!C103)","v":13388},{"$f":"IF('INGRESO DE DATOS'!$W$19=1,'Tablas Guyanas y Santa Elena'!D103,'Tablas Resto de Ecuador'!D103)","v":12148},{"$f":"IF('INGRESO DE DATOS'!$W$19=1,'Tablas Guyanas y Santa Elena'!E103,'Tablas Resto de Ecuador'!E103)","v":8512},{"$f":"IF('INGRESO DE DATOS'!$W$19=1,'Tablas Guyanas y Santa Elena'!F103,'Tablas Resto de Ecuador'!F103)","v":5929},{"$f":"IF('INGRESO DE DATOS'!$W$19=1,'Tablas Guyanas y Santa Elena'!G103,'Tablas Resto de Ecuador'!G103)","v":4652},null,11379.8,10325.799999999999,7235.2,5039.6499999999996,3954.2]
[41,null,11379.8,10325.799999999999,7235.2,5039.6499999999996,3954.2,null,{"$f":"IF('INGRESO DE DATOS'!$W$19=1,'Tablas Guyanas y Santa Elena'!C104,'Tablas Resto de Ecuador'!C104)","v":13388},{"$f":"IF('INGRESO DE DATOS'!$W$19=1,'Tablas Guyanas y Santa Elena'!D104,'Tablas Resto de Ecuador'!D104)","v":12148},{"$f":"IF('INGRESO DE DATOS'!$W$19=1,'Tablas Guyanas y Santa Elena'!E104,'Tablas Resto de Ecuador'!E104)","v":8512},{"$f":"IF('INGRESO DE DATOS'!$W$19=1,'Tablas Guyanas y Santa Elena'!F104,'Tablas Resto de Ecuador'!F104)","v":5929},{"$f":"IF('INGRESO DE DATOS'!$W$19=1,'Tablas Guyanas y Santa Elena'!G104,'Tablas Resto de Ecuador'!G104)","v":4652},null,11379.8,10325.799999999999,7235.2,5039.6499999999996,3954.2]
[42,null,11379.8,10325.799999999999,7235.2,5039.6499999999996,3954.2,null,{"$f":"IF('INGRESO DE DATOS'!$W$19=1,'Tablas Guyanas y Santa Elena'!C105,'Tablas Resto de Ecuador'!C105)","v":13388},{"$f":"IF('INGRESO DE DATOS'!$W$19=1,'Tablas Guyanas y Santa Elena'!D105,'Tablas Resto de Ecuador'!D105)","v":12148},{"$f":"IF('INGRESO DE DATOS'!$W$19=1,'Tablas Guyanas y Santa Elena'!E105,'Tablas Resto de Ecuador'!E105)","v":8512},{"$f":"IF('INGRESO DE DATOS'!$W$19=1,'Tablas Guyanas y Santa Elena'!F105,'Tablas Resto de Ecuador'!F105)","v":5929},{"$f":"IF('INGRESO DE DATOS'!$W$19=1,'Tablas Guyanas y Santa Elena'!G105,'Tablas Resto de Ecuador'!G105)","v":4652},null,11379.8,10325.799999999999,7235.2,5039.6499999999996,3954.2]
[43,null,11379.8,10325.799999999999,7235.2,5039.6499999999996,3954.2,null,{"$f":"IF('INGRESO DE DATOS'!$W$19=1,'Tablas Guyanas y Santa Elena'!C106,'Tablas Resto de Ecuador'!C106)","v":13388},{"$f":"IF('INGRESO DE DATOS'!$W$19=1,'Tablas Guyanas y Santa Elena'!D106,'Tablas Resto de Ecuador'!D106)","v":12148},{"$f":"IF('INGRESO DE DATOS'!$W$19=1,'Tablas Guyanas y Santa Elena'!E106,'Tablas Resto de Ecuador'!E106)","v":8512},{"$f":"IF('INGRESO DE DATOS'!$W$19=1,'Tablas Guyanas y Santa Elena'!F106,'Tablas Resto de Ecuador'!F106)","v":5929},{"$f":"IF('INGRESO DE DATOS'!$W$19=1,'Tablas Guyanas y Santa Elena'!G106,'Tablas Resto de Ecuador'!G106)","v":4652},null,11379.8,10325.799999999999,7235.2,5039.6499999999996,3954.2]
[44,null,11379.8,10325.799999999999,7235.2,5039.6499999999996,3954.2,null,{"$f":"IF('INGRESO DE DATOS'!$W$19=1,'Tablas Guyanas y Santa Elena'!C107,'Tablas Resto de Ecuador'!C107)","v":13388},{"$f":"IF('INGRESO DE DATOS'!$W$19=1,'Tablas Guyanas y Santa Elena'!D107,'Tablas Resto de Ecuador'!D107)","v":12148},{"$f":"IF('INGRESO DE DATOS'!$W$19=1,'Tablas Guyanas y Santa Elena'!E107,'Tablas Resto de Ecuador'!E107)","v":8512},{"$f":"IF('INGRESO DE DATOS'!$W$19=1,'Tablas Guyanas y Santa Elena'!F107,'Tablas Resto de Ecuador'!F107)","v":5929},{"$f":"IF('INGRESO DE DATOS'!$W$19=1,'Tablas Guyanas y Santa Elena'!G107,'Tablas Resto de Ecuador'!G107)","v":4652},null,11379.8,10325.799999999999,7235.2,5039.6499999999996,3954.2]
[45,null,12734.699999999999,10383.6,7975.55,5608.3,4399.5999999999995,null,{"$f":"IF('INGRESO DE DATOS'!$W$19=1,'Tablas Guyanas y Santa Elena'!C108,'Tablas Resto de Ecuador'!C108)","v":14982},{"$f":"IF('INGRESO DE DATOS'!$W$19=1,'Tablas Guyanas y Santa Elena'!D108,'Tablas Resto de Ecuador'!D108)","v":12216},{"$f":"IF('INGRESO DE DATOS'!$W$19=1,'Tablas Guyanas y Santa Elena'!E108,'Tablas Resto de Ecuador'!E108)","v":9383},{"$f":"IF('INGRESO DE DATOS'!$W$19=1,'Tablas Guyanas y Santa Elena'!F108,'Tablas Resto de Ecuador'!F108)","v":6598},{"$f":"IF('INGRESO DE DATOS'!$W$19=1,'Tablas Guyanas y Santa Elena'!G108,'Tablas Resto de Ecuador'!G108)","v":5176},null,12734.699999999999,10383.6,7975.55,5608.3,4399.5999999999995]
[46,null,12734.699999999999,10383.6,7975.55,5608.3,4399.5999999999995,null,{"$f":"IF('INGRESO DE DATOS'!$W$19=1,'Tablas Guyanas y Santa Elena'!C109,'Tablas Resto de Ecuador'!C109)","v":14982},{"$f":"IF('INGRESO DE DATOS'!$W$19=1,'Tablas Guyanas y Santa Elena'!D109,'Tablas Resto de Ecuador'!D109)","v":12216},{"$f":"IF('INGRESO DE DATOS'!$W$19=1,'Tablas Guyanas y Santa Elena'!E109,'Tablas Resto de Ecuador'!E109)","v":9383},{"$f":"IF('INGRESO DE DATOS'!$W$19=1,'Tablas Guyanas y Santa Elena'!F109,'Tablas Resto de Ecuador'!F109)","v":6598},{"$f":"IF('INGRESO DE DATOS'!$W$19=1,'Tablas Guyanas y Santa Elena'!G109,'Tablas Resto de Ecuador'!G109)","v":5176},null,12734.699999999999,10383.6,7975.55,5608.3,4399.5999999999995]
[47,null,12734.699999999999,10383.6,7975.55,5608.3,4399.5999999999995,null,{"$f":"IF('INGRESO DE DATOS'!$W$19=1,'Tablas Guyanas y Santa Elena'!C110,'Tablas Resto de Ecuador'!C110)","v":14982},{"$f":"IF('INGRESO DE DATOS'!$W$19=1,'Tablas Guyanas y Santa Elena'!D110,'Tablas Resto de Ecuador'!D110)","v":12216},{"$f":"IF('INGRESO DE DATOS'!$W$19=1,'Tablas Guyanas y Santa Elena'!E110,'Tablas Resto de Ecuador'!E110)","v":9383},{"$f":"IF('INGRESO DE DATOS'!$W$19=1,'Tablas Guyanas y Santa Elena'!F110,'Tablas Resto de Ecuador'!F110)","v":6598},{"$f":"IF('INGRESO DE DATOS'!$W$19=1,'Tablas Guyanas y Santa Elena'!G110,'Tablas Resto de Ecuador'!G110)","v":5176},null,12734.699999999999,10383.6,7975.55,5608.3,4399.5999999999995]
[48,null,12734.699999999999,10383.6,7975.55,5608.3,4399.5999999999995,null,{"$f":"IF('INGRESO DE DATOS'!$W$19=1,'Tablas Guyanas y Santa Elena'!C111,'Tablas Resto de Ecuador'!C111)","v":14982},{"$f":"IF('INGRESO DE DATOS'!$W$19=1,'Tablas Guyanas y Santa Elena'!D111,'Tablas Resto de Ecuador'!D111)","v":12216},{"$f":"IF('INGRESO DE DATOS'!$W$19=1,'Tablas Guyanas y Santa Elena'!E111,'Tablas Resto de Ecuador'!E111)","v":9383},{"$f":"IF('INGRESO DE DATOS'!$W$19=1,'Tablas Guyanas y Santa Elena'!F111,'Tablas Resto de Ecuador'!F111)","v":6598},{"$f":"IF('INGRESO DE DATOS'!$W$19=1,'Tablas Guyanas y Santa Elena'!G111,'Tablas Resto de Ecuador'!G111)","v":5176},null,12734.699999999999,10383.6,7975.55,5608.3,4399.5999999999995]
[49,null,12734.699999999999,10383.6,7975.55,5608.3,4399.5999999999995,null,{"$f":"IF('INGRESO DE DATOS'!$W$19=1,'Tablas Guyanas y Santa Elena'!C112,'Tablas Resto de Ecuador'!C112)","v":14982},{"$f":"IF('INGRESO DE DATOS'!$W$19=1,'Tablas Guyanas y Santa Elena'!D112,'Tablas Resto de Ecuador'!D112)","v":12216},{"$f":"IF('INGRESO DE DATOS'!$W$19=1,'Tablas Guyanas y Santa Elena'!E112,'Tablas Resto de Ecuador'!E112)","v":9383},{"$f":"IF('INGRESO DE DATOS'!$W$19=1,'Tablas Guyanas y Santa Elena'!F112,'Tablas Resto de Ecuador'!F112)","v":6598},{"$f":"IF('INGRESO DE DATOS'!$W$19=1,'Tablas Guyanas y Santa Elena'!G112,'Tablas Resto de Ecuador'!G112)","v":5176},null,12734.699999999999,10383.6,7975.55,5608.3,4399.5999999999995]
[50,null,{"$f":"O113*$X$2","v":14261.3},{"$f":"P113*$X$2","v":10967.55},{"$f":"Q113*$X$2","v":8616.4499999999989},6257.7,4908.75,null,{"$f":"IF('INGRESO DE DATOS'!$W$19=1,'Tablas Guyanas y Santa Elena'!C113,'Tablas Resto de Ecuador'!C113)","v":16778},{"$f":"IF('INGRESO DE DATOS'!$W$19=1,'Tablas Guyanas y Santa Elena'!D113,'Tablas Resto de Ecuador'!D113)","v":12903},{"$f":"IF('INGRESO DE DATOS'!$W$19=1,'Tablas Guyanas y Santa Elena'!E113,'Tablas Resto de Ecuador'!E113)","v":10137},{"$f":"IF('INGRESO DE DATOS'!$W$19=1,'Tablas Guyanas y Santa Elena'!F113,'Tablas Resto de Ecuador'!F113)","v":7362},{"$f":"IF('INGRESO DE DATOS'!$W$19=1,'Tablas Guyanas y Santa Elena'!G113,'Tablas Resto de Ecuador'!G113)","v":5775},null,14261.3,10967.55,8616.4499999999989,6257.7,4908.75]
[51,null,14261.3,10967.55,8616.4499999999989,6257.7,4908.75,null,{"$f":"IF('INGRESO DE DATOS'!$W$19=1,'Tablas Guyanas y Santa Elena'!C114,'Tablas Resto de Ecuador'!C114)","v":16778},{"$f":"IF('INGRESO DE DATOS'!$W$19=1,'Tablas Guyanas y Santa Elena'!D114,'Tablas Resto de Ecuador'!D114)","v":12903},{"$f":"IF('INGRESO DE DATOS'!$W$19=1,'Tablas Guyanas y Santa Elena'!E114,'Tablas Resto de Ecuador'!E114)","v":10137},{"$f":"IF('INGRESO DE DATOS'!$W$19=1,'Tablas Guyanas y Santa Elena'!F114,'Tablas Resto de Ecuador'!F114)","v":7362},{"$f":"IF('INGRESO DE DATOS'!$W$19=1,'Tablas Guyanas y Santa Elena'!G114,'Tablas Resto de Ecuador'!G114)","v":5775},null,14261.3,10967.55,8616.4499999999989,6257.7,4908.75]
[52,null,14261.3,10967.55,8616.4499999999989,6257.7,4908.75,null,{"$f":"IF('INGRESO DE DATOS'!$W$19=1,'Tablas Guyanas y Santa Elena'!C115,'Tablas Resto de Ecuador'!C115)","v":16778},{"$f":"IF('INGRESO DE DATOS'!$W$19=1,'Tablas Guyanas y Santa Elena'!D115,'Tablas Resto de Ecuador'!D115)","v":12903},{"$f":"IF('INGRESO DE DATOS'!$W$19=1,'Tablas Guyanas y Santa Elena'!E115,'Tablas Resto de Ecuador'!E115)","v":10137},{"$f":"IF('INGRESO DE DATOS'!$W$19=1,'Tablas Guyanas y Santa Elena'!F115,'Tablas Resto de Ecuador'!F115)","v":7362},{"$f":"IF('INGRESO DE DATOS'!$W$19=1,'Tablas Guyanas y Santa Elena'!G115,'Tablas Resto de Ecuador'!G115)","v":5775},null,14261.3,10967.55,8616.4499999999989,6257.7,4908.75]
[53,null,14261.3,10967.55,8616.4499999999989,6257.7,4908.75,null,{"$f":"IF('INGRESO DE DATOS'!$W$19=1,'Tablas Guyanas y Santa Elena'!C116,'Tablas Resto de Ecuador'!C116)","v":16778},{"$f":"IF('INGRESO DE DATOS'!$W$19=1,'Tablas Guyanas y Santa Elena'!D116,'Tablas Resto de Ecuador'!D116)","v":12903},{"$f":"IF('INGRESO DE DATOS'!$W$19=1,'Tablas Guyanas y Santa Elena'!E116,'Tablas Resto de Ecuador'!E116)","v":10137},{"$f":"IF('INGRESO DE DATOS'!$W$19=1,'Tablas Guyanas y Santa Elena'!F116,'Tablas Resto de Ecuador'!F116)","v":7362},{"$f":"IF('INGRESO DE DATOS'!$W$19=1,'Tablas Guyanas y Santa Elena'!G116,'Tablas Resto de Ecuador'!G116)","v":5775},null,14261.3,10967.55,8616.4499999999989,6257.7,4908.75]
[54,null,14261.3,10967.55,8616.4499999999989,6257.7,4908.75,null,{"$f":"IF('INGRESO DE DATOS'!$W$19=1,'Tablas Guyanas y Santa Elena'!C117,'Tablas Resto de Ecuador'!C117)","v":16778},{"$f":"IF('INGRESO DE DATOS'!$W$19=1,'Tablas Guyanas y Santa Elena'!D117,'Tablas Resto de Ecuador'!D117)","v":12903},{"$f":"IF('INGRESO DE DATOS'!$W$19=1,'Tablas Guyanas y Santa Elena'!E117,'Tablas Resto de Ecuador'!E117)","v":10137},{"$f":"IF('INGRESO DE DATOS'!$W$19=1,'Tablas Guyanas y Santa Elena'!F117,'Tablas Resto de Ecuador'!F117)","v":7362},{"$f":"IF('INGRESO DE DATOS'!$W$19=1,'Tablas Guyanas y Santa Elena'!G117,'Tablas Resto de Ecuador'!G117)","v":5775},null,14261.3,10967.55,8616.4499999999989,6257.7,4908.75]
[55,null,15948.55,12800.15,10015.549999999999,6975.0999999999995,5474.8499999999995,null,{"$f":"IF('INGRESO DE DATOS'!$W$19=1,'Tablas Guyanas y Santa Elena'!C118,'Tablas Resto de Ecuador'!C118)","v":18763},{"$f":"IF('INGRESO DE DATOS'!$W$19=1,'Tablas Guyanas y Santa Elena'!D118,'Tablas Resto de Ecuador'!D118)","v":15059},{"$f":"IF('INGRESO DE DATOS'!$W$19=1,'Tablas Guyanas y Santa Elena'!E118,'Tablas Resto de Ecuador'!E118)","v":11783},{"$f":"IF('INGRESO DE DATOS'!$W$19=1,'Tablas Guyanas y Santa Elena'!F118,'Tablas Resto de Ecuador'!F118)","v":8206},{"$f":"IF('INGRESO DE DATOS'!$W$19=1,'Tablas Guyanas y Santa Elena'!G118,'Tablas Resto de Ecuador'!G118)","v":6441},null,15948.55,12800.15,10015.549999999999,6975.0999999999995,5474.8499999999995]
[56,null,15948.55,12800.15,10015.549999999999,6975.0999999999995,5474.8499999999995,null,{"$f":"IF('INGRESO DE DATOS'!$W$19=1,'Tablas Guyanas y Santa Elena'!C119,'Tablas Resto de Ecuador'!C119)","v":18763},{"$f":"IF('INGRESO DE DATOS'!$W$19=1,'Tablas Guyanas y Santa Elena'!D119,'Tablas Resto de Ecuador'!D119)","v":15059},{"$f":"IF('INGRESO DE DATOS'!$W$19=1,'Tablas Guyanas y Santa Elena'!E119,'Tablas Resto de Ecuador'!E119)","v":11783},{"$f":"IF('INGRESO DE DATOS'!$W$19=1,'Tablas Guyanas y Santa Elena'!F119,'Tablas Resto de Ecuador'!F119)","v":8206},{"$f":"IF('INGRESO DE DATOS'!$W$19=1,'Tablas Guyanas y Santa Elena'!G119,'Tablas Resto de Ecuador'!G119)","v":6441},null,15948.55,12800.15,10015.549999999999,6975.0999999999995,5474.8499999999995]
[57,null,15948.55,12800.15,10015.549999999999,6975.0999999999995,5474.8499999999995,null,{"$f":"IF('INGRESO DE DATOS'!$W$19=1,'Tablas Guyanas y Santa Elena'!C120,'Tablas Resto de Ecuador'!C120)","v":18763},{"$f":"IF('INGRESO DE DATOS'!$W$19=1,'Tablas Guyanas y Santa Elena'!D120,'Tablas Resto de Ecuador'!D120)","v":15059},{"$f":"IF('INGRESO DE DATOS'!$W$19=1,'Tablas Guyanas y Santa Elena'!E120,'Tablas Resto de Ecuador'!E120)","v":11783},{"$f":"IF('INGRESO DE DATOS'!$W$19=1,'Tablas Guyanas y Santa Elena'!F120,'Tablas Resto de Ecuador'!F120)","v":8206},{"$f":"IF('INGRESO DE DATOS'!$W$19=1,'Tablas Guyanas y Santa Elena'!G120,'Tablas Resto de Ecuador'!G120)","v":6441},null,15948.55,12800.15,10015.549999999999,6975.0999999999995,5474.8499999999995]
[58,null,15948.55,12800.15,10015.549999999999,6975.0999999999995,5474.8499999999995,null,{"$f":"IF('INGRESO DE DATOS'!$W$19=1,'Tablas Guyanas y Santa Elena'!C121,'Tablas Resto de Ecuador'!C121)","v":18763},{"$f":"IF('INGRESO DE DATOS'!$W$19=1,'Tablas Guyanas y Santa Elena'!D121,'Tablas Resto de Ecuador'!D121)","v":15059},{"$f":"IF('INGRESO DE DATOS'!$W$19=1,'Tablas Guyanas y Santa Elena'!E121,'Tablas Resto de Ecuador'!E121)","v":11783},{"$f":"IF('INGRESO DE DATOS'!$W$19=1,'Tablas Guyanas y Santa Elena'!F121,'Tablas Resto de Ecuador'!F121)","v":8206},{"$f":"IF('INGRESO DE DATOS'!$W$19=1,'Tablas Guyanas y Santa Elena'!G121,'Tablas Resto de Ecuador'!G121)","v":6441},null,15948.55,12800.15,10015.549999999999,6975.0999999999995,5474.8499999999995]
[59,null,15948.55,12800.15,10015.549999999999,6975.0999999999995,5474.8499999999995,null,{"$f":"IF('INGRESO DE DATOS'!$W$19=1,'Tablas Guyanas y Santa Elena'!C122,'Tablas Resto de Ecuador'!C122)","v":18763},{"$f":"IF('INGRESO DE DATOS'!$W$19=1,'Tablas Guyanas y Santa Elena'!D122,'Tablas Resto de Ecuador'!D122)","v":15059},{"$f":"IF('INGRESO DE DATOS'!$W$19=1,'Tablas Guyanas y Santa Elena'!E122,'Tablas Resto de Ecuador'!E122)","v":11783},{"$f":"IF('INGRESO DE DATOS'!$W$19=1,'Tablas Guyanas y Santa Elena'!F122,'Tablas Resto de Ecuador'!F122)","v":8206},{"$f":"IF('INGRESO DE DATOS'!$W$19=1,'Tablas Guyanas y Santa Elena'!G122,'Tablas Resto de Ecuador'!G122)","v":6441},null,15948.55,12800.15,10015.549999999999,6975.0999999999995,5474.8499999999995]
[60,null,17062.899999999998,15488.699999999999,10709.15,7459.5999999999995,5851.4,null,{"$f":"IF('INGRESO DE DATOS'!$W$19=1,'Tablas Guyanas y Santa Elena'!C123,'Tablas Resto de Ecuador'!C123)","v":20074},{"$f":"IF('INGRESO DE DATOS'!$W$19=1,'Tablas Guyanas y Santa Elena'!D123,'Tablas Resto de Ecuador'!D123)","v":18222},{"$f":"IF('INGRESO DE DATOS'!$W$19=1,'Tablas Guyanas y Santa Elena'!E123,'Tablas Resto de Ecuador'!E123)","v":12599},{"$f":"IF('INGRESO DE DATOS'!$W$19=1,'Tablas Guyanas y Santa Elena'!F123,'Tablas Resto de Ecuador'!F123)","v":8776},{"$f":"IF('INGRESO DE DATOS'!$W$19=1,'Tablas Guyanas y Santa Elena'!G123,'Tablas Resto de Ecuador'!G123)","v":6884},null,17062.899999999998,15488.699999999999,10709.15,7459.5999999999995,5851.4]
[61,null,19015.349999999999,17257.55,11917.85,8302.7999999999993,6511.8499999999995,null,{"$f":"IF('INGRESO DE DATOS'!$W$19=1,'Tablas Guyanas y Santa Elena'!C124,'Tablas Resto de Ecuador'!C124)","v":22371},{"$f":"IF('INGRESO DE DATOS'!$W$19=1,'Tablas Guyanas y Santa Elena'!D124,'Tablas Resto de Ecuador'!D124)","v":20303},{"$f":"IF('INGRESO DE DATOS'!$W$19=1,'Tablas Guyanas y Santa Elena'!E124,'Tablas Resto de Ecuador'!E124)","v":14021},{"$f":"IF('INGRESO DE DATOS'!$W$19=1,'Tablas Guyanas y Santa Elena'!F124,'Tablas Resto de Ecuador'!F124)","v":9768},{"$f":"IF('INGRESO DE DATOS'!$W$19=1,'Tablas Guyanas y Santa Elena'!G124,'Tablas Resto de Ecuador'!G124)","v":7661},null,19015.349999999999,17257.55,11917.85,8302.7999999999993,6511.8499999999995]
[62,null,21127.599999999999,18518.95,13234.5,9216.5499999999993,7230.0999999999995,null,{"$f":"IF('INGRESO DE DATOS'!$W$19=1,'Tablas Guyanas y Santa Elena'!C125,'Tablas Resto de Ecuador'!C125)","v":24856},{"$f":"IF('INGRESO DE DATOS'!$W$19=1,'Tablas Guyanas y Santa Elena'!D125,'Tablas Resto de Ecuador'!D125)","v":21787},{"$f":"IF('INGRESO DE DATOS'!$W$19=1,'Tablas Guyanas y Santa Elena'!E125,'Tablas Resto de Ecuador'!E125)","v":15570},{"$f":"IF('INGRESO DE DATOS'!$W$19=1,'Tablas Guyanas y Santa Elena'!F125,'Tablas Resto de Ecuador'!F125)","v":10843},{"$f":"IF('INGRESO DE DATOS'!$W$19=1,'Tablas Guyanas y Santa Elena'!G125,'Tablas Resto de Ecuador'!G125)","v":8506},null,21127.599999999999,18518.95,13234.5,9216.5499999999993,7230.0999999999995]
[63,null,23396.25,19524.5,14659.949999999999,10208.5,8008.7,null,{"$f":"IF('INGRESO DE DATOS'!$W$19=1,'Tablas Guyanas y Santa Elena'!C126,'Tablas Resto de Ecuador'!C126)","v":27525},{"$f":"IF('INGRESO DE DATOS'!$W$19=1,'Tablas Guyanas y Santa Elena'!D126,'Tablas Resto de Ecuador'!D126)","v":22970},{"$f":"IF('INGRESO DE DATOS'!$W$19=1,'Tablas Guyanas y Santa Elena'!E126,'Tablas Resto de Ecuador'!E126)","v":17247},{"$f":"IF('INGRESO DE DATOS'!$W$19=1,'Tablas Guyanas y Santa Elena'!F126,'Tablas Resto de Ecuador'!F126)","v":12010},{"$f":"IF('INGRESO DE DATOS'!$W$19=1,'Tablas Guyanas y Santa Elena'!G126,'Tablas Resto de Ecuador'!G126)","v":9422},null,23396.25,19524.5,14659.949999999999,10208.5,8008.7]
[64,null,24714.6,20717.899999999998,16185.699999999999,11270.15,8843.4,null,{"$f":"IF('INGRESO DE DATOS'!$W$19=1,'Tablas Guyanas y Santa Elena'!C127,'Tablas Resto de Ecuador'!C127)","v":29076},{"$f":"IF('INGRESO DE DATOS'!$W$19=1,'Tablas Guyanas y Santa Elena'!D127,'Tablas Resto de Ecuador'!D127)","v":24374},{"$f":"IF('INGRESO DE DATOS'!$W$19=1,'Tablas Guyanas y Santa Elena'!E127,'Tablas Resto de Ecuador'!E127)","v":19042},{"$f":"IF('INGRESO DE DATOS'!$W$19=1,'Tablas Guyanas y Santa Elena'!F127,'Tablas Resto de Ecuador'!F127)","v":13259},{"$f":"IF('INGRESO DE DATOS'!$W$19=1,'Tablas Guyanas y Santa Elena'!G127,'Tablas Resto de Ecuador'!G127)","v":10404},null,24714.6,20717.899999999998,16185.699999999999,11270.15,8843.4]
[65,null,26162.149999999998,22191.8,17411.399999999998,12410,9737.6,null,{"$f":"IF('INGRESO DE DATOS'!$W$19=1,'Tablas Guyanas y Santa Elena'!C128,'Tablas Resto de Ecuador'!C128)","v":30779},{"$f":"IF('INGRESO DE DATOS'!$W$19=1,'Tablas Guyanas y Santa Elena'!D128,'Tablas Resto de Ecuador'!D128)","v":26108},{"$f":"IF('INGRESO DE DATOS'!$W$19=1,'Tablas Guyanas y Santa Elena'!E128,'Tablas Resto de Ecuador'!E128)","v":20484},{"$f":"IF('INGRESO DE DATOS'!$W$19=1,'Tablas Guyanas y Santa Elena'!F128,'Tablas Resto de Ecuador'!F128)","v":14600},{"$f":"IF('INGRESO DE DATOS'!$W$19=1,'Tablas Guyanas y Santa Elena'!G128,'Tablas Resto de Ecuador'!G128)","v":11456},null,26162.149999999998,22191.8,17411.399999999998,12410,9737.6]
[66,null,28021.1,24032.899999999998,18918.45,13621.25,10688.75,null,{"$f":"IF('INGRESO DE DATOS'!$W$19=1,'Tablas Guyanas y Santa Elena'!C129,'Tablas Resto de Ecuador'!C129)","v":32966},{"$f":"IF('INGRESO DE DATOS'!$W$19=1,'Tablas Guyanas y Santa Elena'!D129,'Tablas Resto de Ecuador'!D129)","v":28274},{"$f":"IF('INGRESO DE DATOS'!$W$19=1,'Tablas Guyanas y Santa Elena'!E129,'Tablas Resto de Ecuador'!E129)","v":22257},{"$f":"IF('INGRESO DE DATOS'!$W$19=1,'Tablas Guyanas y Santa Elena'!F129,'Tablas Resto de Ecuador'!F129)","v":16025},{"$f":"IF('INGRESO DE DATOS'!$W$19=1,'Tablas Guyanas y Santa Elena'!G129,'Tablas Resto de Ecuador'!G129)","v":12575},null,28021.1,24032.899999999998,18918.45,13621.25,10688.75]
[67,null,30214.1,26180.85,20704.3,14905.6,11692.6,null,{"$f":"IF('INGRESO DE DATOS'!$W$19=1,'Tablas Guyanas y Santa Elena'!C130,'Tablas Resto de Ecuador'!C130)","v":35546},{"$f":"IF('INGRESO DE DATOS'!$W$19=1,'Tablas Guyanas y Santa Elena'!D130,'Tablas Resto de Ecuador'!D130)","v":30801},{"$f":"IF('INGRESO DE DATOS'!$W$19=1,'Tablas Guyanas y Santa Elena'!E130,'Tablas Resto de Ecuador'!E130)","v":24358},{"$f":"IF('INGRESO DE DATOS'!$W$19=1,'Tablas Guyanas y Santa Elena'!F130,'Tablas Resto de Ecuador'!F130)","v":17536},{"$f":"IF('INGRESO DE DATOS'!$W$19=1,'Tablas Guyanas y Santa Elena'!G130,'Tablas Resto de Ecuador'!G130)","v":13756},null,30214.1,26180.85,20704.3,14905.6,11692.6]
[68,null,32596.649999999998,28503.899999999998,22649.95,16264.75,12760.199999999999,null,{"$f":"IF('INGRESO DE DATOS'!$W$19=1,'Tablas Guyanas y Santa Elena'!C131,'Tablas Resto de Ecuador'!C131)","v":38349},{"$f":"IF('INGRESO DE DATOS'!$W$19=1,'Tablas Guyanas y Santa Elena'!D131,'Tablas Resto de Ecuador'!D131)","v":33534},{"$f":"IF('INGRESO DE DATOS'!$W$19=1,'Tablas Guyanas y Santa Elena'!E131,'Tablas Resto de Ecuador'!E131)","v":26647},{"$f":"IF('INGRESO DE DATOS'!$W$19=1,'Tablas Guyanas y Santa Elena'!F131,'Tablas Resto de Ecuador'!F131)","v":19135},{"$f":"IF('INGRESO DE DATOS'!$W$19=1,'Tablas Guyanas y Santa Elena'!G131,'Tablas Resto de Ecuador'!G131)","v":15012},null,32596.649999999998,28503.899999999998,22649.95,16264.75,12760.199999999999]
[69,null,35027.65,30870.3,24634.7,17693.599999999999,13881.35,null,{"$f":"IF('INGRESO DE DATOS'!$W$19=1,'Tablas Guyanas y Santa Elena'!C132,'Tablas Resto de Ecuador'!C132)","v":41209},{"$f":"IF('INGRESO DE DATOS'!$W$19=1,'Tablas Guyanas y Santa Elena'!D132,'Tablas Resto de Ecuador'!D132)","v":36318},{"$f":"IF('INGRESO DE DATOS'!$W$19=1,'Tablas Guyanas y Santa Elena'!E132,'Tablas Resto de Ecuador'!E132)","v":28982},{"$f":"IF('INGRESO DE DATOS'!$W$19=1,'Tablas Guyanas y Santa Elena'!F132,'Tablas Resto de Ecuador'!F132)","v":20816},{"$f":"IF('INGRESO DE DATOS'!$W$19=1,'Tablas Guyanas y Santa Elena'!G132,'Tablas Resto de Ecuador'!G132)","v":16331},null,35027.65,30870.3,24634.7,17693.599999999999,13881.35]
[70,null,37363.449999999997,33149.15,26540.399999999998,19199.8,15061.15,null,{"$f":"IF('INGRESO DE DATOS'!$W$19=1,'Tablas Guyanas y Santa Elena'!C133,'Tablas Resto de Ecuador'!C133)","v":43957},{"$f":"IF('INGRESO DE DATOS'!$W$19=1,'Tablas Guyanas y Santa Elena'!D133,'Tablas Resto de Ecuador'!D133)","v":38999},{"$f":"IF('INGRESO DE DATOS'!$W$19=1,'Tablas Guyanas y Santa Elena'!E133,'Tablas Resto de Ecuador'!E133)","v":31224},{"$f":"IF('INGRESO DE DATOS'!$W$19=1,'Tablas Guyanas y Santa Elena'!F133,'Tablas Resto de Ecuador'!F133)","v":22588},{"$f":"IF('INGRESO DE DATOS'!$W$19=1,'Tablas Guyanas y Santa Elena'!G133,'Tablas Resto de Ecuador'!G133)","v":17719},null,37363.449999999997,33149.15,26540.399999999998,19199.8,15061.15]
[71,null,39604.049999999996,35341.299999999996,28366.2,20778.25,16301.3,null,{"$f":"IF('INGRESO DE DATOS'!$W$19=1,'Tablas Guyanas y Santa Elena'!C134,'Tablas Resto de Ecuador'!C134)","v":46593},{"$f":"IF('INGRESO DE DATOS'!$W$19=1,'Tablas Guyanas y Santa Elena'!D134,'Tablas Resto de Ecuador'!D134)","v":41578},{"$f":"IF('INGRESO DE DATOS'!$W$19=1,'Tablas Guyanas y Santa Elena'!E134,'Tablas Resto de Ecuador'!E134)","v":33372},{"$f":"IF('INGRESO DE DATOS'!$W$19=1,'Tablas Guyanas y Santa Elena'!F134,'Tablas Resto de Ecuador'!F134)","v":24445},{"$f":"IF('INGRESO DE DATOS'!$W$19=1,'Tablas Guyanas y Santa Elena'!G134,'Tablas Resto de Ecuador'!G134)","v":19178},null,39604.049999999996,35341.299999999996,28366.2,20778.25,16301.3]
[72,null,41843.799999999996,37532.6,30192,22432.35,17599.25,null,{"$f":"IF('INGRESO DE DATOS'!$W$19=1,'Tablas Guyanas y Santa Elena'!C135,'Tablas Resto de Ecuador'!C135)","v":49228},{"$f":"IF('INGRESO DE DATOS'!$W$19=1,'Tablas Guyanas y Santa Elena'!D135,'Tablas Resto de Ecuador'!D135)","v":44156},{"$f":"IF('INGRESO DE DATOS'!$W$19=1,'Tablas Guyanas y Santa Elena'!E135,'Tablas Resto de Ecuador'!E135)","v":35520},{"$f":"IF('INGRESO DE DATOS'!$W$19=1,'Tablas Guyanas y Santa Elena'!F135,'Tablas Resto de Ecuador'!F135)","v":26391},{"$f":"IF('INGRESO DE DATOS'!$W$19=1,'Tablas Guyanas y Santa Elena'!G135,'Tablas Resto de Ecuador'!G135)","v":20705},null,41843.799999999996,37532.6,30192,22432.35,17599.25]
[73,null,44084.4,39723.9,32017.8,24157.85,18952.45,null,{"$f":"IF('INGRESO DE DATOS'!$W$19=1,'Tablas Guyanas y Santa Elena'!C136,'Tablas Resto de Ecuador'!C136)","v":51864},{"$f":"IF('INGRESO DE DATOS'!$W$19=1,'Tablas Guyanas y Santa Elena'!D136,'Tablas Resto de Ecuador'!D136)","v":46734},{"$f":"IF('INGRESO DE DATOS'!$W$19=1,'Tablas Guyanas y Santa Elena'!E136,'Tablas Resto de Ecuador'!E136)","v":37668},{"$f":"IF('INGRESO DE DATOS'!$W$19=1,'Tablas Guyanas y Santa Elena'!F136,'Tablas Resto de Ecuador'!F136)","v":28421},{"$f":"IF('INGRESO DE DATOS'!$W$19=1,'Tablas Guyanas y Santa Elena'!G136,'Tablas Resto de Ecuador'!G136)","v":22297},null,44084.4,39723.9,32017.8,24157.85,18952.45]
[74,null,46324.15,41915.199999999997,33843.599999999999,25956.45,20364.3,null,{"$f":"IF('INGRESO DE DATOS'!$W$19=1,'Tablas Guyanas y Santa Elena'!C137,'Tablas Resto de Ecuador'!C137)","v":54499},{"$f":"IF('INGRESO DE DATOS'!$W$19=1,'Tablas Guyanas y Santa Elena'!D137,'Tablas Resto de Ecuador'!D137)","v":49312},{"$f":"IF('INGRESO DE DATOS'!$W$19=1,'Tablas Guyanas y Santa Elena'!E137,'Tablas Resto de Ecuador'!E137)","v":39816},{"$f":"IF('INGRESO DE DATOS'!$W$19=1,'Tablas Guyanas y Santa Elena'!F137,'Tablas Resto de Ecuador'!F137)","v":30537},{"$f":"IF('INGRESO DE DATOS'!$W$19=1,'Tablas Guyanas y Santa Elena'!G137,'Tablas Resto de Ecuador'!G137)","v":23958},null,46324.15,41915.199999999997,33843.599999999999,25956.45,20364.3]
[75,null,48501,44042.75,35605.65,27829,21457.399999999998,null,{"$f":"IF('INGRESO DE DATOS'!$W$19=1,'Tablas Guyanas y Santa Elena'!C138,'Tablas Resto de Ecuador'!C138)","v":57060},{"$f":"IF('INGRESO DE DATOS'!$W$19=1,'Tablas Guyanas y Santa Elena'!D138,'Tablas Resto de Ecuador'!D138)","v":51815},{"$f":"IF('INGRESO DE DATOS'!$W$19=1,'Tablas Guyanas y Santa Elena'!E138,'Tablas Resto de Ecuador'!E138)","v":41889},{"$f":"IF('INGRESO DE DATOS'!$W$19=1,'Tablas Guyanas y Santa Elena'!F138,'Tablas Resto de Ecuador'!F138)","v":32740},{"$f":"IF('INGRESO DE DATOS'!$W$19=1,'Tablas Guyanas y Santa Elena'!G138,'Tablas Resto de Ecuador'!G138)","v":25244},null,48501,44042.75,35605.65,27829,21457.399999999998]
[76,null,48501,44042.75,35605.65,27829,21457.399999999998,null,{"$f":"IF('INGRESO DE DATOS'!$W$19=1,'Tablas Guyanas y Santa Elena'!C139,'Tablas Resto de Ecuador'!C139)","v":57060},{"$f":"IF('INGRESO DE DATOS'!$W$19=1,'Tablas Guyanas y Santa Elena'!D139,'Tablas Resto de Ecuador'!D139)","v":51815},{"$f":"IF('INGRESO DE DATOS'!$W$19=1,'Tablas Guyanas y Santa Elena'!E139,'Tablas Resto de Ecuador'!E139)","v":41889},{"$f":"IF('INGRESO DE DATOS'!$W$19=1,'Tablas Guyanas y Santa Elena'!F139,'Tablas Resto de Ecuador'!F139)","v":32740},{"$f":"IF('INGRESO DE DATOS'!$W$19=1,'Tablas Guyanas y Santa Elena'!G139,'Tablas Resto de Ecuador'!G139)","v":25244},null,48501,44042.75,35605.65,27829,21457.399999999998]
[77,null,48501,44042.75,35605.65,27829,21457.399999999998,null,{"$f":"IF('INGRESO DE DATOS'!$W$19=1,'Tablas Guyanas y Santa Elena'!C140,'Tablas Resto de Ecuador'!C140)","v":57060},{"$f":"IF('INGRESO DE DATOS'!$W$19=1,'Tablas Guyanas y Santa Elena'!D140,'Tablas Resto de Ecuador'!D140)","v":51815},{"$f":"IF('INGRESO DE DATOS'!$W$19=1,'Tablas Guyanas y Santa Elena'!E140,'Tablas Resto de Ecuador'!E140)","v":41889},{"$f":"IF('INGRESO DE DATOS'!$W$19=1,'Tablas Guyanas y Santa Elena'!F140,'Tablas Resto de Ecuador'!F140)","v":32740},{"$f":"IF('INGRESO DE DATOS'!$W$19=1,'Tablas Guyanas y Santa Elena'!G140,'Tablas Resto de Ecuador'!G140)","v":25244},null,48501,44042.75,35605.65,27829,21457.399999999998]
[78,null,48501,44042.75,35605.65,27829,21457.399999999998,null,{"$f":"IF('INGRESO DE DATOS'!$W$19=1,'Tablas Guyanas y Santa Elena'!C141,'Tablas Resto de Ecuador'!C141)","v":57060},{"$f":"IF('INGRESO DE DATOS'!$W$19=1,'Tablas Guyanas y Santa Elena'!D141,'Tablas Resto de Ecuador'!D141)","v":51815},{"$f":"IF('INGRESO DE DATOS'!$W$19=1,'Tablas Guyanas y Santa Elena'!E141,'Tablas Resto de Ecuador'!E141)","v":41889},{"$f":"IF('INGRESO DE DATOS'!$W$19=1,'Tablas Guyanas y Santa Elena'!F141,'Tablas Resto de Ecuador'!F141)","v":32740},{"$f":"IF('INGRESO DE DATOS'!$W$19=1,'Tablas Guyanas y Santa Elena'!G141,'Tablas Resto de Ecuador'!G141)","v":25244},null,48501,44042.75,35605.65,27829,21457.399999999998]
[79,null,48501,44042.75,35605.65,27829,21457.399999999998,null,{"$f":"IF('INGRESO DE DATOS'!$W$19=1,'Tablas Guyanas y Santa Elena'!C142,'Tablas Resto de Ecuador'!C142)","v":57060},{"$f":"IF('INGRESO DE DATOS'!$W$19=1,'Tablas Guyanas y Santa Elena'!D142,'Tablas Resto de Ecuador'!D142)","v":51815},{"$f":"IF('INGRESO DE DATOS'!$W$19=1,'Tablas Guyanas y Santa Elena'!E142,'Tablas Resto de Ecuador'!E142)","v":41889},{"$f":"IF('INGRESO DE DATOS'!$W$19=1,'Tablas Guyanas y Santa Elena'!F142,'Tablas Resto de Ecuador'!F142)","v":32740},{"$f":"IF('INGRESO DE DATOS'!$W$19=1,'Tablas Guyanas y Santa Elena'!G142,'Tablas Resto de Ecuador'!G142)","v":25244},null,48501,44042.75,35605.65,27829,21457.399999999998]
[80,null,48501,44042.75,35605.65,27829,21457.399999999998,null,{"$f":"IF('INGRESO DE DATOS'!$W$19=1,'Tablas Guyanas y Santa Elena'!C143,'Tablas Resto de Ecuador'!C143)","v":57060},{"$f":"IF('INGRESO DE DATOS'!$W$19=1,'Tablas Guyanas y Santa Elena'!D143,'Tablas Resto de Ecuador'!D143)","v":51815},{"$f":"IF('INGRESO DE DATOS'!$W$19=1,'Tablas Guyanas y Santa Elena'!E143,'Tablas Resto de Ecuador'!E143)","v":41889},{"$f":"IF('INGRESO DE DATOS'!$W$19=1,'Tablas Guyanas y Santa Elena'!F143,'Tablas Resto de Ecuador'!F143)","v":32740},{"$f":"IF('INGRESO DE DATOS'!$W$19=1,'Tablas Guyanas y Santa Elena'!G143,'Tablas Resto de Ecuador'!G143)","v":25244},null,48501,44042.75,35605.65,27829,21457.399999999998]
[81,null,48501,44042.75,35605.65,27829,21457.399999999998,null,{"$f":"IF('INGRESO DE DATOS'!$W$19=1,'Tablas Guyanas y Santa Elena'!C144,'Tablas Resto de Ecuador'!C144)","v":57060},{"$f":"IF('INGRESO DE DATOS'!$W$19=1,'Tablas Guyanas y Santa Elena'!D144,'Tablas Resto de Ecuador'!D144)","v":51815},{"$f":"IF('INGRESO DE DATOS'!$W$19=1,'Tablas Guyanas y Santa Elena'!E144,'Tablas Resto de Ecuador'!E144)","v":41889},{"$f":"IF('INGRESO DE DATOS'!$W$19=1,'Tablas Guyanas y Santa Elena'!F144,'Tablas Resto de Ecuador'!F144)","v":32740},{"$f":"IF('INGRESO DE DATOS'!$W$19=1,'Tablas Guyanas y Santa Elena'!G144,'Tablas Resto de Ecuador'!G144)","v":25244},null,48501,44042.75,35605.65,27829,21457.399999999998]
[82,null,{"$f":"O145*$X$2","v":48501},{"$f":"P145*$X$2","v":44042.75},{"$f":"Q145*$X$2","v":35605.65},27829,21457.399999999998,null,{"$f":"IF('INGRESO DE DATOS'!$W$19=1,'Tablas Guyanas y Santa Elena'!C145,'Tablas Resto de Ecuador'!C145)","v":57060},{"$f":"IF('INGRESO DE DATOS'!$W$19=1,'Tablas Guyanas y Santa Elena'!D145,'Tablas Resto de Ecuador'!D145)","v":51815},{"$f":"IF('INGRESO DE DATOS'!$W$19=1,'Tablas Guyanas y Santa Elena'!E145,'Tablas Resto de Ecuador'!E145)","v":41889},{"$f":"IF('INGRESO DE DATOS'!$W$19=1,'Tablas Guyanas y Santa Elena'!F145,'Tablas Resto de Ecuador'!F145)","v":32740},{"$f":"IF('INGRESO DE DATOS'!$W$19=1,'Tablas Guyanas y Santa Elena'!G145,'Tablas Resto de Ecuador'!G145)","v":25244},null,48501,44042.75,35605.65,27829,21457.399999999998]
[83,null,48501,44042.75,35605.65,{"$f":"R146*$X$2","v":27829},{"$f":"S146*$X$2","v":21457.399999999998},null,{"$f":"IF('INGRESO DE DATOS'!$W$19=1,'Tablas Guyanas y Santa Elena'!C146,'Tablas Resto de Ecuador'!C146)","v":57060},{"$f":"IF('INGRESO DE DATOS'!$W$19=1,'Tablas Guyanas y Santa Elena'!D146,'Tablas Resto de Ecuador'!D146)","v":51815},{"$f":"IF('INGRESO DE DATOS'!$W$19=1,'Tablas Guyanas y Santa Elena'!E146,'Tablas Resto de Ecuador'!E146)","v":41889},{"$f":"IF('INGRESO DE DATOS'!$W$19=1,'Tablas Guyanas y Santa Elena'!F146,'Tablas Resto de Ecuador'!F146)","v":32740},{"$f":"IF('INGRESO DE DATOS'!$W$19=1,'Tablas Guyanas y Santa Elena'!G146,'Tablas Resto de Ecuador'!G146)","v":25244},null,{"$f":"I146*$Q$4","v":48501},44042.75,35605.65,27829,21457.399999999998]
[84,"o más",48501,44042.75,35605.65,27829,21457.399999999998,null,{"$f":"IF('INGRESO DE DATOS'!$W$19=1,'Tablas Guyanas y Santa Elena'!C147,'Tablas Resto de Ecuador'!C147)","v":57060},{"$f":"IF('INGRESO DE DATOS'!$W$19=1,'Tablas Guyanas y Santa Elena'!D147,'Tablas Resto de Ecuador'!D147)","v":51815},{"$f":"IF('INGRESO DE DATOS'!$W$19=1,'Tablas Guyanas y Santa Elena'!E147,'Tablas Resto de Ecuador'!E147)","v":41889},{"$f":"IF('INGRESO DE DATOS'!$W$19=1,'Tablas Guyanas y Santa Elena'!F147,'Tablas Resto de Ecuador'!F147)","v":32740},{"$f":"IF('INGRESO DE DATOS'!$W$19=1,'Tablas Guyanas y Santa Elena'!G147,'Tablas Resto de Ecuador'!G147)","v":25244},null,48501,44042.75,35605.65,27829,21457.399999999998]
[1,"Hijo",735.25,680.85,680.85,551.65,498.09999999999997,null,{"$f":"IF('INGRESO DE DATOS'!$W$19=1,'Tablas Guyanas y Santa Elena'!C148,'Tablas Resto de Ecuador'!C148)","v":865},{"$f":"IF('INGRESO DE DATOS'!$W$19=1,'Tablas Guyanas y Santa Elena'!D148,'Tablas Resto de Ecuador'!D148)","v":801},{"$f":"IF('INGRESO DE DATOS'!$W$19=1,'Tablas Guyanas y Santa Elena'!E148,'Tablas Resto de Ecuador'!E148)","v":801},{"$f":"IF('INGRESO DE DATOS'!$W$19=1,'Tablas Guyanas y Santa Elena'!F148,'Tablas Resto de Ecuador'!F148)","v":649},{"$f":"IF('INGRESO DE DATOS'!$W$19=1,'Tablas Guyanas y Santa Elena'!G148,'Tablas Resto de Ecuador'!G148)","v":586},null,735.25,680.85,680.85,551.65,498.09999999999997]
[2,"Hijos",1445.85,1404.2,1309.8499999999999,1059.95,950.3,null,{"$f":"IF('INGRESO DE DATOS'!$W$19=1,'Tablas Guyanas y Santa Elena'!C149,'Tablas Resto de Ecuador'!C149)","v":1701},{"$f":"IF('INGRESO DE DATOS'!$W$19=1,'Tablas Guyanas y Santa Elena'!D149,'Tablas Resto de Ecuador'!D149)","v":1652},{"$f":"IF('INGRESO DE DATOS'!$W$19=1,'Tablas Guyanas y Santa Elena'!E149,'Tablas Resto de Ecuador'!E149)","v":1541},{"$f":"IF('INGRESO DE DATOS'!$W$19=1,'Tablas Guyanas y Santa Elena'!F149,'Tablas Resto de Ecuador'!F149)","v":1247},{"$f":"IF('INGRESO DE DATOS'!$W$19=1,'Tablas Guyanas y Santa Elena'!G149,'Tablas Resto de Ecuador'!G149)","v":1118},null,1445.85,1404.2,1309.8499999999999,1059.95,950.3]
[3,"Hijos o más",2136.9,2074,1875.95,1539.35,1373.6,null,{"$f":"IF('INGRESO DE DATOS'!$W$19=1,'Tablas Guyanas y Santa Elena'!C150,'Tablas Resto de Ecuador'!C150)","v":2514},{"$f":"IF('INGRESO DE DATOS'!$W$19=1,'Tablas Guyanas y Santa Elena'!D150,'Tablas Resto de Ecuador'!D150)","v":2440},{"$f":"IF('INGRESO DE DATOS'!$W$19=1,'Tablas Guyanas y Santa Elena'!E150,'Tablas Resto de Ecuador'!E150)","v":2207},{"$f":"IF('INGRESO DE DATOS'!$W$19=1,'Tablas Guyanas y Santa Elena'!F150,'Tablas Resto de Ecuador'!F150)","v":1811},{"$f":"IF('INGRESO DE DATOS'!$W$19=1,'Tablas Guyanas y Santa Elena'!G150,'Tablas Resto de Ecuador'!G150)","v":1616},null,2136.9,2074,1875.95,1539.35,1373.6]
[]
["BUPA GLOBAL SELECT"]
["TARIFAS ANUALES"]
[]
["EDAD",null,250,2000,5000,10000,20000,null,"TARIFAS BASE",null,null,null,null,null,"TARIFAS BASE CON DESCUENTO"]
[18,null,{"$f":"O156*$X$2","v":4804.2},{"$f":"P156*$X$2","v":3482.45},{"$f":"Q156*$X$2","v":3175.6},{"$f":"R156*$X$2","v":2349.4},1846.2,null,{"$f":"IF('INGRESO DE DATOS'!$W$19=1,'Tablas Guyanas y Santa Elena'!C156,'Tablas Resto de Ecuador'!C156)","v":5652},{"$f":"IF('INGRESO DE DATOS'!$W$19=1,'Tablas Guyanas y Santa Elena'!D156,'Tablas Resto de Ecuador'!D156)","v":4097},{"$f":"IF('INGRESO DE DATOS'!$W$19=1,'Tablas Guyanas y Santa Elena'!E156,'Tablas Resto de Ecuador'!E156)","v":3736},{"$f":"IF('INGRESO DE DATOS'!$W$19=1,'Tablas Guyanas y Santa Elena'!F156,'Tablas Resto de Ecuador'!F156)","v":2764},{"$f":"IF('INGRESO DE DATOS'!$W$19=1,'Tablas Guyanas y Santa Elena'!G156,'Tablas Resto de Ecuador'!G156)","v":2172},null,{"$f":"I156*$R$4","v":4804.2},{"$f":"J156*$R$4","v":3482.45},{"$f":"K156*$R$4","v":3175.6},{"$f":"L156*$R$4","v":2349.4},{"$f":"M156*$R$4","v":1846.2}]
[19,null,4804.2,3482.45,3175.6,2349.4,1846.2,null,{"$f":"IF('INGRESO DE DATOS'!$W$19=1,'Tablas Guyanas y Santa Elena'!C157,'Tablas Resto de Ecuador'!C157)","v":5652},{"$f":"IF('INGRESO DE DATOS'!$W$19=1,'Tablas Guyanas y Santa Elena'!D157,'Tablas Resto de Ecuador'!D157)","v":4097},{"$f":"IF('INGRESO DE DATOS'!$W$19=1,'Tablas Guyanas y Santa Elena'!E157,'Tablas Resto de Ecuador'!E157)","v":3736},{"$f":"IF('INGRESO DE DATOS'!$W$19=1,'Tablas Guyanas y Santa Elena'!F157,'Tablas Resto de Ecuador'!F157)","v":2764},{"$f":"IF('INGRESO DE DATOS'!$W$19=1,'Tablas Guyanas y Santa Elena'!G157,'Tablas Resto de Ecuador'!G157)","v":2172},null,{"$f":"I157*$R$4","v":4804.2},{"$f":"J157*$R$4","v":3482.45},{"$f":"K157*$R$4","v":3175.6},{"$f":"L157*$R$4","v":2349.4},{"$f":"M157*$R$4","v":1846.2}]
[20,null,4804.2,3482.45,3175.6,2349.4,1846.2,null,{"$f":"IF('INGRESO DE DATOS'!$W$19=1,'Tablas Guyanas y Santa Elena'!C158,'Tablas Resto de Ecuador'!C158)","v":5652},{"$f":"IF('INGRESO DE DATOS'!$W$19=1,'Tablas Guyanas y Santa Elena'!D158,'Tablas Resto de Ecuador'!D158)","v":4097},{"$f":"IF('INGRESO DE DATOS'!$W$19=1,'Tablas Guyanas y Santa Elena'!E158,'Tablas Resto de Ecuador'!E158)","v":3736},{"$f":"IF('INGRESO DE DATOS'!$W$19=1,'Tablas Guyanas y Santa Elena'!F158,'Tablas Resto de Ecuador'!F158)","v":2764},{"$f":"IF('INGRESO DE DATOS'!$W$19=1,'Tablas Guyanas y Santa Elena'!G158,'Tablas Resto de Ecuador'!G158)","v":2172},null,4804.2,3482.45,3175.6,2349.4,1846.2]
[21,null,4804.2,3482.45,3175.6,2349.4,1846.2,null,{"$f":"IF('INGRESO DE DATOS'!$W$19=1,'Tablas Guyanas y Santa Elena'!C159,'Tablas Resto de Ecuador'!C159)","v":5652},{"$f":"IF('INGRESO DE DATOS'!$W$19=1,'Tablas Guyanas y Santa Elena'!D159,'Tablas Resto de Ecuador'!D159)","v":4097},{"$f":"IF('INGRESO DE DATOS'!$W$19=1,'Tablas Guyanas y Santa Elena'!E159,'Tablas Resto de Ecuador'!E159)","v":3736},{"$f":"IF('INGRESO DE DATOS'!$W$19=1,'Tablas Guyanas y Santa Elena'!F159,'Tablas Resto de Ecuador'!F159)","v":2764},{"$f":"IF('INGRESO DE DATOS'!$W$19=1,'Tablas Guyanas y Santa Elena'!G159,'Tablas Resto de Ecuador'!G159)","v":2172},null,4804.2,3482.45,3175.6,2349.4,1846.2]
[22,null,4804.2,3482.45,3175.6,2349.4,1846.2,null,{"$f":"IF('INGRESO DE DATOS'!$W$19=1,'Tablas Guyanas y Santa Elena'!C160,'Tablas Resto de Ecuador'!C160)","v":5652},{"$f":"IF('INGRESO DE DATOS'!$W$19=1,'Tablas Guyanas y Santa Elena'!D160,'Tablas Resto de Ecuador'!D160)","v":4097},{"$f":"IF('INGRESO DE DATOS'!$W$19=1,'Tablas Guyanas y Santa Elena'!E160,'Tablas Resto de Ecuador'!E160)","v":3736},{"$f":"IF('INGRESO DE DATOS'!$W$19=1,'Tablas Guyanas y Santa Elena'!F160,'Tablas Resto de Ecuador'!F160)","v":2764},{"$f":"IF('INGRESO DE DATOS'!$W$19=1,'Tablas Guyanas y Santa Elena'!G160,'Tablas Resto de Ecuador'!G160)","v":2172},null,4804.2,3482.45,3175.6,2349.4,1846.2]
[23,null,4804.2,3482.45,3175.6,2349.4,1846.2,null,{"$f":"IF('INGRESO DE DATOS'!$W$19=1,'Tablas Guyanas y Santa Elena'!C161,'Tablas Resto de Ecuador'!C161)","v":5652},{"$f":"IF('INGRESO DE DATOS'!$W$19=1,'Tablas Guyanas y Santa Elena'!D161,'Tablas Resto de Ecuador'!D161)","v":4097},{"$f":"IF('INGRESO DE DATOS'!$W$19=1,'Tablas Guyanas y Santa Elena'!E161,'Tablas Resto de Ecuador'!E161)","v":3736},{"$f":"IF('INGRESO DE DATOS'!$W$19=1,'Tablas Guyanas y Santa Elena'!F161,'Tablas Resto de Ecuador'!F161)","v":2764},{"$f":"IF('INGRESO DE DATOS'!$W$19=1,'Tablas Guyanas y Santa Elena'!G161,'Tablas Resto de Ecuador'!G161)","v":2172},null,4804.2,3482.45,3175.6,2349.4,1846.2]
[24,null,4804.2,3482.45,3175.6,2349.4,1846.2,null,{"$f":"IF('INGRESO DE DATOS'!$W$19=1,'Tablas Guyanas y Santa Elena'!C162,'Tablas Resto de Ecuador'!C162)","v":5652},{"$f":"IF('INGRESO DE DATOS'!$W$19=1,'Tablas Guyanas y Santa Elena'!D162,'Tablas Resto de Ecuador'!D162)","v":4097},{"$f":"IF('INGRESO DE DATOS'!$W$19=1,'Tablas Guyanas y Santa Elena'!E162,'Tablas Resto de Ecuador'!E162)","v":3736},{"$f":"IF('INGRESO DE DATOS'!$W$19=1,'Tablas Guyanas y Santa Elena'!F162,'Tablas Resto de Ecuador'!F162)","v":2764},{"$f":"IF('INGRESO DE DATOS'!$W$19=1,'Tablas Guyanas y Santa Elena'!G162,'Tablas Resto de Ecuador'!G162)","v":2172},null,4804.2,3482.45,3175.6,2349.4,1846.2]
[25,null,5184.1499999999996,4494.8,3207.9,2506.65,1966.8999999999999,null,{"$f":"IF('INGRESO DE DATOS'!$W$19=1,'Tablas Guyanas y Santa Elena'!C163,'Tablas Resto de Ecuador'!C163)","v":6099},{"$f":"IF('INGRESO DE DATOS'!$W$19=1,'Tablas Guyanas y Santa Elena'!D163,'Tablas Resto de Ecuador'!D163)","v":5288},{"$f":"IF('INGRESO DE DATOS'!$W$19=1,'Tablas Guyanas y Santa Elena'!E163,'Tablas Resto de Ecuador'!E163)","v":3774},{"$f":"IF('INGRESO DE DATOS'!$W$19=1,'Tablas Guyanas y Santa Elena'!F163,'Tablas Resto de Ecuador'!F163)","v":2949},{"$f":"IF('INGRESO DE DATOS'!$W$19=1,'Tablas Guyanas y Santa Elena'!G163,'Tablas Resto de Ecuador'!G163)","v":2314},null,5184.1499999999996,4494.8,3207.9,2506.65,1966.8999999999999]
[26,null,5184.1499999999996,4494.8,3207.9,2506.65,1966.8999999999999,null,{"$f":"IF('INGRESO DE DATOS'!$W$19=1,'Tablas Guyanas y Santa Elena'!C164,'Tablas Resto de Ecuador'!C164)","v":6099},{"$f":"IF('INGRESO DE DATOS'!$W$19=1,'Tablas Guyanas y Santa Elena'!D164,'Tablas Resto de Ecuador'!D164)","v":5288},{"$f":"IF('INGRESO DE DATOS'!$W$19=1,'Tablas Guyanas y Santa Elena'!E164,'Tablas Resto de Ecuador'!E164)","v":3774},{"$f":"IF('INGRESO DE DATOS'!$W$19=1,'Tablas Guyanas y Santa Elena'!F164,'Tablas Resto de Ecuador'!F164)","v":2949},{"$f":"IF('INGRESO DE DATOS'!$W$19=1,'Tablas Guyanas y Santa Elena'!G164,'Tablas Resto de Ecuador'!G164)","v":2314},null,5184.1499999999996,4494.8,3207.9,2506.65,1966.8999999999999]
[27,null,5184.1499999999996,4494.8,3207.9,2506.65,1966.8999999999999,null,{"$f":"IF('INGRESO DE DATOS'!$W$19=1,'Tablas Guyanas y Santa Elena'!C165,'Tablas Resto de Ecuador'!C165)","v":6099},{"$f":"IF('INGRESO DE DATOS'!$W$19=1,'Tablas Guyanas y Santa Elena'!D165,'Tablas Resto de Ecuador'!D165)","v":5288},{"$f":"IF('INGRESO DE DATOS'!$W$19=1,'Tablas Guyanas y Santa Elena'!E165,'Tablas Resto de Ecuador'!E165)","v":3774},{"$f":"IF('INGRESO DE DATOS'!$W$19=1,'Tablas Guyanas y Santa Elena'!F165,'Tablas Resto de Ecuador'!F165)","v":2949},{"$f":"IF('INGRESO DE DATOS'!$W$19=1,'Tablas Guyanas y Santa Elena'!G165,'Tablas Resto de Ecuador'!G165)","v":2314},null,5184.1499999999996,4494.8,3207.9,2506.65,1966.8999999999999]
[28,null,5184.1499999999996,4494.8,3207.9,2506.65,1966.8999999999999,null,{"$f":"IF('INGRESO DE DATOS'!$W$19=1,'Tablas Guyanas y Santa Elena'!C166,'Tablas Resto de Ecuador'!C166)","v":6099},{"$f":"IF('INGRESO DE DATOS'!$W$19=1,'Tablas Guyanas y Santa Elena'!D166,'Tablas Resto de Ecuador'!D166)","v":5288},{"$f":"IF('INGRESO DE DATOS'!$W$19=1,'Tablas Guyanas y Santa Elena'!E166,'Tablas Resto de Ecuador'!E166)","v":3774},{"$f":"IF('INGRESO DE DATOS'!$W$19=1,'Tablas Guyanas y Santa Elena'!F166,'Tablas Resto de Ecuador'!F166)","v":2949},{"$f":"IF('INGRESO DE DATOS'!$W$19=1,'Tablas Guyanas y Santa Elena'!G166,'Tablas Resto de Ecuador'!G166)","v":2314},null,5184.1499999999996,4494.8,3207.9,2506.65,1966.8999999999999]
[29,null,5184.1499999999996,4494.8,3207.9,2506.65,1966.8999999999999,null,{"$f":"IF('INGRESO DE DATOS'!$W$19=1,'Tablas Guyanas y Santa Elena'!C167,'Tablas Resto de Ecuador'!C167)","v":6099},{"$f":"IF('INGRESO DE DATOS'!$W$19=1,'Tablas Guyanas y Santa Elena'!D167,'Tablas Resto de Ecuador'!D167)","v":5288},{"$f":"IF('INGRESO DE DATOS'!$W$19=1,'Tablas Guyanas y Santa Elena'!E167,'Tablas Resto de Ecuador'!E167)","v":3774},{"$f":"IF('INGRESO DE DATOS'!$W$19=1,'Tablas Guyanas y Santa Elena'!F167,'Tablas Resto de Ecuador'!F167)","v":2949},{"$f":"IF('INGRESO DE DATOS'!$W$19=1,'Tablas Guyanas y Santa Elena'!G167,'Tablas Resto de Ecuador'!G167)","v":2314},null,5184.1499999999996,4494.8,3207.9,2506.65,1966.8999999999999]
[30,null,5848,5610.8499999999995,3817.35,2788,2188.75,null,{"$f":"IF('INGRESO DE DATOS'!$W$19=1,'Tablas Guyanas y Santa Elena'!C168,'Tablas Resto de Ecuador'!C168)","v":6880},{"$f":"IF('INGRESO DE DATOS'!$W$19=1,'Tablas Guyanas y Santa Elena'!D168,'Tablas Resto de Ecuador'!D168)","v":6601},{"$f":"IF('INGRESO DE DATOS'!$W$19=1,'Tablas Guyanas y Santa Elena'!E168,'Tablas Resto de Ecuador'!E168)","v":4491},{"$f":"IF('INGRESO DE DATOS'!$W$19=1,'Tablas Guyanas y Santa Elena'!F168,'Tablas Resto de Ecuador'!F168)","v":3280},{"$f":"IF('INGRESO DE DATOS'!$W$19=1,'Tablas Guyanas y Santa Elena'!G168,'Tablas Resto de Ecuador'!G168)","v":2575},null,5848,5610.8499999999995,3817.35,2788,2188.75]
[31,null,5848,5610.8499999999995,3817.35,2788,2188.75,null,{"$f":"IF('INGRESO DE DATOS'!$W$19=1,'Tablas Guyanas y Santa Elena'!C169,'Tablas Resto de Ecuador'!C169)","v":6880},{"$f":"IF('INGRESO DE DATOS'!$W$19=1,'Tablas Guyanas y Santa Elena'!D169,'Tablas Resto de Ecuador'!D169)","v":6601},{"$f":"IF('INGRESO DE DATOS'!$W$19=1,'Tablas Guyanas y Santa Elena'!E169,'Tablas Resto de Ecuador'!E169)","v":4491},{"$f":"IF('INGRESO DE DATOS'!$W$19=1,'Tablas Guyanas y Santa Elena'!F169,'Tablas Resto de Ecuador'!F169)","v":3280},{"$f":"IF('INGRESO DE DATOS'!$W$19=1,'Tablas Guyanas y Santa Elena'!G169,'Tablas Resto de Ecuador'!G169)","v":2575},null,5848,5610.8499999999995,3817.35,2788,2188.75]
[32,null,5848,5610.8499999999995,3817.35,2788,2188.75,null,{"$f":"IF('INGRESO DE DATOS'!$W$19=1,'Tablas Guyanas y Santa Elena'!C170,'Tablas Resto de Ecuador'!C170)","v":6880},{"$f":"IF('INGRESO DE DATOS'!$W$19=1,'Tablas Guyanas y Santa Elena'!D170,'Tablas Resto de Ecuador'!D170)","v":6601},{"$f":"IF('INGRESO DE DATOS'!$W$19=1,'Tablas Guyanas y Santa Elena'!E170,'Tablas Resto de Ecuador'!E170)","v":4491},{"$f":"IF('INGRESO DE DATOS'!$W$19=1,'Tablas Guyanas y Santa Elena'!F170,'Tablas Resto de Ecuador'!F170)","v":3280},{"$f":"IF('INGRESO DE DATOS'!$W$19=1,'Tablas Guyanas y Santa Elena'!G170,'Tablas Resto de Ecuador'!G170)","v":2575},null,5848,5610.8499999999995,3817.35,2788,2188.75]
[33,null,5848,5610.8499999999995,3817.35,2788,2188.75,null,{"$f":"IF('INGRESO DE DATOS'!$W$19=1,'Tablas Guyanas y Santa Elena'!C171,'Tablas Resto de Ecuador'!C171)","v":6880},{"$f":"IF('INGRESO DE DATOS'!$W$19=1,'Tablas Guyanas y Santa Elena'!D171,'Tablas Resto de Ecuador'!D171)","v":6601},{"$f":"IF('INGRESO DE DATOS'!$W$19=1,'Tablas Guyanas y Santa Elena'!E171,'Tablas Resto de Ecuador'!E171)","v":4491},{"$f":"IF('INGRESO DE DATOS'!$W$19=1,'Tablas Guyanas y Santa Elena'!F171,'Tablas Resto de Ecuador'!F171)","v":3280},{"$f":"IF('INGRESO DE DATOS'!$W$19=1,'Tablas Guyanas y Santa Elena'!G171,'Tablas Resto de Ecuador'!G171)","v":2575},null,5848,5610.8499999999995,3817.35,2788,2188.75]
[34,null,5848,5610.8499999999995,3817.35,2788,2188.75,null,{"$f":"IF('INGRESO DE DATOS'!$W$19=1,'Tablas Guyanas y Santa Elena'!C172,'Tablas Resto de Ecuador'!C172)","v":6880},{"$f":"IF('INGRESO DE DATOS'!$W$19=1,'Tablas Guyanas y Santa Elena'!D172,'Tablas Resto de Ecuador'!D172)","v":6601},{"$f":"IF('INGRESO DE DATOS'!$W$19=1,'Tablas Guyanas y Santa Elena'!E172,'Tablas Resto de Ecuador'!E172)","v":4491},{"$f":"IF('INGRESO DE DATOS'!$W$19=1,'Tablas Guyanas y Santa Elena'!F172,'Tablas Resto de Ecuador'!F172)","v":3280},{"$f":"IF('INGRESO DE DATOS'!$W$19=1,'Tablas Guyanas y Santa Elena'!G172,'Tablas Resto de Ecuador'!G172)","v":2575},null,5848,5610.8499999999995,3817.35,2788,2188.75]
[35,null,6618.95,6276.4,4360.5,3122.9,2449.6999999999998,null,{"$f":"IF('INGRESO DE DATOS'!$W$19=1,'Tablas Guyanas y Santa Elena'!C173,'Tablas Resto de Ecuador'!C173)","v":7787},{"$f":"IF('INGRESO DE DATOS'!$W$19=1,'Tablas Guyanas y Santa Elena'!D173,'Tablas Resto de Ecuador'!D173)","v":7384},{"$f":"IF('INGRESO DE DATOS'!$W$19=1,'Tablas Guyanas y Santa Elena'!E173,'Tablas Resto de Ecuador'!E173)","v":5130},{"$f":"IF('INGRESO DE DATOS'!$W$19=1,'Tablas Guyanas y Santa Elena'!F173,'Tablas Resto de Ecuador'!F173)","v":3674},{"$f":"IF('INGRESO DE DATOS'!$W$19=1,'Tablas Guyanas y Santa Elena'!G173,'Tablas Resto de Ecuador'!G173)","v":2882},null,6618.95,6276.4,4360.5,3122.9,2449.6999999999998]
[36,null,6618.95,6276.4,4360.5,3122.9,2449.6999999999998,null,{"$f":"IF('INGRESO DE DATOS'!$W$19=1,'Tablas Guyanas y Santa Elena'!C174,'Tablas Resto de Ecuador'!C174)","v":7787},{"$f":"IF('INGRESO DE DATOS'!$W$19=1,'Tablas Guyanas y Santa Elena'!D174,'Tablas Resto de Ecuador'!D174)","v":7384},{"$f":"IF('INGRESO DE DATOS'!$W$19=1,'Tablas Guyanas y Santa Elena'!E174,'Tablas Resto de Ecuador'!E174)","v":5130},{"$f":"IF('INGRESO DE DATOS'!$W$19=1,'Tablas Guyanas y Santa Elena'!F174,'Tablas Resto de Ecuador'!F174)","v":3674},{"$f":"IF('INGRESO DE DATOS'!$W$19=1,'Tablas Guyanas y Santa Elena'!G174,'Tablas Resto de Ecuador'!G174)","v":2882},null,6618.95,6276.4,4360.5,3122.9,2449.6999999999998]
[37,null,6618.95,6276.4,4360.5,3122.9,2449.6999999999998,null,{"$f":"IF('INGRESO DE DATOS'!$W$19=1,'Tablas Guyanas y Santa Elena'!C175,'Tablas Resto de Ecuador'!C175)","v":7787},{"$f":"IF('INGRESO DE DATOS'!$W$19=1,'Tablas Guyanas y Santa Elena'!D175,'Tablas Resto de Ecuador'!D175)","v":7384},{"$f":"IF('INGRESO DE DATOS'!$W$19=1,'Tablas Guyanas y Santa Elena'!E175,'Tablas Resto de Ecuador'!E175)","v":5130},{"$f":"IF('INGRESO DE DATOS'!$W$19=1,'Tablas Guyanas y Santa Elena'!F175,'Tablas Resto de Ecuador'!F175)","v":3674},{"$f":"IF('INGRESO DE DATOS'!$W$19=1,'Tablas Guyanas y Santa Elena'!G175,'Tablas Resto de Ecuador'!G175)","v":2882},null,6618.95,6276.4,4360.5,3122.9,2449.6999999999998]
[38,null,6618.95,6276.4,4360.5,3122.9,2449.6999999999998,null,{"$f":"IF('INGRESO DE DATOS'!$W$19=1,'Tablas Guyanas y Santa Elena'!C176,'Tablas Resto de Ecuador'!C176)","v":7787},{"$f":"IF('INGRESO DE DATOS'!$W$19=1,'Tablas Guyanas y Santa Elena'!D176,'Tablas Resto de Ecuador'!D176)","v":7384},{"$f":"IF('INGRESO DE DATOS'!$W$19=1,'Tablas Guyanas y Santa Elena'!E176,'Tablas Resto de Ecuador'!E176)","v":5130},{"$f":"IF('INGRESO DE DATOS'!$W$19=1,'Tablas Guyanas y Santa Elena'!F176,'Tablas Resto de Ecuador'!F176)","v":3674},{"$f":"IF('INGRESO DE DATOS'!$W$19=1,'Tablas Guyanas y Santa Elena'!G176,'Tablas Resto de Ecuador'!G176)","v":2882},null,6618.95,6276.4,4360.5,3122.9,2449.6999999999998]
[39,null,6618.95,6276.4,4360.5,3122.9,2449.6999999999998,null,{"$f":"IF('INGRESO DE DATOS'!$W$19=1,'Tablas Guyanas y Santa Elena'!C177,'Tablas Resto de Ecuador'!C177)","v":7787},{"$f":"IF('INGRESO DE DATOS'!$W$19=1,'Tablas Guyanas y Santa Elena'!D177,'Tablas Resto de Ecuador'!D177)","v":7384},{"$f":"IF('INGRESO DE DATOS'!$W$19=1,'Tablas Guyanas y Santa Elena'!E177,'Tablas Resto de Ecuador'!E177)","v":5130},{"$f":"IF('INGRESO DE DATOS'!$W$19=1,'Tablas Guyanas y Santa Elena'!F177,'Tablas Resto de Ecuador'!F177)","v":3674},{"$f":"IF('INGRESO DE DATOS'!$W$19=1,'Tablas Guyanas y Santa Elena'!G177,'Tablas Resto de Ecuador'!G177)","v":2882},null,6618.95,6276.4,4360.5,3122.9,2449.6999999999998]
[40,null,7507.2,6530.55,4667.3499999999995,3513.9,2756.5499999999997,null,{"$f":"IF('INGRESO DE DATOS'!$W$19=1,'Tablas Guyanas y Santa Elena'!C178,'Tablas Resto de Ecuador'!C178)","v":8832},{"$f":"IF('INGRESO DE DATOS'!$W$19=1,'Tablas Guyanas y Santa Elena'!D178,'Tablas Resto de Ecuador'!D178)","v":7683},{"$f":"IF('INGRESO DE DATOS'!$W$19=1,'Tablas Guyanas y Santa Elena'!E178,'Tablas Resto de Ecuador'!E178)","v":5491},{"$f":"IF('INGRESO DE DATOS'!$W$19=1,'Tablas Guyanas y Santa Elena'!F178,'Tablas Resto de Ecuador'!F178)","v":4134},{"$f":"IF('INGRESO DE DATOS'!$W$19=1,'Tablas Guyanas y Santa Elena'!G178,'Tablas Resto de Ecuador'!G178)","v":3243},null,7507.2,6530.55,4667.3499999999995,3513.9,2756.5499999999997]
[41,null,7507.2,6530.55,4667.3499999999995,3513.9,2756.5499999999997,null,{"$f":"IF('INGRESO DE DATOS'!$W$19=1,'Tablas Guyanas y Santa Elena'!C179,'Tablas Resto de Ecuador'!C179)","v":8832},{"$f":"IF('INGRESO DE DATOS'!$W$19=1,'Tablas Guyanas y Santa Elena'!D179,'Tablas Resto de Ecuador'!D179)","v":7683},{"$f":"IF('INGRESO DE DATOS'!$W$19=1,'Tablas Guyanas y Santa Elena'!E179,'Tablas Resto de Ecuador'!E179)","v":5491},{"$f":"IF('INGRESO DE DATOS'!$W$19=1,'Tablas Guyanas y Santa Elena'!F179,'Tablas Resto de Ecuador'!F179)","v":4134},{"$f":"IF('INGRESO DE DATOS'!$W$19=1,'Tablas Guyanas y Santa Elena'!G179,'Tablas Resto de Ecuador'!G179)","v":3243},null,7507.2,6530.55,4667.3499999999995,3513.9,2756.5499999999997]
[42,null,7507.2,6530.55,4667.3499999999995,3513.9,2756.5499999999997,null,{"$f":"IF('INGRESO DE DATOS'!$W$19=1,'Tablas Guyanas y Santa Elena'!C180,'Tablas Resto de Ecuador'!C180)","v":8832},{"$f":"IF('INGRESO DE DATOS'!$W$19=1,'Tablas Guyanas y Santa Elena'!D180,'Tablas Resto de Ecuador'!D180)","v":7683},{"$f":"IF('INGRESO DE DATOS'!$W$19=1,'Tablas Guyanas y Santa Elena'!E180,'Tablas Resto de Ecuador'!E180)","v":5491},{"$f":"IF('INGRESO DE DATOS'!$W$19=1,'Tablas Guyanas y Santa Elena'!F180,'Tablas Resto de Ecuador'!F180)","v":4134},{"$f":"IF('INGRESO DE DATOS'!$W$19=1,'Tablas Guyanas y Santa Elena'!G180,'Tablas Resto de Ecuador'!G180)","v":3243},null,7507.2,6530.55,4667.3499999999995,3513.9,2756.5499999999997]
[43,null,7507.2,6530.55,4667.3499999999995,3513.9,2756.5499999999997,null,{"$f":"IF('INGRESO DE DATOS'!$W$19=1,'Tablas Guyanas y Santa Elena'!C181,'Tablas Resto de Ecuador'!C181)","v":8832},{"$f":"IF('INGRESO DE DATOS'!$W$19=1,'Tablas Guyanas y Santa Elena'!D181,'Tablas Resto de Ecuador'!D181)","v":7683},{"$f":"IF('INGRESO DE DATOS'!$W$19=1,'Tablas Guyanas y Santa Elena'!E181,'Tablas Resto de Ecuador'!E181)","v":5491},{"$f":"IF('INGRESO DE DATOS'!$W$19=1,'Tablas Guyanas y Santa Elena'!F181,'Tablas Resto de Ecuador'!F181)","v":4134},{"$f":"IF('INGRESO DE DATOS'!$W$19=1,'Tablas Guyanas y Santa Elena'!G181,'Tablas Resto de Ecuador'!G181)","v":3243},null,7507.2,6530.55,4667.3499999999995,3513.9,2756.5499999999997]
[44,null,7507.2,6530.55,4667.3499999999995,3513.9,2756.5499999999997,null,{"$f":"IF('INGRESO DE DATOS'!$W$19=1,'Tablas Guyanas y Santa Elena'!C182,'Tablas Resto de Ecuador'!C182)","v":8832},{"$f":"IF('INGRESO DE DATOS'!$W$19=1,'Tablas Guyanas y Santa Elena'!D182,'Tablas Resto de Ecuador'!D182)","v":7683},{"$f":"IF('INGRESO DE DATOS'!$W$19=1,'Tablas Guyanas y Santa Elena'!E182,'Tablas Resto de Ecuador'!E182)","v":5491},{"$f":"IF('INGRESO DE DATOS'!$W$19=1,'Tablas Guyanas y Santa Elena'!F182,'Tablas Resto de Ecuador'!F182)","v":4134},{"$f":"IF('INGRESO DE DATOS'!$W$19=1,'Tablas Guyanas y Santa Elena'!G182,'Tablas Resto de Ecuador'!G182)","v":3243},null,7507.2,6530.55,4667.3499999999995,3513.9,2756.5499999999997]
[45,null,8495.75,7117.9,5031.1499999999996,3954.2,3104.2,null,{"$f":"IF('INGRESO DE DATOS'!$W$19=1,'Tablas Guyanas y Santa Elena'!C183,'Tablas Resto de Ecuador'!C183)","v":9995},{"$f":"IF('INGRESO DE DATOS'!$W$19=1,'Tablas Guyanas y Santa Elena'!D183,'Tablas Resto de Ecuador'!D183)","v":8374},{"$f":"IF('INGRESO DE DATOS'!$W$19=1,'Tablas Guyanas y Santa Elena'!E183,'Tablas Resto de Ecuador'!E183)","v":5919},{"$f":"IF('INGRESO DE DATOS'!$W$19=1,'Tablas Guyanas y Santa Elena'!F183,'Tablas Resto de Ecuador'!F183)","v":4652},{"$f":"IF('INGRESO DE DATOS'!$W$19=1,'Tablas Guyanas y Santa Elena'!G183,'Tablas Resto de Ecuador'!G183)","v":3652},null,8495.75,7117.9,5031.1499999999996,3954.2,3104.2]
[46,null,8495.75,7117.9,5031.1499999999996,3954.2,3104.2,null,{"$f":"IF('INGRESO DE DATOS'!$W$19=1,'Tablas Guyanas y Santa Elena'!C184,'Tablas Resto de Ecuador'!C184)","v":9995},{"$f":"IF('INGRESO DE DATOS'!$W$19=1,'Tablas Guyanas y Santa Elena'!D184,'Tablas Resto de Ecuador'!D184)","v":8374},{"$f":"IF('INGRESO DE DATOS'!$W$19=1,'Tablas Guyanas y Santa Elena'!E184,'Tablas Resto de Ecuador'!E184)","v":5919},{"$f":"IF('INGRESO DE DATOS'!$W$19=1,'Tablas Guyanas y Santa Elena'!F184,'Tablas Resto de Ecuador'!F184)","v":4652},{"$f":"IF('INGRESO DE DATOS'!$W$19=1,'Tablas Guyanas y Santa Elena'!G184,'Tablas Resto de Ecuador'!G184)","v":3652},null,8495.75,7117.9,5031.1499999999996,3954.2,3104.2]
[47,null,8495.75,7117.9,5031.1499999999996,3954.2,3104.2,null,{"$f":"IF('INGRESO DE DATOS'!$W$19=1,'Tablas Guyanas y Santa Elena'!C185,'Tablas Resto de Ecuador'!C185)","v":9995},{"$f":"IF('INGRESO DE DATOS'!$W$19=1,'Tablas Guyanas y Santa Elena'!D185,'Tablas Resto de Ecuador'!D185)","v":8374},{"$f":"IF('INGRESO DE DATOS'!$W$19=1,'Tablas Guyanas y Santa Elena'!E185,'Tablas Resto de Ecuador'!E185)","v":5919},{"$f":"IF('INGRESO DE DATOS'!$W$19=1,'Tablas Guyanas y Santa Elena'!F185,'Tablas Resto de Ecuador'!F185)","v":4652},{"$f":"IF('INGRESO DE DATOS'!$W$19=1,'Tablas Guyanas y Santa Elena'!G185,'Tablas Resto de Ecuador'!G185)","v":3652},null,8495.75,7117.9,5031.1499999999996,3954.2,3104.2]
[48,null,8495.75,7117.9,5031.1499999999996,3954.2,3104.2,null,{"$f":"IF('INGRESO DE DATOS'!$W$19=1,'Tablas Guyanas y Santa Elena'!C186,'Tablas Resto de Ecuador'!C186)","v":9995},{"$f":"IF('INGRESO DE DATOS'!$W$19=1,'Tablas Guyanas y Santa Elena'!D186,'Tablas Resto de Ecuador'!D186)","v":8374},{"$f":"IF('INGRESO DE DATOS'!$W$19=1,'Tablas Guyanas y Santa Elena'!E186,'Tablas Resto de Ecuador'!E186)","v":5919},{"$f":"IF('INGRESO DE DATOS'!$W$19=1,'Tablas Guyanas y Santa Elena'!F186,'Tablas Resto de Ecuador'!F186)","v":4652},{"$f":"IF('INGRESO DE DATOS'!$W$19=1,'Tablas Guyanas y Santa Elena'!G186,'Tablas Resto de Ecuador'!G186)","v":3652},null,8495.75,7117.9,5031.1499999999996,3954.2,3104.2]
[49,null,8495.75,7117.9,5031.1499999999996,3954.2,3104.2,null,{"$f":"IF('INGRESO DE DATOS'!$W$19=1,'Tablas Guyanas y Santa Elena'!C187,'Tablas Resto de Ecuador'!C187)","v":9995},{"$f":"IF('INGRESO DE DATOS'!$W$19=1,'Tablas Guyanas y Santa Elena'!D187,'Tablas Resto de Ecuador'!D187)","v":8374},{"$f":"IF('INGRESO DE DATOS'!$W$19=1,'Tablas Guyanas y Santa Elena'!E187,'Tablas Resto de Ecuador'!E187)","v":5919},{"$f":"IF('INGRESO DE DATOS'!$W$19=1,'Tablas Guyanas y Santa Elena'!F187,'Tablas Resto de Ecuador'!F187)","v":4652},{"$f":"IF('INGRESO DE DATOS'!$W$19=1,'Tablas Guyanas y Santa Elena'!G187,'Tablas Resto de Ecuador'!G187)","v":3652},null,8495.75,7117.9,5031.1499999999996,3954.2,3104.2]
[50,null,{"$f":"O188*$X$2","v":9613.5},{"$f":"P188*$X$2","v":7890.55},{"$f":"Q188*$X$2","v":5474},{"$f":"R188*$X$2","v":4340.95},3496.0499999999997,null,{"$f":"IF('INGRESO DE DATOS'!$W$19=1,'Tablas Guyanas y Santa Elena'!C188,'Tablas Resto de Ecuador'!C188)","v":11310},{"$f":"IF('INGRESO DE DATOS'!$W$19=1,'Tablas Guyanas y Santa Elena'!D188,'Tablas Resto de Ecuador'!D188)","v":9283},{"$f":"IF('INGRESO DE DATOS'!$W$19=1,'Tablas Guyanas y Santa Elena'!E188,'Tablas Resto de Ecuador'!E188)","v":6440},{"$f":"IF('INGRESO DE DATOS'!$W$19=1,'Tablas Guyanas y Santa Elena'!F188,'Tablas Resto de Ecuador'!F188)","v":5107},{"$f":"IF('INGRESO DE DATOS'!$W$19=1,'Tablas Guyanas y Santa Elena'!G188,'Tablas Resto de Ecuador'!G188)","v":4113},null,9613.5,7890.55,5474,4340.95,3496.0499999999997]
[51,null,9613.5,7890.55,5474,4340.95,3496.0499999999997,null,{"$f":"IF('INGRESO DE DATOS'!$W$19=1,'Tablas Guyanas y Santa Elena'!C189,'Tablas Resto de Ecuador'!C189)","v":11310},{"$f":"IF('INGRESO DE DATOS'!$W$19=1,'Tablas Guyanas y Santa Elena'!D189,'Tablas Resto de Ecuador'!D189)","v":9283},{"$f":"IF('INGRESO DE DATOS'!$W$19=1,'Tablas Guyanas y Santa Elena'!E189,'Tablas Resto de Ecuador'!E189)","v":6440},{"$f":"IF('INGRESO DE DATOS'!$W$19=1,'Tablas Guyanas y Santa Elena'!F189,'Tablas Resto de Ecuador'!F189)","v":5107},{"$f":"IF('INGRESO DE DATOS'!$W$19=1,'Tablas Guyanas y Santa Elena'!G189,'Tablas Resto de Ecuador'!G189)","v":4113},null,9613.5,7890.55,5474,4340.95,3496.0499999999997]
[52,null,9613.5,7890.55,5474,4340.95,3496.0499999999997,null,{"$f":"IF('INGRESO DE DATOS'!$W$19=1,'Tablas Guyanas y Santa Elena'!C190,'Tablas Resto de Ecuador'!C190)","v":11310},{"$f":"IF('INGRESO DE DATOS'!$W$19=1,'Tablas Guyanas y Santa Elena'!D190,'Tablas Resto de Ecuador'!D190)","v":9283},{"$f":"IF('INGRESO DE DATOS'!$W$19=1,'Tablas Guyanas y Santa Elena'!E190,'Tablas Resto de Ecuador'!E190)","v":6440},{"$f":"IF('INGRESO DE DATOS'!$W$19=1,'Tablas Guyanas y Santa Elena'!F190,'Tablas Resto de Ecuador'!F190)","v":5107},{"$f":"IF('INGRESO DE DATOS'!$W$19=1,'Tablas Guyanas y Santa Elena'!G190,'Tablas Resto de Ecuador'!G190)","v":4113},null,9613.5,7890.55,5474,4340.95,3496.0499999999997]
[53,null,9613.5,7890.55,5474,4340.95,3496.0499999999997,null,{"$f":"IF('INGRESO DE DATOS'!$W$19=1,'Tablas Guyanas y Santa Elena'!C191,'Tablas Resto de Ecuador'!C191)","v":11310},{"$f":"IF('INGRESO DE DATOS'!$W$19=1,'Tablas Guyanas y Santa Elena'!D191,'Tablas Resto de Ecuador'!D191)","v":9283},{"$f":"IF('INGRESO DE DATOS'!$W$19=1,'Tablas Guyanas y Santa Elena'!E191,'Tablas Resto de Ecuador'!E191)","v":6440},{"$f":"IF('INGRESO DE DATOS'!$W$19=1,'Tablas Guyanas y Santa Elena'!F191,'Tablas Resto de Ecuador'!F191)","v":5107},{"$f":"IF('INGRESO DE DATOS'!$W$19=1,'Tablas Guyanas y Santa Elena'!G191,'Tablas Resto de Ecuador'!G191)","v":4113},null,9613.5,7890.55,5474,4340.95,3496.0499999999997]
[54,null,9613.5,7890.55,5474,4340.95,3496.0499999999997,null,{"$f":"IF('INGRESO DE DATOS'!$W$19=1,'Tablas Guyanas y Santa Elena'!C192,'Tablas Resto de Ecuador'!C192)","v":11310},{"$f":"IF('INGRESO DE DATOS'!$W$19=1,'Tablas Guyanas y Santa Elena'!D192,'Tablas Resto de Ecuador'!D192)","v":9283},{"$f":"IF('INGRESO DE DATOS'!$W$19=1,'Tablas Guyanas y Santa Elena'!E192,'Tablas Resto de Ecuador'!E192)","v":6440},{"$f":"IF('INGRESO DE DATOS'!$W$19=1,'Tablas Guyanas y Santa Elena'!F192,'Tablas Resto de Ecuador'!F192)","v":5107},{"$f":"IF('INGRESO DE DATOS'!$W$19=1,'Tablas Guyanas y Santa Elena'!G192,'Tablas Resto de Ecuador'!G192)","v":4113},null,9613.5,7890.55,5474,4340.95,3496.0499999999997]
[55,null,10843.449999999999,10316.449999999999,7205.45,5010.75,3933.7999999999997,null,{"$f":"IF('INGRESO DE DATOS'!$W$19=1,'Tablas Guyanas y Santa Elena'!C193,'Tablas Resto de Ecuador'!C193)","v":12757},{"$f":"IF('INGRESO DE DATOS'!$W$19=1,'Tablas Guyanas y Santa Elena'!D193,'Tablas Resto de Ecuador'!D193)","v":12137},{"$f":"IF('INGRESO DE DATOS'!$W$19=1,'Tablas Guyanas y Santa Elena'!E193,'Tablas Resto de Ecuador'!E193)","v":8477},{"$f":"IF('INGRESO DE DATOS'!$W$19=1,'Tablas Guyanas y Santa Elena'!F193,'Tablas Resto de Ecuador'!F193)","v":5895},{"$f":"IF('INGRESO DE DATOS'!$W$19=1,'Tablas Guyanas y Santa Elena'!G193,'Tablas Resto de Ecuador'!G193)","v":4628},null,10843.449999999999,10316.449999999999,7205.45,5010.75,3933.7999999999997]
[56,null,10843.449999999999,10316.449999999999,7205.45,5010.75,3933.7999999999997,null,{"$f":"IF('INGRESO DE DATOS'!$W$19=1,'Tablas Guyanas y Santa Elena'!C194,'Tablas Resto de Ecuador'!C194)","v":12757},{"$f":"IF('INGRESO DE DATOS'!$W$19=1,'Tablas Guyanas y Santa Elena'!D194,'Tablas Resto de Ecuador'!D194)","v":12137},{"$f":"IF('INGRESO DE DATOS'!$W$19=1,'Tablas Guyanas y Santa Elena'!E194,'Tablas Resto de Ecuador'!E194)","v":8477},{"$f":"IF('INGRESO DE DATOS'!$W$19=1,'Tablas Guyanas y Santa Elena'!F194,'Tablas Resto de Ecuador'!F194)","v":5895},{"$f":"IF('INGRESO DE DATOS'!$W$19=1,'Tablas Guyanas y Santa Elena'!G194,'Tablas Resto de Ecuador'!G194)","v":4628},null,10843.449999999999,10316.449999999999,7205.45,5010.75,3933.7999999999997]
[57,null,10843.449999999999,10316.449999999999,7205.45,5010.75,3933.7999999999997,null,{"$f":"IF('INGRESO DE DATOS'!$W$19=1,'Tablas Guyanas y Santa Elena'!C195,'Tablas Resto de Ecuador'!C195)","v":12757},{"$f":"IF('INGRESO DE DATOS'!$W$19=1,'Tablas Guyanas y Santa Elena'!D195,'Tablas Resto de Ecuador'!D195)","v":12137},{"$f":"IF('INGRESO DE DATOS'!$W$19=1,'Tablas Guyanas y Santa Elena'!E195,'Tablas Resto de Ecuador'!E195)","v":8477},{"$f":"IF('INGRESO DE DATOS'!$W$19=1,'Tablas Guyanas y Santa Elena'!F195,'Tablas Resto de Ecuador'!F195)","v":5895},{"$f":"IF('INGRESO DE DATOS'!$W$19=1,'Tablas Guyanas y Santa Elena'!G195,'Tablas Resto de Ecuador'!G195)","v":4628},null,10843.449999999999,10316.449999999999,7205.45,5010.75,3933.7999999999997]
[58,null,10843.449999999999,10316.449999999999,7205.45,5010.75,3933.7999999999997,null,{"$f":"IF('INGRESO DE DATOS'!$W$19=1,'Tablas Guyanas y Santa Elena'!C196,'Tablas Resto de Ecuador'!C196)","v":12757},{"$f":"IF('INGRESO DE DATOS'!$W$19=1,'Tablas Guyanas y Santa Elena'!D196,'Tablas Resto de Ecuador'!D196)","v":12137},{"$f":"IF('INGRESO DE DATOS'!$W$19=1,'Tablas Guyanas y Santa Elena'!E196,'Tablas Resto de Ecuador'!E196)","v":8477},{"$f":"IF('INGRESO DE DATOS'!$W$19=1,'Tablas Guyanas y Santa Elena'!F196,'Tablas Resto de Ecuador'!F196)","v":5895},{"$f":"IF('INGRESO DE DATOS'!$W$19=1,'Tablas Guyanas y Santa Elena'!G196,'Tablas Resto de Ecuador'!G196)","v":4628},null,10843.449999999999,10316.449999999999,7205.45,5010.75,3933.7999999999997]
[59,null,10843.449999999999,10316.449999999999,7205.45,5010.75,3933.7999999999997,null,{"$f":"IF('INGRESO DE DATOS'!$W$19=1,'Tablas Guyanas y Santa Elena'!C197,'Tablas Resto de Ecuador'!C197)","v":12757},{"$f":"IF('INGRESO DE DATOS'!$W$19=1,'Tablas Guyanas y Santa Elena'!D197,'Tablas Resto de Ecuador'!D197)","v":12137},{"$f":"IF('INGRESO DE DATOS'!$W$19=1,'Tablas Guyanas y Santa Elena'!E197,'Tablas Resto de Ecuador'!E197)","v":8477},{"$f":"IF('INGRESO DE DATOS'!$W$19=1,'Tablas Guyanas y Santa Elena'!F197,'Tablas Resto de Ecuador'!F197)","v":5895},{"$f":"IF('INGRESO DE DATOS'!$W$19=1,'Tablas Guyanas y Santa Elena'!G197,'Tablas Resto de Ecuador'!G197)","v":4628},null,10843.449999999999,10316.449999999999,7205.45,5010.75,3933.7999999999997]
[60,null,11662.85,11190.25,7740.95,5384.75,4225.3499999999995,null,{"$f":"IF('INGRESO DE DATOS'!$W$19=1,'Tablas Guyanas y Santa Elena'!C198,'Tablas Resto de Ecuador'!C198)","v":13721},{"$f":"IF('INGRESO DE DATOS'!$W$19=1,'Tablas Guyanas y Santa Elena'!D198,'Tablas Resto de Ecuador'!D198)","v":13165},{"$f":"IF('INGRESO DE DATOS'!$W$19=1,'Tablas Guyanas y Santa Elena'!E198,'Tablas Resto de Ecuador'!E198)","v":9107},{"$f":"IF('INGRESO DE DATOS'!$W$19=1,'Tablas Guyanas y Santa Elena'!F198,'Tablas Resto de Ecuador'!F198)","v":6335},{"$f":"IF('INGRESO DE DATOS'!$W$19=1,'Tablas Guyanas y Santa Elena'!G198,'Tablas Resto de Ecuador'!G198)","v":4971},null,11662.85,11190.25,7740.95,5384.75,4225.3499999999995]
[61,null,13091.699999999999,12562.15,8683.6,6040.0999999999995,4737.8999999999996,null,{"$f":"IF('INGRESO DE DATOS'!$W$19=1,'Tablas Guyanas y Santa Elena'!C199,'Tablas Resto de Ecuador'!C199)","v":15402},{"$f":"IF('INGRESO DE DATOS'!$W$19=1,'Tablas Guyanas y Santa Elena'!D199,'Tablas Resto de Ecuador'!D199)","v":14779},{"$f":"IF('INGRESO DE DATOS'!$W$19=1,'Tablas Guyanas y Santa Elena'!E199,'Tablas Resto de Ecuador'!E199)","v":10216},{"$f":"IF('INGRESO DE DATOS'!$W$19=1,'Tablas Guyanas y Santa Elena'!F199,'Tablas Resto de Ecuador'!F199)","v":7106},{"$f":"IF('INGRESO DE DATOS'!$W$19=1,'Tablas Guyanas y Santa Elena'!G199,'Tablas Resto de Ecuador'!G199)","v":5574},null,13091.699999999999,12562.15,8683.6,6040.0999999999995,4737.8999999999996]
[62,null,14640.4,14048.8,9703.6,6749,5297.2,null,{"$f":"IF('INGRESO DE DATOS'!$W$19=1,'Tablas Guyanas y Santa Elena'!C200,'Tablas Resto de Ecuador'!C200)","v":17224},{"$f":"IF('INGRESO DE DATOS'!$W$19=1,'Tablas Guyanas y Santa Elena'!D200,'Tablas Resto de Ecuador'!D200)","v":16528},{"$f":"IF('INGRESO DE DATOS'!$W$19=1,'Tablas Guyanas y Santa Elena'!E200,'Tablas Resto de Ecuador'!E200)","v":11416},{"$f":"IF('INGRESO DE DATOS'!$W$19=1,'Tablas Guyanas y Santa Elena'!F200,'Tablas Resto de Ecuador'!F200)","v":7940},{"$f":"IF('INGRESO DE DATOS'!$W$19=1,'Tablas Guyanas y Santa Elena'!G200,'Tablas Resto de Ecuador'!G200)","v":6232},null,14640.4,14048.8,9703.6,6749,5297.2]
[63,null,16302.15,15577.1,10810.3,7519.95,5902.4,null,{"$f":"IF('INGRESO DE DATOS'!$W$19=1,'Tablas Guyanas y Santa Elena'!C201,'Tablas Resto de Ecuador'!C201)","v":19179},{"$f":"IF('INGRESO DE DATOS'!$W$19=1,'Tablas Guyanas y Santa Elena'!D201,'Tablas Resto de Ecuador'!D201)","v":18326},{"$f":"IF('INGRESO DE DATOS'!$W$19=1,'Tablas Guyanas y Santa Elena'!E201,'Tablas Resto de Ecuador'!E201)","v":12718},{"$f":"IF('INGRESO DE DATOS'!$W$19=1,'Tablas Guyanas y Santa Elena'!F201,'Tablas Resto de Ecuador'!F201)","v":8847},{"$f":"IF('INGRESO DE DATOS'!$W$19=1,'Tablas Guyanas y Santa Elena'!G201,'Tablas Resto de Ecuador'!G201)","v":6944},null,16302.15,15577.1,10810.3,7519.95,5902.4]
[64,null,18086.3,16678.7,11997.75,8346.15,6545,null,{"$f":"IF('INGRESO DE DATOS'!$W$19=1,'Tablas Guyanas y Santa Elena'!C202,'Tablas Resto de Ecuador'!C202)","v":21278},{"$f":"IF('INGRESO DE DATOS'!$W$19=1,'Tablas Guyanas y Santa Elena'!D202,'Tablas Resto de Ecuador'!D202)","v":19622},{"$f":"IF('INGRESO DE DATOS'!$W$19=1,'Tablas Guyanas y Santa Elena'!E202,'Tablas Resto de Ecuador'!E202)","v":14115},{"$f":"IF('INGRESO DE DATOS'!$W$19=1,'Tablas Guyanas y Santa Elena'!F202,'Tablas Resto de Ecuador'!F202)","v":9819},{"$f":"IF('INGRESO DE DATOS'!$W$19=1,'Tablas Guyanas y Santa Elena'!G202,'Tablas Resto de Ecuador'!G202)","v":7700},null,18086.3,16678.7,11997.75,8346.15,6545]
[65,null,19986.899999999998,17931.599999999999,13265.949999999999,9227.6,7239.45,null,{"$f":"IF('INGRESO DE DATOS'!$W$19=1,'Tablas Guyanas y Santa Elena'!C203,'Tablas Resto de Ecuador'!C203)","v":23514},{"$f":"IF('INGRESO DE DATOS'!$W$19=1,'Tablas Guyanas y Santa Elena'!D203,'Tablas Resto de Ecuador'!D203)","v":21096},{"$f":"IF('INGRESO DE DATOS'!$W$19=1,'Tablas Guyanas y Santa Elena'!E203,'Tablas Resto de Ecuador'!E203)","v":15607},{"$f":"IF('INGRESO DE DATOS'!$W$19=1,'Tablas Guyanas y Santa Elena'!F203,'Tablas Resto de Ecuador'!F203)","v":10856},{"$f":"IF('INGRESO DE DATOS'!$W$19=1,'Tablas Guyanas y Santa Elena'!G203,'Tablas Resto de Ecuador'!G203)","v":8517},null,19986.899999999998,17931.599999999999,13265.949999999999,9227.6,7239.45]
[66,null,22003.95,19389.349999999999,14620.85,10168.549999999999,7978.95,null,{"$f":"IF('INGRESO DE DATOS'!$W$19=1,'Tablas Guyanas y Santa Elena'!C204,'Tablas Resto de Ecuador'!C204)","v":25887},{"$f":"IF('INGRESO DE DATOS'!$W$19=1,'Tablas Guyanas y Santa Elena'!D204,'Tablas Resto de Ecuador'!D204)","v":22811},{"$f":"IF('INGRESO DE DATOS'!$W$19=1,'Tablas Guyanas y Santa Elena'!E204,'Tablas Resto de Ecuador'!E204)","v":17201},{"$f":"IF('INGRESO DE DATOS'!$W$19=1,'Tablas Guyanas y Santa Elena'!F204,'Tablas Resto de Ecuador'!F204)","v":11963},{"$f":"IF('INGRESO DE DATOS'!$W$19=1,'Tablas Guyanas y Santa Elena'!G204,'Tablas Resto de Ecuador'!G204)","v":9387},null,22003.95,19389.349999999999,14620.85,10168.549999999999,7978.95]
[67,null,24139.149999999998,21036.649999999998,16052.25,11164.75,8760.1,null,{"$f":"IF('INGRESO DE DATOS'!$W$19=1,'Tablas Guyanas y Santa Elena'!C205,'Tablas Resto de Ecuador'!C205)","v":28399},{"$f":"IF('INGRESO DE DATOS'!$W$19=1,'Tablas Guyanas y Santa Elena'!D205,'Tablas Resto de Ecuador'!D205)","v":24749},{"$f":"IF('INGRESO DE DATOS'!$W$19=1,'Tablas Guyanas y Santa Elena'!E205,'Tablas Resto de Ecuador'!E205)","v":18885},{"$f":"IF('INGRESO DE DATOS'!$W$19=1,'Tablas Guyanas y Santa Elena'!F205,'Tablas Resto de Ecuador'!F205)","v":13135},{"$f":"IF('INGRESO DE DATOS'!$W$19=1,'Tablas Guyanas y Santa Elena'!G205,'Tablas Resto de Ecuador'!G205)","v":10306},null,24139.149999999998,21036.649999999998,16052.25,11164.75,8760.1]
[68,null,26391.649999999998,22792.75,17569.5,12221.3,9589.6999999999989,null,{"$f":"IF('INGRESO DE DATOS'!$W$19=1,'Tablas Guyanas y Santa Elena'!C206,'Tablas Resto de Ecuador'!C206)","v":31049},{"$f":"IF('INGRESO DE DATOS'!$W$19=1,'Tablas Guyanas y Santa Elena'!D206,'Tablas Resto de Ecuador'!D206)","v":26815},{"$f":"IF('INGRESO DE DATOS'!$W$19=1,'Tablas Guyanas y Santa Elena'!E206,'Tablas Resto de Ecuador'!E206)","v":20670},{"$f":"IF('INGRESO DE DATOS'!$W$19=1,'Tablas Guyanas y Santa Elena'!F206,'Tablas Resto de Ecuador'!F206)","v":14378},{"$f":"IF('INGRESO DE DATOS'!$W$19=1,'Tablas Guyanas y Santa Elena'!G206,'Tablas Resto de Ecuador'!G206)","v":11282},null,26391.649999999998,22792.75,17569.5,12221.3,9589.6999999999989]
[69,null,28761.45,24576.05,19167.5,13331.4,10460.1,null,{"$f":"IF('INGRESO DE DATOS'!$W$19=1,'Tablas Guyanas y Santa Elena'!C207,'Tablas Resto de Ecuador'!C207)","v":33837},{"$f":"IF('INGRESO DE DATOS'!$W$19=1,'Tablas Guyanas y Santa Elena'!D207,'Tablas Resto de Ecuador'!D207)","v":28913},{"$f":"IF('INGRESO DE DATOS'!$W$19=1,'Tablas Guyanas y Santa Elena'!E207,'Tablas Resto de Ecuador'!E207)","v":22550},{"$f":"IF('INGRESO DE DATOS'!$W$19=1,'Tablas Guyanas y Santa Elena'!F207,'Tablas Resto de Ecuador'!F207)","v":15684},{"$f":"IF('INGRESO DE DATOS'!$W$19=1,'Tablas Guyanas y Santa Elena'!G207,'Tablas Resto de Ecuador'!G207)","v":12306},null,28761.45,24576.05,19167.5,13331.4,10460.1]
[70,null,31251.95,26304.95,20847.099999999999,14502.699999999999,11378.1,null,{"$f":"IF('INGRESO DE DATOS'!$W$19=1,'Tablas Guyanas y Santa Elena'!C208,'Tablas Resto de Ecuador'!C208)","v":36767},{"$f":"IF('INGRESO DE DATOS'!$W$19=1,'Tablas Guyanas y Santa Elena'!D208,'Tablas Resto de Ecuador'!D208)","v":30947},{"$f":"IF('INGRESO DE DATOS'!$W$19=1,'Tablas Guyanas y Santa Elena'!E208,'Tablas Resto de Ecuador'!E208)","v":24526},{"$f":"IF('INGRESO DE DATOS'!$W$19=1,'Tablas Guyanas y Santa Elena'!F208,'Tablas Resto de Ecuador'!F208)","v":17062},{"$f":"IF('INGRESO DE DATOS'!$W$19=1,'Tablas Guyanas y Santa Elena'!G208,'Tablas Resto de Ecuador'!G208)","v":13386},null,31251.95,26304.95,20847.099999999999,14502.699999999999,11378.1]
[71,null,33859.75,27979.45,22613.399999999998,15725.85,12339.449999999999,null,{"$f":"IF('INGRESO DE DATOS'!$W$19=1,'Tablas Guyanas y Santa Elena'!C209,'Tablas Resto de Ecuador'!C209)","v":39835},{"$f":"IF('INGRESO DE DATOS'!$W$19=1,'Tablas Guyanas y Santa Elena'!D209,'Tablas Resto de Ecuador'!D209)","v":32917},{"$f":"IF('INGRESO DE DATOS'!$W$19=1,'Tablas Guyanas y Santa Elena'!E209,'Tablas Resto de Ecuador'!E209)","v":26604},{"$f":"IF('INGRESO DE DATOS'!$W$19=1,'Tablas Guyanas y Santa Elena'!F209,'Tablas Resto de Ecuador'!F209)","v":18501},{"$f":"IF('INGRESO DE DATOS'!$W$19=1,'Tablas Guyanas y Santa Elena'!G209,'Tablas Resto de Ecuador'!G209)","v":14517},null,33859.75,27979.45,22613.399999999998,15725.85,12339.449999999999]
[72,null,36406.35,29653.95,24458.75,17012.75,13345.85,null,{"$f":"IF('INGRESO DE DATOS'!$W$19=1,'Tablas Guyanas y Santa Elena'!C210,'Tablas Resto de Ecuador'!C210)","v":42831},{"$f":"IF('INGRESO DE DATOS'!$W$19=1,'Tablas Guyanas y Santa Elena'!D210,'Tablas Resto de Ecuador'!D210)","v":34887},{"$f":"IF('INGRESO DE DATOS'!$W$19=1,'Tablas Guyanas y Santa Elena'!E210,'Tablas Resto de Ecuador'!E210)","v":28775},{"$f":"IF('INGRESO DE DATOS'!$W$19=1,'Tablas Guyanas y Santa Elena'!F210,'Tablas Resto de Ecuador'!F210)","v":20015},{"$f":"IF('INGRESO DE DATOS'!$W$19=1,'Tablas Guyanas y Santa Elena'!G210,'Tablas Resto de Ecuador'!G210)","v":15701},null,36406.35,29653.95,24458.75,17012.75,13345.85]
[73,null,38429.35,31329.3,26027.85,18352.349999999999,14396.449999999999,null,{"$f":"IF('INGRESO DE DATOS'!$W$19=1,'Tablas Guyanas y Santa Elena'!C211,'Tablas Resto de Ecuador'!C211)","v":45211},{"$f":"IF('INGRESO DE DATOS'!$W$19=1,'Tablas Guyanas y Santa Elena'!D211,'Tablas Resto de Ecuador'!D211)","v":36858},{"$f":"IF('INGRESO DE DATOS'!$W$19=1,'Tablas Guyanas y Santa Elena'!E211,'Tablas Resto de Ecuador'!E211)","v":30621},{"$f":"IF('INGRESO DE DATOS'!$W$19=1,'Tablas Guyanas y Santa Elena'!F211,'Tablas Resto de Ecuador'!F211)","v":21591},{"$f":"IF('INGRESO DE DATOS'!$W$19=1,'Tablas Guyanas y Santa Elena'!G211,'Tablas Resto de Ecuador'!G211)","v":16937},null,38429.35,31329.3,26027.85,18352.349999999999,14396.449999999999]
[74,null,40452.35,33003.799999999996,27534.899999999998,19751.45,15279.6,null,{"$f":"IF('INGRESO DE DATOS'!$W$19=1,'Tablas Guyanas y Santa Elena'!C212,'Tablas Resto de Ecuador'!C212)","v":47591},{"$f":"IF('INGRESO DE DATOS'!$W$19=1,'Tablas Guyanas y Santa Elena'!D212,'Tablas Resto de Ecuador'!D212)","v":38828},{"$f":"IF('INGRESO DE DATOS'!$W$19=1,'Tablas Guyanas y Santa Elena'!E212,'Tablas Resto de Ecuador'!E212)","v":32394},{"$f":"IF('INGRESO DE DATOS'!$W$19=1,'Tablas Guyanas y Santa Elena'!F212,'Tablas Resto de Ecuador'!F212)","v":23237},{"$f":"IF('INGRESO DE DATOS'!$W$19=1,'Tablas Guyanas y Santa Elena'!G212,'Tablas Resto de Ecuador'!G212)","v":17976},null,40452.35,33003.799999999996,27534.899999999998,19751.45,15279.6]
[75,null,42411.6,34614.549999999996,28978.2,21208.35,16048.85,null,{"$f":"IF('INGRESO DE DATOS'!$W$19=1,'Tablas Guyanas y Santa Elena'!C213,'Tablas Resto de Ecuador'!C213)","v":49896},{"$f":"IF('INGRESO DE DATOS'!$W$19=1,'Tablas Guyanas y Santa Elena'!D213,'Tablas Resto de Ecuador'!D213)","v":40723},{"$f":"IF('INGRESO DE DATOS'!$W$19=1,'Tablas Guyanas y Santa Elena'!E213,'Tablas Resto de Ecuador'!E213)","v":34092},{"$f":"IF('INGRESO DE DATOS'!$W$19=1,'Tablas Guyanas y Santa Elena'!F213,'Tablas Resto de Ecuador'!F213)","v":24951},{"$f":"IF('INGRESO DE DATOS'!$W$19=1,'Tablas Guyanas y Santa Elena'!G213,'Tablas Resto de Ecuador'!G213)","v":18881},null,42411.6,34614.549999999996,28978.2,21208.35,16048.85]
[76,null,42411.6,34614.549999999996,28978.2,21208.35,16048.85,null,{"$f":"IF('INGRESO DE DATOS'!$W$19=1,'Tablas Guyanas y Santa Elena'!C214,'Tablas Resto de Ecuador'!C214)","v":49896},{"$f":"IF('INGRESO DE DATOS'!$W$19=1,'Tablas Guyanas y Santa Elena'!D214,'Tablas Resto de Ecuador'!D214)","v":40723},{"$f":"IF('INGRESO DE DATOS'!$W$19=1,'Tablas Guyanas y Santa Elena'!E214,'Tablas Resto de Ecuador'!E214)","v":34092},{"$f":"IF('INGRESO DE DATOS'!$W$19=1,'Tablas Guyanas y Santa Elena'!F214,'Tablas Resto de Ecuador'!F214)","v":24951},{"$f":"IF('INGRESO DE DATOS'!$W$19=1,'Tablas Guyanas y Santa Elena'!G214,'Tablas Resto de Ecuador'!G214)","v":18881},null,42411.6,34614.549999999996,28978.2,21208.35,16048.85]
[77,null,42411.6,34614.549999999996,28978.2,21208.35,16048.85,null,{"$f":"IF('INGRESO DE DATOS'!$W$19=1,'Tablas Guyanas y Santa Elena'!C215,'Tablas Resto de Ecuador'!C215)","v":49896},{"$f":"IF('INGRESO DE DATOS'!$W$19=1,'Tablas Guyanas y Santa Elena'!D215,'Tablas Resto de Ecuador'!D215)","v":40723},{"$f":"IF('INGRESO DE DATOS'!$W$19=1,'Tablas Guyanas y Santa Elena'!E215,'Tablas Resto de Ecuador'!E215)","v":34092},{"$f":"IF('INGRESO DE DATOS'!$W$19=1,'Tablas Guyanas y Santa Elena'!F215,'Tablas Resto de Ecuador'!F215)","v":24951},{"$f":"IF('INGRESO DE DATOS'!$W$19=1,'Tablas Guyanas y Santa Elena'!G215,'Tablas Resto de Ecuador'!G215)","v":18881},null,42411.6,34614.549999999996,28978.2,21208.35,16048.85]
[78,null,42411.6,34614.549999999996,28978.2,21208.35,16048.85,null,{"$f":"IF('INGRESO DE DATOS'!$W$19=1,'Tablas Guyanas y Santa Elena'!C216,'Tablas Resto de Ecuador'!C216)","v":49896},{"$f":"IF('INGRESO DE DATOS'!$W$19=1,'Tablas Guyanas y Santa Elena'!D216,'Tablas Resto de Ecuador'!D216)","v":40723},{"$f":"IF('INGRESO DE DATOS'!$W$19=1,'Tablas Guyanas y Santa Elena'!E216,'Tablas Resto de Ecuador'!E216)","v":34092},{"$f":"IF('INGRESO DE DATOS'!$W$19=1,'Tablas Guyanas y Santa Elena'!F216,'Tablas Resto de Ecuador'!F216)","v":24951},{"$f":"IF('INGRESO DE DATOS'!$W$19=1,'Tablas Guyanas y Santa Elena'!G216,'Tablas Resto de Ecuador'!G216)","v":18881},null,42411.6,34614.549999999996,28978.2,21208.35,16048.85]
[79,null,42411.6,34614.549999999996,28978.2,21208.35,16048.85,null,{"$f":"IF('INGRESO DE DATOS'!$W$19=1,'Tablas Guyanas y Santa Elena'!C217,'Tablas Resto de Ecuador'!C217)","v":49896},{"$f":"IF('INGRESO DE DATOS'!$W$19=1,'Tablas Guyanas y Santa Elena'!D217,'Tablas Resto de Ecuador'!D217)","v":40723},{"$f":"IF('INGRESO DE DATOS'!$W$19=1,'Tablas Guyanas y Santa Elena'!E217,'Tablas Resto de Ecuador'!E217)","v":34092},{"$f":"IF('INGRESO DE DATOS'!$W$19=1,'Tablas Guyanas y Santa Elena'!F217,'Tablas Resto de Ecuador'!F217)","v":24951},{"$f":"IF('INGRESO DE DATOS'!$W$19=1,'Tablas Guyanas y Santa Elena'!G217,'Tablas Resto de Ecuador'!G217)","v":18881},null,42411.6,34614.549999999996,28978.2,21208.35,16048.85]
[80,null,42411.6,34614.549999999996,28978.2,21208.35,16048.85,null,{"$f":"IF('INGRESO DE DATOS'!$W$19=1,'Tablas Guyanas y Santa Elena'!C218,'Tablas Resto de Ecuador'!C218)","v":49896},{"$f":"IF('INGRESO DE DATOS'!$W$19=1,'Tablas Guyanas y Santa Elena'!D218,'Tablas Resto de Ecuador'!D218)","v":40723},{"$f":"IF('INGRESO DE DATOS'!$W$19=1,'Tablas Guyanas y Santa Elena'!E218,'Tablas Resto de Ecuador'!E218)","v":34092},{"$f":"IF('INGRESO DE DATOS'!$W$19=1,'Tablas Guyanas y Santa Elena'!F218,'Tablas Resto de Ecuador'!F218)","v":24951},{"$f":"IF('INGRESO DE DATOS'!$W$19=1,'Tablas Guyanas y Santa Elena'!G218,'Tablas Resto de Ecuador'!G218)","v":18881},null,42411.6,34614.549999999996,28978.2,21208.35,16048.85]
[81,null,42411.6,34614.549999999996,28978.2,21208.35,16048.85,null,{"$f":"IF('INGRESO DE DATOS'!$W$19=1,'Tablas Guyanas y Santa Elena'!C219,'Tablas Resto de Ecuador'!C219)","v":49896},{"$f":"IF('INGRESO DE DATOS'!$W$19=1,'Tablas Guyanas y Santa Elena'!D219,'Tablas Resto de Ecuador'!D219)","v":40723},{"$f":"IF('INGRESO DE DATOS'!$W$19=1,'Tablas Guyanas y Santa Elena'!E219,'Tablas Resto de Ecuador'!E219)","v":34092},{"$f":"IF('INGRESO DE DATOS'!$W$19=1,'Tablas Guyanas y Santa Elena'!F219,'Tablas Resto de Ecuador'!F219)","v":24951},{"$f":"IF('INGRESO DE DATOS'!$W$19=1,'Tablas Guyanas y Santa Elena'!G219,'Tablas Resto de Ecuador'!G219)","v":18881},null,42411.6,34614.549999999996,28978.2,21208.35,16048.85]
[82,null,{"$f":"O220*$X$2","v":42411.6},{"$f":"P220*$X$2","v":34614.549999999996},{"$f":"Q220*$X$2","v":28978.2},{"$f":"R220*$X$2","v":21208.35},16048.85,null,{"$f":"IF('INGRESO DE DATOS'!$W$19=1,'Tablas Guyanas y Santa Elena'!C220,'Tablas Resto de Ecuador'!C220)","v":49896},{"$f":"IF('INGRESO DE DATOS'!$W$19=1,'Tablas Guyanas y Santa Elena'!D220,'Tablas Resto de Ecuador'!D220)","v":40723},{"$f":"IF('INGRESO DE DATOS'!$W$19=1,'Tablas Guyanas y Santa Elena'!E220,'Tablas Resto de Ecuador'!E220)","v":34092},{"$f":"IF('INGRESO DE DATOS'!$W$19=1,'Tablas Guyanas y Santa Elena'!F220,'Tablas Resto de Ecuador'!F220)","v":24951},{"$f":"IF('INGRESO DE DATOS'!$W$19=1,'Tablas Guyanas y Santa Elena'!G220,'Tablas Resto de Ecuador'!G220)","v":18881},null,42411.6,34614.549999999996,28978.2,21208.35,16048.85]
[83,null,42411.6,34614.549999999996,28978.2,21208.35,16048.85,null,{"$f":"IF('INGRESO DE DATOS'!$W$19=1,'Tablas Guyanas y Santa Elena'!C221,'Tablas Resto de Ecuador'!C221)","v":49896},{"$f":"IF('INGRESO DE DATOS'!$W$19=1,'Tablas Guyanas y Santa Elena'!D221,'Tablas Resto de Ecuador'!D221)","v":40723},{"$f":"IF('INGRESO DE DATOS'!$W$19=1,'Tablas Guyanas y Santa Elena'!E221,'Tablas Resto de Ecuador'!E221)","v":34092},{"$f":"IF('INGRESO DE DATOS'!$W$19=1,'Tablas Guyanas y Santa Elena'!F221,'Tablas Resto de Ecuador'!F221)","v":24951},{"$f":"IF('INGRESO DE DATOS'!$W$19=1,'Tablas Guyanas y Santa Elena'!G221,'Tablas Resto de Ecuador'!G221)","v":18881},null,{"$f":"I221*$R$4","v":42411.6},34614.549999999996,28978.2,21208.35,16048.85]
[84,"o más",42411.6,34614.549999999996,28978.2,21208.35,16048.85,null,{"$f":"IF('INGRESO DE DATOS'!$W$19=1,'Tablas Guyanas y Santa Elena'!C222,'Tablas Resto de Ecuador'!C222)","v":49896},{"$f":"IF('INGRESO DE DATOS'!$W$19=1,'Tablas Guyanas y Santa Elena'!D222,'Tablas Resto de Ecuador'!D222)","v":40723},{"$f":"IF('INGRESO DE DATOS'!$W$19=1,'Tablas Guyanas y Santa Elena'!E222,'Tablas Resto de Ecuador'!E222)","v":34092},{"$f":"IF('INGRESO DE DATOS'!$W$19=1,'Tablas Guyanas y Santa Elena'!F222,'Tablas Resto de Ecuador'!F222)","v":24951},{"$f":"IF('INGRESO DE DATOS'!$W$19=1,'Tablas Guyanas y Santa Elena'!G222,'Tablas Resto de Ecuador'!G222)","v":18881},null,42411.6,34614.549999999996,28978.2,21208.35,16048.85]
[1,"Hijo",786.25,708.05,475.15,482.8,439.45,null,{"$f":"IF('INGRESO DE DATOS'!$W$19=1,'Tablas Guyanas y Santa Elena'!C223,'Tablas Resto de Ecuador'!C223)","v":925},{"$f":"IF('INGRESO DE DATOS'!$W$19=1,'Tablas Guyanas y Santa Elena'!D223,'Tablas Resto de Ecuador'!D223)","v":833},{"$f":"IF('INGRESO DE DATOS'!$W$19=1,'Tablas Guyanas y Santa Elena'!E223,'Tablas Resto de Ecuador'!E223)","v":559},{"$f":"IF('INGRESO DE DATOS'!$W$19=1,'Tablas Guyanas y Santa Elena'!F223,'Tablas Resto de Ecuador'!F223)","v":568},{"$f":"IF('INGRESO DE DATOS'!$W$19=1,'Tablas Guyanas y Santa Elena'!G223,'Tablas Resto de Ecuador'!G223)","v":517},null,786.25,708.05,475.15,482.8,439.45]
[2,"Hijos",1547,1159.3999999999999,758.19999999999993,797.3,731,null,{"$f":"IF('INGRESO DE DATOS'!$W$19=1,'Tablas Guyanas y Santa Elena'!C224,'Tablas Resto de Ecuador'!C224)","v":1820},{"$f":"IF('INGRESO DE DATOS'!$W$19=1,'Tablas Guyanas y Santa Elena'!D224,'Tablas Resto de Ecuador'!D224)","v":1364},{"$f":"IF('INGRESO DE DATOS'!$W$19=1,'Tablas Guyanas y Santa Elena'!E224,'Tablas Resto de Ecuador'!E224)","v":892},{"$f":"IF('INGRESO DE DATOS'!$W$19=1,'Tablas Guyanas y Santa Elena'!F224,'Tablas Resto de Ecuador'!F224)","v":938},{"$f":"IF('INGRESO DE DATOS'!$W$19=1,'Tablas Guyanas y Santa Elena'!G224,'Tablas Resto de Ecuador'!G224)","v":860},null,1547,1159.3999999999999,758.19999999999993,797.3,731]
[3,"Hijos o más",2285.65,1587.8,1035.3,1097.3499999999999,1006.4,null,{"$f":"IF('INGRESO DE DATOS'!$W$19=1,'Tablas Guyanas y Santa Elena'!C225,'Tablas Resto de Ecuador'!C225)","v":2689},{"$f":"IF('INGRESO DE DATOS'!$W$19=1,'Tablas Guyanas y Santa Elena'!D225,'Tablas Resto de Ecuador'!D225)","v":1868},{"$f":"IF('INGRESO DE DATOS'!$W$19=1,'Tablas Guyanas y Santa Elena'!E225,'Tablas Resto de Ecuador'!E225)","v":1218},{"$f":"IF('INGRESO DE DATOS'!$W$19=1,'Tablas Guyanas y Santa Elena'!F225,'Tablas Resto de Ecuador'!F225)","v":1291},{"$f":"IF('INGRESO DE DATOS'!$W$19=1,'Tablas Guyanas y Santa Elena'!G225,'Tablas Resto de Ecuador'!G225)","v":1184},null,2285.65,1587.8,1035.3,1097.3499999999999,1006.4]
[]
["BUPA GLOBAL ULTIMATE"]
["TARIFAS ANUALES"]
[]
["EDAD",null,0,1000,null,null,null,null,"TARIFA BASE",null,null,null,"TARIFAS BASE CON DESCUENTO"]
[18,null,{"$f":"M231*$X$2","v":26028},{"$f":"N231*$X$2","v":17883},null,null,null,null,{"$f":"IF('INGRESO DE DATOS'!$W$19=1,'Tablas Guyanas y Santa Elena'!C231,'Tablas Resto de Ecuador'!C231)","v":26028},{"$f":"IF('INGRESO DE DATOS'!$W$19=1,'Tablas Guyanas y Santa Elena'!D231,'Tablas Resto de Ecuador'!D231)","v":17883},null,null,{"$f":"I231*$O$4","v":26028},{"$f":"J231*$O$4","v":17883}]
[19,null,{"$f":"M232*$X$2","v":26028},{"$f":"N232*$X$2","v":17883},null,null,null,null,{"$f":"IF('INGRESO DE DATOS'!$W$19=1,'Tablas Guyanas y Santa Elena'!C232,'Tablas Resto de Ecuador'!C232)","v":26028},{"$f":"IF('INGRESO DE DATOS'!$W$19=1,'Tablas Guyanas y Santa Elena'!D232,'Tablas Resto de Ecuador'!D232)","v":17883},null,null,{"$f":"I232*$O$4","v":26028},{"$f":"J232*$O$4","v":17883}]
[20,null,26028,17883,null,null,null,null,{"$f":"IF('INGRESO DE DATOS'!$W$19=1,'Tablas Guyanas y Santa Elena'!C233,'Tablas Resto de Ecuador'!C233)","v":26028},{"$f":"IF('INGRESO DE DATOS'!$W$19=1,'Tablas Guyanas y Santa Elena'!D233,'Tablas Resto de Ecuador'!D233)","v":17883},null,null,26028,17883]
[21,null,26028,17883,null,null,null,null,{"$f":"IF('INGRESO DE DATOS'!$W$19=1,'Tablas Guyanas y Santa Elena'!C234,'Tablas Resto de Ecuador'!C234)","v":26028},{"$f":"IF('INGRESO DE DATOS'!$W$19=1,'Tablas Guyanas y Santa Elena'!D234,'Tablas Resto de Ecuador'!D234)","v":17883},null,null,26028,17883]
[22,null,26028,17883,null,null,null,null,{"$f":"IF('INGRESO DE DATOS'!$W$19=1,'Tablas Guyanas y Santa Elena'!C235,'Tablas Resto de Ecuador'!C235)","v":26028},{"$f":"IF('INGRESO DE DATOS'!$W$19=1,'Tablas Guyanas y Santa Elena'!D235,'Tablas Resto de Ecuador'!D235)","v":17883},null,null,26028,17883]
[23,null,26028,17883,null,null,null,null,{"$f":"IF('INGRESO DE DATOS'!$W$19=1,'Tablas Guyanas y Santa Elena'!C236,'Tablas Resto de Ecuador'!C236)","v":26028},{"$f":"IF('INGRESO DE DATOS'!$W$19=1,'Tablas Guyanas y Santa Elena'!D236,'Tablas Resto de Ecuador'!D236)","v":17883},null,null,26028,17883]
[24,null,26028,17883,null,null,null,null,{"$f":"IF('INGRESO DE DATOS'!$W$19=1,'Tablas Guyanas y Santa Elena'!C237,'Tablas Resto de Ecuador'!C237)","v":26028},{"$f":"IF('INGRESO DE DATOS'!$W$19=1,'Tablas Guyanas y Santa Elena'!D237,'Tablas Resto de Ecuador'!D237)","v":17883},null,null,26028,17883]
[25,null,33215,23353,null,null,null,null,{"$f":"IF('INGRESO DE DATOS'!$W$19=1,'Tablas Guyanas y Santa Elena'!C238,'Tablas Resto de Ecuador'!C238)","v":33215},{"$f":"IF('INGRESO DE DATOS'!$W$19=1,'Tablas Guyanas y Santa Elena'!D238,'Tablas Resto de Ecuador'!D238)","v":23353},null,null,33215,23353]
[26,null,33215,23353,null,null,null,null,{"$f":"IF('INGRESO DE DATOS'!$W$19=1,'Tablas Guyanas y Santa Elena'!C239,'Tablas Resto de Ecuador'!C239)","v":33215},{"$f":"IF('INGRESO DE DATOS'!$W$19=1,'Tablas Guyanas y Santa Elena'!D239,'Tablas Resto de Ecuador'!D239)","v":23353},null,null,33215,23353]
[27,null,33215,23353,null,null,null,null,{"$f":"IF('INGRESO DE DATOS'!$W$19=1,'Tablas Guyanas y Santa Elena'!C240,'Tablas Resto de Ecuador'!C240)","v":33215},{"$f":"IF('INGRESO DE DATOS'!$W$19=1,'Tablas Guyanas y Santa Elena'!D240,'Tablas Resto de Ecuador'!D240)","v":23353},null,null,33215,23353]
[28,null,33215,23353,null,null,null,null,{"$f":"IF('INGRESO DE DATOS'!$W$19=1,'Tablas Guyanas y Santa Elena'!C241,'Tablas Resto de Ecuador'!C241)","v":33215},{"$f":"IF('INGRESO DE DATOS'!$W$19=1,'Tablas Guyanas y Santa Elena'!D241,'Tablas Resto de Ecuador'!D241)","v":23353},null,null,33215,23353]
[29,null,33215,23353,null,null,null,null,{"$f":"IF('INGRESO DE DATOS'!$W$19=1,'Tablas Guyanas y Santa Elena'!C242,'Tablas Resto de Ecuador'!C242)","v":33215},{"$f":"IF('INGRESO DE DATOS'!$W$19=1,'Tablas Guyanas y Santa Elena'!D242,'Tablas Resto de Ecuador'!D242)","v":23353},null,null,33215,23353]
[30,null,37054,26063,null,null,null,null,{"$f":"IF('INGRESO DE DATOS'!$W$19=1,'Tablas Guyanas y Santa Elena'!C243,'Tablas Resto de Ecuador'!C243)","v":37054},{"$f":"IF('INGRESO DE DATOS'!$W$19=1,'Tablas Guyanas y Santa Elena'!D243,'Tablas Resto de Ecuador'!D243)","v":26063},null,null,37054,26063]
[31,null,37054,26063,null,null,null,null,{"$f":"IF('INGRESO DE DATOS'!$W$19=1,'Tablas Guyanas y Santa Elena'!C244,'Tablas Resto de Ecuador'!C244)","v":37054},{"$f":"IF('INGRESO DE DATOS'!$W$19=1,'Tablas Guyanas y Santa Elena'!D244,'Tablas Resto de Ecuador'!D244)","v":26063},null,null,37054,26063]
[32,null,37054,26063,null,null,null,null,{"$f":"IF('INGRESO DE DATOS'!$W$19=1,'Tablas Guyanas y Santa Elena'!C245,'Tablas Resto de Ecuador'!C245)","v":37054},{"$f":"IF('INGRESO DE DATOS'!$W$19=1,'Tablas Guyanas y Santa Elena'!D245,'Tablas Resto de Ecuador'!D245)","v":26063},null,null,37054,26063]
[33,null,37054,26063,null,null,null,null,{"$f":"IF('INGRESO DE DATOS'!$W$19=1,'Tablas Guyanas y Santa Elena'!C246,'Tablas Resto de Ecuador'!C246)","v":37054},{"$f":"IF('INGRESO DE DATOS'!$W$19=1,'Tablas Guyanas y Santa Elena'!D246,'Tablas Resto de Ecuador'!D246)","v":26063},null,null,37054,26063]
[34,null,37054,26063,null,null,null,null,{"$f":"IF('INGRESO DE DATOS'!$W$19=1,'Tablas Guyanas y Santa Elena'!C247,'Tablas Resto de Ecuador'!C247)","v":37054},{"$f":"IF('INGRESO DE DATOS'!$W$19=1,'Tablas Guyanas y Santa Elena'!D247,'Tablas Resto de Ecuador'!D247)","v":26063},null,null,37054,26063]
[35,null,41119,29160,null,null,null,null,{"$f":"IF('INGRESO DE DATOS'!$W$19=1,'Tablas Guyanas y Santa Elena'!C248,'Tablas Resto de Ecuador'!C248)","v":41119},{"$f":"IF('INGRESO DE DATOS'!$W$19=1,'Tablas Guyanas y Santa Elena'!D248,'Tablas Resto de Ecuador'!D248)","v":29160},null,null,41119,29160]
[36,null,41119,29160,null,null,null,null,{"$f":"IF('INGRESO DE DATOS'!$W$19=1,'Tablas Guyanas y Santa Elena'!C249,'Tablas Resto de Ecuador'!C249)","v":41119},{"$f":"IF('INGRESO DE DATOS'!$W$19=1,'Tablas Guyanas y Santa Elena'!D249,'Tablas Resto de Ecuador'!D249)","v":29160},null,null,41119,29160]
[37,null,41119,29160,null,null,null,null,{"$f":"IF('INGRESO DE DATOS'!$W$19=1,'Tablas Guyanas y Santa Elena'!C250,'Tablas Resto de Ecuador'!C250)","v":41119},{"$f":"IF('INGRESO DE DATOS'!$W$19=1,'Tablas Guyanas y Santa Elena'!D250,'Tablas Resto de Ecuador'!D250)","v":29160},null,null,41119,29160]
[38,null,41119,29160,null,null,null,null,{"$f":"IF('INGRESO DE DATOS'!$W$19=1,'Tablas Guyanas y Santa Elena'!C251,'Tablas Resto de Ecuador'!C251)","v":41119},{"$f":"IF('INGRESO DE DATOS'!$W$19=1,'Tablas Guyanas y Santa Elena'!D251,'Tablas Resto de Ecuador'!D251)","v":29160},null,null,41119,29160]
[39,null,41119,29160,null,null,null,null,{"$f":"IF('INGRESO DE DATOS'!$W$19=1,'Tablas Guyanas y Santa Elena'!C252,'Tablas Resto de Ecuador'!C252)","v":41119},{"$f":"IF('INGRESO DE DATOS'!$W$19=1,'Tablas Guyanas y Santa Elena'!D252,'Tablas Resto de Ecuador'!D252)","v":29160},null,null,41119,29160]
[40,null,44611,32687,null,null,null,null,{"$f":"IF('INGRESO DE DATOS'!$W$19=1,'Tablas Guyanas y Santa Elena'!C253,'Tablas Resto de Ecuador'!C253)","v":44611},{"$f":"IF('INGRESO DE DATOS'!$W$19=1,'Tablas Guyanas y Santa Elena'!D253,'Tablas Resto de Ecuador'!D253)","v":32687},null,null,44611,32687]
[41,null,44611,32687,null,null,null,null,{"$f":"IF('INGRESO DE DATOS'!$W$19=1,'Tablas Guyanas y Santa Elena'!C254,'Tablas Resto de Ecuador'!C254)","v":44611},{"$f":"IF('INGRESO DE DATOS'!$W$19=1,'Tablas Guyanas y Santa Elena'!D254,'Tablas Resto de Ecuador'!D254)","v":32687},null,null,44611,32687]
[42,null,44611,32687,null,null,null,null,{"$f":"IF('INGRESO DE DATOS'!$W$19=1,'Tablas Guyanas y Santa Elena'!C255,'Tablas Resto de Ecuador'!C255)","v":44611},{"$f":"IF('INGRESO DE DATOS'!$W$19=1,'Tablas Guyanas y Santa Elena'!D255,'Tablas Resto de Ecuador'!D255)","v":32687},null,null,44611,32687]
[43,null,44611,32687,null,null,null,null,{"$f":"IF('INGRESO DE DATOS'!$W$19=1,'Tablas Guyanas y Santa Elena'!C256,'Tablas Resto de Ecuador'!C256)","v":44611},{"$f":"IF('INGRESO DE DATOS'!$W$19=1,'Tablas Guyanas y Santa Elena'!D256,'Tablas Resto de Ecuador'!D256)","v":32687},null,null,44611,32687]
[44,null,44611,32687,null,null,null,null,{"$f":"IF('INGRESO DE DATOS'!$W$19=1,'Tablas Guyanas y Santa Elena'!C257,'Tablas Resto de Ecuador'!C257)","v":44611},{"$f":"IF('INGRESO DE DATOS'!$W$19=1,'Tablas Guyanas y Santa Elena'!D257,'Tablas Resto de Ecuador'!D257)","v":32687},null,null,44611,32687]
[45,null,51107,36587,null,null,null,null,{"$f":"IF('INGRESO DE DATOS'!$W$19=1,'Tablas Guyanas y Santa Elena'!C258,'Tablas Resto de Ecuador'!C258)","v":51107},{"$f":"IF('INGRESO DE DATOS'!$W$19=1,'Tablas Guyanas y Santa Elena'!D258,'Tablas Resto de Ecuador'!D258)","v":36587},null,null,51107,36587]
[46,null,51107,36587,null,null,null,null,{"$f":"IF('INGRESO DE DATOS'!$W$19=1,'Tablas Guyanas y Santa Elena'!C259,'Tablas Resto de Ecuador'!C259)","v":51107},{"$f":"IF('INGRESO DE DATOS'!$W$19=1,'Tablas Guyanas y Santa Elena'!D259,'Tablas Resto de Ecuador'!D259)","v":36587},null,null,51107,36587]
[47,null,51107,36587,null,null,null,null,{"$f":"IF('INGRESO DE DATOS'!$W$19=1,'Tablas Guyanas y Santa Elena'!C260,'Tablas Resto de Ecuador'!C260)","v":51107},{"$f":"IF('INGRESO DE DATOS'!$W$19=1,'Tablas Guyanas y Santa Elena'!D260,'Tablas Resto de Ecuador'!D260)","v":36587},null,null,51107,36587]
[48,null,51107,36587,null,null,null,null,{"$f":"IF('INGRESO DE DATOS'!$W$19=1,'Tablas Guyanas y Santa Elena'!C261,'Tablas Resto de Ecuador'!C261)","v":51107},{"$f":"IF('INGRESO DE DATOS'!$W$19=1,'Tablas Guyanas y Santa Elena'!D261,'Tablas Resto de Ecuador'!D261)","v":36587},null,null,51107,36587]
[49,null,51107,36587,null,null,null,null,{"$f":"IF('INGRESO DE DATOS'!$W$19=1,'Tablas Guyanas y Santa Elena'!C262,'Tablas Resto de Ecuador'!C262)","v":51107},{"$f":"IF('INGRESO DE DATOS'!$W$19=1,'Tablas Guyanas y Santa Elena'!D262,'Tablas Resto de Ecuador'!D262)","v":36587},null,null,51107,36587]
[50,null,55277,40946,null,null,null,null,{"$f":"IF('INGRESO DE DATOS'!$W$19=1,'Tablas Guyanas y Santa Elena'!C263,'Tablas Resto de Ecuador'!C263)","v":55277},{"$f":"IF('INGRESO DE DATOS'!$W$19=1,'Tablas Guyanas y Santa Elena'!D263,'Tablas Resto de Ecuador'!D263)","v":40946},null,null,55277,40946]
[51,null,55277,40946,null,null,null,null,{"$f":"IF('INGRESO DE DATOS'!$W$19=1,'Tablas Guyanas y Santa Elena'!C264,'Tablas Resto de Ecuador'!C264)","v":55277},{"$f":"IF('INGRESO DE DATOS'!$W$19=1,'Tablas Guyanas y Santa Elena'!D264,'Tablas Resto de Ecuador'!D264)","v":40946},null,null,55277,40946]
[52,null,55277,40946,null,null,null,null,{"$f":"IF('INGRESO DE DATOS'!$W$19=1,'Tablas Guyanas y Santa Elena'!C265,'Tablas Resto de Ecuador'!C265)","v":55277},{"$f":"IF('INGRESO DE DATOS'!$W$19=1,'Tablas Guyanas y Santa Elena'!D265,'Tablas Resto de Ecuador'!D265)","v":40946},null,null,55277,40946]
[53,null,55277,40946,null,null,null,null,{"$f":"IF('INGRESO DE DATOS'!$W$19=1,'Tablas Guyanas y Santa Elena'!C266,'Tablas Resto de Ecuador'!C266)","v":55277},{"$f":"IF('INGRESO DE DATOS'!$W$19=1,'Tablas Guyanas y Santa Elena'!D266,'Tablas Resto de Ecuador'!D266)","v":40946},null,null,55277,40946]
[54,null,55277,40946,null,null,null,null,{"$f":"IF('INGRESO DE DATOS'!$W$19=1,'Tablas Guyanas y Santa Elena'!C267,'Tablas Resto de Ecuador'!C267)","v":55277},{"$f":"IF('INGRESO DE DATOS'!$W$19=1,'Tablas Guyanas y Santa Elena'!D267,'Tablas Resto de Ecuador'!D267)","v":40946},null,null,55277,40946]
[55,null,60713,45736,null,null,null,null,{"$f":"IF('INGRESO DE DATOS'!$W$19=1,'Tablas Guyanas y Santa Elena'!C268,'Tablas Resto de Ecuador'!C268)","v":60713},{"$f":"IF('INGRESO DE DATOS'!$W$19=1,'Tablas Guyanas y Santa Elena'!D268,'Tablas Resto de Ecuador'!D268)","v":45736},null,null,60713,45736]
[56,null,60713,45736,null,null,null,null,{"$f":"IF('INGRESO DE DATOS'!$W$19=1,'Tablas Guyanas y Santa Elena'!C269,'Tablas Resto de Ecuador'!C269)","v":60713},{"$f":"IF('INGRESO DE DATOS'!$W$19=1,'Tablas Guyanas y Santa Elena'!D269,'Tablas Resto de Ecuador'!D269)","v":45736},null,null,60713,45736]
[57,null,60713,45736,null,null,null,null,{"$f":"IF('INGRESO DE DATOS'!$W$19=1,'Tablas Guyanas y Santa Elena'!C270,'Tablas Resto de Ecuador'!C270)","v":60713},{"$f":"IF('INGRESO DE DATOS'!$W$19=1,'Tablas Guyanas y Santa Elena'!D270,'Tablas Resto de Ecuador'!D270)","v":45736},null,null,60713,45736]
[58,null,60713,45736,null,null,null,null,{"$f":"IF('INGRESO DE DATOS'!$W$19=1,'Tablas Guyanas y Santa Elena'!C271,'Tablas Resto de Ecuador'!C271)","v":60713},{"$f":"IF('INGRESO DE DATOS'!$W$19=1,'Tablas Guyanas y Santa Elena'!D271,'Tablas Resto de Ecuador'!D271)","v":45736},null,null,60713,45736]
[59,null,60713,45736,null,null,null,null,{"$f":"IF('INGRESO DE DATOS'!$W$19=1,'Tablas Guyanas y Santa Elena'!C272,'Tablas Resto de Ecuador'!C272)","v":60713},{"$f":"IF('INGRESO DE DATOS'!$W$19=1,'Tablas Guyanas y Santa Elena'!D272,'Tablas Resto de Ecuador'!D272)","v":45736},null,null,60713,45736]
[60,null,73047,48910,null,null,null,null,{"$f":"IF('INGRESO DE DATOS'!$W$19=1,'Tablas Guyanas y Santa Elena'!C273,'Tablas Resto de Ecuador'!C273)","v":73047},{"$f":"IF('INGRESO DE DATOS'!$W$19=1,'Tablas Guyanas y Santa Elena'!D273,'Tablas Resto de Ecuador'!D273)","v":48910},null,null,73047,48910]
[61,null,75955,54427,null,null,null,null,{"$f":"IF('INGRESO DE DATOS'!$W$19=1,'Tablas Guyanas y Santa Elena'!C274,'Tablas Resto de Ecuador'!C274)","v":75955},{"$f":"IF('INGRESO DE DATOS'!$W$19=1,'Tablas Guyanas y Santa Elena'!D274,'Tablas Resto de Ecuador'!D274)","v":54427},null,null,75955,54427]
[62,null,78635,60376,null,null,null,null,{"$f":"IF('INGRESO DE DATOS'!$W$19=1,'Tablas Guyanas y Santa Elena'!C275,'Tablas Resto de Ecuador'!C275)","v":78635},{"$f":"IF('INGRESO DE DATOS'!$W$19=1,'Tablas Guyanas y Santa Elena'!D275,'Tablas Resto de Ecuador'!D275)","v":60376},null,null,78635,60376]
[63,null,81943,66756,null,null,null,null,{"$f":"IF('INGRESO DE DATOS'!$W$19=1,'Tablas Guyanas y Santa Elena'!C276,'Tablas Resto de Ecuador'!C276)","v":81943},{"$f":"IF('INGRESO DE DATOS'!$W$19=1,'Tablas Guyanas y Santa Elena'!D276,'Tablas Resto de Ecuador'!D276)","v":66756},null,null,81943,66756]
[64,null,86732,72850,null,null,null,null,{"$f":"IF('INGRESO DE DATOS'!$W$19=1,'Tablas Guyanas y Santa Elena'!C277,'Tablas Resto de Ecuador'!C277)","v":86732},{"$f":"IF('INGRESO DE DATOS'!$W$19=1,'Tablas Guyanas y Santa Elena'!D277,'Tablas Resto de Ecuador'!D277)","v":72850},null,null,86732,72850]
[65,null,93859,76876,null,null,null,null,{"$f":"IF('INGRESO DE DATOS'!$W$19=1,'Tablas Guyanas y Santa Elena'!C278,'Tablas Resto de Ecuador'!C278)","v":93859},{"$f":"IF('INGRESO DE DATOS'!$W$19=1,'Tablas Guyanas y Santa Elena'!D278,'Tablas Resto de Ecuador'!D278)","v":76876},null,null,93859,76876]
[66,null,104030,81874,null,null,null,null,{"$f":"IF('INGRESO DE DATOS'!$W$19=1,'Tablas Guyanas y Santa Elena'!C279,'Tablas Resto de Ecuador'!C279)","v":104030},{"$f":"IF('INGRESO DE DATOS'!$W$19=1,'Tablas Guyanas y Santa Elena'!D279,'Tablas Resto de Ecuador'!D279)","v":81874},null,null,104030,81874]
[67,null,116674,87683,null,null,null,null,{"$f":"IF('INGRESO DE DATOS'!$W$19=1,'Tablas Guyanas y Santa Elena'!C280,'Tablas Resto de Ecuador'!C280)","v":116674},{"$f":"IF('INGRESO DE DATOS'!$W$19=1,'Tablas Guyanas y Santa Elena'!D280,'Tablas Resto de Ecuador'!D280)","v":87683},null,null,116674,87683]
[68,null,130733,93955,null,null,null,null,{"$f":"IF('INGRESO DE DATOS'!$W$19=1,'Tablas Guyanas y Santa Elena'!C281,'Tablas Resto de Ecuador'!C281)","v":130733},{"$f":"IF('INGRESO DE DATOS'!$W$19=1,'Tablas Guyanas y Santa Elena'!D281,'Tablas Resto de Ecuador'!D281)","v":93955},null,null,130733,93955]
[69,null,145145,100344,null,null,null,null,{"$f":"IF('INGRESO DE DATOS'!$W$19=1,'Tablas Guyanas y Santa Elena'!C282,'Tablas Resto de Ecuador'!C282)","v":145145},{"$f":"IF('INGRESO DE DATOS'!$W$19=1,'Tablas Guyanas y Santa Elena'!D282,'Tablas Resto de Ecuador'!D282)","v":100344},null,null,145145,100344]
[70,null,158849,106501,null,null,null,null,{"$f":"IF('INGRESO DE DATOS'!$W$19=1,'Tablas Guyanas y Santa Elena'!C283,'Tablas Resto de Ecuador'!C283)","v":158849},{"$f":"IF('INGRESO DE DATOS'!$W$19=1,'Tablas Guyanas y Santa Elena'!D283,'Tablas Resto de Ecuador'!D283)","v":106501},null,null,158849,106501]
[71,null,171848,112425,null,null,null,null,{"$f":"IF('INGRESO DE DATOS'!$W$19=1,'Tablas Guyanas y Santa Elena'!C284,'Tablas Resto de Ecuador'!C284)","v":171848},{"$f":"IF('INGRESO DE DATOS'!$W$19=1,'Tablas Guyanas y Santa Elena'!D284,'Tablas Resto de Ecuador'!D284)","v":112425},null,null,171848,112425]
[72,null,184846,118350,null,null,null,null,{"$f":"IF('INGRESO DE DATOS'!$W$19=1,'Tablas Guyanas y Santa Elena'!C285,'Tablas Resto de Ecuador'!C285)","v":184846},{"$f":"IF('INGRESO DE DATOS'!$W$19=1,'Tablas Guyanas y Santa Elena'!D285,'Tablas Resto de Ecuador'!D285)","v":118350},null,null,184846,118350]
[73,null,197844,124275,null,null,null,null,{"$f":"IF('INGRESO DE DATOS'!$W$19=1,'Tablas Guyanas y Santa Elena'!C286,'Tablas Resto de Ecuador'!C286)","v":197844},{"$f":"IF('INGRESO DE DATOS'!$W$19=1,'Tablas Guyanas y Santa Elena'!D286,'Tablas Resto de Ecuador'!D286)","v":124275},null,null,197844,124275]
[74,null,210842,130200,null,null,null,null,{"$f":"IF('INGRESO DE DATOS'!$W$19=1,'Tablas Guyanas y Santa Elena'!C287,'Tablas Resto de Ecuador'!C287)","v":210842},{"$f":"IF('INGRESO DE DATOS'!$W$19=1,'Tablas Guyanas y Santa Elena'!D287,'Tablas Resto de Ecuador'!D287)","v":130200},null,null,210842,130200]
[75,null,223765,136050,null,null,null,null,{"$f":"IF('INGRESO DE DATOS'!$W$19=1,'Tablas Guyanas y Santa Elena'!C288,'Tablas Resto de Ecuador'!C288)","v":223765},{"$f":"IF('INGRESO DE DATOS'!$W$19=1,'Tablas Guyanas y Santa Elena'!D288,'Tablas Resto de Ecuador'!D288)","v":136050},null,null,223765,136050]
[76,null,223765,136050,null,null,null,null,{"$f":"IF('INGRESO DE DATOS'!$W$19=1,'Tablas Guyanas y Santa Elena'!C289,'Tablas Resto de Ecuador'!C289)","v":223765},{"$f":"IF('INGRESO DE DATOS'!$W$19=1,'Tablas Guyanas y Santa Elena'!D289,'Tablas Resto de Ecuador'!D289)","v":136050},null,null,223765,136050]
[77,null,223765,136050,null,null,null,null,{"$f":"IF('INGRESO DE DATOS'!$W$19=1,'Tablas Guyanas y Santa Elena'!C290,'Tablas Resto de Ecuador'!C290)","v":223765},{"$f":"IF('INGRESO DE DATOS'!$W$19=1,'Tablas Guyanas y Santa Elena'!D290,'Tablas Resto de Ecuador'!D290)","v":136050},null,null,223765,136050]
[78,null,223765,136050,null,null,null,null,{"$f":"IF('INGRESO DE DATOS'!$W$19=1,'Tablas Guyanas y Santa Elena'!C291,'Tablas Resto de Ecuador'!C291)","v":223765},{"$f":"IF('INGRESO DE DATOS'!$W$19=1,'Tablas Guyanas y Santa Elena'!D291,'Tablas Resto de Ecuador'!D291)","v":136050},null,null,223765,136050]
[79,null,223765,136050,null,null,null,null,{"$f":"IF('INGRESO DE DATOS'!$W$19=1,'Tablas Guyanas y Santa Elena'!C292,'Tablas Resto de Ecuador'!C292)","v":223765},{"$f":"IF('INGRESO DE DATOS'!$W$19=1,'Tablas Guyanas y Santa Elena'!D292,'Tablas Resto de Ecuador'!D292)","v":136050},null,null,223765,136050]
[80,null,223765,136050,null,null,null,null,{"$f":"IF('INGRESO DE DATOS'!$W$19=1,'Tablas Guyanas y Santa Elena'!C293,'Tablas Resto de Ecuador'!C293)","v":223765},{"$f":"IF('INGRESO DE DATOS'!$W$19=1,'Tablas Guyanas y Santa Elena'!D293,'Tablas Resto de Ecuador'!D293)","v":136050},null,null,223765,136050]
[81,null,223765,136050,null,null,null,null,{"$f":"IF('INGRESO DE DATOS'!$W$19=1,'Tablas Guyanas y Santa Elena'!C294,'Tablas Resto de Ecuador'!C294)","v":223765},{"$f":"IF('INGRESO DE DATOS'!$W$19=1,'Tablas Guyanas y Santa Elena'!D294,'Tablas Resto de Ecuador'!D294)","v":136050},null,null,223765,136050]
[82,null,223765,136050,null,null,null,null,{"$f":"IF('INGRESO DE DATOS'!$W$19=1,'Tablas Guyanas y Santa Elena'!C295,'Tablas Resto de Ecuador'!C295)","v":223765},{"$f":"IF('INGRESO DE DATOS'!$W$19=1,'Tablas Guyanas y Santa Elena'!D295,'Tablas Resto de Ecuador'!D295)","v":136050},null,null,223765,136050]
[83,null,{"$f":"M296*$X$2","v":223765},136050,null,null,null,null,{"$f":"IF('INGRESO DE DATOS'!$W$19=1,'Tablas Guyanas y Santa Elena'!C296,'Tablas Resto de Ecuador'!C296)","v":223765},{"$f":"IF('INGRESO DE DATOS'!$W$19=1,'Tablas Guyanas y Santa Elena'!D296,'Tablas Resto de Ecuador'!D296)","v":136050},null,null,{"$f":"I296*$O$4","v":223765},136050]
[84,"o más",223765,136050,null,null,null,null,{"$f":"IF('INGRESO DE DATOS'!$W$19=1,'Tablas Guyanas y Santa Elena'!C297,'Tablas Resto de Ecuador'!C297)","v":223765},{"$f":"IF('INGRESO DE DATOS'!$W$19=1,'Tablas Guyanas y Santa Elena'!D297,'Tablas Resto de Ecuador'!D297)","v":136050},null,null,223765,136050]
[1,"Hijo",10447,7687,null,null,null,null,{"$f":"IF('INGRESO DE DATOS'!$W$19=1,'Tablas Guyanas y Santa Elena'!C298,'Tablas Resto de Ecuador'!C298)","v":10447},{"$f":"IF('INGRESO DE DATOS'!$W$19=1,'Tablas Guyanas y Santa Elena'!D298,'Tablas Resto de Ecuador'!D298)","v":7687},null,null,10447,7687]
[2,"Hijos",20149,15122,null,null,null,null,{"$f":"IF('INGRESO DE DATOS'!$W$19=1,'Tablas Guyanas y Santa Elena'!C299,'Tablas Resto de Ecuador'!C299)","v":20149},{"$f":"IF('INGRESO DE DATOS'!$W$19=1,'Tablas Guyanas y Santa Elena'!D299,'Tablas Resto de Ecuador'!D299)","v":15122},null,null,20149,15122]
[3,"Hijos o más",29673,21984,null,null,null,null,{"$f":"IF('INGRESO DE DATOS'!$W$19=1,'Tablas Guyanas y Santa Elena'!C300,'Tablas Resto de Ecuador'!C300)","v":29673},{"$f":"IF('INGRESO DE DATOS'!$W$19=1,'Tablas Guyanas y Santa Elena'!D300,'Tablas Resto de Ecuador'!D300)","v":21984},null,null,29673,21984]

{"sheet":"Tablas Guyanas y Santa Elena","index":7,"n_rows":300,"n_cols":7,"rows_kept":300,"cut":false,"hidden":true,"merged":[[228,2,228,6],[229,0,229,1],[153,2,153,6],[154,0,154,1],[226,0,226,6],[227,0,227,6],[151,0,151,6],[152,0,152,6],[4,0,4,1],[76,0,76,6],[77,0,77,6],[1,0,1,6],[2,0,2,6],[3,2,3,6],[78,2,78,6],[79,0,79,1]]}
[]
["BUPA GLOBAL ELITE"]
["TARIFAS ANUALES"]
[]
["EDAD",null,250,2000,3500,5000,10000]
[18,null,12970,12091,8083,7878,6350]
[19,null,12970,12091,8083,7878,6350]
[20,null,12970,12091,8083,7878,6350]
[21,null,12970,12091,8083,7878,6350]
[22,null,12970,12091,8083,7878,6350]
[23,null,12970,12091,8083,7878,6350]
[24,null,12970,12091,8083,7878,6350]
[25,null,15180,12354,8879,9072,6742]
[26,null,15180,12354,8879,9072,6742]
[27,null,15180,12354,8879,9072,6742]
[28,null,15180,12354,8879,9072,6742]
[29,null,15180,12354,8879,9072,6742]
[30,null,16878,14102,10408,8848,7441]
[31,null,16878,14102,10408,8848,7441]
[32,null,16878,14102,10408,8848,7441]
[33,null,16878,14102,10408,8848,7441]
[34,null,16878,14102,10408,8848,7441]
[35,null,18849,15797,13116,11373,8261]
[36,null,18849,15797,13116,11373,8261]
[37,null,18849,15797,13116,11373,8261]
[38,null,18849,15797,13116,11373,8261]
[39,null,18849,15797,13116,11373,8261]
[40,null,21110,17772,14333,12684,9211]
[41,null,21110,17772,14333,12684,9211]
[42,null,21110,17772,14333,12684,9211]
[43,null,21110,17772,14333,12684,9211]
[44,null,21110,17772,14333,12684,9211]
[45,null,23517,18855,16095,13660,10276]
[46,null,23517,18855,16095,13660,10276]
[47,null,23517,18855,16095,13660,10276]
[48,null,23517,18855,16095,13660,10276]
[49,null,23517,18855,16095,13660,10276]
[50,null,25394,20538,16599,15096,11252]
[51,null,25394,20538,16599,15096,11252]
[52,null,25394,20538,16599,15096,11252]
[53,null,25394,20538,16599,15096,11252]
[54,null,25394,20538,16599,15096,11252]
[55,null,28791,25245,20239,17473,12818]
[56,null,28791,25245,20239,17473,12818]
[57,null,28791,25245,20239,17473,12818]
[58,null,28791,25245,20239,17473,12818]
[59,null,28791,25245,20239,17473,12818]
[60,null,31658,27749,21774,18878,13710]
[61,null,35281,29440,24245,21026,15266]
[62,null,36642,30427,26127,23352,16955]
[63,null,38149,31682,27577,24507,18780]
[64,null,40129,33472,29415,26075,20293]
[65,null,42828,36061,31792,28296,22246]
[66,null,46469,39700,34886,31369,24999]
[67,null,50887,44211,38594,35142,27384]
[68,null,55749,49220,42651,39315,29869]
[69,null,60722,54354,46797,43588,32484]
[70,null,65473,59239,50767,47661,35227]
[71,null,70002,63874,54562,51533,38108]
[72,null,74530,68510,58357,55406,41115]
[73,null,79059,73145,62152,59279,44261]
[74,null,83588,77781,65947,63152,47535]
[75,null,88042,82341,69667,66950,50938]
[76,null,88042,82341,69667,66950,50938]
[77,null,88042,82341,69667,66950,50938]
[78,null,88042,82341,69667,66950,50938]
[79,null,88042,82341,69667,66950,50938]
[80,null,88042,82341,69667,66950,50938]
[81,null,88042,82341,69667,66950,50938]
[82,null,88042,82341,69667,66950,50938]
[83,null,88042,82341,69667,66950,50938]
[84,"o más",88042,82341,69667,66950,50938]
[1,"Hijo",3214,1913,1387,1381,1616]
[2,"Hijos",5819,3360,2468,2289,2814]
[3,"Hijos o más",8283,4756,3510,3257,3916]
[]
["BUPA GLOBAL PREMIER"]
["TARIFAS ANUALES"]
[]
["EDAD",null,250,2000,3500,5000,10000]
[18,null,8944,6687,4782,3915,3265]
[19,null,8944,6687,4782,3915,3265]
[20,null,8944,6687,4782,3915,3265]
[21,null,8944,6687,4782,3915,3265]
[22,null,8944,6687,4782,3915,3265]
[23,null,8944,6687,4782,3915,3265]
[24,null,8944,6687,4782,3915,3265]
[25,null,8992,7364,4870,3906,3451]
[26,null,8992,7364,4870,3906,3451]
[27,null,8992,7364,4870,3906,3451]
[28,null,8992,7364,4870,3906,3451]
[29,null,8992,7364,4870,3906,3451]
[30,null,10708,8570,6367,4827,3785]
[31,null,10708,8570,6367,4827,3785]
[32,null,10708,8570,6367,4827,3785]
[33,null,10708,8570,6367,4827,3785]
[34,null,10708,8570,6367,4827,3785]
[35,null,11950,10353,7656,5337,4185]
[36,null,11950,10353,7656,5337,4185]
[37,null,11950,10353,7656,5337,4185]
[38,null,11950,10353,7656,5337,4185]
[39,null,11950,10353,7656,5337,4185]
[40,null,13388,12148,8512,5929,4652]
[41,null,13388,12148,8512,5929,4652]
[42,null,13388,12148,8512,5929,4652]
[43,null,13388,12148,8512,5929,4652]
[44,null,13388,12148,8512,5929,4652]
[45,null,14982,12216,9383,6598,5176]
[46,null,14982,12216,9383,6598,5176]
[47,null,14982,12216,9383,6598,5176]
[48,null,14982,12216,9383,6598,5176]
[49,null,14982,12216,9383,6598,5176]
[50,null,16778,12903,10137,7362,5775]
[51,null,16778,12903,10137,7362,5775]
[52,null,16778,12903,10137,7362,5775]
[53,null,16778,12903,10137,7362,5775]
[54,null,16778,12903,10137,7362,5775]
[55,null,18763,15059,11783,8206,6441]
[56,null,18763,15059,11783,8206,6441]
[57,null,18763,15059,11783,8206,6441]
[58,null,18763,15059,11783,8206,6441]
[59,null,18763,15059,11783,8206,6441]
[60,null,20074,18222,12599,8776,6884]
[61,null,22371,20303,14021,9768,7661]
[62,null,24856,21787,15570,10843,8506]
[63,null,27525,22970,17247,12010,9422]
[64,null,29076,24374,19042,13259,10404]
[65,null,30779,26108,20484,14600,11456]
[66,null,32966,28274,22257,16025,12575]
[67,null,35546,30801,24358,17536,13756]
[68,null,38349,33534,26647,19135,15012]
[69,null,41209,36318,28982,20816,16331]
[70,null,43957,38999,31224,22588,17719]
[71,null,46593,41578,33372,24445,19178]
[72,null,49228,44156,35520,26391,20705]
[73,null,51864,46734,37668,28421,22297]
[74,null,54499,49312,39816,30537,23958]
[75,null,57060,51815,41889,32740,25244]
[76,null,57060,51815,41889,32740,25244]
[77,null,57060,51815,41889,32740,25244]
[78,null,57060,51815,41889,32740,25244]
[79,null,57060,51815,41889,32740,25244]
[80,null,57060,51815,41889,32740,25244]
[81,null,57060,51815,41889,32740,25244]
[82,null,57060,51815,41889,32740,25244]
[83,null,57060,51815,41889,32740,25244]
[84,"o más",57060,51815,41889,32740,25244]
[1,"Hijo",865,801,801,649,586]
[2,"Hijos",1701,1652,1541,1247,1118]
[3,"Hijos o más",2514,2440,2207,1811,1616]
[]
["BUPA GLOBAL SELECT"]
["TARIFAS ANUALES"]
[]
["EDAD",null,250,2000,5000,10000,20000]
[18,null,5652,4097,3736,2764,2172]
[19,null,5652,4097,3736,2764,2172]
[20,null,5652,4097,3736,2764,2172]
[21,null,5652,4097,3736,2764,2172]
[22,null,5652,4097,3736,2764,2172]
[23,null,5652,4097,3736,2764,2172]
[24,null,5652,4097,3736,2764,2172]
[25,null,6099,5288,3774,2949,2314]
[26,null,6099,5288,3774,2949,2314]
[27,null,6099,5288,3774,2949,2314]
[28,null,6099,5288,3774,2949,2314]
[29,null,6099,5288,3774,2949,2314]
[30,null,6880,6601,4491,3280,2575]
[31,null,6880,6601,4491,3280,2575]
[32,null,6880,6601,4491,3280,2575]
[33,null,6880,6601,4491,3280,2575]
[34,null,6880,6601,4491,3280,2575]
[35,null,7787,7384,5130,3674,2882]
[36,null,7787,7384,5130,3674,2882]
[37,null,7787,7384,5130,3674,2882]
[38,null,7787,7384,5130,3674,2882]
[39,null,7787,7384,5130,3674,2882]
[40,null,8832,7683,5491,4134,3243]
[41,null,8832,7683,5491,4134,3243]
[42,null,8832,7683,5491,4134,3243]
[43,null,8832,7683,5491,4134,3243]
[44,null,8832,7683,5491,4134,3243]
[45,null,9995,8374,5919,4652,3652]
[46,null,9995,8374,5919,4652,3652]
[47,null,9995,8374,5919,4652,3652]
[48,null,9995,8374,5919,4652,3652]
[49,null,9995,8374,5919,4652,3652]
[50,null,11310,9283,6440,5107,4113]
[51,null,11310,9283,6440,5107,4113]
[52,null,11310,9283,6440,5107,4113]
[53,null,11310,9283,6440,5107,4113]
[54,null,11310,9283,6440,5107,4113]
[55,null,12757,12137,8477,5895,4628]
[56,null,12757,12137,8477,5895,4628]
[57,null,12757,12137,8477,5895,4628]
[58,null,12757,12137,8477,5895,4628]
[59,null,12757,12137,8477,5895,4628]
[60,null,13721,13165,9107,6335,4971]
[61,null,15402,14779,10216,7106,5574]
[62,null,17224,16528,11416,7940,6232]
[63,null,19179,18326,12718,8847,6944]
[64,null,21278,19622,14115,9819,7700]
[65,null,23514,21096,15607,10856,8517]
[66,null,25887,22811,17201,11963,9387]
[67,null,28399,24749,18885,13135,10306]
[68,null,31049,26815,20670,14378,11282]
[69,null,33837,28913,22550,15684,12306]
[70,null,36767,30947,24526,17062,13386]
[71,null,39835,32917,26604,18501,14517]
[72,null,42831,34887,28775,20015,15701]
[73,null,45211,36858,30621,21591,16937]
[74,null,47591,38828,32394,23237,17976]
[75,null,49896,40723,34092,24951,18881]
[76,null,49896,40723,34092,24951,18881]
[77,null,49896,40723,34092,24951,18881]
[78,null,49896,40723,34092,24951,18881]
[79,null,49896,40723,34092,24951,18881]
[80,null,49896,40723,34092,24951,18881]
[81,null,49896,40723,34092,24951,18881]
[82,null,49896,40723,34092,24951,18881]
[83,null,49896,40723,34092,24951,18881]
[84,"o más",49896,40723,34092,24951,18881]
[1,"Hijo",925,833,559,568,517]
[2,"Hijos",1820,1364,892,938,860]
[3,"Hijos o más",2689,1868,1218,1291,1184]
[]
["BUPA GLOBAL ULTIMATE"]
["TARIFAS ANUALES"]
[]
["EDAD",null,0,1000]
[18,null,26028,17883]
[19,null,26028,17883]
[20,null,26028,17883]
[21,null,26028,17883]
[22,null,26028,17883]
[23,null,26028,17883]
[24,null,26028,17883]
[25,null,33215,23353]
[26,null,33215,23353]
[27,null,33215,23353]
[28,null,33215,23353]
[29,null,33215,23353]
[30,null,37054,26063]
[31,null,37054,26063]
[32,null,37054,26063]
[33,null,37054,26063]
[34,null,37054,26063]
[35,null,41119,29160]
[36,null,41119,29160]
[37,null,41119,29160]
[38,null,41119,29160]
[39,null,41119,29160]
[40,null,44611,32687]
[41,null,44611,32687]
[42,null,44611,32687]
[43,null,44611,32687]
[44,null,44611,32687]
[45,null,51107,36587]
[46,null,51107,36587]
[47,null,51107,36587]
[48,null,51107,36587]
[49,null,51107,36587]
[50,null,55277,40946]
[51,null,55277,40946]
[52,null,55277,40946]
[53,null,55277,40946]
[54,null,55277,40946]
[55,null,60713,45736]
[56,null,60713,45736]
[57,null,60713,45736]
[58,null,60713,45736]
[59,null,60713,45736]
[60,null,73047,48910]
[61,null,75955,54427]
[62,null,78635,60376]
[63,null,81943,66756]
[64,null,86732,72850]
[65,null,93859,76876]
[66,null,104030,81874]
[67,null,116674,87683]
[68,null,130733,93955]
[69,null,145145,100344]
[70,null,158849,106501]
[71,null,171848,112425]
[72,null,184846,118350]
[73,null,197844,124275]
[74,null,210842,130200]
[75,null,223765,136050]
[76,null,223765,136050]
[77,null,223765,136050]
[78,null,223765,136050]
[79,null,223765,136050]
[80,null,223765,136050]
[81,null,223765,136050]
[82,null,223765,136050]
[83,null,223765,136050]
[84,"o más",223765,136050]
[1,"Hijo",10447,7687]
[2,"Hijos",20149,15122]
[3,"Hijos o más",29673,21984]

{"sheet":"Tablas Resto de Ecuador","index":8,"n_rows":300,"n_cols":7,"rows_kept":300,"cut":false,"hidden":true,"merged":[[228,2,228,6],[229,0,229,1],[153,2,153,6],[154,0,154,1],[226,0,226,6],[227,0,227,6],[151,0,151,6],[152,0,152,6],[4,0,4,1],[76,0,76,6],[77,0,77,6],[1,0,1,6],[2,0,2,6],[3,2,3,6],[78,2,78,6],[79,0,79,1]]}
[]
["BUPA GLOBAL ELITE"]
["TARIFAS ANUALES"]
[]
["EDAD",null,250,2000,3500,5000,10000]
[18,null,12970,11521,8083,7878,5838]
[19,null,12970,11521,8083,7878,5838]
[20,null,12970,11521,8083,7878,5838]
[21,null,12970,11521,8083,7878,5838]
[22,null,12970,11521,8083,7878,5838]
[23,null,12970,11521,8083,7878,5838]
[24,null,12970,11521,8083,7878,5838]
[25,null,14048,12312,8879,8565,6198]
[26,null,14048,12312,8879,8565,6198]
[27,null,14048,12312,8879,8565,6198]
[28,null,14048,12312,8879,8565,6198]
[29,null,14048,12312,8879,8565,6198]
[30,null,15618,13693,10408,8848,6841]
[31,null,15618,13693,10408,8848,6841]
[32,null,15618,13693,10408,8848,6841]
[33,null,15618,13693,10408,8848,6841]
[34,null,15618,13693,10408,8848,6841]
[35,null,17442,15284,12099,10492,7594]
[36,null,17442,15284,12099,10492,7594]
[37,null,17442,15284,12099,10492,7594]
[38,null,17442,15284,12099,10492,7594]
[39,null,17442,15284,12099,10492,7594]
[40,null,19534,17125,13493,11702,8467]
[41,null,19534,17125,13493,11702,8467]
[42,null,19534,17125,13493,11702,8467]
[43,null,19534,17125,13493,11702,8467]
[44,null,19534,17125,13493,11702,8467]
[45,null,21862,18855,15055,13055,9448]
[46,null,21862,18855,15055,13055,9448]
[47,null,21862,18855,15055,13055,9448]
[48,null,21862,18855,15055,13055,9448]
[49,null,21862,18855,15055,13055,9448]
[50,null,24484,20538,16599,14589,10557]
[51,null,24484,20538,16599,14589,10557]
[52,null,24484,20538,16599,14589,10557]
[53,null,24484,20538,16599,14589,10557]
[54,null,24484,20538,16599,14589,10557]
[55,null,27370,23993,18776,16284,11786]
[56,null,27370,23993,18776,16284,11786]
[57,null,27370,23993,18776,16284,11786]
[58,null,27370,23993,18776,16284,11786]
[59,null,27370,23993,18776,16284,11786]
[60,null,29295,25678,20086,17415,12604]
[61,null,32648,28613,22366,19395,14036]
[62,null,36269,30427,24841,21542,15587]
[63,null,38149,31682,27510,23858,17265]
[64,null,40129,33472,29415,26075,19060]
[65,null,42828,36061,31792,28296,20978]
[66,null,46469,39700,34886,31369,23014]
[67,null,50887,44211,38594,34792,25174]
[68,null,55749,49220,42651,37949,27461]
[69,null,60722,54354,46797,41272,29864]
[70,null,65473,59239,50767,44760,32386]
[71,null,70002,63874,54562,48416,35035]
[72,null,74530,68510,58357,52241,37799]
[73,null,79059,73145,62152,56235,40693]
[74,null,83588,77781,65947,60396,43703]
[75,null,88042,82341,69667,64723,46830]
[76,null,88042,82341,69667,64723,46830]
[77,null,88042,82341,69667,64723,46830]
[78,null,88042,82341,69667,64723,46830]
[79,null,88042,82341,69667,64723,46830]
[80,null,88042,82341,69667,64723,46830]
[81,null,88042,82341,69667,64723,46830]
[82,null,88042,82341,69667,64723,46830]
[83,null,88042,82341,69667,64723,46830]
[84,"o más",88042,82341,69667,64723,46830]
[1,"Hijo",3214,1913,1387,1287,1616]
[2,"Hijos",5819,3360,2468,2289,2814]
[3,"Hijos o más",8283,4756,3510,3257,3916]
[]
["BUPA GLOBAL PREMIER"]
["TARIFAS ANUALES"]
[]
["EDAD",null,250,2000,5000,10000,20000]
[18,null,8338,6687,4782,3827,3001]
[19,null,8338,6687,4782,3827,3001]
[20,null,8338,6687,4782,3827,3001]
[21,null,8338,6687,4782,3827,3001]
[22,null,8338,6687,4782,3827,3001]
[23,null,8338,6687,4782,3827,3001]
[24,null,8338,6687,4782,3827,3001]
[25,null,8909,7364,4870,3906,3172]
[26,null,8909,7364,4870,3906,3172]
[27,null,8909,7364,4870,3906,3172]
[28,null,8909,7364,4870,3906,3172]
[29,null,8909,7364,4870,3906,3172]
[30,null,9908,8570,6367,4437,3480]
[31,null,9908,8570,6367,4437,3480]
[32,null,9908,8570,6367,4437,3480]
[33,null,9908,8570,6367,4437,3480]
[34,null,9908,8570,6367,4437,3480]
[35,null,11059,10038,7062,4905,3848]
[36,null,11059,10038,7062,4905,3848]
[37,null,11059,10038,7062,4905,3848]
[38,null,11059,10038,7062,4905,3848]
[39,null,11059,10038,7062,4905,3848]
[40,null,12389,11242,7853,5452,4277]
[41,null,12389,11242,7853,5452,4277]
[42,null,12389,11242,7853,5452,4277]
[43,null,12389,11242,7853,5452,4277]
[44,null,12389,11242,7853,5452,4277]
[45,null,13863,12216,8739,6067,4760]
[46,null,13863,12216,8739,6067,4760]
[47,null,13863,12216,8739,6067,4760]
[48,null,13863,12216,8739,6067,4760]
[49,null,13863,12216,8739,6067,4760]
[50,null,15526,12903,9749,6769,5311]
[51,null,15526,12903,9749,6769,5311]
[52,null,15526,12903,9749,6769,5311]
[53,null,15526,12903,9749,6769,5311]
[54,null,15526,12903,9749,6769,5311]
[55,null,17363,15059,10871,7544,5920]
[56,null,17363,15059,10871,7544,5920]
[57,null,17363,15059,10871,7544,5920]
[58,null,17363,15059,10871,7544,5920]
[59,null,17363,15059,10871,7544,5920]
[60,null,18577,16861,11621,8068,6330]
[61,null,20700,18790,12934,8980,7044]
[62,null,23000,20875,14364,9969,7820]
[63,null,25470,22970,15908,11040,8661]
[64,null,28116,24374,17566,12190,9564]
[65,null,30779,26108,19341,13423,10533]
[66,null,32966,28274,21224,14733,11561]
[67,null,35546,30801,23227,16121,12648]
[68,null,38349,33534,25346,17592,13801]
[69,null,41209,36318,27573,19138,15014]
[70,null,43957,38999,29921,20766,16289]
[71,null,46593,41578,32381,22474,17631]
[72,null,49228,44156,34956,24263,19036]
[73,null,51864,46734,37646,26129,20499]
[74,null,54499,49312,39816,28075,22025]
[75,null,57060,51815,41889,30102,23614]
[76,null,57060,51815,41889,30102,23614]
[77,null,57060,51815,41889,30102,23614]
[78,null,57060,51815,41889,30102,23614]
[79,null,57060,51815,41889,30102,23614]
[80,null,57060,51815,41889,30102,23614]
[81,null,57060,51815,41889,30102,23614]
[82,null,57060,51815,41889,30102,23614]
[83,null,57060,51815,41889,30102,23614]
[84,"o más",57060,51815,41889,30102,23614]
[1,"Hijo",865,839,819,649,586]
[2,"Hijos",1701,1651,1541,1247,1118]
[3,"Hijos o más",2514,2440,2207,1811,1616]
[]
["BUPA GLOBAL SELECT"]
["TARIFAS ANUALES"]
[]
["EDAD",null,250,2000,5000,10000,20000]
[18,null,5218,4097,3655,2534,1992]
[19,null,5218,4097,3655,2534,1992]
[20,null,5218,4097,3655,2534,1992]
[21,null,5218,4097,3655,2534,1992]
[22,null,5218,4097,3655,2534,1992]
[23,null,5218,4097,3655,2534,1992]
[24,null,5218,4097,3655,2534,1992]
[25,null,5629,5288,3774,2704,2122]
[26,null,5629,5288,3774,2704,2122]
[27,null,5629,5288,3774,2704,2122]
[28,null,5629,5288,3774,2704,2122]
[29,null,5629,5288,3774,2704,2122]
[30,null,6350,6094,4336,3007,2360]
[31,null,6350,6094,4336,3007,2360]
[32,null,6350,6094,4336,3007,2360]
[33,null,6350,6094,4336,3007,2360]
[34,null,6350,6094,4336,3007,2360]
[35,null,7188,6896,4854,3368,2642]
[36,null,7188,6896,4854,3368,2642]
[37,null,7188,6896,4854,3368,2642]
[38,null,7188,6896,4854,3368,2642]
[39,null,7188,6896,4854,3368,2642]
[40,null,8153,7683,5464,3788,2972]
[41,null,8153,7683,5464,3788,2972]
[42,null,8153,7683,5464,3788,2972]
[43,null,8153,7683,5464,3788,2972]
[44,null,8153,7683,5464,3788,2972]
[45,null,9226,8374,5919,4265,3348]
[46,null,9226,8374,5919,4265,3348]
[47,null,9226,8374,5919,4265,3348]
[48,null,9226,8374,5919,4265,3348]
[49,null,9226,8374,5919,4265,3348]
[50,null,10439,9283,6440,4806,3770]
[51,null,10439,9283,6440,4806,3770]
[52,null,10439,9283,6440,4806,3770]
[53,null,10439,9283,6440,4806,3770]
[54,null,10439,9283,6440,4806,3770]
[55,null,11776,11297,7799,5404,4243]
[56,null,11776,11297,7799,5404,4243]
[57,null,11776,11297,7799,5404,4243]
[58,null,11776,11297,7799,5404,4243]
[59,null,11776,11297,7799,5404,4243]
[60,null,12666,12153,8379,5807,4557]
[61,null,14218,13643,9398,6516,5111]
[62,null,15899,15257,10504,7279,5712]
[63,null,17704,16989,11701,8111,6365]
[64,null,19641,18846,12985,9000,7058]
[65,null,21707,20826,14359,9951,7807]
[66,null,23897,22811,15824,10967,8606]
[67,null,26216,24749,17375,12042,9447]
[68,null,28662,26815,19017,13180,10342]
[69,null,31235,28913,20748,14377,11279]
[70,null,33938,30947,22566,15640,12270]
[71,null,36769,32917,24476,16959,13307]
[72,null,39728,34887,26475,18348,14393]
[73,null,42814,36858,28560,19791,15526]
[74,null,46029,38828,30737,21299,16713]
[75,null,49367,40723,33003,22872,17942]
[76,null,49367,40723,33003,22872,17942]
[77,null,49367,40723,33003,22872,17942]
[78,null,49367,40723,33003,22872,17942]
[79,null,49367,40723,33003,22872,17942]
[80,null,49367,40723,33003,22872,17942]
[81,null,49367,40723,33003,22872,17942]
[82,null,49367,40723,33003,22872,17942]
[83,null,49367,40723,33003,22872,17942]
[84,"o más",49367,40723,33003,22872,17942]
[1,"Hijo",925,833,559,568,517]
[2,"Hijos",1820,1364,892,938,860]
[3,"Hijos o más",2689,1868,1218,1291,1184]
[]
["BUPA GLOBAL ULTIMATE"]
["TARIFAS ANUALES"]
[]
["EDAD",null,0,1000,2000]
[18,null,26028,17883]
[19,null,26028,17883]
[20,null,26028,17883]
[21,null,26028,17883]
[22,null,26028,17883]
[23,null,26028,17883]
[24,null,26028,17883]
[25,null,33215,21610]
[26,null,33215,21610]
[27,null,33215,21610]
[28,null,33215,21610]
[29,null,33215,21610]
[30,null,37054,24116]
[31,null,37054,24116]
[32,null,37054,24116]
[33,null,37054,24116]
[34,null,37054,24116]
[35,null,41119,26984]
[36,null,41119,26984]
[37,null,41119,26984]
[38,null,41119,26984]
[39,null,41119,26984]
[40,null,44611,30247]
[41,null,44611,30247]
[42,null,44611,30247]
[43,null,44611,30247]
[44,null,44611,30247]
[45,null,51107,33858]
[46,null,51107,33858]
[47,null,51107,33858]
[48,null,51107,33858]
[49,null,51107,33858]
[50,null,55277,37889]
[51,null,55277,37889]
[52,null,55277,37889]
[53,null,55277,37889]
[54,null,55277,37889]
[55,null,60713,42323]
[56,null,60713,42323]
[57,null,60713,42323]
[58,null,60713,42323]
[59,null,60713,42323]
[60,null,70150,45261]
[61,null,75955,50367]
[62,null,78635,55868]
[63,null,81943,61773]
[64,null,86732,68083]
[65,null,93859,74786]
[66,null,104030,81874]
[67,null,116674,87683]
[68,null,130733,93955]
[69,null,145145,100344]
[70,null,158849,106501]
[71,null,171848,112425]
[72,null,184846,118350]
[73,null,197844,124275]
[74,null,210842,130200]
[75,null,223765,136050]
[76,null,223765,136050]
[77,null,223765,136050]
[78,null,223765,136050]
[79,null,223765,136050]
[80,null,223765,136050]
[81,null,223765,136050]
[82,null,223765,136050]
[83,null,223765,136050]
[84,"o más",223765,136050]
[1,"Hijo",10447,7687]
[2,"Hijos",20149,14409]
[3,"Hijos o más",29673,20343]